{"text_format":"3","workbook":"xlsx","n_sheets":5,"sheets":["申込用紙","入力フォーム","商品提案シート","登録情報シート","Sheet1"],"not_rendered":{"macros":1,"external_links":2,"defined_names":26},"read":"whole","date_system":"1900"}

{"sheet":"申込用紙","index":0,"n_rows":24,"n_cols":22,"rows_kept":24,"merged":[[0,0,0,7],[1,5,1,7],[4,0,4,7],[5,1,5,7],[6,0,9,0],[6,1,6,7],[7,1,9,3],[7,4,8,4],[7,5,7,6],[8,5,8,6],[8,21,8,22],[9,5,9,6],[9,21,9,22],[10,1,10,3],[10,5,10,7],[10,10,10,12],[10,15,10,17],[10,21,10,22],[11,1,11,3],[11,5,11,7],[11,10,11,12],[11,15,11,17],[11,21,11,22],[12,0,13,0],[12,1,12,7],[12,21,12,22],[13,1,13,7],[13,10,13,16],[14,0,14,7],[15,0,15,7],[16,0,16,7],[17,0,17,7],[21,9,21,11],[21,12,21,14],[21,15,21,17],[21,18,21,20],[23,9,25,11],[23,12,25,14],[23,15,25,17],[23,18,25,20]]}
["海外バイヤーとの個別商談会　参加申込書",{"$nulls":9},"出席者名・申込1","役職・申込1","出席者名・申込2","役職・申込2","備考・申込"]
[{"$nulls":5},{"$f":"IF(M6=\"\",\"　【申込締切：　月　日（　）】\",DBCS(TEXT(M6,\"　【申込締切：m月d日（aaa）】\")))","v":"　【申込締切：８月１０日（水）】"},{"$nulls":4},{"$f":"IF(B11=\"\",\"★\",B11)","v":"★"},{"$f":"IF(F11=\"\",\"★\",F11)","v":"★"},{"$f":"IF(B12=\"\",\"★\",B12)","v":"★"},{"$f":"IF(F12=\"\",\"★\",F12)","v":"★"},{"$f":"IF(OR(B14=\"\",B14=\"質問事項等ございましたらご記入ください。\"),\"★\",B14)","v":"★"}]
[]
["一般社団法人大分県貿易協会　行",{"$nulls":8},2022,"年"]
["　FAX：097-593-3338　/　E-mail：info@oita-fta.jp",{"$nulls":8},8,"月"]
["事業者名",{"$f":"CONCATENATE(入力フォーム!$B$3)","v":""},{"$nulls":7},10,"日",null,{"$f":"IF(COUNT(J4:J6)=3,DATE(J4,J5,J6),\"\")","v":44783}]
["担当者名","変更がある場合は、入力フォームでの変更をお願いします。"]
[null,{"$f":"CONCATENATE(入力フォーム!$B$17)","v":""},null,null,"担  当  者\n連  絡  先","T E L",null,{"$f":"CONCATENATE(入力フォーム!B18)","v":""}]
[{"$nulls":5},"E-mail",null,{"$f":"CONCATENATE(入力フォーム!B19)","v":""},{"$nulls":12},"出席者名・申込1"]
[{"$nulls":4},"会　　　社","F A X",null,{"$f":"CONCATENATE(入力フォーム!B10)","v":""},{"$nulls":12},"役職・申込1"]
["出席者名",{"$nulls":3},"（役職）",{"$nulls":4},{"$f":"CONCATENATE(B11)","v":""},{"$f":"CONCATENATE(V9)","v":""},null,null,{"$f":"IF(J11=K11,\"○\",\"●\")","v":"○"},{"$f":"CONCATENATE(F11)","v":""},{"$f":"CONCATENATE(V10)","v":""},null,null,{"$f":"IF(O11=P11,\"○\",\"●\")","v":"○"},null,"出席者名・申込2"]
["出席者名",{"$nulls":3},"（役職）",{"$nulls":4},{"$f":"CONCATENATE(B12)","v":""},{"$f":"CONCATENATE(V11)","v":""},null,null,{"$f":"IF(J12=K12,\"○\",\"●\")","v":"○"},{"$f":"CONCATENATE(F12)","v":""},{"$f":"CONCATENATE(V12)","v":""},null,null,{"$f":"IF(O12=P12,\"○\",\"●\")","v":"○"},null,"役職・申込2"]
["備　　　考","質問事項等ございましたらご記入ください。",{"$nulls":18},"備考・申込",""]
[{"$nulls":9},{"$f":"CONCATENATE(B14)","v":""},{"$f":"CONCATENATE(V13)","v":""},{"$nulls":6},{"$f":"IF(J14=K14,\"○\",\"●\")","v":"○"}]
["　　　　　　　　　　　　　　　【個人情報の取り扱いについて】"]
["　　　　　　　　　　　　　　　　　ご記入いただきました情報は、大分県貿易協会及び各共催団体からの各種連絡、情報提供のために",{"$nulls":8},"CHAR(10)"]
["　　　　　　　　　　　　　　　　　利用するほか、招聘バイヤーに対して、商談会の事前資料としてご提供させていただきます。"]
[{"$nulls":9},8,"月",null,8,"月",null,9,"月",null,10,"月"]
[{"$nulls":9},10,"日",{"$f":"IF(COUNTA(J19:K19)=0,\"\",1)","v":1},17,"日～",{"$f":"IF(COUNTA(M19:N19)=0,\"\",1)","v":1},30,"日頃",{"$f":"IF(COUNTA(P19:Q19)=0,\"\",1)","v":1},12,"日",{"$f":"IF(COUNTA(S19:T19)=0,\"\",1)","v":1}]
["商談会までのスケジュール（多少前後する場合がございます）",{"$nulls":17},"　　 ・"]
[{"$nulls":11},{"$f":"IF(COUNTA(J21:K21)=0,\"\",1)","v":""},null,null,{"$f":"IF(COUNTA(M21:N21)=0,\"\",1)","v":""},null,null,{"$f":"IF(COUNTA(P21:Q21)=0,\"\",1)","v":""},13,"日",{"$f":"IF(COUNTA(S21:T21)=0,\"\",1)","v":1}]
[{"$nulls":9},"申込締切",null,null,"バイヤーによる\n商談企業選定",null,null,"商談可否の\n連絡",null,null,"商談会開催"]
[]
[{"$nulls":9},{"$f":"J18&K18&J19&K19&IF(L19=1,CHAR(10),\"\")&J20&K20&J21&K21&IF(L21=1,CHAR(10),\"\")&J22","v":"8月10日\n申込締切"},null,null,{"$f":"M18&N18&M19&N19&IF(O19=1,CHAR(10),\"\")&M20&N20&M21&N21&IF(O21=1,CHAR(10),\"\")&M22","v":"8月17日～\nバイヤーによる\n商談企業選定"},null,null,{"$f":"P18&Q18&P19&Q19&IF(R19=1,CHAR(10),\"\")&P20&Q20&P21&Q21&IF(R21=1,CHAR(10),\"\")&P22","v":"9月30日頃\n商談可否の\n連絡"},null,null,{"$f":"S18&T18&S19&T19&IF(U19=1,CHAR(10),\"\")&S20&T20&S21&T21&IF(U21=1,CHAR(10),\"\")&S22","v":"10月12日\n　　 ・13日\n商談会開催"}]

{"sheet":"入力フォーム","index":1,"n_rows":1475,"n_cols":1501,"rows_kept":1475,"merged":[[1,0,1,2],[2,1,2,2],[2,9,2,10],[3,1,3,2],[3,9,3,10],[4,1,4,2],[4,9,4,10],[5,1,5,2],[5,9,5,10],[6,1,6,2],[6,9,6,10],[7,1,7,2],[7,9,7,10],[8,1,8,2],[8,9,8,10],[9,1,9,2],[9,9,9,10],[10,1,10,2],[10,9,10,10],[11,1,11,2],[11,9,11,10],[12,1,12,2],[12,9,12,10],[13,1,13,2],[13,9,13,10],[14,1,14,2],[14,9,14,10],[15,1,15,2],[15,9,15,10],[16,1,16,2],[16,9,16,10],[17,1,17,2],[17,9,17,10],[18,1,18,2],[18,9,18,10],[19,1,19,2],[19,9,19,10],[20,1,20,2],[20,9,20,10],[21,9,21,10],[22,9,22,10],[23,9,23,10],[24,9,24,10],[25,9,25,10],[26,9,26,10],[27,9,27,10],[28,9,28,10],[29,9,29,10],[30,9,30,10],[31,1,31,2],[31,9,31,10],[32,9,32,10],[33,9,33,10],[34,9,34,10],[35,9,35,10],[36,1,36,2],[36,9,36,10],[37,9,37,10],[38,9,38,10],[39,1,39,2],[39,9,39,10],[40,9,40,10],[41,9,41,10],[42,9,42,10],[43,9,43,10],[44,9,44,10],[45,9,45,10],[46,9,46,10],[47,9,47,10],[48,9,48,10],[49,1,49,2],[49,9,49,10],[50,0,50,2],[50,9,50,10],[51,9,51,10],[52,9,52,10],[53,1,53,2],[53,9,53,10],[54,1,54,2],[54,9,54,10],[55,1,55,2],[55,9,55,10],[56,1,56,2],[56,9,56,10],[57,1,57,2],[57,9,57,10],[58,1,58,2],[58,9,58,10],[59,1,59,2],[59,9,59,10],[60,0,60,2],[60,9,60,10],[61,9,61,10],[62,9,62,10],[63,9,63,10],[64,9,64,10],[65,9,65,10],[66,9,66,10],[67,9,67,10],[68,9,68,10],[69,9,69,10],[70,9,70,10],[71,9,71,10],[72,9,72,10],[73,9,73,10],[74,9,74,10],[75,9,75,10],[76,1,76,2],[76,9,76,10],[77,9,77,10],[78,9,78,10],[79,9,79,10],[80,9,80,10],[81,9,81,10],[82,9,82,10],[83,9,83,10],[84,9,84,10],[85,9,85,10],[86,9,86,10],[87,9,87,10],[88,9,88,10],[89,9,89,10],[90,9,90,10],[91,9,91,10],[92,1,92,2],[92,9,92,10],[93,9,93,10],[94,9,94,10],[95,0,95,2],[95,9,95,10],[96,1,96,2],[96,9,96,10],[97,1,97,2],[97,9,97,10],[98,1,98,2],[98,9,98,10],[99,1,99,2],[99,9,99,10],[100,1,100,2],[100,9,100,10],[101,1,101,2],[101,9,101,10],[102,1,102,2],[102,9,102,10],[103,1,103,2],[103,9,103,10],[104,1,104,2],[104,9,104,10],[105,1,105,2],[105,9,105,10],[106,1,106,2],[106,9,106,10],[107,1,107,2],[107,9,107,10],[108,1,108,2],[108,9,108,10],[109,1,109,2],[109,9,109,10],[110,1,110,2],[110,9,110,10],[111,1,111,2],[111,9,111,10],[112,1,112,2],[112,9,112,10],[113,9,113,10],[114,9,114,10],[115,9,115,10],[116,9,116,10],[117,9,117,10],[118,9,118,10],[119,9,119,10],[120,9,120,10],[121,9,121,10],[122,9,122,10],[123,9,123,10],[124,9,124,10],[125,9,125,10],[126,9,126,10],[127,9,127,10],[128,9,128,10],[129,9,129,10],[130,1,130,2],[130,9,130,10],[131,9,131,10],[132,9,132,10],[133,1,133,2],[133,9,133,10],[134,1,134,2],[134,9,134,10],[135,1,135,2],[135,9,135,10],[136,9,136,10],[137,9,137,10],[138,9,138,10],[139,9,139,10],[140,9,140,10],[141,9,141,10],[142,9,142,10],[143,9,143,10],[144,9,144,10],[145,9,145,10],[146,9,146,10],[147,9,147,10],[148,9,148,10],[149,9,149,10],[150,9,150,10],[151,9,151,10],[152,9,152,10],[153,9,153,10],[154,9,154,10],[155,9,155,10],[156,9,156,10],[157,9,157,10],[158,9,158,10],[159,9,159,10],[160,9,160,10],[161,9,161,10],[162,9,162,10],[163,1,163,2],[163,9,163,10],[164,0,164,2],[164,9,164,10],[165,1,165,2],[165,9,165,10],[166,1,166,2],[166,9,166,10],[167,1,167,2],[167,9,167,10],[168,1,168,2],[168,9,168,10],[169,1,169,2],[169,9,169,10],[170,1,170,2],[170,9,170,10],[171,1,171,2],[171,9,171,10],[172,1,172,2],[172,9,172,10],[173,1,173,2],[173,9,173,10],[174,1,174,2],[174,9,174,10],[175,1,175,2],[175,9,175,10],[176,1,176,2],[176,9,176,10],[177,1,177,2],[177,9,177,10],[178,1,178,2],[178,9,178,10],[179,1,179,2],[179,9,179,10],[180,1,180,2],[180,9,180,10],[181,1,181,2],[181,9,181,10],[182,9,182,10],[183,9,183,10],[184,9,184,10],[185,9,185,10],[186,9,186,10],[187,9,187,10],[188,9,188,10],[189,9,189,10],[190,9,190,10],[191,9,191,10],[192,9,192,10],[193,9,193,10],[194,9,194,10],[195,9,195,10],[196,9,196,10],[197,9,197,10],[198,9,198,10],[199,1,199,2],[199,9,199,10],[200,9,200,10],[201,9,201,10],[202,1,202,2],[202,9,202,10],[203,1,203,2],[203,9,203,10],[204,1,204,2],[204,9,204,10],[205,9,205,10],[206,9,206,10],[207,9,207,10],[208,9,208,10],[209,9,209,10],[210,9,210,10],[211,9,211,10],[212,9,212,10],[213,9,213,10],[214,9,214,10],[215,9,215,10],[216,9,216,10],[217,9,217,10],[218,9,218,10],[219,9,219,10],[220,9,220,10],[221,9,221,10],[222,9,222,10],[223,9,223,10],[224,9,224,10],[225,9,225,10],[226,9,226,10],[227,9,227,10],[228,9,228,10],[229,9,229,10],[230,9,230,10],[231,9,231,10],[232,1,232,2],[232,9,232,10],[233,0,233,2],[233,9,233,10],[234,1,234,2],[234,9,234,10],[235,1,235,2],[235,9,235,10],[236,1,236,2],[236,9,236,10],[237,1,237,2],[237,9,237,10],[238,1,238,2],[238,9,238,10],[239,1,239,2],[239,9,239,10],[240,1,240,2],[240,9,240,10],[241,1,241,2],[241,9,241,10],[242,1,242,2],[242,9,242,10],[243,1,243,2],[243,9,243,10],[244,1,244,2],[244,9,244,10],[245,1,245,2],[245,9,245,10],[246,1,246,2],[246,9,246,10],[247,1,247,2],[247,9,247,10],[248,1,248,2],[248,9,248,10],[249,1,249,2],[249,9,249,10],[250,1,250,2],[250,9,250,10],[254,9,254,10],[255,9,255,10],[256,9,256,10],[257,9,257,10],[258,9,258,10],[259,9,259,10],[260,9,260,10],[261,9,261,10],[262,9,262,10],[263,9,263,10],[264,9,264,10],[265,9,265,10],[266,9,266,10],[267,9,267,10],[268,1,268,2],[268,9,268,10],[269,9,269,10],[270,9,270,10],[271,1,271,2],[271,9,271,10],[272,1,272,2],[272,9,272,10],[273,1,273,2],[273,9,273,10],[274,9,274,10],[275,9,275,10],[276,9,276,10],[277,9,277,10],[278,9,278,10],[279,9,279,10],[280,9,280,10],[281,9,281,10],[282,9,282,10],[283,9,283,10],[284,9,284,10],[285,9,285,10],[286,9,286,10],[287,9,287,10],[288,9,288,10],[289,9,289,10],[290,9,290,10],[291,9,291,10],[292,9,292,10],[293,9,293,10],[294,9,294,10],[295,9,295,10],[296,9,296,10],[297,9,297,10],[298,9,298,10],[299,9,299,10],[300,9,300,10],[301,1,301,2],[301,9,301,10],[302,0,302,2],[302,9,302,10],[303,1,303,2],[303,9,303,10],[304,1,304,2],[304,9,304,10],[305,1,305,2],[305,9,305,10],[306,1,306,2],[306,9,306,10],[307,1,307,2],[307,9,307,10],[308,1,308,2],[308,9,308,10],[309,1,309,2],[309,9,309,10],[310,1,310,2],[310,9,310,10],[311,1,311,2],[311,9,311,10],[312,1,312,2],[312,9,312,10],[313,1,313,2],[313,9,313,10],[314,1,314,2],[314,9,314,10],[315,1,315,2],[315,9,315,10],[316,1,316,2],[316,9,316,10],[317,1,317,2],[317,9,317,10],[318,1,318,2],[318,9,318,10],[319,1,319,2],[319,9,319,10],[323,9,323,10],[324,9,324,10],[325,9,325,10],[326,9,326,10],[327,9,327,10],[328,9,328,10],[329,9,329,10],[330,9,330,10],[331,9,331,10],[332,9,332,10],[333,9,333,10],[334,9,334,10],[335,9,335,10],[336,9,336,10],[337,1,337,2],[337,9,337,10],[338,9,338,10],[339,9,339,10],[340,1,340,2],[340,9,340,10],[341,1,341,2],[341,9,341,10],[342,1,342,2],[342,9,342,10],[343,9,343,10],[344,9,344,10],[345,9,345,10],[346,9,346,10],[347,9,347,10],[348,9,348,10],[349,9,349,10],[350,9,350,10],[351,9,351,10],[352,9,352,10],[353,9,353,10],[354,9,354,10],[355,9,355,10],[356,9,356,10],[357,9,357,10],[358,9,358,10],[359,9,359,10],[360,9,360,10],[361,9,361,10],[362,9,362,10],[363,9,363,10],[364,9,364,10],[365,9,365,10],[366,9,366,10],[367,9,367,10],[368,9,368,10],[369,9,369,10],[370,1,370,2],[370,9,370,10],[371,0,371,2],[371,9,371,10],[372,1,372,2],[372,9,372,10],[373,1,373,2],[373,9,373,10],[374,1,374,2],[374,9,374,10],[375,1,375,2],[375,9,375,10],[376,1,376,2],[376,9,376,10],[377,1,377,2],[377,9,377,10],[378,1,378,2],[378,9,378,10],[379,1,379,2],[379,9,379,10],[380,1,380,2],[380,9,380,10],[381,1,381,2],[381,9,381,10],[382,1,382,2],[382,9,382,10],[383,1,383,2],[383,9,383,10],[384,1,384,2],[384,9,384,10],[385,1,385,2],[385,9,385,10],[386,1,386,2],[386,9,386,10],[387,1,387,2],[387,9,387,10],[388,1,388,2],[388,9,388,10],[392,9,392,10],[393,9,393,10],[394,9,394,10],[395,9,395,10],[396,9,396,10],[397,9,397,10],[398,9,398,10],[399,9,399,10],[400,9,400,10],[401,9,401,10],[402,9,402,10],[403,9,403,10],[404,9,404,10],[405,9,405,10],[406,1,406,2],[406,9,406,10],[407,9,407,10],[408,9,408,10],[409,1,409,2],[409,9,409,10],[410,1,410,2],[410,9,410,10],[411,1,411,2],[411,9,411,10],[412,9,412,10],[413,9,413,10],[414,9,414,10],[415,9,415,10],[416,9,416,10],[417,9,417,10],[418,9,418,10],[419,9,419,10],[420,9,420,10],[421,9,421,10],[422,9,422,10],[423,9,423,10],[424,9,424,10],[425,9,425,10],[426,9,426,10],[427,9,427,10],[428,9,428,10],[429,9,429,10],[430,9,430,10],[431,9,431,10],[432,9,432,10],[433,9,433,10],[434,9,434,10],[435,9,435,10],[436,9,436,10],[437,9,437,10],[438,9,438,10],[439,1,439,2],[439,9,439,10],[440,0,440,2],[440,9,440,10],[441,1,441,2],[441,9,441,10],[442,1,442,2],[442,9,442,10],[443,1,443,2],[443,9,443,10],[444,1,444,2],[444,9,444,10],[445,1,445,2],[445,9,445,10],[446,1,446,2],[446,9,446,10],[447,1,447,2],[447,9,447,10],[448,1,448,2],[448,9,448,10],[449,1,449,2],[449,9,449,10],[450,1,450,2],[450,9,450,10],[451,1,451,2],[451,9,451,10],[452,1,452,2],[452,9,452,10],[453,1,453,2],[453,9,453,10],[454,1,454,2],[454,9,454,10],[455,1,455,2],[455,9,455,10],[456,1,456,2],[456,9,456,10],[457,1,457,2],[457,9,457,10],[461,9,461,10],[462,9,462,10],[463,9,463,10],[464,9,464,10],[465,9,465,10],[466,9,466,10],[467,9,467,10],[468,9,468,10],[469,9,469,10],[470,9,470,10],[471,9,471,10],[472,9,472,10],[473,9,473,10],[474,9,474,10],[475,1,475,2],[475,9,475,10],[476,9,476,10],[477,9,477,10],[478,1,478,2],[478,9,478,10],[479,1,479,2],[479,9,479,10],[480,1,480,2],[480,9,480,10],[481,9,481,10],[482,9,482,10],[483,9,483,10],[484,9,484,10],[485,9,485,10],[486,9,486,10],[487,9,487,10],[488,9,488,10],[489,9,489,10],[490,9,490,10],[491,9,491,10],[492,9,492,10],[493,9,493,10],[494,9,494,10],[495,9,495,10],[496,9,496,10],[497,9,497,10],[498,9,498,10],[499,9,499,10],[500,9,500,10],[501,9,501,10],[502,9,502,10],[503,9,503,10],[504,9,504,10],[505,9,505,10],[506,9,506,10],[507,9,507,10],[508,1,508,2],[508,9,508,10],[509,0,509,2],[509,9,509,10],[510,1,510,2],[510,9,510,10],[511,1,511,2],[511,9,511,10],[512,1,512,2],[512,9,512,10],[513,1,513,2],[513,9,513,10],[514,1,514,2],[514,9,514,10],[515,1,515,2],[516,1,516,2],[517,1,517,2],[518,1,518,2],[519,1,519,2],[520,1,520,2],[521,1,521,2],[522,1,522,2],[523,1,523,2],[524,1,524,2],[524,9,524,10],[525,1,525,2],[525,9,525,10],[526,1,526,2],[526,9,526,10],[530,9,530,10],[544,1,544,2],[547,1,547,2],[548,1,548,2],[549,1,549,2],[577,1,577,2],[578,0,578,2],[579,1,579,2],[580,1,580,2],[581,1,581,2],[582,1,582,2],[583,1,583,2],[584,1,584,2],[585,1,585,2],[586,1,586,2],[587,1,587,2],[588,1,588,2],[589,1,589,2],[590,1,590,2],[591,1,591,2],[592,1,592,2],[593,1,593,2],[594,1,594,2],[595,1,595,2],[613,1,613,2],[616,1,616,2],[617,1,617,2],[618,1,618,2],[646,1,646,2],[647,0,647,2],[648,1,648,2],[649,1,649,2],[650,1,650,2],[651,1,651,2],[652,1,652,2],[653,1,653,2],[654,1,654,2],[655,1,655,2],[656,1,656,2],[657,1,657,2],[658,1,658,2],[659,1,659,2],[660,1,660,2],[661,1,661,2],[662,1,662,2],[663,1,663,2],[664,1,664,2],[682,1,682,2],[685,1,685,2],[686,1,686,2],[687,1,687,2],[715,1,715,2],[716,0,716,2],[717,1,717,2],[718,1,718,2],[719,1,719,2],[720,1,720,2],[721,1,721,2],[722,1,722,2],[723,1,723,2],[724,1,724,2],[725,1,725,2],[726,1,726,2],[727,1,727,2],[728,1,728,2],[729,1,729,2],[730,1,730,2],[731,1,731,2],[732,1,732,2],[733,1,733,2],[751,1,751,2],[754,1,754,2],[755,1,755,2],[756,1,756,2],[784,1,784,2],[785,0,785,2],[786,1,786,2],[787,1,787,2],[788,1,788,2],[789,1,789,2],[790,1,790,2],[791,1,791,2],[792,1,792,2],[793,1,793,2],[794,1,794,2],[795,1,795,2],[796,1,796,2],[797,1,797,2],[798,1,798,2],[799,1,799,2],[800,1,800,2],[801,1,801,2],[802,1,802,2],[820,1,820,2],[823,1,823,2],[824,1,824,2],[825,1,825,2],[853,1,853,2],[854,0,854,2],[855,1,855,2],[856,1,856,2],[857,1,857,2],[858,1,858,2],[859,1,859,2],[860,1,860,2],[861,1,861,2],[862,1,862,2],[863,1,863,2],[864,1,864,2],[865,1,865,2],[866,1,866,2],[867,1,867,2],[868,1,868,2],[869,1,869,2],[870,1,870,2],[871,1,871,2],[889,1,889,2],[892,1,892,2],[893,1,893,2],[894,1,894,2],[922,1,922,2],[923,0,923,2],[924,1,924,2],[925,1,925,2],[926,1,926,2],[927,1,927,2],[928,1,928,2],[929,1,929,2],[930,1,930,2],[931,1,931,2],[932,1,932,2],[933,1,933,2],[934,1,934,2],[935,1,935,2],[936,1,936,2],[937,1,937,2],[938,1,938,2],[939,1,939,2],[940,1,940,2],[958,1,958,2],[961,1,961,2],[962,1,962,2],[963,1,963,2],[991,1,991,2],[992,0,992,2],[993,1,993,2],[994,1,994,2],[995,1,995,2],[996,1,996,2],[997,1,997,2],[998,1,998,2],[999,1,999,2],[1000,1,1000,2],[1001,1,1001,2],[1002,1,1002,2],[1003,1,1003,2],[1004,1,1004,2],[1005,1,1005,2],[1006,1,1006,2],[1007,1,1007,2],[1008,1,1008,2],[1009,1,1009,2],[1027,1,1027,2],[1030,1,1030,2],[1031,1,1031,2],[1032,1,1032,2],[1060,1,1060,2],[1061,0,1061,2],[1062,1,1062,2],[1063,1,1063,2],[1064,1,1064,2],[1065,1,1065,2],[1066,1,1066,2],[1067,1,1067,2],[1068,1,1068,2],[1069,1,1069,2],[1070,1,1070,2],[1071,1,1071,2],[1072,1,1072,2],[1073,1,1073,2],[1074,1,1074,2],[1075,1,1075,2],[1076,1,1076,2],[1077,1,1077,2],[1078,1,1078,2],[1096,1,1096,2],[1099,1,1099,2],[1100,1,1100,2],[1101,1,1101,2],[1129,1,1129,2],[1130,0,1130,2],[1131,1,1131,2],[1132,1,1132,2],[1133,1,1133,2],[1134,1,1134,2],[1135,1,1135,2],[1136,1,1136,2],[1137,1,1137,2],[1138,1,1138,2],[1139,1,1139,2],[1140,1,1140,2],[1141,1,1141,2],[1142,1,1142,2],[1143,1,1143,2],[1144,1,1144,2],[1145,1,1145,2],[1146,1,1146,2],[1147,1,1147,2],[1165,1,1165,2],[1168,1,1168,2],[1169,1,1169,2],[1170,1,1170,2],[1198,1,1198,2],[1199,0,1199,2],[1200,1,1200,2],[1201,1,1201,2],[1202,1,1202,2],[1203,1,1203,2],[1204,1,1204,2],[1205,1,1205,2],[1206,1,1206,2],[1207,1,1207,2],[1208,1,1208,2],[1209,1,1209,2],[1210,1,1210,2],[1211,1,1211,2],[1212,1,1212,2],[1213,1,1213,2],[1214,1,1214,2],[1215,1,1215,2],[1216,1,1216,2],[1234,1,1234,2],[1237,1,1237,2],[1238,1,1238,2],[1239,1,1239,2],[1267,1,1267,2],[1268,0,1268,2],[1269,1,1269,2],[1270,1,1270,2],[1271,1,1271,2],[1272,1,1272,2],[1273,1,1273,2],[1274,1,1274,2],[1275,1,1275,2],[1276,1,1276,2],[1277,1,1277,2],[1278,1,1278,2],[1279,1,1279,2],[1280,1,1280,2],[1281,1,1281,2],[1282,1,1282,2],[1283,1,1283,2],[1284,1,1284,2],[1285,1,1285,2],[1303,1,1303,2],[1306,1,1306,2],[1307,1,1307,2],[1308,1,1308,2],[1336,1,1336,2],[1337,0,1337,2],[1338,1,1338,2],[1339,1,1339,2],[1340,1,1340,2],[1341,1,1341,2],[1342,1,1342,2],[1343,1,1343,2],[1344,1,1344,2],[1345,1,1345,2],[1346,1,1346,2],[1347,1,1347,2],[1348,1,1348,2],[1349,1,1349,2],[1350,1,1350,2],[1351,1,1351,2],[1352,1,1352,2],[1353,1,1353,2],[1354,1,1354,2],[1372,1,1372,2],[1375,1,1375,2],[1376,1,1376,2],[1377,1,1377,2],[1405,1,1405,2],[1406,0,1406,2],[1407,1,1407,2],[1408,1,1408,2],[1409,1,1409,2],[1410,1,1410,2],[1411,1,1411,2],[1412,1,1412,2],[1413,1,1413,2],[1414,1,1414,2],[1415,1,1415,2],[1416,1,1416,2],[1417,1,1417,2],[1418,1,1418,2],[1419,1,1419,2],[1420,1,1420,2],[1421,1,1421,2],[1422,1,1422,2],[1423,1,1423,2],[1441,1,1441,2],[1444,1,1444,2],[1445,1,1445,2],[1446,1,1446,2],[1474,1,1474,2]],"merged_total":1968,"flags":["merged_cut"]}
[{"$nulls":17},"・",{"$nulls":1464},"・"]
["基本情報",{"$nulls":5},4,{"$nulls":7},"0.01幅有"]
["会社名等",{"$nulls":4},{"$f":"IF(B3=\"\",\"★\",B3)","v":"★"},"会社名等",{"$f":"IF(COUNTIFS(G:G,G3)=1,\"\",\"■\")","v":""},{"$nulls":3},{"$f":"IF(F3=J3,\"\",IF(AND(F3=\"★\",J3=\"\"),\"\",IF(VALUE(F3)=VALUE(J3),\"\",\"●\")))","v":""},null,null,"会社名等","会社名等(フリガナ)","会社所在地(〒)","会社所在地(住所)","工場所在地(〒)","工場所在地(住所)","会社TEL","会社FAX","会社Email","代表者役職","代表者氏名","年間売上高","従業員数","担当者役職","担当者氏名","担当者TEL","担当者Email","ホームページURL","メッセージ・\nアピールポイント","飲料","酒類","菓子類","水産品・水産加工品","畜産品・畜産加工品","農産加工品","茶・茶加工品","調味料","食品卸","その他・業種","その他・業種・","日本語","中国語","英語","その他・言語","その他・言語・","可","不可","生産・製造工程\nアピールポイント\n","HACCP","G-GAP","ISO22000","ISO9001","Halal","FSSC22000","Organic JAS","なし・取得","その他・取得","その他・取得・",null,"なし・品質","あり・品質","あり・品質・","衛生・生産","衛生・従業員","衛生・施設","危機・担当","危機・担当連絡","危機・対応",null,"商談・中国","商談・韓国","商談・台湾","商談・香港","商談・シンガポール","商談・タイ","商談・マレーシア","商談・ベトナム","商談・北米","商談・ドバイ","商談・フランス","商談・イギリス","商談・ブラジル","商談・オーストラリア","その他・商談","その他・商談・","輸出・中国","輸出・韓国","輸出・台湾","輸出・香港","輸出・シンガポール","輸出・タイ","輸出・マレーシア","輸出・ベトナム","輸出・北米","輸出・ドバイ","輸出・フランス","輸出・イギリス","輸出・ブラジル","輸出・オーストラリア","その他・輸出","その他・輸出・","あり・輸出","なし・輸出",null,"商品名①","提供可能時期①","主原料産地①","内容量①","1ケースあたり①","発注リードタイム①","最大ケース①","最小ケース①","縦①","横①","高さ①","重量①","賞味期限①","消費期限①","JANコード①","希望小売①","仕切単価①","工場出し①","関東向け①","関西向け①","8%①","10%①","常温①","冷蔵①","冷凍①","外食①","中食①","商社・卸売①","メーカー①","スーパーマーケット①","百貨店①","その他小売①","ホテル・宴会・レジャー①","その他・ターゲット①","その他・ターゲット・①","業務用対応可能①","ギフト対応可能①","ターゲット①","利用シーン①","商品特徴①","えび①","かに①","小麦①","そば①","卵①","乳①","落花生①","あわび①","いか①","いくら①","オレンジ①","カシューナッツ①","キウイフルーツ①","牛肉①","くるみ①","ごま①","さけ①","さば①","大豆①","鶏肉①","バナナ①","豚肉①","まつたけ①","もも①","やまいも①","りんご①","ゼラチン①","備考①",null,"商品名②","提供可能時期②","主原料産地②","内容量②","1ケースあたり②","発注リードタイム②","最大ケース②","最小ケース②","縦②","横②","高さ②","重量②","賞味期限②","消費期限②","JANコード②","希望小売②","仕切単価②","工場出し②","関東向け②","関西向け②","8%②","10%②","常温②","冷蔵②","冷凍②","外食②","中食②","商社・卸売②","メーカー②","スーパーマーケット②","百貨店②","その他小売②","ホテル・宴会・レジャー②","その他・ターゲット②","その他・ターゲット・②","業務用対応可能②","ギフト対応可能②","ターゲット②","利用シーン②","商品特徴②","えび②","かに②","小麦②","そば②","卵②","乳②","落花生②","あわび②","いか②","いくら②","オレンジ②","カシューナッツ②","キウイフルーツ②","牛肉②","くるみ②","ごま②","さけ②","さば②","大豆②","鶏肉②","バナナ②","豚肉②","まつたけ②","もも②","やまいも②","りんご②","ゼラチン②","備考②",null,"商品名③","提供可能時期③","主原料産地③","内容量③","1ケースあたり③","発注リードタイム③","最大ケース③","最小ケース③","縦③","横③","高さ③","重量③","賞味期限③","消費期限③","JANコード③","希望小売③","仕切単価③","工場出し③","関東向け③","関西向け③","8%③","10%③","常温③","冷蔵③","冷凍③","外食③","中食③","商社・卸売③","メーカー③","スーパーマーケット③","百貨店③","その他小売③","ホテル・宴会・レジャー③","その他・ターゲット③","その他・ターゲット・③","業務用対応可能③","ギフト対応可能③","ターゲット③","利用シーン③","商品特徴③","えび③","かに③","小麦③","そば③","卵③","乳③","落花生③","あわび③","いか③","いくら③","オレンジ③","カシューナッツ③","キウイフルーツ③","牛肉③","くるみ③","ごま③","さけ③","さば③","大豆③","鶏肉③","バナナ③","豚肉③","まつたけ③","もも③","やまいも③","りんご③","ゼラチン③","備考③",null,"商品名④","提供可能時期④","主原料産地④","内容量④","1ケースあたり④","発注リードタイム④","最大ケース④","最小ケース④","縦④","横④","高さ④","重量④","賞味期限④","消費期限④","JANコード④","希望小売④","仕切単価④","工場出し④","関東向け④","関西向け④","8%④","10%④","常温④","冷蔵④","冷凍④","外食④","中食④","商社・卸売④","メーカー④","スーパーマーケット④","百貨店④","その他小売④","ホテル・宴会・レジャー④","その他・ターゲット④","その他・ターゲット・④","業務用対応可能④","ギフト対応可能④","ターゲット④","利用シーン④","商品特徴④","えび④","かに④","小麦④","そば④","卵④","乳④","落花生④","あわび④","いか④","いくら④","オレンジ④","カシューナッツ④","キウイフルーツ④","牛肉④","くるみ④","ごま④","さけ④","さば④","大豆④","鶏肉④","バナナ④","豚肉④","まつたけ④","もも④","やまいも④","りんご④","ゼラチン④","備考④",null,"商品名⑤","提供可能時期⑤","主原料産地⑤","内容量⑤","1ケースあたり⑤","発注リードタイム⑤","最大ケース⑤","最小ケース⑤","縦⑤","横⑤","高さ⑤","重量⑤","賞味期限⑤","消費期限⑤","JANコード⑤","希望小売⑤","仕切単価⑤","工場出し⑤","関東向け⑤","関西向け⑤","8%⑤","10%⑤","常温⑤","冷蔵⑤","冷凍⑤","外食⑤","中食⑤","商社・卸売⑤","メーカー⑤","スーパーマーケット⑤","百貨店⑤","その他小売⑤","ホテル・宴会・レジャー⑤","その他・ターゲット⑤","その他・ターゲット・⑤","業務用対応可能⑤","ギフト対応可能⑤","ターゲット⑤","利用シーン⑤","商品特徴⑤","えび⑤","かに⑤","小麦⑤","そば⑤","卵⑤","乳⑤","落花生⑤","あわび⑤","いか⑤","いくら⑤","オレンジ⑤","カシューナッツ⑤","キウイフルーツ⑤","牛肉⑤","くるみ⑤","ごま⑤","さけ⑤","さば⑤","大豆⑤","鶏肉⑤","バナナ⑤","豚肉⑤","まつたけ⑤","もも⑤","やまいも⑤","りんご⑤","ゼラチン⑤","備考⑤",null,"商品名⑥","提供可能時期⑥","主原料産地⑥","内容量⑥","1ケースあたり⑥","発注リードタイム⑥","最大ケース⑥","最小ケース⑥","縦⑥","横⑥","高さ⑥","重量⑥","賞味期限⑥","消費期限⑥","JANコード⑥","希望小売⑥","仕切単価⑥","工場出し⑥","関東向け⑥","関西向け⑥","8%⑥","10%⑥","常温⑥","冷蔵⑥","冷凍⑥","外食⑥","中食⑥","商社・卸売⑥","メーカー⑥","スーパーマーケット⑥","百貨店⑥","その他小売⑥","ホテル・宴会・レジャー⑥","その他・ターゲット⑥","その他・ターゲット・⑥","業務用対応可能⑥","ギフト対応可能⑥","ターゲット⑥","利用シーン⑥","商品特徴⑥","えび⑥","かに⑥","小麦⑥","そば⑥","卵⑥","乳⑥","落花生⑥","あわび⑥","いか⑥","いくら⑥","オレンジ⑥","カシューナッツ⑥","キウイフルーツ⑥","牛肉⑥","くるみ⑥","ごま⑥","さけ⑥","さば⑥","大豆⑥","鶏肉⑥","バナナ⑥","豚肉⑥","まつたけ⑥","もも⑥","やまいも⑥","りんご⑥","ゼラチン⑥","備考⑥",null,"商品名⑦","提供可能時期⑦","主原料産地⑦","内容量⑦","1ケースあたり⑦","発注リードタイム⑦","最大ケース⑦","最小ケース⑦","縦⑦","横⑦","高さ⑦","重量⑦","賞味期限⑦","消費期限⑦","JANコード⑦","希望小売⑦","仕切単価⑦","工場出し⑦","関東向け⑦","関西向け⑦","8%⑦","10%⑦","常温⑦","冷蔵⑦","冷凍⑦","外食⑦","中食⑦","商社・卸売⑦","メーカー⑦","スーパーマーケット⑦","百貨店⑦","その他小売⑦","ホテル・宴会・レジャー⑦","その他・ターゲット⑦","その他・ターゲット・⑦","業務用対応可能⑦","ギフト対応可能⑦","ターゲット⑦","利用シーン⑦","商品特徴⑦","えび⑦","かに⑦","小麦⑦","そば⑦","卵⑦","乳⑦","落花生⑦","あわび⑦","いか⑦","いくら⑦","オレンジ⑦","カシューナッツ⑦","キウイフルーツ⑦","牛肉⑦","くるみ⑦","ごま⑦","さけ⑦","さば⑦","大豆⑦","鶏肉⑦","バナナ⑦","豚肉⑦","まつたけ⑦","もも⑦","やまいも⑦","りんご⑦","ゼラチン⑦","備考⑦",null,"商品名⑧","提供可能時期⑧","主原料産地⑧","内容量⑧","1ケースあたり⑧","発注リードタイム⑧","最大ケース⑧","最小ケース⑧","縦⑧","横⑧","高さ⑧","重量⑧","賞味期限⑧","消費期限⑧","JANコード⑧","希望小売⑧","仕切単価⑧","工場出し⑧","関東向け⑧","関西向け⑧","8%⑧","10%⑧","常温⑧","冷蔵⑧","冷凍⑧","外食⑧","中食⑧","商社・卸売⑧","メーカー⑧","スーパーマーケット⑧","百貨店⑧","その他小売⑧","ホテル・宴会・レジャー⑧","その他・ターゲット⑧","その他・ターゲット・⑧","業務用対応可能⑧","ギフト対応可能⑧","ターゲット⑧","利用シーン⑧","商品特徴⑧","えび⑧","かに⑧","小麦⑧","そば⑧","卵⑧","乳⑧","落花生⑧","あわび⑧","いか⑧","いくら⑧","オレンジ⑧","カシューナッツ⑧","キウイフルーツ⑧","牛肉⑧","くるみ⑧","ごま⑧","さけ⑧","さば⑧","大豆⑧","鶏肉⑧","バナナ⑧","豚肉⑧","まつたけ⑧","もも⑧","やまいも⑧","りんご⑧","ゼラチン⑧","備考⑧",null,"商品名⑨","提供可能時期⑨","主原料産地⑨","内容量⑨","1ケースあたり⑨","発注リードタイム⑨","最大ケース⑨","最小ケース⑨","縦⑨","横⑨","高さ⑨","重量⑨","賞味期限⑨","消費期限⑨","JANコード⑨","希望小売⑨","仕切単価⑨","工場出し⑨","関東向け⑨","関西向け⑨","8%⑨","10%⑨","常温⑨","冷蔵⑨","冷凍⑨","外食⑨","中食⑨","商社・卸売⑨","メーカー⑨","スーパーマーケット⑨","百貨店⑨","その他小売⑨","ホテル・宴会・レジャー⑨","その他・ターゲット⑨","その他・ターゲット・⑨","業務用対応可能⑨","ギフト対応可能⑨","ターゲット⑨","利用シーン⑨","商品特徴⑨","えび⑨","かに⑨","小麦⑨","そば⑨","卵⑨","乳⑨","落花生⑨","あわび⑨","いか⑨","いくら⑨","オレンジ⑨","カシューナッツ⑨","キウイフルーツ⑨","牛肉⑨","くるみ⑨","ごま⑨","さけ⑨","さば⑨","大豆⑨","鶏肉⑨","バナナ⑨","豚肉⑨","まつたけ⑨","もも⑨","やまいも⑨","りんご⑨","ゼラチン⑨","備考⑨",null,"商品名⑩","提供可能時期⑩","主原料産地⑩","内容量⑩","1ケースあたり⑩","発注リードタイム⑩","最大ケース⑩","最小ケース⑩","縦⑩","横⑩","高さ⑩","重量⑩","賞味期限⑩","消費期限⑩","JANコード⑩","希望小売⑩","仕切単価⑩","工場出し⑩","関東向け⑩","関西向け⑩","8%⑩","10%⑩","常温⑩","冷蔵⑩","冷凍⑩","外食⑩","中食⑩","商社・卸売⑩","メーカー⑩","スーパーマーケット⑩","百貨店⑩","その他小売⑩","ホテル・宴会・レジャー⑩","その他・ターゲット⑩","その他・ターゲット・⑩","業務用対応可能⑩","ギフト対応可能⑩","ターゲット⑩","利用シーン⑩","商品特徴⑩","えび⑩","かに⑩","小麦⑩","そば⑩","卵⑩","乳⑩","落花生⑩","あわび⑩","いか⑩","いくら⑩","オレンジ⑩","カシューナッツ⑩","キウイフルーツ⑩","牛肉⑩","くるみ⑩","ごま⑩","さけ⑩","さば⑩","大豆⑩","鶏肉⑩","バナナ⑩","豚肉⑩","まつたけ⑩","もも⑩","やまいも⑩","りんご⑩","ゼラチン⑩","備考⑩",null,"商品名⑪","提供可能時期⑪","主原料産地⑪","内容量⑪","1ケースあたり⑪","発注リードタイム⑪","最大ケース⑪","最小ケース⑪","縦⑪","横⑪","高さ⑪","重量⑪","賞味期限⑪","消費期限⑪","JANコード⑪","希望小売⑪","仕切単価⑪","工場出し⑪","関東向け⑪","関西向け⑪","8%⑪","10%⑪","常温⑪","冷蔵⑪","冷凍⑪","外食⑪","中食⑪","商社・卸売⑪","メーカー⑪","スーパーマーケット⑪","百貨店⑪","その他小売⑪","ホテル・宴会・レジャー⑪","その他・ターゲット⑪","その他・ターゲット・⑪","業務用対応可能⑪","ギフト対応可能⑪","ターゲット⑪","利用シーン⑪","商品特徴⑪","えび⑪","かに⑪","小麦⑪","そば⑪","卵⑪","乳⑪","落花生⑪","あわび⑪","いか⑪","いくら⑪","オレンジ⑪","カシューナッツ⑪","キウイフルーツ⑪","牛肉⑪","くるみ⑪","ごま⑪","さけ⑪","さば⑪","大豆⑪","鶏肉⑪","バナナ⑪","豚肉⑪","まつたけ⑪","もも⑪","やまいも⑪","りんご⑪","ゼラチン⑪","備考⑪",null,"商品名⑫","提供可能時期⑫","主原料産地⑫","内容量⑫","1ケースあたり⑫","発注リードタイム⑫","最大ケース⑫","最小ケース⑫","縦⑫","横⑫","高さ⑫","重量⑫","賞味期限⑫","消費期限⑫","JANコード⑫","希望小売⑫","仕切単価⑫","工場出し⑫","関東向け⑫","関西向け⑫","8%⑫","10%⑫","常温⑫","冷蔵⑫","冷凍⑫","外食⑫","中食⑫","商社・卸売⑫","メーカー⑫","スーパーマーケット⑫","百貨店⑫","その他小売⑫","ホテル・宴会・レジャー⑫","その他・ターゲット⑫","その他・ターゲット・⑫","業務用対応可能⑫","ギフト対応可能⑫","ターゲット⑫","利用シーン⑫","商品特徴⑫","えび⑫","かに⑫","小麦⑫","そば⑫","卵⑫","乳⑫","落花生⑫","あわび⑫","いか⑫","いくら⑫","オレンジ⑫","カシューナッツ⑫","キウイフルーツ⑫","牛肉⑫","くるみ⑫","ごま⑫","さけ⑫","さば⑫","大豆⑫","鶏肉⑫","バナナ⑫","豚肉⑫","まつたけ⑫","もも⑫","やまいも⑫","りんご⑫","ゼラチン⑫","備考⑫",null,"商品名⑬","提供可能時期⑬","主原料産地⑬","内容量⑬","1ケースあたり⑬","発注リードタイム⑬","最大ケース⑬","最小ケース⑬","縦⑬","横⑬","高さ⑬","重量⑬","賞味期限⑬","消費期限⑬","JANコード⑬","希望小売⑬","仕切単価⑬","工場出し⑬","関東向け⑬","関西向け⑬","8%⑬","10%⑬","常温⑬","冷蔵⑬","冷凍⑬","外食⑬","中食⑬","商社・卸売⑬","メーカー⑬","スーパーマーケット⑬","百貨店⑬","その他小売⑬","ホテル・宴会・レジャー⑬","その他・ターゲット⑬","その他・ターゲット・⑬","業務用対応可能⑬","ギフト対応可能⑬","ターゲット⑬","利用シーン⑬","商品特徴⑬","えび⑬","かに⑬","小麦⑬","そば⑬","卵⑬","乳⑬","落花生⑬","あわび⑬","いか⑬","いくら⑬","オレンジ⑬","カシューナッツ⑬","キウイフルーツ⑬","牛肉⑬","くるみ⑬","ごま⑬","さけ⑬","さば⑬","大豆⑬","鶏肉⑬","バナナ⑬","豚肉⑬","まつたけ⑬","もも⑬","やまいも⑬","りんご⑬","ゼラチン⑬","備考⑬",null,"商品名⑭","提供可能時期⑭","主原料産地⑭","内容量⑭","1ケースあたり⑭","発注リードタイム⑭","最大ケース⑭","最小ケース⑭","縦⑭","横⑭","高さ⑭","重量⑭","賞味期限⑭","消費期限⑭","JANコード⑭","希望小売⑭","仕切単価⑭","工場出し⑭","関東向け⑭","関西向け⑭","8%⑭","10%⑭","常温⑭","冷蔵⑭","冷凍⑭","外食⑭","中食⑭","商社・卸売⑭","メーカー⑭","スーパーマーケット⑭","百貨店⑭","その他小売⑭","ホテル・宴会・レジャー⑭","その他・ターゲット⑭","その他・ターゲット・⑭","業務用対応可能⑭","ギフト対応可能⑭","ターゲット⑭","利用シーン⑭","商品特徴⑭","えび⑭","かに⑭","小麦⑭","そば⑭","卵⑭","乳⑭","落花生⑭","あわび⑭","いか⑭","いくら⑭","オレンジ⑭","カシューナッツ⑭","キウイフルーツ⑭","牛肉⑭","くるみ⑭","ごま⑭","さけ⑭","さば⑭","大豆⑭","鶏肉⑭","バナナ⑭","豚肉⑭","まつたけ⑭","もも⑭","やまいも⑭","りんご⑭","ゼラチン⑭","備考⑭",null,"商品名⑮","提供可能時期⑮","主原料産地⑮","内容量⑮","1ケースあたり⑮","発注リードタイム⑮","最大ケース⑮","最小ケース⑮","縦⑮","横⑮","高さ⑮","重量⑮","賞味期限⑮","消費期限⑮","JANコード⑮","希望小売⑮","仕切単価⑮","工場出し⑮","関東向け⑮","関西向け⑮","8%⑮","10%⑮","常温⑮","冷蔵⑮","冷凍⑮","外食⑮","中食⑮","商社・卸売⑮","メーカー⑮","スーパーマーケット⑮","百貨店⑮","その他小売⑮","ホテル・宴会・レジャー⑮","その他・ターゲット⑮","その他・ターゲット・⑮","業務用対応可能⑮","ギフト対応可能⑮","ターゲット⑮","利用シーン⑮","商品特徴⑮","えび⑮","かに⑮","小麦⑮","そば⑮","卵⑮","乳⑮","落花生⑮","あわび⑮","いか⑮","いくら⑮","オレンジ⑮","カシューナッツ⑮","キウイフルーツ⑮","牛肉⑮","くるみ⑮","ごま⑮","さけ⑮","さば⑮","大豆⑮","鶏肉⑮","バナナ⑮","豚肉⑮","まつたけ⑮","もも⑮","やまいも⑮","りんご⑮","ゼラチン⑮","備考⑮",null,"商品名⑯","提供可能時期⑯","主原料産地⑯","内容量⑯","1ケースあたり⑯","発注リードタイム⑯","最大ケース⑯","最小ケース⑯","縦⑯","横⑯","高さ⑯","重量⑯","賞味期限⑯","消費期限⑯","JANコード⑯","希望小売⑯","仕切単価⑯","工場出し⑯","関東向け⑯","関西向け⑯","8%⑯","10%⑯","常温⑯","冷蔵⑯","冷凍⑯","外食⑯","中食⑯","商社・卸売⑯","メーカー⑯","スーパーマーケット⑯","百貨店⑯","その他小売⑯","ホテル・宴会・レジャー⑯","その他・ターゲット⑯","その他・ターゲット・⑯","業務用対応可能⑯","ギフト対応可能⑯","ターゲット⑯","利用シーン⑯","商品特徴⑯","えび⑯","かに⑯","小麦⑯","そば⑯","卵⑯","乳⑯","落花生⑯","あわび⑯","いか⑯","いくら⑯","オレンジ⑯","カシューナッツ⑯","キウイフルーツ⑯","牛肉⑯","くるみ⑯","ごま⑯","さけ⑯","さば⑯","大豆⑯","鶏肉⑯","バナナ⑯","豚肉⑯","まつたけ⑯","もも⑯","やまいも⑯","りんご⑯","ゼラチン⑯","備考⑯",null,"商品名⑰","提供可能時期⑰","主原料産地⑰","内容量⑰","1ケースあたり⑰","発注リードタイム⑰","最大ケース⑰","最小ケース⑰","縦⑰","横⑰","高さ⑰","重量⑰","賞味期限⑰","消費期限⑰","JANコード⑰","希望小売⑰","仕切単価⑰","工場出し⑰","関東向け⑰","関西向け⑰","8%⑰","10%⑰","常温⑰","冷蔵⑰","冷凍⑰","外食⑰","中食⑰","商社・卸売⑰","メーカー⑰","スーパーマーケット⑰","百貨店⑰","その他小売⑰","ホテル・宴会・レジャー⑰","その他・ターゲット⑰","その他・ターゲット・⑰","業務用対応可能⑰","ギフト対応可能⑰","ターゲット⑰","利用シーン⑰","商品特徴⑰","えび⑰","かに⑰","小麦⑰","そば⑰","卵⑰","乳⑰","落花生⑰","あわび⑰","いか⑰","いくら⑰","オレンジ⑰","カシューナッツ⑰","キウイフルーツ⑰","牛肉⑰","くるみ⑰","ごま⑰","さけ⑰","さば⑰","大豆⑰","鶏肉⑰","バナナ⑰","豚肉⑰","まつたけ⑰","もも⑰","やまいも⑰","りんご⑰","ゼラチン⑰","備考⑰",null,"商品名⑱","提供可能時期⑱","主原料産地⑱","内容量⑱","1ケースあたり⑱","発注リードタイム⑱","最大ケース⑱","最小ケース⑱","縦⑱","横⑱","高さ⑱","重量⑱","賞味期限⑱","消費期限⑱","JANコード⑱","希望小売⑱","仕切単価⑱","工場出し⑱","関東向け⑱","関西向け⑱","8%⑱","10%⑱","常温⑱","冷蔵⑱","冷凍⑱","外食⑱","中食⑱","商社・卸売⑱","メーカー⑱","スーパーマーケット⑱","百貨店⑱","その他小売⑱","ホテル・宴会・レジャー⑱","その他・ターゲット⑱","その他・ターゲット・⑱","業務用対応可能⑱","ギフト対応可能⑱","ターゲット⑱","利用シーン⑱","商品特徴⑱","えび⑱","かに⑱","小麦⑱","そば⑱","卵⑱","乳⑱","落花生⑱","あわび⑱","いか⑱","いくら⑱","オレンジ⑱","カシューナッツ⑱","キウイフルーツ⑱","牛肉⑱","くるみ⑱","ごま⑱","さけ⑱","さば⑱","大豆⑱","鶏肉⑱","バナナ⑱","豚肉⑱","まつたけ⑱","もも⑱","やまいも⑱","りんご⑱","ゼラチン⑱","備考⑱",null,"商品名⑲","提供可能時期⑲","主原料産地⑲","内容量⑲","1ケースあたり⑲","発注リードタイム⑲","最大ケース⑲","最小ケース⑲","縦⑲","横⑲","高さ⑲","重量⑲","賞味期限⑲","消費期限⑲","JANコード⑲","希望小売⑲","仕切単価⑲","工場出し⑲","関東向け⑲","関西向け⑲","8%⑲","10%⑲","常温⑲","冷蔵⑲","冷凍⑲","外食⑲","中食⑲","商社・卸売⑲","メーカー⑲","スーパーマーケット⑲","百貨店⑲","その他小売⑲","ホテル・宴会・レジャー⑲","その他・ターゲット⑲","その他・ターゲット・⑲","業務用対応可能⑲","ギフト対応可能⑲","ターゲット⑲","利用シーン⑲","商品特徴⑲","えび⑲","かに⑲","小麦⑲","そば⑲","卵⑲","乳⑲","落花生⑲","あわび⑲","いか⑲","いくら⑲","オレンジ⑲","カシューナッツ⑲","キウイフルーツ⑲","牛肉⑲","くるみ⑲","ごま⑲","さけ⑲","さば⑲","大豆⑲","鶏肉⑲","バナナ⑲","豚肉⑲","まつたけ⑲","もも⑲","やまいも⑲","りんご⑲","ゼラチン⑲","備考⑲",null,"商品名⑳","提供可能時期⑳","主原料産地⑳","内容量⑳","1ケースあたり⑳","発注リードタイム⑳","最大ケース⑳","最小ケース⑳","縦⑳","横⑳","高さ⑳","重量⑳","賞味期限⑳","消費期限⑳","JANコード⑳","希望小売⑳","仕切単価⑳","工場出し⑳","関東向け⑳","関西向け⑳","8%⑳","10%⑳","常温⑳","冷蔵⑳","冷凍⑳","外食⑳","中食⑳","商社・卸売⑳","メーカー⑳","スーパーマーケット⑳","百貨店⑳","その他小売⑳","ホテル・宴会・レジャー⑳","その他・ターゲット⑳","その他・ターゲット・⑳","業務用対応可能⑳","ギフト対応可能⑳","ターゲット⑳","利用シーン⑳","商品特徴⑳","えび⑳","かに⑳","小麦⑳","そば⑳","卵⑳","乳⑳","落花生⑳","あわび⑳","いか⑳","いくら⑳","オレンジ⑳","カシューナッツ⑳","キウイフルーツ⑳","牛肉⑳","くるみ⑳","ごま⑳","さけ⑳","さば⑳","大豆⑳","鶏肉⑳","バナナ⑳","豚肉⑳","まつたけ⑳","もも⑳","やまいも⑳","りんご⑳","ゼラチン⑳","備考⑳",{"$nulls":13},"会社名等"]
["会社名等(フリガナ)",{"$nulls":4},"★","会社名等(フリガナ)","",{"$nulls":3},{"$f":"IF(F4=J4,\"\",IF(AND(F4=\"★\",J4=\"\"),\"\",IF(VALUE(F4)=VALUE(J4),\"\",\"●\")))","v":""},null,null,{"$f":"IFERROR(INDEX($F:$F,MATCH(O$3,$G:$G,0),1),\"★\")","v":"★"},"★","★","★","★","★","★","★","★","★","★","★","★","★","★","★","★","★","★","★","★","★","★","★","★","★","★","★","★","★","★","★","★","★","★","★","★","★","★","★","★","★","★","★","★","★","★","★","★","★","★","★","★","★","★","★","★","★","★","★","★","★","★","★",{"$f":"IFERROR(INDEX($F:$F,MATCH(CA$3,$G:$G,0),1),\"★\")","v":"★"},"★","★","★","★","★","★","★","★","★","","★","★","★","★","★","★","★","★","★","★","★","★","★","★","★","★","★","★","★","★","★","★","★","★","★","★","★","★","★","★","★","★","★","★","★","★","★","★","★","★","★","★","★","★","★","★","★","★","★","★","★","★","★",{"$f":"IFERROR(INDEX($F:$F,MATCH(EM$3,$G:$G,0),1),\"★\")","v":"★"},"★","★","★","★","★","★","★","★","★","★","★","★","★","★","★","★","★","★","★","★","★","★","★","★","★","★","★","★","★","★","★","★","★","★","★","★","★","★","★","★","★","★","★","★","★","★","★","★","★","★","★","★","★","★","★","★","★","★","★","★","★","★","★",{"$f":"IFERROR(INDEX($F:$F,MATCH(GY$3,$G:$G,0),1),\"★\")","v":"★"},"★","★","★","★","★","★","★","★","★","★","★","★","★","★","★","★","★","★","★","★","★","★","★","★","★","★","★","★","★","★","★","★","★","★","★","★","★","★","★","★","★","★","★","★","★","★","★","★","★","★","★","★","★","★","★","★","★","★","★","★","★","★","★",{"$f":"IFERROR(INDEX($F:$F,MATCH(JK$3,$G:$G,0),1),\"★\")","v":"★"},"★","★","★","★","★","★","★","★","★","★","★","★","★","★","★","★","★","★","★","★","★","★","★","★","★","★","★","★","★","★","★","★","★","★","★","★","★","★","★","★","★","★","★","★","★","★","★","★","★","★","★","★","★","★","★","★","★","★","★","★","★","★","★",{"$f":"IFERROR(INDEX($F:$F,MATCH(LW$3,$G:$G,0),1),\"★\")","v":"★"},"★","★","★","★","★","★","★","★","★","★","★","★","★","★","★","★","★","★","★","★","★","★","★","★","★","★","★","★","★","★","★","★","★","★","★","★","★","★","★","★","★","★","★","★","★","★","★","★","★","★","★","★","★","★","★","★","★","★","★","★","★","★","★",{"$f":"IFERROR(INDEX($F:$F,MATCH(OI$3,$G:$G,0),1),\"★\")","v":"★"},"★","★","★","★","★","★","★","★","★","★","★","★","★","★","★","★","★","★","★","★","★","★","★","★","★","★","★","★","★","★","★","★","★","★","★","★","★","★","★","★","★","★","★","★","★","★","★","★","★","★","★","★","★","★","★","★","★","★","★","★","★","★","★",{"$f":"IFERROR(INDEX($F:$F,MATCH(QU$3,$G:$G,0),1),\"★\")","v":"★"},"★","★","★","★","★","★","★","★","★","★","★","★","★","★","★","★","★","★","★","★","★","★","★","★","★","★","★","★","★","★","★","★","★","★","★","★","★","★","★","★","★","★","★","★","★","★","★","★","★","★","★","★","★","★","★","★","★","★","★","★","★","★","★",{"$f":"IFERROR(INDEX($F:$F,MATCH(TG$3,$G:$G,0),1),\"★\")","v":"★"},"★","★","★","★","★","★","★","★","★","★","★","★","★","★","★","★","★","★","★","★","★","★","★","★","★","★","★","★","★","★","★","★","★","★","★","★","★","★","★","★","★","★","★","★","★","★","★","★","★","★","★","★","★","★","★","★","★","★","★","★","★","★","★",{"$f":"IFERROR(INDEX($F:$F,MATCH(VS$3,$G:$G,0),1),\"★\")","v":"★"},"★","★","★","★","★","★","★","★","★","★","★","★","★","★","★","★","★","★","★","★","★","★","★","★","★","★","★","★","★","★","★","★","★","★","★","★","★","★","★","★","★","★","★","★","★","★","★","★","★","★","★","★","★","★","★","★","★","★","★","★","★","★","★",{"$f":"IFERROR(INDEX($F:$F,MATCH(YE$3,$G:$G,0),1),\"★\")","v":"★"},"★","★","★","★","★","★","★","★","★","★","★","★","★","★","★","★","★","★","★","★","★","★","★","★","★","★","★","★","★","★","★","★","★","★","★","★","★","★","★","★","★","★","★","★","★","★","★","★","★","★","★","★","★","★","★","★","★","★","★","★","★","★","★",{"$f":"IFERROR(INDEX($F:$F,MATCH(AAQ$3,$G:$G,0),1),\"★\")","v":"★"},"★","★","★","★","★","★","★","★","★","★","★","★","★","★","★","★","★","★","★","★","★","★","★","★","★","★","★","★","★","★","★","★","★","★","★","★","★","★","★","★","★","★","★","★","★","★","★","★","★","★","★","★","★","★","★","★","★","★","★","★","★","★","★",{"$f":"IFERROR(INDEX($F:$F,MATCH(ADC$3,$G:$G,0),1),\"★\")","v":"★"},"★","★","★","★","★","★","★","★","★","★","★","★","★","★","★","★","★","★","★","★","★","★","★","★","★","★","★","★","★","★","★","★","★","★","★","★","★","★","★","★","★","★","★","★","★","★","★","★","★","★","★","★","★","★","★","★","★","★","★","★","★","★","★",{"$f":"IFERROR(INDEX($F:$F,MATCH(AFO$3,$G:$G,0),1),\"★\")","v":"★"},"★","★","★","★","★","★","★","★","★","★","★","★","★","★","★","★","★","★","★","★","★","★","★","★","★","★","★","★","★","★","★","★","★","★","★","★","★","★","★","★","★","★","★","★","★","★","★","★","★","★","★","★","★","★","★","★","★","★","★","★","★","★","★",{"$f":"IFERROR(INDEX($F:$F,MATCH(AIA$3,$G:$G,0),1),\"★\")","v":"★"},"★","★","★","★","★","★","★","★","★","★","★","★","★","★","★","★","★","★","★","★","★","★","★","★","★","★","★","★","★","★","★","★","★","★","★","★","★","★","★","★","★","★","★","★","★","★","★","★","★","★","★","★","★","★","★","★","★","★","★","★","★","★","★",{"$f":"IFERROR(INDEX($F:$F,MATCH(AKM$3,$G:$G,0),1),\"★\")","v":"★"},"★","★","★","★","★","★","★","★","★","★","★","★","★","★","★","★","★","★","★","★","★","★","★","★","★","★","★","★","★","★","★","★","★","★","★","★","★","★","★","★","★","★","★","★","★","★","★","★","★","★","★","★","★","★","★","★","★","★","★","★","★","★","★",{"$f":"IFERROR(INDEX($F:$F,MATCH(AMY$3,$G:$G,0),1),\"★\")","v":"★"},"★","★","★","★","★","★","★","★","★","★","★","★","★","★","★","★","★","★","★","★","★","★","★","★","★","★","★","★","★","★","★","★","★","★","★","★","★","★","★","★","★","★","★","★","★","★","★","★","★","★","★","★","★","★","★","★","★","★","★","★","★","★","★",{"$f":"IFERROR(INDEX($F:$F,MATCH(APK$3,$G:$G,0),1),\"★\")","v":"★"},"★","★","★","★","★","★","★","★","★","★","★","★","★","★","★","★","★","★","★","★","★","★","★","★","★","★","★","★","★","★","★","★","★","★","★","★","★","★","★","★","★","★","★","★","★","★","★","★","★","★","★","★","★","★","★","★","★","★","★","★","★","★","★",{"$f":"IFERROR(INDEX($F:$F,MATCH(ARW$3,$G:$G,0),1),\"★\")","v":"★"},"★","★","★","★","★","★","★","★","★","★","★","★","★","★","★","★","★","★","★","★","★","★","★","★","★","★","★","★","★","★","★","★","★","★","★","★","★","★","★","★","★","★","★","★","★","★","★","★","★","★","★","★","★","★","★","★","★","★","★","★","★","★","★",{"$f":"IFERROR(INDEX($F:$F,MATCH(AUI$3,$G:$G,0),1),\"★\")","v":"★"},"★","★","★","★","★","★","★","★","★","★","★","★","★","★","★","★","★","★","★","★","★","★","★","★","★","★","★","★","★","★","★","★","★","★","★","★","★","★","★","★","★","★","★","★","★","★","★","★","★","★","★","★","★","★","★","★","★","★","★","★","★","★","★",{"$f":"IFERROR(INDEX($F:$F,MATCH(AWU$3,$G:$G,0),1),\"★\")","v":"★"},"★","★","★","★","★","★","★","★","★","★","★","★","★","★","★","★","★","★","★","★","★","★","★","★","★","★","★","★","★","★","★","★","★","★","★","★","★","★","★","★","★","★","★","★","★","★","★","★","★","★","★","★","★","★","★","★","★","★","★","★","★","★","★",{"$f":"IFERROR(INDEX($F:$F,MATCH(AZG$3,$G:$G,0),1),\"★\")","v":"★"},"★","★","★","★","★","★","★","★","★","★","★","★","★","★","★","★","★","★","★","★","★","★","★","★","★","★","★","★","★","★","★","★","★","★","★","★","★","★","★","★","★","★","★","★","★","★","★","★","★","★","★","★","★","★","★","★","★","★","★","★","★","★","★",{"$f":"IFERROR(INDEX($F:$F,MATCH(BBS$3,$G:$G,0),1),\"★\")","v":"★"},"★","★","★","★","★","★","★","★",{"$f":"IFERROR(INDEX($F:$F,MATCH(BCB$3,$G:$G,0),1),\"★\")","v":"★"},"★","★","★","★","★","★","★","★","★","★","★","★","★","★","★","★","★","★","★","★","★","★","★","★","★","★","★","★","★","★","★","★","★","★","★","★","★","★","★","★","★","★","★","★","★","★","★","★","★","★","★","★","★","★","★","★","★","★","★","★","★","★","★","★","★",{"$f":"IFERROR(INDEX($F:$F,MATCH(BEP$3,$G:$G,0),1),\"★\")","v":"★"},null,null,"会社名等(フリガナ)"]
["会社所在地(〒)",{"$nulls":4},"★","会社所在地(〒)","",{"$nulls":3},"",null,0,{"$f":"INDEX($A$5:$BEP$5,1,COLUMN()-1)+1","v":1},{"$f":"INDEX($A$5:$BEP$5,1,COLUMN()-1)+1","v":2},3,4,5,6,7,8,9,10,11,12,13,14,15,16,17,18,19,20,21,22,23,24,25,26,27,28,29,30,31,32,33,34,35,36,37,38,39,40,41,42,43,44,45,46,47,48,49,50,51,52,53,54,55,56,57,58,59,60,61,62,63,64,65,{"$f":"INDEX($A$5:$BEP$5,1,COLUMN()-1)+1","v":66},67,68,69,70,71,72,73,74,75,76,77,78,79,80,81,82,83,84,85,86,87,88,89,90,91,92,93,94,95,96,97,98,99,100,101,102,103,104,105,106,107,108,109,110,111,112,113,114,115,116,117,118,119,120,121,122,123,124,125,126,127,128,129,{"$f":"INDEX($A$5:$BEP$5,1,COLUMN()-1)+1","v":130},131,132,133,134,135,136,137,138,139,140,141,142,143,144,145,146,147,148,149,150,151,152,153,154,155,156,157,158,159,160,161,162,163,164,165,166,167,168,169,170,171,172,173,174,175,176,177,178,179,180,181,182,183,184,185,186,187,188,189,190,191,192,193,{"$f":"INDEX($A$5:$BEP$5,1,COLUMN()-1)+1","v":194},195,196,197,198,199,200,201,202,203,204,205,206,207,208,209,210,211,212,213,214,215,216,217,218,219,220,221,222,223,224,225,226,227,228,229,230,231,232,233,234,235,236,237,238,239,240,241,242,243,244,245,246,247,248,249,250,251,252,253,254,255,256,257,{"$f":"INDEX($A$5:$BEP$5,1,COLUMN()-1)+1","v":258},259,260,261,262,263,264,265,266,267,268,269,270,271,272,273,274,275,276,277,278,279,280,281,282,283,284,285,286,287,288,289,290,291,292,293,294,295,296,297,298,299,300,301,302,303,304,305,306,307,308,309,310,311,312,313,314,315,316,317,318,319,320,321,{"$f":"INDEX($A$5:$BEP$5,1,COLUMN()-1)+1","v":322},323,324,325,326,327,328,329,330,331,332,333,334,335,336,337,338,339,340,341,342,343,344,345,346,347,348,349,350,351,352,353,354,355,356,357,358,359,360,361,362,363,364,365,366,367,368,369,370,371,372,373,374,375,376,377,378,379,380,381,382,383,384,385,{"$f":"INDEX($A$5:$BEP$5,1,COLUMN()-1)+1","v":386},387,388,389,390,391,392,393,394,395,396,397,398,399,400,401,402,403,404,405,406,407,408,409,410,411,412,413,414,415,416,417,418,419,420,421,422,423,424,425,426,427,428,429,430,431,432,433,434,435,436,437,438,439,440,441,442,443,444,445,446,447,448,449,{"$f":"INDEX($A$5:$BEP$5,1,COLUMN()-1)+1","v":450},451,452,453,454,455,456,457,458,459,460,461,462,463,464,465,466,467,468,469,470,471,472,473,474,475,476,477,478,479,480,481,482,483,484,485,486,487,488,489,490,491,492,493,494,495,496,497,498,499,500,501,502,503,504,505,506,507,508,509,510,511,512,513,{"$f":"INDEX($A$5:$BEP$5,1,COLUMN()-1)+1","v":514},515,516,517,518,519,520,521,522,523,524,525,526,527,528,529,530,531,532,533,534,535,536,537,538,539,540,541,542,543,544,545,546,547,548,549,550,551,552,553,554,555,556,557,558,559,560,561,562,563,564,565,566,567,568,569,570,571,572,573,574,575,576,577,{"$f":"INDEX($A$5:$BEP$5,1,COLUMN()-1)+1","v":578},579,580,581,582,583,584,585,586,587,588,589,590,591,592,593,594,595,596,597,598,599,600,601,602,603,604,605,606,607,608,609,610,611,612,613,614,615,616,617,618,619,620,621,622,623,624,625,626,627,628,629,630,631,632,633,634,635,636,637,638,639,640,641,{"$f":"INDEX($A$5:$BEP$5,1,COLUMN()-1)+1","v":642},643,644,645,646,647,648,649,650,651,652,653,654,655,656,657,658,659,660,661,662,663,664,665,666,667,668,669,670,671,672,673,674,675,676,677,678,679,680,681,682,683,684,685,686,687,688,689,690,691,692,693,694,695,696,697,698,699,700,701,702,703,704,705,{"$f":"INDEX($A$5:$BEP$5,1,COLUMN()-1)+1","v":706},707,708,709,710,711,712,713,714,715,716,717,718,719,720,721,722,723,724,725,726,727,728,729,730,731,732,733,734,735,736,737,738,739,740,741,742,743,744,745,746,747,748,749,750,751,752,753,754,755,756,757,758,759,760,761,762,763,764,765,766,767,768,769,{"$f":"INDEX($A$5:$BEP$5,1,COLUMN()-1)+1","v":770},771,772,773,774,775,776,777,778,779,780,781,782,783,784,785,786,787,788,789,790,791,792,793,794,795,796,797,798,799,800,801,802,803,804,805,806,807,808,809,810,811,812,813,814,815,816,817,818,819,820,821,822,823,824,825,826,827,828,829,830,831,832,833,{"$f":"INDEX($A$5:$BEP$5,1,COLUMN()-1)+1","v":834},835,836,837,838,839,840,841,842,843,844,845,846,847,848,849,850,851,852,853,854,855,856,857,858,859,860,861,862,863,864,865,866,867,868,869,870,871,872,873,874,875,876,877,878,879,880,881,882,883,884,885,886,887,888,889,890,891,892,893,894,895,896,897,{"$f":"INDEX($A$5:$BEP$5,1,COLUMN()-1)+1","v":898},899,900,901,902,903,904,905,906,907,908,909,910,911,912,913,914,915,916,917,918,919,920,921,922,923,924,925,926,927,928,929,930,931,932,933,934,935,936,937,938,939,940,941,942,943,944,945,946,947,948,949,950,951,952,953,954,955,956,957,958,959,960,961,{"$f":"INDEX($A$5:$BEP$5,1,COLUMN()-1)+1","v":962},963,964,965,966,967,968,969,970,971,972,973,974,975,976,977,978,979,980,981,982,983,984,985,986,987,988,989,990,991,992,993,994,995,996,997,998,999,1000,1001,1002,1003,1004,1005,1006,1007,1008,1009,1010,1011,1012,1013,1014,1015,1016,1017,1018,1019,1020,1021,1022,1023,1024,1025,{"$f":"INDEX($A$5:$BEP$5,1,COLUMN()-1)+1","v":1026},1027,1028,1029,1030,1031,1032,1033,1034,1035,1036,1037,1038,1039,1040,1041,1042,1043,1044,1045,1046,1047,1048,1049,1050,1051,1052,1053,1054,1055,1056,1057,1058,1059,1060,1061,1062,1063,1064,1065,1066,1067,1068,1069,1070,1071,1072,1073,1074,1075,1076,1077,1078,1079,1080,1081,1082,1083,1084,1085,1086,1087,1088,1089,{"$f":"INDEX($A$5:$BEP$5,1,COLUMN()-1)+1","v":1090},1091,1092,1093,1094,1095,1096,1097,1098,1099,1100,1101,1102,1103,1104,1105,1106,1107,1108,1109,1110,1111,1112,1113,1114,1115,1116,1117,1118,1119,1120,1121,1122,1123,1124,1125,1126,1127,1128,1129,1130,1131,1132,1133,1134,1135,1136,1137,1138,1139,1140,1141,1142,1143,1144,1145,1146,1147,1148,1149,1150,1151,1152,1153,{"$f":"INDEX($A$5:$BEP$5,1,COLUMN()-1)+1","v":1154},1155,1156,1157,1158,1159,1160,1161,1162,1163,1164,1165,1166,1167,1168,1169,1170,1171,1172,1173,1174,1175,1176,1177,1178,1179,1180,1181,1182,1183,1184,1185,1186,1187,1188,1189,1190,1191,1192,1193,1194,1195,1196,1197,1198,1199,1200,1201,1202,1203,1204,1205,1206,1207,1208,1209,1210,1211,1212,1213,1214,1215,1216,1217,{"$f":"INDEX($A$5:$BEP$5,1,COLUMN()-1)+1","v":1218},1219,1220,1221,1222,1223,1224,1225,1226,1227,1228,1229,1230,1231,1232,1233,1234,1235,1236,1237,1238,1239,1240,1241,1242,1243,1244,1245,1246,1247,1248,1249,1250,1251,1252,1253,1254,1255,1256,1257,1258,1259,1260,1261,1262,1263,1264,1265,1266,1267,1268,1269,1270,1271,1272,1273,1274,1275,1276,1277,1278,1279,1280,1281,{"$f":"INDEX($A$5:$BEP$5,1,COLUMN()-1)+1","v":1282},1283,1284,1285,1286,1287,1288,1289,1290,1291,1292,1293,1294,1295,1296,1297,1298,1299,1300,1301,1302,1303,1304,1305,1306,1307,1308,1309,1310,1311,1312,1313,1314,1315,1316,1317,1318,1319,1320,1321,1322,1323,1324,1325,1326,1327,1328,1329,1330,1331,1332,1333,1334,1335,1336,1337,1338,1339,1340,1341,1342,1343,1344,1345,{"$f":"INDEX($A$5:$BEP$5,1,COLUMN()-1)+1","v":1346},1347,1348,1349,1350,1351,1352,1353,1354,1355,1356,1357,1358,1359,1360,1361,1362,1363,1364,1365,1366,1367,1368,1369,1370,1371,1372,1373,1374,1375,1376,1377,1378,1379,1380,1381,1382,1383,1384,1385,1386,1387,1388,1389,1390,1391,1392,1393,1394,1395,1396,1397,1398,1399,1400,1401,1402,1403,1404,1405,1406,1407,1408,1409,{"$f":"INDEX($A$5:$BEP$5,1,COLUMN()-1)+1","v":1410},1411,1412,1413,1414,1415,1416,1417,1418,1419,1420,1421,1422,1423,1424,1425,1426,1427,1428,1429,1430,1431,1432,1433,1434,1435,1436,1437,1438,1439,1440,1441,1442,1443,1444,1445,1446,1447,1448,1449,1450,1451,1452,1453,1454,1455,1456,1457,1458,1459,1460,1461,1462,1463,1464,1465,1466,1467,1468,1469,1470,1471,1472,1473,1474,1475,1476,1477,1478,1479,1480,1481,1482,1483,1484,null,null,"会社所在地(〒)"]
["会社所在地(住所)",{"$nulls":4},"★","会社所在地(住所)","",{"$nulls":3},"",{"$nulls":1488},"会社所在地(住所)"]
["工場所在地(〒)",{"$nulls":4},"★","工場所在地(〒)","",{"$nulls":3},"",{"$nulls":1488},"工場所在地(〒)"]
["工場所在地(住所)",{"$nulls":4},"★","工場所在地(住所)","",{"$nulls":3},"",{"$nulls":1488},"工場所在地(住所)"]
["会社TEL",{"$nulls":4},"★","会社TEL","",{"$nulls":3},"",{"$nulls":1488},"会社TEL"]
["会社FAX",{"$nulls":4},"★","会社FAX","",{"$nulls":3},"",{"$nulls":1488},"会社FAX"]
["会社Email",{"$nulls":4},"★","会社Email","",{"$nulls":3},"",{"$nulls":1488},"会社Email"]
["代表者役職",{"$nulls":4},"★","代表者役職","",{"$nulls":3},"",{"$nulls":1488},"代表者役職"]
["代表者氏名",{"$nulls":4},"★","代表者氏名","",{"$nulls":3},"",{"$nulls":1488},"代表者氏名"]
["年間売上高",{"$nulls":4},"★","年間売上高","",{"$nulls":3},"",{"$nulls":1488},"年間売上高"]
["従業員数(社員○名・パート○名等)",{"$nulls":4},"★","従業員数","",{"$nulls":3},"",{"$nulls":1488},"従業員数"]
["担当者役職",{"$nulls":4},"★","担当者役職","",{"$nulls":3},"",{"$nulls":1488},"担当者役職"]
["担当者氏名",{"$nulls":4},"★","担当者氏名","",{"$nulls":3},"",{"$nulls":1488},"担当者氏名"]
["担当者TEL",{"$nulls":4},"★","担当者TEL","",{"$nulls":3},"",{"$nulls":1488},"担当者TEL"]
["担当者Email",{"$nulls":4},"★","担当者Email","",{"$nulls":3},"",{"$nulls":1488},"担当者Email"]
["ホームページURL",{"$nulls":4},"★","ホームページURL","",{"$nulls":3},"",{"$nulls":1488},"ホームページURL"]
["メッセージ・\nアピールポイント\n",{"$nulls":4},"★","メッセージ・\nアピールポイント","",{"$nulls":3},"",{"$nulls":1488},"メッセージ・\nアピールポイント"]
["業種",null,"飲料",null,false,{"$f":"IF(E22=TRUE,1,\"★\")","v":"★"},"飲料","",{"$nulls":3},"",{"$nulls":1488},"飲料"]
[null,null,"酒類",null,false,{"$f":"IF(E23=TRUE,1,\"★\")","v":"★"},"酒類","",{"$nulls":3},"",{"$nulls":1488},"酒類"]
[null,null,"菓子類",null,false,"★","菓子類","",{"$nulls":3},"",{"$nulls":1488},"菓子類"]
[null,null,"水産品・水産加工品",null,false,"★","水産品・水産加工品","",{"$nulls":3},"",{"$nulls":1488},"水産品・水産加工品"]
[null,null,"畜産品・畜産加工品",null,false,"★","畜産品・畜産加工品","",{"$nulls":3},"",{"$nulls":1488},"畜産品・畜産加工品"]
[null,null,"農産加工品",null,false,"★","農産加工品","",{"$nulls":3},"",{"$nulls":1488},"農産加工品"]
[null,null,"茶・茶加工品",null,false,"★","茶・茶加工品","",{"$nulls":3},"",{"$nulls":1488},"茶・茶加工品"]
[null,null,"調味料",null,false,"★","調味料","",{"$nulls":3},"",{"$nulls":1488},"調味料"]
[null,null,"食品卸",null,false,"★","食品卸","",{"$nulls":3},"",{"$nulls":1488},"食品卸"]
[null,null,"その他(下記記入)",null,false,"★","その他・業種","",{"$nulls":3},"",{"$nulls":1488},"その他・業種"]
[{"$nulls":5},{"$f":"IF(B32=\"\",\"★\",B32)","v":"★"},"その他・業種・","",{"$nulls":3},"",{"$nulls":1488},"その他・業種・"]
["業務対応可能言語",null,"日本語",null,false,{"$f":"IF(E33=TRUE,1,\"★\")","v":"★"},"日本語","",{"$nulls":3},"",{"$nulls":1488},"日本語"]
[null,null,"中国語",null,false,"★","中国語","",{"$nulls":3},"",{"$nulls":1488},"中国語"]
[null,null,"英語",null,false,"★","英語","",{"$nulls":3},"",{"$nulls":1488},"英語"]
[null,null,"その他(下記記入)",null,false,"★","その他・言語","",{"$nulls":3},"",{"$nulls":1488},"その他・言語"]
[{"$nulls":5},{"$f":"IF(B37=\"\",\"★\",B37)","v":"★"},"その他・言語・","",{"$nulls":3},"",{"$nulls":1488},"その他・言語・"]
["英語ラベル対応",null,"可",null,false,{"$f":"IF(E38=TRUE,1,\"★\")","v":"★"},"可","",{"$nulls":3},"",{"$nulls":1488},"可"]
[null,null,"不可",null,false,"★","不可","",{"$nulls":3},"",{"$nulls":1488},"不可"]
["生産・製造工程\nアピールポイント\n(農産品の場合は、栽培面積・\n年間収穫量等も記載)",{"$nulls":4},{"$f":"IF(B40=\"\",\"★\",B40)","v":"★"},"生産・製造工程\nアピールポイント\n","",{"$nulls":3},"",{"$nulls":1488},"生産・製造工程\nアピールポイント\n"]
["取得済認証",null,"HACCP",null,false,{"$f":"IF(E41=TRUE,1,\"★\")","v":"★"},"HACCP","",{"$nulls":3},"",{"$nulls":1488},"HACCP"]
[null,null,"G-GAP",null,false,"★","G-GAP","",{"$nulls":3},"",{"$nulls":1488},"G-GAP"]
[null,null,"ISO22000",null,false,"★","ISO22000","",{"$nulls":3},"",{"$nulls":1488},"ISO22000"]
[null,null,"ISO9001",null,false,"★","ISO9001","",{"$nulls":3},"",{"$nulls":1488},"ISO9001"]
[null,null,"Halal",null,false,"★","Halal","",{"$nulls":3},"",{"$nulls":1488},"Halal"]
[null,null,"FSSC22000",null,false,"★","FSSC22000","",{"$nulls":3},"",{"$nulls":1488},"FSSC22000"]
[null,null,"Organic JAS",null,false,"★","Organic JAS","",{"$nulls":3},"",{"$nulls":1488},"Organic JAS"]
[null,null,"なし",null,false,"★","なし・取得","",{"$nulls":3},"",{"$nulls":1488},"なし・取得"]
[null,null,"その他(下記記入)",null,false,"★","その他・取得","",{"$nulls":3},"",{"$nulls":1488},"その他・取得"]
[{"$nulls":5},{"$f":"IF(B50=\"\",\"★\",B50)","v":"★"},"その他・取得・","",{"$nulls":3},"",{"$nulls":1488},"その他・取得・"]
["品質・衛生・危機管理情報",{"$nulls":10},"",{"$nulls":1488},0]
["品質検査の有無",null,"なし",null,false,{"$f":"IF(E52=TRUE,1,\"★\")","v":"★"},"なし・品質",{"$f":"IF(COUNTIFS(G:G,G52)=1,\"\",\"■\")","v":""},{"$nulls":3},"",{"$nulls":1488},"なし・品質"]
[null,null,"あり(下記具体的に)",null,false,"★","あり・品質","",{"$nulls":3},"",{"$nulls":1488},"あり・品質"]
[{"$nulls":5},{"$f":"IF(B54=\"\",\"★\",B54)","v":"★"},"あり・品質・","",{"$nulls":3},"",{"$nulls":1488},"あり・品質・"]
["衛生管理への取組\n生産・製造工程の管理",{"$nulls":4},"★","衛生・生産","",{"$nulls":3},"",{"$nulls":1488},"衛生・生産"]
["衛生管理への取組\n従業員の管理",{"$nulls":4},"★","衛生・従業員","",{"$nulls":3},"",{"$nulls":1488},"衛生・従業員"]
["衛生管理への取組\n施設設備の管理",{"$nulls":4},"★","衛生・施設","",{"$nulls":3},"",{"$nulls":1488},"衛生・施設"]
["危機管理体制\n担当者名又は担当部署名",{"$nulls":4},"★","危機・担当","",{"$nulls":3},"",{"$nulls":1488},"危機・担当"]
["危機管理体制\n担当者連絡先",{"$nulls":4},"★","危機・担当連絡","",{"$nulls":3},"",{"$nulls":1488},"危機・担当連絡"]
["危機管理に関する対応や生産物\n賠償責任保険(PL保険)の加入等",{"$nulls":4},"★","危機・対応","",{"$nulls":3},"",{"$nulls":1488},"危機・対応"]
["商談に関する必要情報について",{"$nulls":10},"",{"$nulls":1488},0]
["商談希望国・地域",null,"中国",null,false,{"$f":"IF(E62=TRUE,1,\"★\")","v":"★"},"商談・中国",{"$f":"IF(COUNTIFS(G:G,G62)=1,\"\",\"■\")","v":""},{"$nulls":3},"",{"$nulls":1488},"商談・中国"]
[null,null,"韓国",null,false,"★","商談・韓国","",{"$nulls":3},"",{"$nulls":1488},"商談・韓国"]
[null,null,"台湾",null,false,"★","商談・台湾","",{"$nulls":3},"",{"$nulls":1488},"商談・台湾"]
[null,null,"香港",null,false,"★","商談・香港","",{"$nulls":3},"",{"$nulls":1488},"商談・香港"]
[null,null,"シンガポール",null,false,"★","商談・シンガポール","",{"$nulls":3},"",{"$nulls":1488},"商談・シンガポール"]
[null,null,"タイ",null,false,"★","商談・タイ","",{"$nulls":3},"",{"$nulls":1488},"商談・タイ"]
[null,null,"マレーシア",null,false,"★","商談・マレーシア","",{"$nulls":3},{"$f":"IF(F68=J68,\"\",IF(AND(F68=\"★\",J68=\"\"),\"\",IF(VALUE(F68)=VALUE(J68),\"\",\"●\")))","v":""},{"$nulls":1488},"商談・マレーシア"]
[null,null,"ベトナム",null,false,"★","商談・ベトナム","",{"$nulls":3},"",{"$nulls":1488},"商談・ベトナム"]
[null,null,"北米",null,false,"★","商談・北米","",{"$nulls":3},"",{"$nulls":1488},"商談・北米"]
[null,null,"ドバイ",null,false,"★","商談・ドバイ","",{"$nulls":3},"",{"$nulls":1488},"商談・ドバイ"]
[null,null,"フランス",null,false,"★","商談・フランス","",{"$nulls":3},"",{"$nulls":1488},"商談・フランス"]
[null,null,"イギリス",null,false,"★","商談・イギリス","",{"$nulls":3},"",{"$nulls":1488},"商談・イギリス"]
[null,null,"ブラジル",null,false,"★","商談・ブラジル","",{"$nulls":3},"",{"$nulls":1488},"商談・ブラジル"]
[null,null,"オーストラリア",null,false,"★","商談・オーストラリア","",{"$nulls":3},"",{"$nulls":1488},"商談・オーストラリア"]
[null,null,"その他(下記記入)",null,false,"★","その他・商談","",{"$nulls":3},"",{"$nulls":1488},"その他・商談"]
[{"$nulls":5},{"$f":"IF(B77=\"\",\"\",B77)","v":""},"その他・商談・","",{"$nulls":3},"",{"$nulls":1488},"その他・商談・"]
["輸出実績国・地域",null,"中国",null,false,{"$f":"IF(E78=TRUE,1,\"★\")","v":"★"},"輸出・中国","",{"$nulls":3},"",{"$nulls":1488},"輸出・中国"]
[null,null,"韓国",null,false,"★","輸出・韓国","",{"$nulls":3},"",{"$nulls":1488},"輸出・韓国"]
[null,null,"台湾",null,false,"★","輸出・台湾","",{"$nulls":3},"",{"$nulls":1488},"輸出・台湾"]
[null,null,"香港",null,false,"★","輸出・香港","",{"$nulls":3},"",{"$nulls":1488},"輸出・香港"]
[null,null,"シンガポール",null,false,"★","輸出・シンガポール","",{"$nulls":3},"",{"$nulls":1488},"輸出・シンガポール"]
[null,null,"タイ",null,false,"★","輸出・タイ","",{"$nulls":3},"",{"$nulls":1488},"輸出・タイ"]
[null,null,"マレーシア",null,false,"★","輸出・マレーシア","",{"$nulls":3},"",{"$nulls":1488},"輸出・マレーシア"]
[null,null,"ベトナム",null,false,"★","輸出・ベトナム","",{"$nulls":3},"",{"$nulls":1488},"輸出・ベトナム"]
[null,null,"北米",null,false,"★","輸出・北米","",{"$nulls":3},"",{"$nulls":1488},"輸出・北米"]
[null,null,"ドバイ",null,false,"★","輸出・ドバイ","",{"$nulls":3},"",{"$nulls":1488},"輸出・ドバイ"]
[null,null,"フランス",null,false,"★","輸出・フランス","",{"$nulls":3},"",{"$nulls":1488},"輸出・フランス"]
[null,null,"イギリス",null,false,"★","輸出・イギリス","",{"$nulls":3},"",{"$nulls":1488},"輸出・イギリス"]
[null,null,"ブラジル",null,false,"★","輸出・ブラジル","",{"$nulls":3},"",{"$nulls":1488},"輸出・ブラジル"]
[null,null,"オーストラリア",null,false,"★","輸出・オーストラリア","",{"$nulls":3},"",{"$nulls":1488},"輸出・オーストラリア"]
[null,null,"その他(下記記入)",null,false,"★","その他・輸出","",{"$nulls":3},"",{"$nulls":1488},"その他・輸出"]
[{"$nulls":5},{"$f":"IF(B93=\"\",\"★\",B93)","v":"★"},"その他・輸出・","",{"$nulls":3},"",{"$nulls":1488},"その他・輸出・"]
["輸出パートナー",null,"あり",null,false,{"$f":"IF(E94=TRUE,1,\"★\")","v":"★"},"あり・輸出","",{"$nulls":3},"",{"$nulls":1488},"あり・輸出"]
[null,null,"なし",null,false,"★","なし・輸出","",{"$nulls":3},"",{"$nulls":1488},"なし・輸出"]
["商品情報①　(提案・登録情報シートに商品の全体像がわかる画像と裏面ラベルのアップ画像を添付して下さい)",{"$nulls":10},"",{"$nulls":1488},0]
["商品名",{"$nulls":4},{"$f":"IF(B97=\"\",\"★\",B97)","v":"★"},"商品名①",{"$f":"IF(COUNTIFS(G:G,G97)=1,\"\",\"■\")","v":""},{"$nulls":3},"",{"$nulls":1488},"商品名①"]
["提供可能時期",{"$nulls":4},"★","提供可能時期①","",{"$nulls":3},"",{"$nulls":1488},"提供可能時期①"]
["主原料産地(漁獲場所等)",{"$nulls":4},"★","主原料産地①","",{"$nulls":3},"",{"$nulls":1488},"主原料産地①"]
["内容量",{"$nulls":4},"★","内容量①","",{"$nulls":3},"",{"$nulls":1488},"内容量①"]
["1ケースあたり入数",{"$nulls":4},"★","1ケースあたり①","",{"$nulls":3},"",{"$nulls":1488},"1ケースあたり①"]
["発注リードタイム",{"$nulls":4},"★","発注リードタイム①","",{"$nulls":3},"",{"$nulls":1488},"発注リードタイム①"]
["最大ケース納品単位\n(◎ケース/日　等単位も記載)",{"$nulls":4},"★","最大ケース①","",{"$nulls":3},"",{"$nulls":1488},"最大ケース①"]
["最小ケース納品単位\n(◎ケース/日　等単位も記載)",{"$nulls":4},"★","最小ケース①","",{"$nulls":3},"",{"$nulls":1488},"最小ケース①"]
["ケースサイズ縦 (cm)\n(数字のみ記入)",{"$nulls":4},"★","縦①","",{"$nulls":3},"",{"$nulls":1488},"縦①"]
["ケースサイズ横 (cm)\n(数字のみ記入)",{"$nulls":4},"★","横①","",{"$nulls":3},"",{"$nulls":1488},"横①"]
["ケースサイズ高さ (cm)\n(数字のみ記入)",{"$nulls":4},"★","高さ①","",{"$nulls":3},"",{"$nulls":1488},"高さ①"]
["ケース重量 (kg)\n(数字のみ記入)",{"$nulls":4},"★","重量①","",{"$nulls":3},"",{"$nulls":1488},"重量①"]
["賞味期限",{"$nulls":4},"★","賞味期限①","",{"$nulls":3},"",{"$nulls":1488},"賞味期限①"]
["消費期限",{"$nulls":4},"★","消費期限①","",{"$nulls":3},"",{"$nulls":1488},"消費期限①"]
["JANコード(13桁or8桁)\n(空白を入れずに数字のみ入力)",{"$nulls":4},"★","JANコード①","",{"$nulls":3},"",{"$nulls":1488},"JANコード①"]
["希望小売価格(円:税抜)\n(金額のみ入力)",{"$nulls":4},"★","希望小売①","",{"$nulls":3},"",{"$nulls":1488},"希望小売①"]
["仕切単価(円:税抜)\n(金額のみ入力)",{"$nulls":4},"★","仕切単価①","",{"$nulls":3},"",{"$nulls":1488},"仕切単価①"]
["(一つ選択)",null,"工場出し",null,false,{"$f":"IF(E114=TRUE,1,\"★\")","v":"★"},"工場出し①","",{"$nulls":3},"",{"$nulls":1488},"工場出し①"]
[null,null,"関東向け",null,false,"★","関東向け①","",{"$nulls":3},"",{"$nulls":1488},"関東向け①"]
[null,null,"関西向け",null,false,"★","関西向け①","",{"$nulls":3},"",{"$nulls":1488},"関西向け①"]
["税率",null,"８％",null,false,{"$f":"IF(E117=TRUE,1,\"★\")","v":"★"},"8%①","",{"$nulls":3},"",{"$nulls":1488},"8%①"]
[null,null,"１０％",null,false,"★","10%①","",{"$nulls":3},"",{"$nulls":1488},"10%①"]
["保存温度帯",null,"常温",null,false,"★","常温①","",{"$nulls":3},"",{"$nulls":1488},"常温①"]
[null,null,"冷蔵",null,false,"★","冷蔵①","",{"$nulls":3},"",{"$nulls":1488},"冷蔵①"]
[null,null,"冷凍",null,false,"★","冷凍①","",{"$nulls":3},"",{"$nulls":1488},"冷凍①"]
["ターゲット(売先)",null,"外食",null,false,"★","外食①","",{"$nulls":3},"",{"$nulls":1488},"外食①"]
[null,null,"中食",null,false,"★","中食①","",{"$nulls":3},"",{"$nulls":1488},"中食①"]
[null,null,"商社・卸売",null,false,"★","商社・卸売①","",{"$nulls":3},"",{"$nulls":1488},"商社・卸売①"]
[null,null,"メーカー",null,false,"★","メーカー①","",{"$nulls":3},"",{"$nulls":1488},"メーカー①"]
[null,null,"スーパーマーケット",null,false,"★","スーパーマーケット①","",{"$nulls":3},"",{"$nulls":1488},"スーパーマーケット①"]
[null,null,"百貨店",null,false,"★","百貨店①","",{"$nulls":3},"",{"$nulls":1488},"百貨店①"]
[null,null,"その他小売",null,false,"★","その他小売①","",{"$nulls":3},"",{"$nulls":1488},"その他小売①"]
[null,null,"ホテル・宴会・レジャー",null,false,"★","ホテル・宴会・レジャー①",{"$f":"IF(COUNTIFS(G:G,G129)=1,\"\",\"■\")","v":""},{"$nulls":3},"",{"$nulls":1488},"ホテル・宴会・レジャー①"]
[null,null,"その他(下記記入)",null,false,"★","その他・ターゲット①","",{"$nulls":3},"",{"$nulls":1488},"その他・ターゲット①"]
[{"$nulls":5},{"$f":"IF(B131=\"\",\"★\",B131)","v":"★"},"その他・ターゲット・①","",{"$nulls":3},"",{"$nulls":1488},"その他・ターゲット・①"]
["対応",null,"業務用対応可能",null,false,{"$f":"IF(E132=TRUE,1,\"★\")","v":"★"},"業務用対応可能①","",{"$nulls":3},{"$f":"IF(F132=J132,\"\",IF(AND(F132=\"★\",J132=\"\"),\"\",IF(VALUE(F132)=VALUE(J132),\"\",\"●\")))","v":""},{"$nulls":1488},"業務用対応可能①"]
[null,null,"ギフト対応可能",null,false,"★","ギフト対応可能①","",{"$nulls":3},"",{"$nulls":1488},"ギフト対応可能①"]
["ターゲット(性別・年齢層等)",{"$nulls":4},{"$f":"IF(B134=\"\",\"★\",B134)","v":"★"},"ターゲット①","",{"$nulls":3},"",{"$nulls":1488},"ターゲット①"]
["利用シーン\n(利用方法・おすすめレシピ等)",{"$nulls":4},{"$f":"IF(B135=\"\",\"★\",B135)","v":"★"},"利用シーン①","",{"$nulls":3},"",{"$nulls":1488},"利用シーン①"]
["商品特徴",{"$nulls":4},{"$f":"IF(B136=\"\",\"★\",B136)","v":"★"},"商品特徴①","",{"$nulls":3},"",{"$nulls":1488},"商品特徴①"]
["アレルギー表示",null,"えび",null,false,{"$f":"IF(E137=TRUE,1,\"★\")","v":"★"},"えび①","",{"$nulls":3},"",{"$nulls":1488},"えび①"]
["(特定原材料)",null,"かに",null,false,"★","かに①","",{"$nulls":3},"",{"$nulls":1488},"かに①"]
["＊使用している項目に☑",null,"小麦",null,false,"★","小麦①","",{"$nulls":3},"",{"$nulls":1488},"小麦①"]
["表示義務有",null,"そば",null,false,"★","そば①","",{"$nulls":3},"",{"$nulls":1488},"そば①"]
[null,null,"卵",null,false,"★","卵①","",{"$nulls":3},"",{"$nulls":1488},"卵①"]
[null,null,"乳",null,false,"★","乳①","",{"$nulls":3},"",{"$nulls":1488},"乳①"]
[null,null,"落花生",null,false,"★","落花生①","",{"$nulls":3},"",{"$nulls":1488},"落花生①"]
["表示を推奨(任意表示)",null,"あわび",null,false,"★","あわび①","",{"$nulls":3},"",{"$nulls":1488},"あわび①"]
[null,null,"いか",null,false,"★","いか①","",{"$nulls":3},"",{"$nulls":1488},"いか①"]
[null,null,"いくら",null,false,"★","いくら①","",{"$nulls":3},"",{"$nulls":1488},"いくら①"]
[null,null,"オレンジ",null,false,"★","オレンジ①","",{"$nulls":3},"",{"$nulls":1488},"オレンジ①"]
[null,null,"カシューナッツ",null,false,"★","カシューナッツ①","",{"$nulls":3},"",{"$nulls":1488},"カシューナッツ①"]
[null,null,"キウイフルーツ",null,false,"★","キウイフルーツ①","",{"$nulls":3},"",{"$nulls":1488},"キウイフルーツ①"]
[null,null,"牛肉",null,false,"★","牛肉①","",{"$nulls":3},"",{"$nulls":1488},"牛肉①"]
[null,null,"くるみ",null,false,"★","くるみ①","",{"$nulls":3},"",{"$nulls":1488},"くるみ①"]
[null,null,"ごま",null,false,"★","ごま①","",{"$nulls":3},"",{"$nulls":1488},"ごま①"]
[null,null,"さけ",null,false,"★","さけ①","",{"$nulls":3},"",{"$nulls":1488},"さけ①"]
[null,null,"さば",null,false,"★","さば①","",{"$nulls":3},"",{"$nulls":1488},"さば①"]
[null,null,"大豆",null,false,"★","大豆①","",{"$nulls":3},"",{"$nulls":1488},"大豆①"]
[null,null,"鶏肉",null,false,"★","鶏肉①","",{"$nulls":3},"",{"$nulls":1488},"鶏肉①"]
[null,null,"バナナ",null,false,"★","バナナ①","",{"$nulls":3},"",{"$nulls":1488},"バナナ①"]
[null,null,"豚肉",null,false,"★","豚肉①","",{"$nulls":3},"",{"$nulls":1488},"豚肉①"]
[null,null,"まつたけ",null,false,"★","まつたけ①","",{"$nulls":3},"",{"$nulls":1488},"まつたけ①"]
[null,null,"もも",null,false,"★","もも①","",{"$nulls":3},"",{"$nulls":1488},"もも①"]
[null,null,"やまいも",null,false,"★","やまいも①",{"$f":"IF(COUNTIFS(G:G,G161)=1,\"\",\"■\")","v":""},{"$nulls":3},"",{"$nulls":1488},"やまいも①"]
[null,null,"りんご",null,false,"★","りんご①","",{"$nulls":3},"",{"$nulls":1488},"りんご①"]
[null,null,"ゼラチン",null,false,"★","ゼラチン①","",{"$nulls":3},"",{"$nulls":1488},"ゼラチン①"]
["備考\n(当商品以外にアレルゲンを扱って\nいる場合はその旨を記入)",{"$nulls":4},{"$f":"IF(B164=\"\",\"★\",B164)","v":"★"},"備考①","",{"$nulls":3},"",{"$nulls":1488},"備考①"]
["商品情報②　(提案・登録情報シートに商品の全体像がわかる画像と裏面ラベルのアップ画像を添付して下さい)",{"$nulls":10},"",{"$nulls":1488},0]
["商品名",{"$nulls":4},{"$f":"IF(B166=\"\",\"★\",B166)","v":"★"},"商品名②",{"$f":"IF(COUNTIFS(G:G,G166)=1,\"\",\"■\")","v":""},{"$nulls":3},"",{"$nulls":1488},"商品名②"]
["提供可能時期",{"$nulls":4},"★","提供可能時期②","",{"$nulls":3},"",{"$nulls":1488},"提供可能時期②"]
["主原料産地(漁獲場所等)",{"$nulls":4},"★","主原料産地②","",{"$nulls":3},"",{"$nulls":1488},"主原料産地②"]
["内容量",{"$nulls":4},"★","内容量②","",{"$nulls":3},"",{"$nulls":1488},"内容量②"]
["1ケースあたり入数",{"$nulls":4},"★","1ケースあたり②","",{"$nulls":3},"",{"$nulls":1488},"1ケースあたり②"]
["発注リードタイム",{"$nulls":4},"★","発注リードタイム②","",{"$nulls":3},"",{"$nulls":1488},"発注リードタイム②"]
["最大ケース納品単位\n(◎ケース/日　等単位も記載)",{"$nulls":4},"★","最大ケース②","",{"$nulls":3},"",{"$nulls":1488},"最大ケース②"]
["最小ケース納品単位\n(◎ケース/日　等単位も記載)",{"$nulls":4},"★","最小ケース②","",{"$nulls":3},"",{"$nulls":1488},"最小ケース②"]
["ケースサイズ縦 (cm)\n(数字のみ記入)",{"$nulls":4},"★","縦②","",{"$nulls":3},"",{"$nulls":1488},"縦②"]
["ケースサイズ横 (cm)\n(数字のみ記入)",{"$nulls":4},"★","横②","",{"$nulls":3},"",{"$nulls":1488},"横②"]
["ケースサイズ高さ (cm)\n(数字のみ記入)",{"$nulls":4},"★","高さ②","",{"$nulls":3},"",{"$nulls":1488},"高さ②"]
["ケース重量 (kg)\n(数字のみ記入)",{"$nulls":4},"★","重量②","",{"$nulls":3},"",{"$nulls":1488},"重量②"]
["賞味期限",{"$nulls":4},"★","賞味期限②","",{"$nulls":3},"",{"$nulls":1488},"賞味期限②"]
["消費期限",{"$nulls":4},"★","消費期限②","",{"$nulls":3},"",{"$nulls":1488},"消費期限②"]
["JANコード(13桁or8桁)\n(空白を入れずに数字のみ入力)",{"$nulls":4},"★","JANコード②","",{"$nulls":3},"",{"$nulls":1488},"JANコード②"]
["希望小売価格(円:税抜)\n(金額のみ入力)",{"$nulls":4},"★","希望小売②","",{"$nulls":3},"",{"$nulls":1488},"希望小売②"]
["仕切単価(円:税抜)\n(金額のみ入力)",{"$nulls":4},"★","仕切単価②","",{"$nulls":3},"",{"$nulls":1488},"仕切単価②"]
["(一つ選択)",null,"工場出し",null,false,{"$f":"IF(E183=TRUE,1,\"★\")","v":"★"},"工場出し②","",{"$nulls":3},"",{"$nulls":1488},"工場出し②"]
[null,null,"関東向け",null,false,"★","関東向け②","",{"$nulls":3},"",{"$nulls":1488},"関東向け②"]
[null,null,"関西向け",null,false,"★","関西向け②","",{"$nulls":3},"",{"$nulls":1488},"関西向け②"]
["税率",null,"８％",null,false,{"$f":"IF(E186=TRUE,1,\"★\")","v":"★"},"8%②","",{"$nulls":3},"",{"$nulls":1488},"8%②"]
[null,null,"１０％",null,false,"★","10%②","",{"$nulls":3},"",{"$nulls":1488},"10%②"]
["保存温度帯",null,"常温",null,false,"★","常温②","",{"$nulls":3},"",{"$nulls":1488},"常温②"]
[null,null,"冷蔵",null,false,"★","冷蔵②","",{"$nulls":3},"",{"$nulls":1488},"冷蔵②"]
[null,null,"冷凍",null,false,"★","冷凍②","",{"$nulls":3},"",{"$nulls":1488},"冷凍②"]
["ターゲット(売先)",null,"外食",null,false,"★","外食②","",{"$nulls":3},"",{"$nulls":1488},"外食②"]
[null,null,"中食",null,false,"★","中食②","",{"$nulls":3},"",{"$nulls":1488},"中食②"]
[null,null,"商社・卸売",null,false,"★","商社・卸売②","",{"$nulls":3},"",{"$nulls":1488},"商社・卸売②"]
[null,null,"メーカー",null,false,"★","メーカー②","",{"$nulls":3},"",{"$nulls":1488},"メーカー②"]
[null,null,"スーパーマーケット",null,false,"★","スーパーマーケット②","",{"$nulls":3},"",{"$nulls":1488},"スーパーマーケット②"]
[null,null,"百貨店",null,false,"★","百貨店②","",{"$nulls":3},{"$f":"IF(F196=J196,\"\",IF(AND(F196=\"★\",J196=\"\"),\"\",IF(VALUE(F196)=VALUE(J196),\"\",\"●\")))","v":""},{"$nulls":1488},"百貨店②"]
[null,null,"その他小売",null,false,"★","その他小売②","",{"$nulls":3},"",{"$nulls":1488},"その他小売②"]
[null,null,"ホテル・宴会・レジャー",null,false,"★","ホテル・宴会・レジャー②",{"$f":"IF(COUNTIFS(G:G,G198)=1,\"\",\"■\")","v":""},{"$nulls":3},"",{"$nulls":1488},"ホテル・宴会・レジャー②"]
[null,null,"その他(下記記入)",null,false,"★","その他・ターゲット②","",{"$nulls":3},"",{"$nulls":1488},"その他・ターゲット②"]
[{"$nulls":5},{"$f":"IF(B200=\"\",\"★\",B200)","v":"★"},"その他・ターゲット・②","",{"$nulls":3},"",{"$nulls":1488},"その他・ターゲット・②"]
["対応",null,"業務用対応可能",null,false,{"$f":"IF(E201=TRUE,1,\"★\")","v":"★"},"業務用対応可能②","",{"$nulls":3},"",{"$nulls":1488},"業務用対応可能②"]
[null,null,"ギフト対応可能",null,false,"★","ギフト対応可能②","",{"$nulls":3},"",{"$nulls":1488},"ギフト対応可能②"]
["ターゲット(性別・年齢層等)",{"$nulls":4},{"$f":"IF(B203=\"\",\"★\",B203)","v":"★"},"ターゲット②","",{"$nulls":3},"",{"$nulls":1488},"ターゲット②"]
["利用シーン\n(利用方法・おすすめレシピ等)",{"$nulls":4},{"$f":"IF(B204=\"\",\"★\",B204)","v":"★"},"利用シーン②","",{"$nulls":3},"",{"$nulls":1488},"利用シーン②"]
["商品特徴",{"$nulls":4},{"$f":"IF(B205=\"\",\"★\",B205)","v":"★"},"商品特徴②","",{"$nulls":3},"",{"$nulls":1488},"商品特徴②"]
["アレルギー表示",null,"えび",null,false,{"$f":"IF(E206=TRUE,1,\"★\")","v":"★"},"えび②","",{"$nulls":3},"",{"$nulls":1488},"えび②"]
["(特定原材料)",null,"かに",null,false,"★","かに②","",{"$nulls":3},"",{"$nulls":1488},"かに②"]
["＊使用している項目に☑",null,"小麦",null,false,"★","小麦②","",{"$nulls":3},"",{"$nulls":1488},"小麦②"]
["表示義務有",null,"そば",null,false,"★","そば②","",{"$nulls":3},"",{"$nulls":1488},"そば②"]
[null,null,"卵",null,false,"★","卵②","",{"$nulls":3},"",{"$nulls":1488},"卵②"]
[null,null,"乳",null,false,"★","乳②","",{"$nulls":3},"",{"$nulls":1488},"乳②"]
[null,null,"落花生",null,false,"★","落花生②","",{"$nulls":3},"",{"$nulls":1488},"落花生②"]
["表示を推奨(任意表示)",null,"あわび",null,false,"★","あわび②","",{"$nulls":3},"",{"$nulls":1488},"あわび②"]
[null,null,"いか",null,false,"★","いか②","",{"$nulls":3},"",{"$nulls":1488},"いか②"]
[null,null,"いくら",null,false,"★","いくら②","",{"$nulls":3},"",{"$nulls":1488},"いくら②"]
[null,null,"オレンジ",null,false,"★","オレンジ②","",{"$nulls":3},"",{"$nulls":1488},"オレンジ②"]
[null,null,"カシューナッツ",null,false,"★","カシューナッツ②","",{"$nulls":3},"",{"$nulls":1488},"カシューナッツ②"]
[null,null,"キウイフルーツ",null,false,"★","キウイフルーツ②","",{"$nulls":3},"",{"$nulls":1488},"キウイフルーツ②"]
[null,null,"牛肉",null,false,"★","牛肉②","",{"$nulls":3},"",{"$nulls":1488},"牛肉②"]
[null,null,"くるみ",null,false,"★","くるみ②","",{"$nulls":3},"",{"$nulls":1488},"くるみ②"]
[null,null,"ごま",null,false,"★","ごま②","",{"$nulls":3},"",{"$nulls":1488},"ごま②"]
[null,null,"さけ",null,false,"★","さけ②","",{"$nulls":3},"",{"$nulls":1488},"さけ②"]
[null,null,"さば",null,false,"★","さば②","",{"$nulls":3},"",{"$nulls":1488},"さば②"]
[null,null,"大豆",null,false,"★","大豆②","",{"$nulls":3},"",{"$nulls":1488},"大豆②"]
[null,null,"鶏肉",null,false,"★","鶏肉②","",{"$nulls":3},"",{"$nulls":1488},"鶏肉②"]
[null,null,"バナナ",null,false,"★","バナナ②","",{"$nulls":3},"",{"$nulls":1488},"バナナ②"]
[null,null,"豚肉",null,false,"★","豚肉②","",{"$nulls":3},"",{"$nulls":1488},"豚肉②"]
[null,null,"まつたけ",null,false,"★","まつたけ②","",{"$nulls":3},"",{"$nulls":1488},"まつたけ②"]
[null,null,"もも",null,false,"★","もも②","",{"$nulls":3},"",{"$nulls":1488},"もも②"]
[null,null,"やまいも",null,false,"★","やまいも②",{"$f":"IF(COUNTIFS(G:G,G230)=1,\"\",\"■\")","v":""},{"$nulls":3},"",{"$nulls":1488},"やまいも②"]
[null,null,"りんご",null,false,"★","りんご②","",{"$nulls":3},"",{"$nulls":1488},"りんご②"]
[null,null,"ゼラチン",null,false,"★","ゼラチン②","",{"$nulls":3},"",{"$nulls":1488},"ゼラチン②"]
["備考\n(当商品以外にアレルゲンを扱って\nいる場合はその旨を記入)",{"$nulls":4},{"$f":"IF(B233=\"\",\"★\",B233)","v":"★"},"備考②","",{"$nulls":3},"",{"$nulls":1488},"備考②"]
["商品情報③　(提案・登録情報シートに商品の全体像がわかる画像と裏面ラベルのアップ画像を添付して下さい)",{"$nulls":10},"",{"$nulls":1488},0]
["商品名",{"$nulls":4},{"$f":"IF(B235=\"\",\"★\",B235)","v":"★"},"商品名③",{"$f":"IF(COUNTIFS(G:G,G235)=1,\"\",\"■\")","v":""},{"$nulls":3},"",{"$nulls":1488},"商品名③"]
["提供可能時期",{"$nulls":4},"★","提供可能時期③","",{"$nulls":3},"",{"$nulls":1488},"提供可能時期③"]
["主原料産地(漁獲場所等)",{"$nulls":4},"★","主原料産地③","",{"$nulls":3},"",{"$nulls":1488},"主原料産地③"]
["内容量",{"$nulls":4},"★","内容量③","",{"$nulls":3},"",{"$nulls":1488},"内容量③"]
["1ケースあたり入数",{"$nulls":4},"★","1ケースあたり③","",{"$nulls":3},"",{"$nulls":1488},"1ケースあたり③"]
["発注リードタイム",{"$nulls":4},"★","発注リードタイム③","",{"$nulls":3},"",{"$nulls":1488},"発注リードタイム③"]
["最大ケース納品単位\n(◎ケース/日　等単位も記載)",{"$nulls":4},"★","最大ケース③","",{"$nulls":3},"",{"$nulls":1488},"最大ケース③"]
["最小ケース納品単位\n(◎ケース/日　等単位も記載)",{"$nulls":4},"★","最小ケース③","",{"$nulls":3},"",{"$nulls":1488},"最小ケース③"]
["ケースサイズ縦 (cm)\n(数字のみ記入)",{"$nulls":4},"★","縦③","",{"$nulls":3},"",{"$nulls":1488},"縦③"]
["ケースサイズ横 (cm)\n(数字のみ記入)",{"$nulls":4},"★","横③","",{"$nulls":3},"",{"$nulls":1488},"横③"]
["ケースサイズ高さ (cm)\n(数字のみ記入)",{"$nulls":4},"★","高さ③","",{"$nulls":3},"",{"$nulls":1488},"高さ③"]
["ケース重量 (kg)\n(数字のみ記入)",{"$nulls":4},"★","重量③","",{"$nulls":3},"",{"$nulls":1488},"重量③"]
["賞味期限",{"$nulls":4},"★","賞味期限③","",{"$nulls":3},"",{"$nulls":1488},"賞味期限③"]
["消費期限",{"$nulls":4},"★","消費期限③","",{"$nulls":3},"",{"$nulls":1488},"消費期限③"]
["JANコード(13桁or8桁)\n(空白を入れずに数字のみ入力)",{"$nulls":4},"★","JANコード③","",{"$nulls":3},"",{"$nulls":1488},"JANコード③"]
["希望小売価格(円:税抜)\n(金額のみ入力)",{"$nulls":4},"★","希望小売③","",{"$nulls":3},"",{"$nulls":1488},"希望小売③"]
["仕切単価(円:税抜)\n(金額のみ入力)",{"$nulls":4},"★","仕切単価③","",{"$nulls":3},"",{"$nulls":1488},"仕切単価③"]
["(一つ選択)",null,"工場出し",null,false,{"$f":"IF(E252=TRUE,1,\"★\")","v":"★"},"工場出し③","",{"$nulls":3},"",{"$nulls":1488},"工場出し③"]
[null,null,"関東向け",null,false,"★","関東向け③","",{"$nulls":3},"",{"$nulls":1488},"関東向け③"]
[null,null,"関西向け",null,false,"★","関西向け③","",{"$nulls":3},"",{"$nulls":1488},"関西向け③"]
["税率",null,"８％",null,false,{"$f":"IF(E255=TRUE,1,\"★\")","v":"★"},"8%③","",{"$nulls":3},"",{"$nulls":1488},"8%③"]
[null,null,"１０％",null,false,"★","10%③","",{"$nulls":3},"",{"$nulls":1488},"10%③"]
["保存温度帯",null,"常温",null,false,"★","常温③","",{"$nulls":3},"",{"$nulls":1488},"常温③"]
[null,null,"冷蔵",null,false,"★","冷蔵③","",{"$nulls":3},"",{"$nulls":1488},"冷蔵③"]
[null,null,"冷凍",null,false,"★","冷凍③","",{"$nulls":3},"",{"$nulls":1488},"冷凍③"]
["ターゲット(売先)",null,"外食",null,false,"★","外食③","",{"$nulls":3},{"$f":"IF(F260=J260,\"\",IF(AND(F260=\"★\",J260=\"\"),\"\",IF(VALUE(F260)=VALUE(J260),\"\",\"●\")))","v":""},{"$nulls":1488},"外食③"]
[null,null,"中食",null,false,"★","中食③","",{"$nulls":3},"",{"$nulls":1488},"中食③"]
[null,null,"商社・卸売",null,false,"★","商社・卸売③","",{"$nulls":3},"",{"$nulls":1488},"商社・卸売③"]
[null,null,"メーカー",null,false,"★","メーカー③","",{"$nulls":3},"",{"$nulls":1488},"メーカー③"]
[null,null,"スーパーマーケット",null,false,"★","スーパーマーケット③","",{"$nulls":3},"",{"$nulls":1488},"スーパーマーケット③"]
[null,null,"百貨店",null,false,"★","百貨店③","",{"$nulls":3},"",{"$nulls":1488},"百貨店③"]
[null,null,"その他小売",null,false,"★","その他小売③","",{"$nulls":3},"",{"$nulls":1488},"その他小売③"]
[null,null,"ホテル・宴会・レジャー",null,false,"★","ホテル・宴会・レジャー③",{"$f":"IF(COUNTIFS(G:G,G267)=1,\"\",\"■\")","v":""},{"$nulls":3},"",{"$nulls":1488},"ホテル・宴会・レジャー③"]
[null,null,"その他(下記記入)",null,false,"★","その他・ターゲット③","",{"$nulls":3},"",{"$nulls":1488},"その他・ターゲット③"]
[{"$nulls":5},{"$f":"IF(B269=\"\",\"★\",B269)","v":"★"},"その他・ターゲット・③","",{"$nulls":3},"",{"$nulls":1488},"その他・ターゲット・③"]
["対応",null,"業務用対応可能",null,false,{"$f":"IF(E270=TRUE,1,\"★\")","v":"★"},"業務用対応可能③","",{"$nulls":3},"",{"$nulls":1488},"業務用対応可能③"]
[null,null,"ギフト対応可能",null,false,"★","ギフト対応可能③","",{"$nulls":3},"",{"$nulls":1488},"ギフト対応可能③"]
["ターゲット(性別・年齢層等)",{"$nulls":4},{"$f":"IF(B272=\"\",\"★\",B272)","v":"★"},"ターゲット③","",{"$nulls":3},"",{"$nulls":1488},"ターゲット③"]
["利用シーン\n(利用方法・おすすめレシピ等)",{"$nulls":4},{"$f":"IF(B273=\"\",\"★\",B273)","v":"★"},"利用シーン③","",{"$nulls":3},"",{"$nulls":1488},"利用シーン③"]
["商品特徴",{"$nulls":4},{"$f":"IF(B274=\"\",\"★\",B274)","v":"★"},"商品特徴③","",{"$nulls":3},"",{"$nulls":1488},"商品特徴③"]
["アレルギー表示",null,"えび",null,false,{"$f":"IF(E275=TRUE,1,\"★\")","v":"★"},"えび③","",{"$nulls":3},"",{"$nulls":1488},"えび③"]
["(特定原材料)",null,"かに",null,false,"★","かに③","",{"$nulls":3},"",{"$nulls":1488},"かに③"]
["＊使用している項目に☑",null,"小麦",null,false,"★","小麦③","",{"$nulls":3},"",{"$nulls":1488},"小麦③"]
["表示義務有",null,"そば",null,false,"★","そば③","",{"$nulls":3},"",{"$nulls":1488},"そば③"]
[null,null,"卵",null,false,"★","卵③","",{"$nulls":3},"",{"$nulls":1488},"卵③"]
[null,null,"乳",null,false,"★","乳③","",{"$nulls":3},"",{"$nulls":1488},"乳③"]
[null,null,"落花生",null,false,"★","落花生③","",{"$nulls":3},"",{"$nulls":1488},"落花生③"]
["表示を推奨(任意表示)",null,"あわび",null,false,"★","あわび③","",{"$nulls":3},"",{"$nulls":1488},"あわび③"]
[null,null,"いか",null,false,"★","いか③","",{"$nulls":3},"",{"$nulls":1488},"いか③"]
[null,null,"いくら",null,false,"★","いくら③","",{"$nulls":3},"",{"$nulls":1488},"いくら③"]
[null,null,"オレンジ",null,false,"★","オレンジ③","",{"$nulls":3},"",{"$nulls":1488},"オレンジ③"]
[null,null,"カシューナッツ",null,false,"★","カシューナッツ③","",{"$nulls":3},"",{"$nulls":1488},"カシューナッツ③"]
[null,null,"キウイフルーツ",null,false,"★","キウイフルーツ③","",{"$nulls":3},"",{"$nulls":1488},"キウイフルーツ③"]
[null,null,"牛肉",null,false,"★","牛肉③","",{"$nulls":3},"",{"$nulls":1488},"牛肉③"]
[null,null,"くるみ",null,false,"★","くるみ③","",{"$nulls":3},"",{"$nulls":1488},"くるみ③"]
[null,null,"ごま",null,false,"★","ごま③","",{"$nulls":3},"",{"$nulls":1488},"ごま③"]
[null,null,"さけ",null,false,"★","さけ③","",{"$nulls":3},"",{"$nulls":1488},"さけ③"]
[null,null,"さば",null,false,"★","さば③","",{"$nulls":3},"",{"$nulls":1488},"さば③"]
[null,null,"大豆",null,false,"★","大豆③","",{"$nulls":3},"",{"$nulls":1488},"大豆③"]
[null,null,"鶏肉",null,false,"★","鶏肉③","",{"$nulls":3},"",{"$nulls":1488},"鶏肉③"]
[null,null,"バナナ",null,false,"★","バナナ③","",{"$nulls":3},"",{"$nulls":1488},"バナナ③"]
[null,null,"豚肉",null,false,"★","豚肉③","",{"$nulls":3},"",{"$nulls":1488},"豚肉③"]
[null,null,"まつたけ",null,false,"★","まつたけ③","",{"$nulls":3},"",{"$nulls":1488},"まつたけ③"]
[null,null,"もも",null,false,"★","もも③","",{"$nulls":3},"",{"$nulls":1488},"もも③"]
[null,null,"やまいも",null,false,"★","やまいも③",{"$f":"IF(COUNTIFS(G:G,G299)=1,\"\",\"■\")","v":""},{"$nulls":3},"",{"$nulls":1488},"やまいも③"]
[null,null,"りんご",null,false,"★","りんご③","",{"$nulls":3},"",{"$nulls":1488},"りんご③"]
[null,null,"ゼラチン",null,false,"★","ゼラチン③","",{"$nulls":3},"",{"$nulls":1488},"ゼラチン③"]
["備考\n(当商品以外にアレルゲンを扱って\nいる場合はその旨を記入)",{"$nulls":4},{"$f":"IF(B302=\"\",\"★\",B302)","v":"★"},"備考③","",{"$nulls":3},"",{"$nulls":1488},"備考③"]
["商品情報④　(提案・登録情報シートに商品の全体像がわかる画像と裏面ラベルのアップ画像を添付して下さい)",{"$nulls":10},"",{"$nulls":1488},0]
["商品名",{"$nulls":4},{"$f":"IF(B304=\"\",\"★\",B304)","v":"★"},"商品名④",{"$f":"IF(COUNTIFS(G:G,G304)=1,\"\",\"■\")","v":""},{"$nulls":3},"",{"$nulls":1488},"商品名④"]
["提供可能時期",{"$nulls":4},"★","提供可能時期④","",{"$nulls":3},"",{"$nulls":1488},"提供可能時期④"]
["主原料産地(漁獲場所等)",{"$nulls":4},"★","主原料産地④","",{"$nulls":3},"",{"$nulls":1488},"主原料産地④"]
["内容量",{"$nulls":4},"★","内容量④","",{"$nulls":3},"",{"$nulls":1488},"内容量④"]
["1ケースあたり入数",{"$nulls":4},"★","1ケースあたり④","",{"$nulls":3},"",{"$nulls":1488},"1ケースあたり④"]
["発注リードタイム",{"$nulls":4},"★","発注リードタイム④","",{"$nulls":3},"",{"$nulls":1488},"発注リードタイム④"]
["最大ケース納品単位\n(◎ケース/日　等単位も記載)",{"$nulls":4},"★","最大ケース④","",{"$nulls":3},"",{"$nulls":1488},"最大ケース④"]
["最小ケース納品単位\n(◎ケース/日　等単位も記載)",{"$nulls":4},"★","最小ケース④","",{"$nulls":3},"",{"$nulls":1488},"最小ケース④"]
["ケースサイズ縦 (cm)\n(数字のみ記入)",{"$nulls":4},"★","縦④","",{"$nulls":3},"",{"$nulls":1488},"縦④"]
["ケースサイズ横 (cm)\n(数字のみ記入)",{"$nulls":4},"★","横④","",{"$nulls":3},"",{"$nulls":1488},"横④"]
["ケースサイズ高さ (cm)\n(数字のみ記入)",{"$nulls":4},"★","高さ④","",{"$nulls":3},"",{"$nulls":1488},"高さ④"]
["ケース重量 (kg)\n(数字のみ記入)",{"$nulls":4},"★","重量④","",{"$nulls":3},"",{"$nulls":1488},"重量④"]
["賞味期限",{"$nulls":4},"★","賞味期限④","",{"$nulls":3},"",{"$nulls":1488},"賞味期限④"]
["消費期限",{"$nulls":4},"★","消費期限④","",{"$nulls":3},"",{"$nulls":1488},"消費期限④"]
["JANコード(13桁or8桁)\n(空白を入れずに数字のみ入力)",{"$nulls":4},"★","JANコード④","",{"$nulls":3},"",{"$nulls":1488},"JANコード④"]
["希望小売価格(円:税抜)\n(金額のみ入力)",{"$nulls":4},"★","希望小売④","",{"$nulls":3},"",{"$nulls":1488},"希望小売④"]
["仕切単価(円:税抜)\n(金額のみ入力)",{"$nulls":4},"★","仕切単価④","",{"$nulls":3},"",{"$nulls":1488},"仕切単価④"]
["(一つ選択)",null,"工場出し",null,false,{"$f":"IF(E321=TRUE,1,\"★\")","v":"★"},"工場出し④","",{"$nulls":3},"",{"$nulls":1488},"工場出し④"]
[null,null,"関東向け",null,false,"★","関東向け④","",{"$nulls":3},"",{"$nulls":1488},"関東向け④"]
[null,null,"関西向け",null,false,"★","関西向け④","",{"$nulls":3},"",{"$nulls":1488},"関西向け④"]
["税率",null,"８％",null,false,{"$f":"IF(E324=TRUE,1,\"★\")","v":"★"},"8%④","",{"$nulls":3},{"$f":"IF(F324=J324,\"\",IF(AND(F324=\"★\",J324=\"\"),\"\",IF(VALUE(F324)=VALUE(J324),\"\",\"●\")))","v":""},{"$nulls":1488},"8%④"]
[null,null,"１０％",null,false,"★","10%④","",{"$nulls":3},"",{"$nulls":1488},"10%④"]
["保存温度帯",null,"常温",null,false,"★","常温④","",{"$nulls":3},"",{"$nulls":1488},"常温④"]
[null,null,"冷蔵",null,false,"★","冷蔵④","",{"$nulls":3},"",{"$nulls":1488},"冷蔵④"]
[null,null,"冷凍",null,false,"★","冷凍④","",{"$nulls":3},"",{"$nulls":1488},"冷凍④"]
["ターゲット(売先)",null,"外食",null,false,"★","外食④","",{"$nulls":3},"",{"$nulls":1488},"外食④"]
[null,null,"中食",null,false,"★","中食④","",{"$nulls":3},"",{"$nulls":1488},"中食④"]
[null,null,"商社・卸売",null,false,"★","商社・卸売④","",{"$nulls":3},"",{"$nulls":1488},"商社・卸売④"]
[null,null,"メーカー",null,false,"★","メーカー④","",{"$nulls":3},"",{"$nulls":1488},"メーカー④"]
[null,null,"スーパーマーケット",null,false,"★","スーパーマーケット④","",{"$nulls":3},"",{"$nulls":1488},"スーパーマーケット④"]
[null,null,"百貨店",null,false,"★","百貨店④","",{"$nulls":3},"",{"$nulls":1488},"百貨店④"]
[null,null,"その他小売",null,false,"★","その他小売④","",{"$nulls":3},"",{"$nulls":1488},"その他小売④"]
[null,null,"ホテル・宴会・レジャー",null,false,"★","ホテル・宴会・レジャー④",{"$f":"IF(COUNTIFS(G:G,G336)=1,\"\",\"■\")","v":""},{"$nulls":3},"",{"$nulls":1488},"ホテル・宴会・レジャー④"]
[null,null,"その他(下記記入)",null,false,"★","その他・ターゲット④","",{"$nulls":3},"",{"$nulls":1488},"その他・ターゲット④"]
[{"$nulls":5},{"$f":"IF(B338=\"\",\"★\",B338)","v":"★"},"その他・ターゲット・④","",{"$nulls":3},"",{"$nulls":1488},"その他・ターゲット・④"]
["対応",null,"業務用対応可能",null,false,{"$f":"IF(E339=TRUE,1,\"★\")","v":"★"},"業務用対応可能④","",{"$nulls":3},"",{"$nulls":1488},"業務用対応可能④"]
[null,null,"ギフト対応可能",null,false,"★","ギフト対応可能④","",{"$nulls":3},"",{"$nulls":1488},"ギフト対応可能④"]
["ターゲット(性別・年齢層等)",{"$nulls":4},{"$f":"IF(B341=\"\",\"★\",B341)","v":"★"},"ターゲット④","",{"$nulls":3},"",{"$nulls":1488},"ターゲット④"]
["利用シーン\n(利用方法・おすすめレシピ等)",{"$nulls":4},{"$f":"IF(B342=\"\",\"★\",B342)","v":"★"},"利用シーン④","",{"$nulls":3},"",{"$nulls":1488},"利用シーン④"]
["商品特徴",{"$nulls":4},{"$f":"IF(B343=\"\",\"★\",B343)","v":"★"},"商品特徴④","",{"$nulls":3},"",{"$nulls":1488},"商品特徴④"]
["アレルギー表示",null,"えび",null,false,{"$f":"IF(E344=TRUE,1,\"★\")","v":"★"},"えび④","",{"$nulls":3},"",{"$nulls":1488},"えび④"]
["(特定原材料)",null,"かに",null,false,"★","かに④","",{"$nulls":3},"",{"$nulls":1488},"かに④"]
["＊使用している項目に☑",null,"小麦",null,false,"★","小麦④","",{"$nulls":3},"",{"$nulls":1488},"小麦④"]
["表示義務有",null,"そば",null,false,"★","そば④","",{"$nulls":3},"",{"$nulls":1488},"そば④"]
[null,null,"卵",null,false,"★","卵④","",{"$nulls":3},"",{"$nulls":1488},"卵④"]
[null,null,"乳",null,false,"★","乳④","",{"$nulls":3},"",{"$nulls":1488},"乳④"]
[null,null,"落花生",null,false,"★","落花生④","",{"$nulls":3},"",{"$nulls":1488},"落花生④"]
["表示を推奨(任意表示)",null,"あわび",null,false,"★","あわび④","",{"$nulls":3},"",{"$nulls":1488},"あわび④"]
[null,null,"いか",null,false,"★","いか④","",{"$nulls":3},"",{"$nulls":1488},"いか④"]
[null,null,"いくら",null,false,"★","いくら④","",{"$nulls":3},"",{"$nulls":1488},"いくら④"]
[null,null,"オレンジ",null,false,"★","オレンジ④","",{"$nulls":3},"",{"$nulls":1488},"オレンジ④"]
[null,null,"カシューナッツ",null,false,"★","カシューナッツ④","",{"$nulls":3},"",{"$nulls":1488},"カシューナッツ④"]
[null,null,"キウイフルーツ",null,false,"★","キウイフルーツ④","",{"$nulls":3},"",{"$nulls":1488},"キウイフルーツ④"]
[null,null,"牛肉",null,false,"★","牛肉④","",{"$nulls":3},"",{"$nulls":1488},"牛肉④"]
[null,null,"くるみ",null,false,"★","くるみ④","",{"$nulls":3},"",{"$nulls":1488},"くるみ④"]
[null,null,"ごま",null,false,"★","ごま④","",{"$nulls":3},"",{"$nulls":1488},"ごま④"]
[null,null,"さけ",null,false,"★","さけ④","",{"$nulls":3},"",{"$nulls":1488},"さけ④"]
[null,null,"さば",null,false,"★","さば④","",{"$nulls":3},"",{"$nulls":1488},"さば④"]
[null,null,"大豆",null,false,"★","大豆④","",{"$nulls":3},"",{"$nulls":1488},"大豆④"]
[null,null,"鶏肉",null,false,"★","鶏肉④","",{"$nulls":3},"",{"$nulls":1488},"鶏肉④"]
[null,null,"バナナ",null,false,"★","バナナ④","",{"$nulls":3},"",{"$nulls":1488},"バナナ④"]
[null,null,"豚肉",null,false,"★","豚肉④","",{"$nulls":3},"",{"$nulls":1488},"豚肉④"]
[null,null,"まつたけ",null,false,"★","まつたけ④","",{"$nulls":3},"",{"$nulls":1488},"まつたけ④"]
[null,null,"もも",null,false,"★","もも④","",{"$nulls":3},"",{"$nulls":1488},"もも④"]
[null,null,"やまいも",null,false,"★","やまいも④",{"$f":"IF(COUNTIFS(G:G,G368)=1,\"\",\"■\")","v":""},{"$nulls":3},"",{"$nulls":1488},"やまいも④"]
[null,null,"りんご",null,false,"★","りんご④","",{"$nulls":3},"",{"$nulls":1488},"りんご④"]
[null,null,"ゼラチン",null,false,"★","ゼラチン④","",{"$nulls":3},"",{"$nulls":1488},"ゼラチン④"]
["備考\n(当商品以外にアレルゲンを扱って\nいる場合はその旨を記入)",{"$nulls":4},{"$f":"IF(B371=\"\",\"★\",B371)","v":"★"},"備考④","",{"$nulls":3},"",{"$nulls":1488},"備考④"]
["商品情報⑤　(提案・登録情報シートに商品の全体像がわかる画像と裏面ラベルのアップ画像を添付して下さい)",{"$nulls":10},"",{"$nulls":1488},0]
["商品名",{"$nulls":4},{"$f":"IF(B373=\"\",\"★\",B373)","v":"★"},"商品名⑤",{"$f":"IF(COUNTIFS(G:G,G373)=1,\"\",\"■\")","v":""},{"$nulls":3},"",{"$nulls":1488},"商品名⑤"]
["提供可能時期",{"$nulls":4},"★","提供可能時期⑤","",{"$nulls":3},"",{"$nulls":1488},"提供可能時期⑤"]
["主原料産地(漁獲場所等)",{"$nulls":4},"★","主原料産地⑤","",{"$nulls":3},"",{"$nulls":1488},"主原料産地⑤"]
["内容量",{"$nulls":4},"★","内容量⑤","",{"$nulls":3},"",{"$nulls":1488},"内容量⑤"]
["1ケースあたり入数",{"$nulls":4},"★","1ケースあたり⑤","",{"$nulls":3},"",{"$nulls":1488},"1ケースあたり⑤"]
["発注リードタイム",{"$nulls":4},"★","発注リードタイム⑤","",{"$nulls":3},"",{"$nulls":1488},"発注リードタイム⑤"]
["最大ケース納品単位\n(◎ケース/日　等単位も記載)",{"$nulls":4},"★","最大ケース⑤","",{"$nulls":3},"",{"$nulls":1488},"最大ケース⑤"]
["最小ケース納品単位\n(◎ケース/日　等単位も記載)",{"$nulls":4},"★","最小ケース⑤","",{"$nulls":3},"",{"$nulls":1488},"最小ケース⑤"]
["ケースサイズ縦 (cm)\n(数字のみ記入)",{"$nulls":4},"★","縦⑤","",{"$nulls":3},"",{"$nulls":1488},"縦⑤"]
["ケースサイズ横 (cm)\n(数字のみ記入)",{"$nulls":4},"★","横⑤","",{"$nulls":3},"",{"$nulls":1488},"横⑤"]
["ケースサイズ高さ (cm)\n(数字のみ記入)",{"$nulls":4},"★","高さ⑤","",{"$nulls":3},"",{"$nulls":1488},"高さ⑤"]
["ケース重量 (kg)\n(数字のみ記入)",{"$nulls":4},"★","重量⑤","",{"$nulls":3},"",{"$nulls":1488},"重量⑤"]
["賞味期限",{"$nulls":4},"★","賞味期限⑤","",{"$nulls":3},"",{"$nulls":1488},"賞味期限⑤"]
["消費期限",{"$nulls":4},"★","消費期限⑤","",{"$nulls":3},"",{"$nulls":1488},"消費期限⑤"]
["JANコード(13桁or8桁)\n(空白を入れずに数字のみ入力)",{"$nulls":4},"★","JANコード⑤","",{"$nulls":3},"",{"$nulls":1488},"JANコード⑤"]
["希望小売価格(円:税抜)\n(金額のみ入力)",{"$nulls":4},"★","希望小売⑤","",{"$nulls":3},{"$f":"IF(F388=J388,\"\",IF(AND(F388=\"★\",J388=\"\"),\"\",IF(VALUE(F388)=VALUE(J388),\"\",\"●\")))","v":""},{"$nulls":1488},"希望小売⑤"]
["仕切単価(円:税抜)\n(金額のみ入力)",{"$nulls":4},"★","仕切単価⑤","",{"$nulls":3},"",{"$nulls":1488},"仕切単価⑤"]
["(一つ選択)",null,"工場出し",null,false,{"$f":"IF(E390=TRUE,1,\"★\")","v":"★"},"工場出し⑤","",{"$nulls":3},"",{"$nulls":1488},"工場出し⑤"]
[null,null,"関東向け",null,false,"★","関東向け⑤","",{"$nulls":3},"",{"$nulls":1488},"関東向け⑤"]
[null,null,"関西向け",null,false,"★","関西向け⑤","",{"$nulls":3},"",{"$nulls":1488},"関西向け⑤"]
["税率",null,"８％",null,false,{"$f":"IF(E393=TRUE,1,\"★\")","v":"★"},"8%⑤","",{"$nulls":3},"",{"$nulls":1488},"8%⑤"]
[null,null,"１０％",null,false,"★","10%⑤","",{"$nulls":3},"",{"$nulls":1488},"10%⑤"]
["保存温度帯",null,"常温",null,false,"★","常温⑤","",{"$nulls":3},"",{"$nulls":1488},"常温⑤"]
[null,null,"冷蔵",null,false,"★","冷蔵⑤","",{"$nulls":3},"",{"$nulls":1488},"冷蔵⑤"]
[null,null,"冷凍",null,false,"★","冷凍⑤","",{"$nulls":3},"",{"$nulls":1488},"冷凍⑤"]
["ターゲット(売先)",null,"外食",null,false,"★","外食⑤","",{"$nulls":3},"",{"$nulls":1488},"外食⑤"]
[null,null,"中食",null,false,"★","中食⑤","",{"$nulls":3},"",{"$nulls":1488},"中食⑤"]
[null,null,"商社・卸売",null,false,"★","商社・卸売⑤","",{"$nulls":3},"",{"$nulls":1488},"商社・卸売⑤"]
[null,null,"メーカー",null,false,"★","メーカー⑤","",{"$nulls":3},"",{"$nulls":1488},"メーカー⑤"]
[null,null,"スーパーマーケット",null,false,"★","スーパーマーケット⑤","",{"$nulls":3},"",{"$nulls":1488},"スーパーマーケット⑤"]
[null,null,"百貨店",null,false,"★","百貨店⑤","",{"$nulls":3},"",{"$nulls":1488},"百貨店⑤"]
[null,null,"その他小売",null,false,"★","その他小売⑤","",{"$nulls":3},"",{"$nulls":1488},"その他小売⑤"]
[null,null,"ホテル・宴会・レジャー",null,false,"★","ホテル・宴会・レジャー⑤",{"$f":"IF(COUNTIFS(G:G,G405)=1,\"\",\"■\")","v":""},{"$nulls":3},"",{"$nulls":1488},"ホテル・宴会・レジャー⑤"]
[null,null,"その他(下記記入)",null,false,"★","その他・ターゲット⑤","",{"$nulls":3},"",{"$nulls":1488},"その他・ターゲット⑤"]
[{"$nulls":5},{"$f":"IF(B407=\"\",\"★\",B407)","v":"★"},"その他・ターゲット・⑤","",{"$nulls":3},"",{"$nulls":1488},"その他・ターゲット・⑤"]
["対応",null,"業務用対応可能",null,false,{"$f":"IF(E408=TRUE,1,\"★\")","v":"★"},"業務用対応可能⑤","",{"$nulls":3},"",{"$nulls":1488},"業務用対応可能⑤"]
[null,null,"ギフト対応可能",null,false,"★","ギフト対応可能⑤","",{"$nulls":3},"",{"$nulls":1488},"ギフト対応可能⑤"]
["ターゲット(性別・年齢層等)",{"$nulls":4},{"$f":"IF(B410=\"\",\"★\",B410)","v":"★"},"ターゲット⑤","",{"$nulls":3},"",{"$nulls":1488},"ターゲット⑤"]
["利用シーン\n(利用方法・おすすめレシピ等)",{"$nulls":4},{"$f":"IF(B411=\"\",\"★\",B411)","v":"★"},"利用シーン⑤","",{"$nulls":3},"",{"$nulls":1488},"利用シーン⑤"]
["商品特徴",{"$nulls":4},{"$f":"IF(B412=\"\",\"★\",B412)","v":"★"},"商品特徴⑤","",{"$nulls":3},"",{"$nulls":1488},"商品特徴⑤"]
["アレルギー表示",null,"えび",null,false,{"$f":"IF(E413=TRUE,1,\"★\")","v":"★"},"えび⑤","",{"$nulls":3},"",{"$nulls":1488},"えび⑤"]
["(特定原材料)",null,"かに",null,false,"★","かに⑤","",{"$nulls":3},"",{"$nulls":1488},"かに⑤"]
["＊使用している項目に☑",null,"小麦",null,false,"★","小麦⑤","",{"$nulls":3},"",{"$nulls":1488},"小麦⑤"]
["表示義務有",null,"そば",null,false,"★","そば⑤","",{"$nulls":3},"",{"$nulls":1488},"そば⑤"]
[null,null,"卵",null,false,"★","卵⑤","",{"$nulls":3},"",{"$nulls":1488},"卵⑤"]
[null,null,"乳",null,false,"★","乳⑤","",{"$nulls":3},"",{"$nulls":1488},"乳⑤"]
[null,null,"落花生",null,false,"★","落花生⑤","",{"$nulls":3},"",{"$nulls":1488},"落花生⑤"]
["表示を推奨(任意表示)",null,"あわび",null,false,"★","あわび⑤","",{"$nulls":3},"",{"$nulls":1488},"あわび⑤"]
[null,null,"いか",null,false,"★","いか⑤","",{"$nulls":3},"",{"$nulls":1488},"いか⑤"]
[null,null,"いくら",null,false,"★","いくら⑤","",{"$nulls":3},"",{"$nulls":1488},"いくら⑤"]
[null,null,"オレンジ",null,false,"★","オレンジ⑤","",{"$nulls":3},"",{"$nulls":1488},"オレンジ⑤"]
[null,null,"カシューナッツ",null,false,"★","カシューナッツ⑤","",{"$nulls":3},"",{"$nulls":1488},"カシューナッツ⑤"]
[null,null,"キウイフルーツ",null,false,"★","キウイフルーツ⑤","",{"$nulls":3},"",{"$nulls":1488},"キウイフルーツ⑤"]
[null,null,"牛肉",null,false,"★","牛肉⑤","",{"$nulls":3},"",{"$nulls":1488},"牛肉⑤"]
[null,null,"くるみ",null,false,"★","くるみ⑤","",{"$nulls":3},"",{"$nulls":1488},"くるみ⑤"]
[null,null,"ごま",null,false,"★","ごま⑤","",{"$nulls":3},"",{"$nulls":1488},"ごま⑤"]
[null,null,"さけ",null,false,"★","さけ⑤","",{"$nulls":3},"",{"$nulls":1488},"さけ⑤"]
[null,null,"さば",null,false,"★","さば⑤","",{"$nulls":3},"",{"$nulls":1488},"さば⑤"]
[null,null,"大豆",null,false,"★","大豆⑤","",{"$nulls":3},"",{"$nulls":1488},"大豆⑤"]
[null,null,"鶏肉",null,false,"★","鶏肉⑤","",{"$nulls":3},"",{"$nulls":1488},"鶏肉⑤"]
[null,null,"バナナ",null,false,"★","バナナ⑤","",{"$nulls":3},"",{"$nulls":1488},"バナナ⑤"]
[null,null,"豚肉",null,false,"★","豚肉⑤","",{"$nulls":3},"",{"$nulls":1488},"豚肉⑤"]
[null,null,"まつたけ",null,false,"★","まつたけ⑤","",{"$nulls":3},"",{"$nulls":1488},"まつたけ⑤"]
[null,null,"もも",null,false,"★","もも⑤","",{"$nulls":3},"",{"$nulls":1488},"もも⑤"]
[null,null,"やまいも",null,false,"★","やまいも⑤",{"$f":"IF(COUNTIFS(G:G,G437)=1,\"\",\"■\")","v":""},{"$nulls":3},"",{"$nulls":1488},"やまいも⑤"]
[null,null,"りんご",null,false,"★","りんご⑤","",{"$nulls":3},"",{"$nulls":1488},"りんご⑤"]
[null,null,"ゼラチン",null,false,"★","ゼラチン⑤","",{"$nulls":3},"",{"$nulls":1488},"ゼラチン⑤"]
["備考\n(当商品以外にアレルゲンを扱って\nいる場合はその旨を記入)",{"$nulls":4},{"$f":"IF(B440=\"\",\"★\",B440)","v":"★"},"備考⑤","",{"$nulls":3},"",{"$nulls":1488},"備考⑤"]
["商品情報⑥　(提案・登録情報シートに商品の全体像がわかる画像と裏面ラベルのアップ画像を添付して下さい)",{"$nulls":10},"",{"$nulls":1488},0]
["商品名",{"$nulls":4},{"$f":"IF(B442=\"\",\"★\",B442)","v":"★"},"商品名⑥",{"$f":"IF(COUNTIFS(G:G,G442)=1,\"\",\"■\")","v":""},{"$nulls":3},"",{"$nulls":1488},"商品名⑥"]
["提供可能時期",{"$nulls":4},"★","提供可能時期⑥","",{"$nulls":3},"",{"$nulls":1488},"提供可能時期⑥"]
["主原料産地(漁獲場所等)",{"$nulls":4},"★","主原料産地⑥","",{"$nulls":3},"",{"$nulls":1488},"主原料産地⑥"]
["内容量",{"$nulls":4},"★","内容量⑥","",{"$nulls":3},"",{"$nulls":1488},"内容量⑥"]
["1ケースあたり入数",{"$nulls":4},"★","1ケースあたり⑥","",{"$nulls":3},"",{"$nulls":1488},"1ケースあたり⑥"]
["発注リードタイム",{"$nulls":4},"★","発注リードタイム⑥","",{"$nulls":3},"",{"$nulls":1488},"発注リードタイム⑥"]
["最大ケース納品単位\n(◎ケース/日　等単位も記載)",{"$nulls":4},"★","最大ケース⑥","",{"$nulls":3},"",{"$nulls":1488},"最大ケース⑥"]
["最小ケース納品単位\n(◎ケース/日　等単位も記載)",{"$nulls":4},"★","最小ケース⑥","",{"$nulls":3},"",{"$nulls":1488},"最小ケース⑥"]
["ケースサイズ縦 (cm)\n(数字のみ記入)",{"$nulls":4},"★","縦⑥","",{"$nulls":3},"",{"$nulls":1488},"縦⑥"]
["ケースサイズ横 (cm)\n(数字のみ記入)",{"$nulls":4},"★","横⑥","",{"$nulls":3},"",{"$nulls":1488},"横⑥"]
["ケースサイズ高さ (cm)\n(数字のみ記入)",{"$nulls":4},"★","高さ⑥","",{"$nulls":3},{"$f":"IF(F452=J452,\"\",IF(AND(F452=\"★\",J452=\"\"),\"\",IF(VALUE(F452)=VALUE(J452),\"\",\"●\")))","v":""},{"$nulls":1488},"高さ⑥"]
["ケース重量 (kg)\n(数字のみ記入)",{"$nulls":4},"★","重量⑥","",{"$nulls":3},"",{"$nulls":1488},"重量⑥"]
["賞味期限",{"$nulls":4},"★","賞味期限⑥","",{"$nulls":3},"",{"$nulls":1488},"賞味期限⑥"]
["消費期限",{"$nulls":4},"★","消費期限⑥","",{"$nulls":3},"",{"$nulls":1488},"消費期限⑥"]
["JANコード(13桁or8桁)\n(空白を入れずに数字のみ入力)",{"$nulls":4},"★","JANコード⑥","",{"$nulls":3},"",{"$nulls":1488},"JANコード⑥"]
["希望小売価格(円:税抜)\n(金額のみ入力)",{"$nulls":4},"★","希望小売⑥","",{"$nulls":3},"",{"$nulls":1488},"希望小売⑥"]
["仕切単価(円:税抜)\n(金額のみ入力)",{"$nulls":4},"★","仕切単価⑥","",{"$nulls":3},"",{"$nulls":1488},"仕切単価⑥"]
["(一つ選択)",null,"工場出し",null,false,{"$f":"IF(E459=TRUE,1,\"★\")","v":"★"},"工場出し⑥","",{"$nulls":3},"",{"$nulls":1488},"工場出し⑥"]
[null,null,"関東向け",null,false,"★","関東向け⑥","",{"$nulls":3},"",{"$nulls":1488},"関東向け⑥"]
[null,null,"関西向け",null,false,"★","関西向け⑥","",{"$nulls":3},"",{"$nulls":1488},"関西向け⑥"]
["税率",null,"８％",null,false,{"$f":"IF(E462=TRUE,1,\"★\")","v":"★"},"8%⑥","",{"$nulls":3},"",{"$nulls":1488},"8%⑥"]
[null,null,"１０％",null,false,"★","10%⑥","",{"$nulls":3},"",{"$nulls":1488},"10%⑥"]
["保存温度帯",null,"常温",null,false,"★","常温⑥","",{"$nulls":3},"",{"$nulls":1488},"常温⑥"]
[null,null,"冷蔵",null,false,"★","冷蔵⑥","",{"$nulls":3},"",{"$nulls":1488},"冷蔵⑥"]
[null,null,"冷凍",null,false,"★","冷凍⑥","",{"$nulls":3},"",{"$nulls":1488},"冷凍⑥"]
["ターゲット(売先)",null,"外食",null,false,"★","外食⑥","",{"$nulls":3},"",{"$nulls":1488},"外食⑥"]
[null,null,"中食",null,false,"★","中食⑥","",{"$nulls":3},"",{"$nulls":1488},"中食⑥"]
[null,null,"商社・卸売",null,false,"★","商社・卸売⑥","",{"$nulls":3},"",{"$nulls":1488},"商社・卸売⑥"]
[null,null,"メーカー",null,false,"★","メーカー⑥","",{"$nulls":3},"",{"$nulls":1488},"メーカー⑥"]
[null,null,"スーパーマーケット",null,false,"★","スーパーマーケット⑥","",{"$nulls":3},"",{"$nulls":1488},"スーパーマーケット⑥"]
[null,null,"百貨店",null,false,"★","百貨店⑥","",{"$nulls":3},"",{"$nulls":1488},"百貨店⑥"]
[null,null,"その他小売",null,false,"★","その他小売⑥","",{"$nulls":3},"",{"$nulls":1488},"その他小売⑥"]
[null,null,"ホテル・宴会・レジャー",null,false,"★","ホテル・宴会・レジャー⑥",{"$f":"IF(COUNTIFS(G:G,G474)=1,\"\",\"■\")","v":""},{"$nulls":3},"",{"$nulls":1488},"ホテル・宴会・レジャー⑥"]
[null,null,"その他(下記記入)",null,false,"★","その他・ターゲット⑥","",{"$nulls":3},"",{"$nulls":1488},"その他・ターゲット⑥"]
[{"$nulls":5},{"$f":"IF(B476=\"\",\"★\",B476)","v":"★"},"その他・ターゲット・⑥","",{"$nulls":3},"",{"$nulls":1488},"その他・ターゲット・⑥"]
["対応",null,"業務用対応可能",null,false,{"$f":"IF(E477=TRUE,1,\"★\")","v":"★"},"業務用対応可能⑥","",{"$nulls":3},"",{"$nulls":1488},"業務用対応可能⑥"]
[null,null,"ギフト対応可能",null,false,"★","ギフト対応可能⑥","",{"$nulls":3},"",{"$nulls":1488},"ギフト対応可能⑥"]
["ターゲット(性別・年齢層等)",{"$nulls":4},{"$f":"IF(B479=\"\",\"★\",B479)","v":"★"},"ターゲット⑥","",{"$nulls":3},"",{"$nulls":1488},"ターゲット⑥"]
["利用シーン\n(利用方法・おすすめレシピ等)",{"$nulls":4},{"$f":"IF(B480=\"\",\"★\",B480)","v":"★"},"利用シーン⑥","",{"$nulls":3},"",{"$nulls":1488},"利用シーン⑥"]
["商品特徴",{"$nulls":4},{"$f":"IF(B481=\"\",\"★\",B481)","v":"★"},"商品特徴⑥","",{"$nulls":3},"",{"$nulls":1488},"商品特徴⑥"]
["アレルギー表示",null,"えび",null,false,{"$f":"IF(E482=TRUE,1,\"★\")","v":"★"},"えび⑥","",{"$nulls":3},"",{"$nulls":1488},"えび⑥"]
["(特定原材料)",null,"かに",null,false,"★","かに⑥","",{"$nulls":3},"",{"$nulls":1488},"かに⑥"]
["＊使用している項目に☑",null,"小麦",null,false,"★","小麦⑥","",{"$nulls":3},"",{"$nulls":1488},"小麦⑥"]
["表示義務有",null,"そば",null,false,"★","そば⑥","",{"$nulls":3},"",{"$nulls":1488},"そば⑥"]
[null,null,"卵",null,false,"★","卵⑥","",{"$nulls":3},"",{"$nulls":1488},"卵⑥"]
[null,null,"乳",null,false,"★","乳⑥","",{"$nulls":3},"",{"$nulls":1488},"乳⑥"]
[null,null,"落花生",null,false,"★","落花生⑥","",{"$nulls":3},"",{"$nulls":1488},"落花生⑥"]
["表示を推奨(任意表示)",null,"あわび",null,false,"★","あわび⑥","",{"$nulls":3},"",{"$nulls":1488},"あわび⑥"]
[null,null,"いか",null,false,"★","いか⑥","",{"$nulls":3},"",{"$nulls":1488},"いか⑥"]
[null,null,"いくら",null,false,"★","いくら⑥","",{"$nulls":3},"",{"$nulls":1488},"いくら⑥"]
[null,null,"オレンジ",null,false,"★","オレンジ⑥","",{"$nulls":3},"",{"$nulls":1488},"オレンジ⑥"]
[null,null,"カシューナッツ",null,false,"★","カシューナッツ⑥","",{"$nulls":3},"",{"$nulls":1488},"カシューナッツ⑥"]
[null,null,"キウイフルーツ",null,false,"★","キウイフルーツ⑥","",{"$nulls":3},"",{"$nulls":1488},"キウイフルーツ⑥"]
[null,null,"牛肉",null,false,"★","牛肉⑥","",{"$nulls":3},"",{"$nulls":1488},"牛肉⑥"]
[null,null,"くるみ",null,false,"★","くるみ⑥","",{"$nulls":3},"",{"$nulls":1488},"くるみ⑥"]
[null,null,"ごま",null,false,"★","ごま⑥","",{"$nulls":3},"",{"$nulls":1488},"ごま⑥"]
[null,null,"さけ",null,false,"★","さけ⑥","",{"$nulls":3},"",{"$nulls":1488},"さけ⑥"]
[null,null,"さば",null,false,"★","さば⑥","",{"$nulls":3},"",{"$nulls":1488},"さば⑥"]
[null,null,"大豆",null,false,"★","大豆⑥","",{"$nulls":3},"",{"$nulls":1488},"大豆⑥"]
[null,null,"鶏肉",null,false,"★","鶏肉⑥","",{"$nulls":3},"",{"$nulls":1488},"鶏肉⑥"]
[null,null,"バナナ",null,false,"★","バナナ⑥","",{"$nulls":3},"",{"$nulls":1488},"バナナ⑥"]
[null,null,"豚肉",null,false,"★","豚肉⑥","",{"$nulls":3},"",{"$nulls":1488},"豚肉⑥"]
[null,null,"まつたけ",null,false,"★","まつたけ⑥","",{"$nulls":3},"",{"$nulls":1488},"まつたけ⑥"]
[null,null,"もも",null,false,"★","もも⑥","",{"$nulls":3},"",{"$nulls":1488},"もも⑥"]
[null,null,"やまいも",null,false,"★","やまいも⑥",{"$f":"IF(COUNTIFS(G:G,G506)=1,\"\",\"■\")","v":""},{"$nulls":3},"",{"$nulls":1488},"やまいも⑥"]
[null,null,"りんご",null,false,"★","りんご⑥","",{"$nulls":3},"",{"$nulls":1488},"りんご⑥"]
[null,null,"ゼラチン",null,false,"★","ゼラチン⑥","",{"$nulls":3},"",{"$nulls":1488},"ゼラチン⑥"]
["備考\n(当商品以外にアレルゲンを扱って\nいる場合はその旨を記入)",{"$nulls":4},{"$f":"IF(B509=\"\",\"★\",B509)","v":"★"},"備考⑥","",{"$nulls":3},"",{"$nulls":1488},"備考⑥"]
["商品情報⑦　(提案・登録情報シートに商品の全体像がわかる画像と裏面ラベルのアップ画像を添付して下さい)",{"$nulls":10},"",{"$nulls":1488},0]
["商品名",{"$nulls":4},{"$f":"IF(B511=\"\",\"★\",B511)","v":"★"},"商品名⑦",{"$f":"IF(COUNTIFS(G:G,G511)=1,\"\",\"■\")","v":""},{"$nulls":3},"",{"$nulls":1488},"商品名⑦"]
["提供可能時期",{"$nulls":4},"★","提供可能時期⑦","",{"$nulls":3},"",{"$nulls":1488},"提供可能時期⑦"]
["主原料産地(漁獲場所等)",{"$nulls":4},"★","主原料産地⑦","",{"$nulls":3},"",{"$nulls":1488},"主原料産地⑦"]
["内容量",{"$nulls":4},"★","内容量⑦","",{"$nulls":3},"",{"$nulls":1488},"内容量⑦"]
["1ケースあたり入数",{"$nulls":4},"★","1ケースあたり⑦","",{"$nulls":3},"",{"$nulls":1488},"1ケースあたり⑦"]
["発注リードタイム",{"$nulls":4},"★","発注リードタイム⑦","",{"$nulls":3},{"$f":"IF(F516=J516,\"\",IF(AND(F516=\"★\",J516=\"\"),\"\",IF(VALUE(F516)=VALUE(J516),\"\",\"●\")))","v":""},{"$nulls":1488},"発注リードタイム⑦"]
["最大ケース納品単位\n(◎ケース/日　等単位も記載)",{"$nulls":4},"★","最大ケース⑦","",{"$nulls":3},"",{"$nulls":1488},"最大ケース⑦"]
["最小ケース納品単位\n(◎ケース/日　等単位も記載)",{"$nulls":4},"★","最小ケース⑦","",{"$nulls":3},"",{"$nulls":1488},"最小ケース⑦"]
["ケースサイズ縦 (cm)\n(数字のみ記入)",{"$nulls":4},"★","縦⑦","",{"$nulls":3},"",{"$nulls":1488},"縦⑦"]
["ケースサイズ横 (cm)\n(数字のみ記入)",{"$nulls":4},"★","横⑦","",{"$nulls":3},"",{"$nulls":1488},"横⑦"]
["ケースサイズ高さ (cm)\n(数字のみ記入)",{"$nulls":4},"★","高さ⑦","",{"$nulls":3},"",{"$nulls":1488},"高さ⑦"]
["ケース重量 (kg)\n(数字のみ記入)",{"$nulls":4},"★","重量⑦","",{"$nulls":3},"",{"$nulls":1488},"重量⑦"]
["賞味期限",{"$nulls":4},"★","賞味期限⑦","",{"$nulls":3},"",{"$nulls":1488},"賞味期限⑦"]
["消費期限",{"$nulls":4},"★","消費期限⑦","",{"$nulls":3},"",{"$nulls":1488},"消費期限⑦"]
["JANコード(13桁or8桁)\n(空白を入れずに数字のみ入力)",{"$nulls":4},"★","JANコード⑦","",{"$nulls":3},"",{"$nulls":1488},"JANコード⑦"]
["希望小売価格(円:税抜)\n(金額のみ入力)",{"$nulls":4},"★","希望小売⑦","",{"$nulls":3},"",{"$nulls":1488},"希望小売⑦"]
["仕切単価(円:税抜)\n(金額のみ入力)",{"$nulls":4},"★","仕切単価⑦","",{"$nulls":3},"",{"$nulls":1488},"仕切単価⑦"]
["(一つ選択)",null,"工場出し",null,false,{"$f":"IF(E528=TRUE,1,\"★\")","v":"★"},"工場出し⑦","",{"$nulls":3},"",{"$nulls":1488},"工場出し⑦"]
[null,null,"関東向け",null,false,"★","関東向け⑦","",{"$nulls":3},"",{"$nulls":1488},"関東向け⑦"]
[null,null,"関西向け",null,false,"★","関西向け⑦","",{"$nulls":3},"",{"$nulls":1488},"関西向け⑦"]
["税率",null,"８％",null,false,{"$f":"IF(E531=TRUE,1,\"★\")","v":"★"},"8%⑦","",{"$nulls":3},"",{"$nulls":1488},"8%⑦"]
[null,null,"１０％",null,false,"★","10%⑦","",{"$nulls":3},"",{"$nulls":1488},"10%⑦"]
["保存温度帯",null,"常温",null,false,"★","常温⑦","",{"$nulls":3},"",{"$nulls":1488},"常温⑦"]
[null,null,"冷蔵",null,false,"★","冷蔵⑦","",{"$nulls":3},"",{"$nulls":1488},"冷蔵⑦"]
[null,null,"冷凍",null,false,"★","冷凍⑦","",{"$nulls":3},"",{"$nulls":1488},"冷凍⑦"]
["ターゲット(売先)",null,"外食",null,false,"★","外食⑦","",{"$nulls":3},"",{"$nulls":1488},"外食⑦"]
[null,null,"中食",null,false,"★","中食⑦","",{"$nulls":3},"",{"$nulls":1488},"中食⑦"]
[null,null,"商社・卸売",null,false,"★","商社・卸売⑦","",{"$nulls":3},"",{"$nulls":1488},"商社・卸売⑦"]
[null,null,"メーカー",null,false,"★","メーカー⑦","",{"$nulls":3},"",{"$nulls":1488},"メーカー⑦"]
[null,null,"スーパーマーケット",null,false,"★","スーパーマーケット⑦","",{"$nulls":3},"",{"$nulls":1488},"スーパーマーケット⑦"]
[null,null,"百貨店",null,false,"★","百貨店⑦","",{"$nulls":3},"",{"$nulls":1488},"百貨店⑦"]
[null,null,"その他小売",null,false,"★","その他小売⑦","",{"$nulls":3},"",{"$nulls":1488},"その他小売⑦"]
[null,null,"ホテル・宴会・レジャー",null,false,"★","ホテル・宴会・レジャー⑦",{"$f":"IF(COUNTIFS(G:G,G543)=1,\"\",\"■\")","v":""},{"$nulls":3},"",{"$nulls":1488},"ホテル・宴会・レジャー⑦"]
[null,null,"その他(下記記入)",null,false,"★","その他・ターゲット⑦","",{"$nulls":3},"",{"$nulls":1488},"その他・ターゲット⑦"]
[{"$nulls":5},{"$f":"IF(B545=\"\",\"★\",B545)","v":"★"},"その他・ターゲット・⑦","",{"$nulls":3},"",{"$nulls":1488},"その他・ターゲット・⑦"]
["対応",null,"業務用対応可能",null,false,{"$f":"IF(E546=TRUE,1,\"★\")","v":"★"},"業務用対応可能⑦","",{"$nulls":3},"",{"$nulls":1488},"業務用対応可能⑦"]
[null,null,"ギフト対応可能",null,false,"★","ギフト対応可能⑦","",{"$nulls":3},"",{"$nulls":1488},"ギフト対応可能⑦"]
["ターゲット(性別・年齢層等)",{"$nulls":4},{"$f":"IF(B548=\"\",\"★\",B548)","v":"★"},"ターゲット⑦","",{"$nulls":3},"",{"$nulls":1488},"ターゲット⑦"]
["利用シーン\n(利用方法・おすすめレシピ等)",{"$nulls":4},{"$f":"IF(B549=\"\",\"★\",B549)","v":"★"},"利用シーン⑦","",{"$nulls":3},"",{"$nulls":1488},"利用シーン⑦"]
["商品特徴",{"$nulls":4},{"$f":"IF(B550=\"\",\"★\",B550)","v":"★"},"商品特徴⑦","",{"$nulls":3},"",{"$nulls":1488},"商品特徴⑦"]
["アレルギー表示",null,"えび",null,false,{"$f":"IF(E551=TRUE,1,\"★\")","v":"★"},"えび⑦","",{"$nulls":3},"",{"$nulls":1488},"えび⑦"]
["(特定原材料)",null,"かに",null,false,"★","かに⑦","",{"$nulls":3},"",{"$nulls":1488},"かに⑦"]
["＊使用している項目に☑",null,"小麦",null,false,"★","小麦⑦","",{"$nulls":3},"",{"$nulls":1488},"小麦⑦"]
["表示義務有",null,"そば",null,false,"★","そば⑦","",{"$nulls":3},"",{"$nulls":1488},"そば⑦"]
[null,null,"卵",null,false,"★","卵⑦","",{"$nulls":3},"",{"$nulls":1488},"卵⑦"]
[null,null,"乳",null,false,"★","乳⑦","",{"$nulls":3},"",{"$nulls":1488},"乳⑦"]
[null,null,"落花生",null,false,"★","落花生⑦","",{"$nulls":3},"",{"$nulls":1488},"落花生⑦"]
["表示を推奨(任意表示)",null,"あわび",null,false,"★","あわび⑦","",{"$nulls":3},"",{"$nulls":1488},"あわび⑦"]
[null,null,"いか",null,false,"★","いか⑦","",{"$nulls":3},"",{"$nulls":1488},"いか⑦"]
[null,null,"いくら",null,false,"★","いくら⑦","",{"$nulls":3},"",{"$nulls":1488},"いくら⑦"]
[null,null,"オレンジ",null,false,"★","オレンジ⑦","",{"$nulls":3},"",{"$nulls":1488},"オレンジ⑦"]
[null,null,"カシューナッツ",null,false,"★","カシューナッツ⑦","",{"$nulls":3},"",{"$nulls":1488},"カシューナッツ⑦"]
[null,null,"キウイフルーツ",null,false,"★","キウイフルーツ⑦","",{"$nulls":3},"",{"$nulls":1488},"キウイフルーツ⑦"]
[null,null,"牛肉",null,false,"★","牛肉⑦","",{"$nulls":3},"",{"$nulls":1488},"牛肉⑦"]
[null,null,"くるみ",null,false,"★","くるみ⑦","",{"$nulls":3},"",{"$nulls":1488},"くるみ⑦"]
[null,null,"ごま",null,false,"★","ごま⑦","",{"$nulls":3},"",{"$nulls":1488},"ごま⑦"]
[null,null,"さけ",null,false,"★","さけ⑦","",{"$nulls":3},"",{"$nulls":1488},"さけ⑦"]
[null,null,"さば",null,false,"★","さば⑦","",{"$nulls":3},"",{"$nulls":1488},"さば⑦"]
[null,null,"大豆",null,false,"★","大豆⑦","",{"$nulls":3},"",{"$nulls":1488},"大豆⑦"]
[null,null,"鶏肉",null,false,"★","鶏肉⑦","",{"$nulls":3},"",{"$nulls":1488},"鶏肉⑦"]
[null,null,"バナナ",null,false,"★","バナナ⑦","",{"$nulls":3},"",{"$nulls":1488},"バナナ⑦"]
[null,null,"豚肉",null,false,"★","豚肉⑦","",{"$nulls":3},"",{"$nulls":1488},"豚肉⑦"]
[null,null,"まつたけ",null,false,"★","まつたけ⑦","",{"$nulls":3},"",{"$nulls":1488},"まつたけ⑦"]
[null,null,"もも",null,false,"★","もも⑦","",{"$nulls":3},"",{"$nulls":1488},"もも⑦"]
[null,null,"やまいも",null,false,"★","やまいも⑦",{"$f":"IF(COUNTIFS(G:G,G575)=1,\"\",\"■\")","v":""},{"$nulls":3},"",{"$nulls":1488},"やまいも⑦"]
[null,null,"りんご",null,false,"★","りんご⑦","",{"$nulls":3},"",{"$nulls":1488},"りんご⑦"]
[null,null,"ゼラチン",null,false,"★","ゼラチン⑦","",{"$nulls":3},"",{"$nulls":1488},"ゼラチン⑦"]
["備考\n(当商品以外にアレルゲンを扱って\nいる場合はその旨を記入)",{"$nulls":4},{"$f":"IF(B578=\"\",\"★\",B578)","v":"★"},"備考⑦","",{"$nulls":3},"",{"$nulls":1488},"備考⑦"]
["商品情報⑧　(提案・登録情報シートに商品の全体像がわかる画像と裏面ラベルのアップ画像を添付して下さい)",{"$nulls":10},"",{"$nulls":1488},0]
["商品名",{"$nulls":4},{"$f":"IF(B580=\"\",\"★\",B580)","v":"★"},"商品名⑧",{"$f":"IF(COUNTIFS(G:G,G580)=1,\"\",\"■\")","v":""},{"$nulls":3},{"$f":"IF(F580=J580,\"\",IF(AND(F580=\"★\",J580=\"\"),\"\",IF(VALUE(F580)=VALUE(J580),\"\",\"●\")))","v":""},{"$nulls":1488},"商品名⑧"]
["提供可能時期",{"$nulls":4},"★","提供可能時期⑧","",{"$nulls":3},"",{"$nulls":1488},"提供可能時期⑧"]
["主原料産地(漁獲場所等)",{"$nulls":4},"★","主原料産地⑧","",{"$nulls":3},"",{"$nulls":1488},"主原料産地⑧"]
["内容量",{"$nulls":4},"★","内容量⑧","",{"$nulls":3},"",{"$nulls":1488},"内容量⑧"]
["1ケースあたり入数",{"$nulls":4},"★","1ケースあたり⑧","",{"$nulls":3},"",{"$nulls":1488},"1ケースあたり⑧"]
["発注リードタイム",{"$nulls":4},"★","発注リードタイム⑧","",{"$nulls":3},"",{"$nulls":1488},"発注リードタイム⑧"]
["最大ケース納品単位\n(◎ケース/日　等単位も記載)",{"$nulls":4},"★","最大ケース⑧","",{"$nulls":3},"",{"$nulls":1488},"最大ケース⑧"]
["最小ケース納品単位\n(◎ケース/日　等単位も記載)",{"$nulls":4},"★","最小ケース⑧","",{"$nulls":3},"",{"$nulls":1488},"最小ケース⑧"]
["ケースサイズ縦 (cm)\n(数字のみ記入)",{"$nulls":4},"★","縦⑧","",{"$nulls":3},"",{"$nulls":1488},"縦⑧"]
["ケースサイズ横 (cm)\n(数字のみ記入)",{"$nulls":4},"★","横⑧","",{"$nulls":3},"",{"$nulls":1488},"横⑧"]
["ケースサイズ高さ (cm)\n(数字のみ記入)",{"$nulls":4},"★","高さ⑧","",{"$nulls":3},"",{"$nulls":1488},"高さ⑧"]
["ケース重量 (kg)\n(数字のみ記入)",{"$nulls":4},"★","重量⑧","",{"$nulls":3},"",{"$nulls":1488},"重量⑧"]
["賞味期限",{"$nulls":4},"★","賞味期限⑧","",{"$nulls":3},"",{"$nulls":1488},"賞味期限⑧"]
["消費期限",{"$nulls":4},"★","消費期限⑧","",{"$nulls":3},"",{"$nulls":1488},"消費期限⑧"]
["JANコード(13桁or8桁)\n(空白を入れずに数字のみ入力)",{"$nulls":4},"★","JANコード⑧","",{"$nulls":3},"",{"$nulls":1488},"JANコード⑧"]
["希望小売価格(円:税抜)\n(金額のみ入力)",{"$nulls":4},"★","希望小売⑧","",{"$nulls":3},"",{"$nulls":1488},"希望小売⑧"]
["仕切単価(円:税抜)\n(金額のみ入力)",{"$nulls":4},"★","仕切単価⑧","",{"$nulls":3},"",{"$nulls":1488},"仕切単価⑧"]
["(一つ選択)",null,"工場出し",null,false,{"$f":"IF(E597=TRUE,1,\"★\")","v":"★"},"工場出し⑧","",{"$nulls":3},"",{"$nulls":1488},"工場出し⑧"]
[null,null,"関東向け",null,false,"★","関東向け⑧","",{"$nulls":3},"",{"$nulls":1488},"関東向け⑧"]
[null,null,"関西向け",null,false,"★","関西向け⑧","",{"$nulls":3},"",{"$nulls":1488},"関西向け⑧"]
["税率",null,"８％",null,false,{"$f":"IF(E600=TRUE,1,\"★\")","v":"★"},"8%⑧","",{"$nulls":3},"",{"$nulls":1488},"8%⑧"]
[null,null,"１０％",null,false,"★","10%⑧","",{"$nulls":3},"",{"$nulls":1488},"10%⑧"]
["保存温度帯",null,"常温",null,false,"★","常温⑧","",{"$nulls":3},"",{"$nulls":1488},"常温⑧"]
[null,null,"冷蔵",null,false,"★","冷蔵⑧","",{"$nulls":3},"",{"$nulls":1488},"冷蔵⑧"]
[null,null,"冷凍",null,false,"★","冷凍⑧","",{"$nulls":3},"",{"$nulls":1488},"冷凍⑧"]
["ターゲット(売先)",null,"外食",null,false,"★","外食⑧","",{"$nulls":3},"",{"$nulls":1488},"外食⑧"]
[null,null,"中食",null,false,"★","中食⑧","",{"$nulls":3},"",{"$nulls":1488},"中食⑧"]
[null,null,"商社・卸売",null,false,"★","商社・卸売⑧","",{"$nulls":3},"",{"$nulls":1488},"商社・卸売⑧"]
[null,null,"メーカー",null,false,"★","メーカー⑧","",{"$nulls":3},"",{"$nulls":1488},"メーカー⑧"]
[null,null,"スーパーマーケット",null,false,"★","スーパーマーケット⑧","",{"$nulls":3},"",{"$nulls":1488},"スーパーマーケット⑧"]
[null,null,"百貨店",null,false,"★","百貨店⑧","",{"$nulls":3},"",{"$nulls":1488},"百貨店⑧"]
[null,null,"その他小売",null,false,"★","その他小売⑧","",{"$nulls":3},"",{"$nulls":1488},"その他小売⑧"]
[null,null,"ホテル・宴会・レジャー",null,false,"★","ホテル・宴会・レジャー⑧",{"$f":"IF(COUNTIFS(G:G,G612)=1,\"\",\"■\")","v":""},{"$nulls":3},"",{"$nulls":1488},"ホテル・宴会・レジャー⑧"]
[null,null,"その他(下記記入)",null,false,"★","その他・ターゲット⑧","",{"$nulls":3},"",{"$nulls":1488},"その他・ターゲット⑧"]
[{"$nulls":5},{"$f":"IF(B614=\"\",\"★\",B614)","v":"★"},"その他・ターゲット・⑧","",{"$nulls":3},"",{"$nulls":1488},"その他・ターゲット・⑧"]
["対応",null,"業務用対応可能",null,false,{"$f":"IF(E615=TRUE,1,\"★\")","v":"★"},"業務用対応可能⑧","",{"$nulls":3},"",{"$nulls":1488},"業務用対応可能⑧"]
[null,null,"ギフト対応可能",null,false,"★","ギフト対応可能⑧","",{"$nulls":3},"",{"$nulls":1488},"ギフト対応可能⑧"]
["ターゲット(性別・年齢層等)",{"$nulls":4},{"$f":"IF(B617=\"\",\"★\",B617)","v":"★"},"ターゲット⑧","",{"$nulls":3},"",{"$nulls":1488},"ターゲット⑧"]
["利用シーン\n(利用方法・おすすめレシピ等)",{"$nulls":4},{"$f":"IF(B618=\"\",\"★\",B618)","v":"★"},"利用シーン⑧","",{"$nulls":3},"",{"$nulls":1488},"利用シーン⑧"]
["商品特徴",{"$nulls":4},{"$f":"IF(B619=\"\",\"★\",B619)","v":"★"},"商品特徴⑧","",{"$nulls":3},"",{"$nulls":1488},"商品特徴⑧"]
["アレルギー表示",null,"えび",null,false,{"$f":"IF(E620=TRUE,1,\"★\")","v":"★"},"えび⑧","",{"$nulls":3},"",{"$nulls":1488},"えび⑧"]
["(特定原材料)",null,"かに",null,false,"★","かに⑧","",{"$nulls":3},"",{"$nulls":1488},"かに⑧"]
["＊使用している項目に☑",null,"小麦",null,false,"★","小麦⑧","",{"$nulls":3},"",{"$nulls":1488},"小麦⑧"]
["表示義務有",null,"そば",null,false,"★","そば⑧","",{"$nulls":3},"",{"$nulls":1488},"そば⑧"]
[null,null,"卵",null,false,"★","卵⑧","",{"$nulls":3},"",{"$nulls":1488},"卵⑧"]
[null,null,"乳",null,false,"★","乳⑧","",{"$nulls":3},"",{"$nulls":1488},"乳⑧"]
[null,null,"落花生",null,false,"★","落花生⑧","",{"$nulls":3},"",{"$nulls":1488},"落花生⑧"]
["表示を推奨(任意表示)",null,"あわび",null,false,"★","あわび⑧","",{"$nulls":3},"",{"$nulls":1488},"あわび⑧"]
[null,null,"いか",null,false,"★","いか⑧","",{"$nulls":3},"",{"$nulls":1488},"いか⑧"]
[null,null,"いくら",null,false,"★","いくら⑧","",{"$nulls":3},"",{"$nulls":1488},"いくら⑧"]
[null,null,"オレンジ",null,false,"★","オレンジ⑧","",{"$nulls":3},"",{"$nulls":1488},"オレンジ⑧"]
[null,null,"カシューナッツ",null,false,"★","カシューナッツ⑧","",{"$nulls":3},"",{"$nulls":1488},"カシューナッツ⑧"]
[null,null,"キウイフルーツ",null,false,"★","キウイフルーツ⑧","",{"$nulls":3},"",{"$nulls":1488},"キウイフルーツ⑧"]
[null,null,"牛肉",null,false,"★","牛肉⑧","",{"$nulls":3},"",{"$nulls":1488},"牛肉⑧"]
[null,null,"くるみ",null,false,"★","くるみ⑧","",{"$nulls":3},"",{"$nulls":1488},"くるみ⑧"]
[null,null,"ごま",null,false,"★","ごま⑧","",{"$nulls":3},"",{"$nulls":1488},"ごま⑧"]
[null,null,"さけ",null,false,"★","さけ⑧","",{"$nulls":3},"",{"$nulls":1488},"さけ⑧"]
[null,null,"さば",null,false,"★","さば⑧","",{"$nulls":3},"",{"$nulls":1488},"さば⑧"]
[null,null,"大豆",null,false,"★","大豆⑧","",{"$nulls":3},"",{"$nulls":1488},"大豆⑧"]
[null,null,"鶏肉",null,false,"★","鶏肉⑧","",{"$nulls":3},"",{"$nulls":1488},"鶏肉⑧"]
[null,null,"バナナ",null,false,"★","バナナ⑧","",{"$nulls":3},"",{"$nulls":1488},"バナナ⑧"]
[null,null,"豚肉",null,false,"★","豚肉⑧","",{"$nulls":3},"",{"$nulls":1488},"豚肉⑧"]
[null,null,"まつたけ",null,false,"★","まつたけ⑧","",{"$nulls":3},"",{"$nulls":1488},"まつたけ⑧"]
[null,null,"もも",null,false,"★","もも⑧","",{"$nulls":3},"",{"$nulls":1488},"もも⑧"]
[null,null,"やまいも",null,false,"★","やまいも⑧",{"$f":"IF(COUNTIFS(G:G,G644)=1,\"\",\"■\")","v":""},{"$nulls":3},{"$f":"IF(F644=J644,\"\",IF(AND(F644=\"★\",J644=\"\"),\"\",IF(VALUE(F644)=VALUE(J644),\"\",\"●\")))","v":""},{"$nulls":1488},"やまいも⑧"]
[null,null,"りんご",null,false,"★","りんご⑧","",{"$nulls":3},"",{"$nulls":1488},"りんご⑧"]
[null,null,"ゼラチン",null,false,"★","ゼラチン⑧","",{"$nulls":3},"",{"$nulls":1488},"ゼラチン⑧"]
["備考\n(当商品以外にアレルゲンを扱って\nいる場合はその旨を記入)",{"$nulls":4},{"$f":"IF(B647=\"\",\"★\",B647)","v":"★"},"備考⑧","",{"$nulls":3},"",{"$nulls":1488},"備考⑧"]
["商品情報⑨　(提案・登録情報シートに商品の全体像がわかる画像と裏面ラベルのアップ画像を添付して下さい)",{"$nulls":10},"",{"$nulls":1488},0]
["商品名",{"$nulls":4},{"$f":"IF(B649=\"\",\"★\",B649)","v":"★"},"商品名⑨",{"$f":"IF(COUNTIFS(G:G,G649)=1,\"\",\"■\")","v":""},{"$nulls":3},"",{"$nulls":1488},"商品名⑨"]
["提供可能時期",{"$nulls":4},"★","提供可能時期⑨","",{"$nulls":3},"",{"$nulls":1488},"提供可能時期⑨"]
["主原料産地(漁獲場所等)",{"$nulls":4},"★","主原料産地⑨","",{"$nulls":3},"",{"$nulls":1488},"主原料産地⑨"]
["内容量",{"$nulls":4},"★","内容量⑨","",{"$nulls":3},"",{"$nulls":1488},"内容量⑨"]
["1ケースあたり入数",{"$nulls":4},"★","1ケースあたり⑨","",{"$nulls":3},"",{"$nulls":1488},"1ケースあたり⑨"]
["発注リードタイム",{"$nulls":4},"★","発注リードタイム⑨","",{"$nulls":3},"",{"$nulls":1488},"発注リードタイム⑨"]
["最大ケース納品単位\n(◎ケース/日　等単位も記載)",{"$nulls":4},"★","最大ケース⑨","",{"$nulls":3},"",{"$nulls":1488},"最大ケース⑨"]
["最小ケース納品単位\n(◎ケース/日　等単位も記載)",{"$nulls":4},"★","最小ケース⑨","",{"$nulls":3},"",{"$nulls":1488},"最小ケース⑨"]
["ケースサイズ縦 (cm)\n(数字のみ記入)",{"$nulls":4},"★","縦⑨","",{"$nulls":3},"",{"$nulls":1488},"縦⑨"]
["ケースサイズ横 (cm)\n(数字のみ記入)",{"$nulls":4},"★","横⑨","",{"$nulls":3},"",{"$nulls":1488},"横⑨"]
["ケースサイズ高さ (cm)\n(数字のみ記入)",{"$nulls":4},"★","高さ⑨","",{"$nulls":3},"",{"$nulls":1488},"高さ⑨"]
["ケース重量 (kg)\n(数字のみ記入)",{"$nulls":4},"★","重量⑨","",{"$nulls":3},"",{"$nulls":1488},"重量⑨"]
["賞味期限",{"$nulls":4},"★","賞味期限⑨","",{"$nulls":3},"",{"$nulls":1488},"賞味期限⑨"]
["消費期限",{"$nulls":4},"★","消費期限⑨","",{"$nulls":3},"",{"$nulls":1488},"消費期限⑨"]
["JANコード(13桁or8桁)\n(空白を入れずに数字のみ入力)",{"$nulls":4},"★","JANコード⑨","",{"$nulls":3},"",{"$nulls":1488},"JANコード⑨"]
["希望小売価格(円:税抜)\n(金額のみ入力)",{"$nulls":4},"★","希望小売⑨","",{"$nulls":3},"",{"$nulls":1488},"希望小売⑨"]
["仕切単価(円:税抜)\n(金額のみ入力)",{"$nulls":4},"★","仕切単価⑨","",{"$nulls":3},"",{"$nulls":1488},"仕切単価⑨"]
["(一つ選択)",null,"工場出し",null,false,{"$f":"IF(E666=TRUE,1,\"★\")","v":"★"},"工場出し⑨","",{"$nulls":3},"",{"$nulls":1488},"工場出し⑨"]
[null,null,"関東向け",null,false,"★","関東向け⑨","",{"$nulls":3},"",{"$nulls":1488},"関東向け⑨"]
[null,null,"関西向け",null,false,"★","関西向け⑨","",{"$nulls":3},"",{"$nulls":1488},"関西向け⑨"]
["税率",null,"８％",null,false,{"$f":"IF(E669=TRUE,1,\"★\")","v":"★"},"8%⑨","",{"$nulls":3},"",{"$nulls":1488},"8%⑨"]
[null,null,"１０％",null,false,"★","10%⑨","",{"$nulls":3},"",{"$nulls":1488},"10%⑨"]
["保存温度帯",null,"常温",null,false,"★","常温⑨","",{"$nulls":3},"",{"$nulls":1488},"常温⑨"]
[null,null,"冷蔵",null,false,"★","冷蔵⑨","",{"$nulls":3},"",{"$nulls":1488},"冷蔵⑨"]
[null,null,"冷凍",null,false,"★","冷凍⑨","",{"$nulls":3},"",{"$nulls":1488},"冷凍⑨"]
["ターゲット(売先)",null,"外食",null,false,"★","外食⑨","",{"$nulls":3},"",{"$nulls":1488},"外食⑨"]
[null,null,"中食",null,false,"★","中食⑨","",{"$nulls":3},"",{"$nulls":1488},"中食⑨"]
[null,null,"商社・卸売",null,false,"★","商社・卸売⑨","",{"$nulls":3},"",{"$nulls":1488},"商社・卸売⑨"]
[null,null,"メーカー",null,false,"★","メーカー⑨","",{"$nulls":3},"",{"$nulls":1488},"メーカー⑨"]
[null,null,"スーパーマーケット",null,false,"★","スーパーマーケット⑨","",{"$nulls":3},"",{"$nulls":1488},"スーパーマーケット⑨"]
[null,null,"百貨店",null,false,"★","百貨店⑨","",{"$nulls":3},"",{"$nulls":1488},"百貨店⑨"]
[null,null,"その他小売",null,false,"★","その他小売⑨","",{"$nulls":3},"",{"$nulls":1488},"その他小売⑨"]
[null,null,"ホテル・宴会・レジャー",null,false,"★","ホテル・宴会・レジャー⑨",{"$f":"IF(COUNTIFS(G:G,G681)=1,\"\",\"■\")","v":""},{"$nulls":3},"",{"$nulls":1488},"ホテル・宴会・レジャー⑨"]
[null,null,"その他(下記記入)",null,false,"★","その他・ターゲット⑨","",{"$nulls":3},"",{"$nulls":1488},"その他・ターゲット⑨"]
[{"$nulls":5},{"$f":"IF(B683=\"\",\"★\",B683)","v":"★"},"その他・ターゲット・⑨","",{"$nulls":3},"",{"$nulls":1488},"その他・ターゲット・⑨"]
["対応",null,"業務用対応可能",null,false,{"$f":"IF(E684=TRUE,1,\"★\")","v":"★"},"業務用対応可能⑨","",{"$nulls":3},"",{"$nulls":1488},"業務用対応可能⑨"]
[null,null,"ギフト対応可能",null,false,"★","ギフト対応可能⑨","",{"$nulls":3},"",{"$nulls":1488},"ギフト対応可能⑨"]
["ターゲット(性別・年齢層等)",{"$nulls":4},{"$f":"IF(B686=\"\",\"★\",B686)","v":"★"},"ターゲット⑨","",{"$nulls":3},"",{"$nulls":1488},"ターゲット⑨"]
["利用シーン\n(利用方法・おすすめレシピ等)",{"$nulls":4},{"$f":"IF(B687=\"\",\"★\",B687)","v":"★"},"利用シーン⑨","",{"$nulls":3},"",{"$nulls":1488},"利用シーン⑨"]
["商品特徴",{"$nulls":4},{"$f":"IF(B688=\"\",\"★\",B688)","v":"★"},"商品特徴⑨","",{"$nulls":3},"",{"$nulls":1488},"商品特徴⑨"]
["アレルギー表示",null,"えび",null,false,{"$f":"IF(E689=TRUE,1,\"★\")","v":"★"},"えび⑨","",{"$nulls":3},"",{"$nulls":1488},"えび⑨"]
["(特定原材料)",null,"かに",null,false,"★","かに⑨","",{"$nulls":3},"",{"$nulls":1488},"かに⑨"]
["＊使用している項目に☑",null,"小麦",null,false,"★","小麦⑨","",{"$nulls":3},"",{"$nulls":1488},"小麦⑨"]
["表示義務有",null,"そば",null,false,"★","そば⑨","",{"$nulls":3},"",{"$nulls":1488},"そば⑨"]
[null,null,"卵",null,false,"★","卵⑨","",{"$nulls":3},"",{"$nulls":1488},"卵⑨"]
[null,null,"乳",null,false,"★","乳⑨","",{"$nulls":3},"",{"$nulls":1488},"乳⑨"]
[null,null,"落花生",null,false,"★","落花生⑨","",{"$nulls":3},"",{"$nulls":1488},"落花生⑨"]
["表示を推奨(任意表示)",null,"あわび",null,false,"★","あわび⑨","",{"$nulls":3},"",{"$nulls":1488},"あわび⑨"]
[null,null,"いか",null,false,"★","いか⑨","",{"$nulls":3},"",{"$nulls":1488},"いか⑨"]
[null,null,"いくら",null,false,"★","いくら⑨","",{"$nulls":3},"",{"$nulls":1488},"いくら⑨"]
[null,null,"オレンジ",null,false,"★","オレンジ⑨","",{"$nulls":3},"",{"$nulls":1488},"オレンジ⑨"]
[null,null,"カシューナッツ",null,false,"★","カシューナッツ⑨","",{"$nulls":3},"",{"$nulls":1488},"カシューナッツ⑨"]
[null,null,"キウイフルーツ",null,false,"★","キウイフルーツ⑨","",{"$nulls":3},"",{"$nulls":1488},"キウイフルーツ⑨"]
[null,null,"牛肉",null,false,"★","牛肉⑨","",{"$nulls":3},"",{"$nulls":1488},"牛肉⑨"]
[null,null,"くるみ",null,false,"★","くるみ⑨","",{"$nulls":3},"",{"$nulls":1488},"くるみ⑨"]
[null,null,"ごま",null,false,"★","ごま⑨","",{"$nulls":3},"",{"$nulls":1488},"ごま⑨"]
[null,null,"さけ",null,false,"★","さけ⑨","",{"$nulls":3},"",{"$nulls":1488},"さけ⑨"]
[null,null,"さば",null,false,"★","さば⑨","",{"$nulls":3},"",{"$nulls":1488},"さば⑨"]
[null,null,"大豆",null,false,"★","大豆⑨","",{"$nulls":3},"",{"$nulls":1488},"大豆⑨"]
[null,null,"鶏肉",null,false,"★","鶏肉⑨","",{"$nulls":3},{"$f":"IF(F708=J708,\"\",IF(AND(F708=\"★\",J708=\"\"),\"\",IF(VALUE(F708)=VALUE(J708),\"\",\"●\")))","v":""},{"$nulls":1488},"鶏肉⑨"]
[null,null,"バナナ",null,false,"★","バナナ⑨","",{"$nulls":3},"",{"$nulls":1488},"バナナ⑨"]
[null,null,"豚肉",null,false,"★","豚肉⑨","",{"$nulls":3},"",{"$nulls":1488},"豚肉⑨"]
[null,null,"まつたけ",null,false,"★","まつたけ⑨","",{"$nulls":3},"",{"$nulls":1488},"まつたけ⑨"]
[null,null,"もも",null,false,"★","もも⑨","",{"$nulls":3},"",{"$nulls":1488},"もも⑨"]
[null,null,"やまいも",null,false,"★","やまいも⑨",{"$f":"IF(COUNTIFS(G:G,G713)=1,\"\",\"■\")","v":""},{"$nulls":3},"",{"$nulls":1488},"やまいも⑨"]
[null,null,"りんご",null,false,"★","りんご⑨","",{"$nulls":3},"",{"$nulls":1488},"りんご⑨"]
[null,null,"ゼラチン",null,false,"★","ゼラチン⑨","",{"$nulls":3},"",{"$nulls":1488},"ゼラチン⑨"]
["備考\n(当商品以外にアレルゲンを扱って\nいる場合はその旨を記入)",{"$nulls":4},{"$f":"IF(B716=\"\",\"★\",B716)","v":"★"},"備考⑨","",{"$nulls":3},"",{"$nulls":1488},"備考⑨"]
["商品情報⑩　(提案・登録情報シートに商品の全体像がわかる画像と裏面ラベルのアップ画像を添付して下さい)",{"$nulls":10},"",{"$nulls":1488},0]
["商品名",{"$nulls":4},{"$f":"IF(B718=\"\",\"★\",B718)","v":"★"},"商品名⑩",{"$f":"IF(COUNTIFS(G:G,G718)=1,\"\",\"■\")","v":""},{"$nulls":3},"",{"$nulls":1488},"商品名⑩"]
["提供可能時期",{"$nulls":4},"★","提供可能時期⑩","",{"$nulls":3},"",{"$nulls":1488},"提供可能時期⑩"]
["主原料産地(漁獲場所等)",{"$nulls":4},"★","主原料産地⑩","",{"$nulls":3},"",{"$nulls":1488},"主原料産地⑩"]
["内容量",{"$nulls":4},"★","内容量⑩","",{"$nulls":3},"",{"$nulls":1488},"内容量⑩"]
["1ケースあたり入数",{"$nulls":4},"★","1ケースあたり⑩","",{"$nulls":3},"",{"$nulls":1488},"1ケースあたり⑩"]
["発注リードタイム",{"$nulls":4},"★","発注リードタイム⑩","",{"$nulls":3},"",{"$nulls":1488},"発注リードタイム⑩"]
["最大ケース納品単位\n(◎ケース/日　等単位も記載)",{"$nulls":4},"★","最大ケース⑩","",{"$nulls":3},"",{"$nulls":1488},"最大ケース⑩"]
["最小ケース納品単位\n(◎ケース/日　等単位も記載)",{"$nulls":4},"★","最小ケース⑩","",{"$nulls":3},"",{"$nulls":1488},"最小ケース⑩"]
["ケースサイズ縦 (cm)\n(数字のみ記入)",{"$nulls":4},"★","縦⑩","",{"$nulls":3},"",{"$nulls":1488},"縦⑩"]
["ケースサイズ横 (cm)\n(数字のみ記入)",{"$nulls":4},"★","横⑩","",{"$nulls":3},"",{"$nulls":1488},"横⑩"]
["ケースサイズ高さ (cm)\n(数字のみ記入)",{"$nulls":4},"★","高さ⑩","",{"$nulls":3},"",{"$nulls":1488},"高さ⑩"]
["ケース重量 (kg)\n(数字のみ記入)",{"$nulls":4},"★","重量⑩","",{"$nulls":3},"",{"$nulls":1488},"重量⑩"]
["賞味期限",{"$nulls":4},"★","賞味期限⑩","",{"$nulls":3},"",{"$nulls":1488},"賞味期限⑩"]
["消費期限",{"$nulls":4},"★","消費期限⑩","",{"$nulls":3},"",{"$nulls":1488},"消費期限⑩"]
["JANコード(13桁or8桁)\n(空白を入れずに数字のみ入力)",{"$nulls":4},"★","JANコード⑩","",{"$nulls":3},"",{"$nulls":1488},"JANコード⑩"]
["希望小売価格(円:税抜)\n(金額のみ入力)",{"$nulls":4},"★","希望小売⑩","",{"$nulls":3},"",{"$nulls":1488},"希望小売⑩"]
["仕切単価(円:税抜)\n(金額のみ入力)",{"$nulls":4},"★","仕切単価⑩","",{"$nulls":3},"",{"$nulls":1488},"仕切単価⑩"]
["(一つ選択)",null,"工場出し",null,false,{"$f":"IF(E735=TRUE,1,\"★\")","v":"★"},"工場出し⑩","",{"$nulls":3},"",{"$nulls":1488},"工場出し⑩"]
[null,null,"関東向け",null,false,"★","関東向け⑩","",{"$nulls":3},"",{"$nulls":1488},"関東向け⑩"]
[null,null,"関西向け",null,false,"★","関西向け⑩","",{"$nulls":3},"",{"$nulls":1488},"関西向け⑩"]
["税率",null,"８％",null,false,{"$f":"IF(E738=TRUE,1,\"★\")","v":"★"},"8%⑩","",{"$nulls":3},"",{"$nulls":1488},"8%⑩"]
[null,null,"１０％",null,false,"★","10%⑩","",{"$nulls":3},"",{"$nulls":1488},"10%⑩"]
["保存温度帯",null,"常温",null,false,"★","常温⑩","",{"$nulls":3},"",{"$nulls":1488},"常温⑩"]
[null,null,"冷蔵",null,false,"★","冷蔵⑩","",{"$nulls":3},"",{"$nulls":1488},"冷蔵⑩"]
[null,null,"冷凍",null,false,"★","冷凍⑩","",{"$nulls":3},"",{"$nulls":1488},"冷凍⑩"]
["ターゲット(売先)",null,"外食",null,false,"★","外食⑩","",{"$nulls":3},"",{"$nulls":1488},"外食⑩"]
[null,null,"中食",null,false,"★","中食⑩","",{"$nulls":3},"",{"$nulls":1488},"中食⑩"]
[null,null,"商社・卸売",null,false,"★","商社・卸売⑩","",{"$nulls":3},"",{"$nulls":1488},"商社・卸売⑩"]
[null,null,"メーカー",null,false,"★","メーカー⑩","",{"$nulls":3},"",{"$nulls":1488},"メーカー⑩"]
[null,null,"スーパーマーケット",null,false,"★","スーパーマーケット⑩","",{"$nulls":3},"",{"$nulls":1488},"スーパーマーケット⑩"]
[null,null,"百貨店",null,false,"★","百貨店⑩","",{"$nulls":3},"",{"$nulls":1488},"百貨店⑩"]
[null,null,"その他小売",null,false,"★","その他小売⑩","",{"$nulls":3},"",{"$nulls":1488},"その他小売⑩"]
[null,null,"ホテル・宴会・レジャー",null,false,"★","ホテル・宴会・レジャー⑩",{"$f":"IF(COUNTIFS(G:G,G750)=1,\"\",\"■\")","v":""},{"$nulls":3},"",{"$nulls":1488},"ホテル・宴会・レジャー⑩"]
[null,null,"その他(下記記入)",null,false,"★","その他・ターゲット⑩","",{"$nulls":3},"",{"$nulls":1488},"その他・ターゲット⑩"]
[{"$nulls":5},{"$f":"IF(B752=\"\",\"★\",B752)","v":"★"},"その他・ターゲット・⑩","",{"$nulls":3},"",{"$nulls":1488},"その他・ターゲット・⑩"]
["対応",null,"業務用対応可能",null,false,{"$f":"IF(E753=TRUE,1,\"★\")","v":"★"},"業務用対応可能⑩","",{"$nulls":3},"",{"$nulls":1488},"業務用対応可能⑩"]
[null,null,"ギフト対応可能",null,false,"★","ギフト対応可能⑩","",{"$nulls":3},"",{"$nulls":1488},"ギフト対応可能⑩"]
["ターゲット(性別・年齢層等)",{"$nulls":4},{"$f":"IF(B755=\"\",\"★\",B755)","v":"★"},"ターゲット⑩","",{"$nulls":3},"",{"$nulls":1488},"ターゲット⑩"]
["利用シーン\n(利用方法・おすすめレシピ等)",{"$nulls":4},{"$f":"IF(B756=\"\",\"★\",B756)","v":"★"},"利用シーン⑩","",{"$nulls":3},"",{"$nulls":1488},"利用シーン⑩"]
["商品特徴",{"$nulls":4},{"$f":"IF(B757=\"\",\"★\",B757)","v":"★"},"商品特徴⑩","",{"$nulls":3},"",{"$nulls":1488},"商品特徴⑩"]
["アレルギー表示",null,"えび",null,false,{"$f":"IF(E758=TRUE,1,\"★\")","v":"★"},"えび⑩","",{"$nulls":3},"",{"$nulls":1488},"えび⑩"]
["(特定原材料)",null,"かに",null,false,"★","かに⑩","",{"$nulls":3},"",{"$nulls":1488},"かに⑩"]
["＊使用している項目に☑",null,"小麦",null,false,"★","小麦⑩","",{"$nulls":3},"",{"$nulls":1488},"小麦⑩"]
["表示義務有",null,"そば",null,false,"★","そば⑩","",{"$nulls":3},"",{"$nulls":1488},"そば⑩"]
[null,null,"卵",null,false,"★","卵⑩","",{"$nulls":3},"",{"$nulls":1488},"卵⑩"]
[null,null,"乳",null,false,"★","乳⑩","",{"$nulls":3},"",{"$nulls":1488},"乳⑩"]
[null,null,"落花生",null,false,"★","落花生⑩","",{"$nulls":3},"",{"$nulls":1488},"落花生⑩"]
["表示を推奨(任意表示)",null,"あわび",null,false,"★","あわび⑩","",{"$nulls":3},"",{"$nulls":1488},"あわび⑩"]
[null,null,"いか",null,false,"★","いか⑩","",{"$nulls":3},"",{"$nulls":1488},"いか⑩"]
[null,null,"いくら",null,false,"★","いくら⑩","",{"$nulls":3},"",{"$nulls":1488},"いくら⑩"]
[null,null,"オレンジ",null,false,"★","オレンジ⑩","",{"$nulls":3},"",{"$nulls":1488},"オレンジ⑩"]
[null,null,"カシューナッツ",null,false,"★","カシューナッツ⑩","",{"$nulls":3},"",{"$nulls":1488},"カシューナッツ⑩"]
[null,null,"キウイフルーツ",null,false,"★","キウイフルーツ⑩","",{"$nulls":3},"",{"$nulls":1488},"キウイフルーツ⑩"]
[null,null,"牛肉",null,false,"★","牛肉⑩","",{"$nulls":3},"",{"$nulls":1488},"牛肉⑩"]
[null,null,"くるみ",null,false,"★","くるみ⑩","",{"$nulls":3},{"$f":"IF(F772=J772,\"\",IF(AND(F772=\"★\",J772=\"\"),\"\",IF(VALUE(F772)=VALUE(J772),\"\",\"●\")))","v":""},{"$nulls":1488},"くるみ⑩"]
[null,null,"ごま",null,false,"★","ごま⑩","",{"$nulls":3},"",{"$nulls":1488},"ごま⑩"]
[null,null,"さけ",null,false,"★","さけ⑩","",{"$nulls":3},"",{"$nulls":1488},"さけ⑩"]
[null,null,"さば",null,false,"★","さば⑩","",{"$nulls":3},"",{"$nulls":1488},"さば⑩"]
[null,null,"大豆",null,false,"★","大豆⑩","",{"$nulls":3},"",{"$nulls":1488},"大豆⑩"]
[null,null,"鶏肉",null,false,"★","鶏肉⑩","",{"$nulls":3},"",{"$nulls":1488},"鶏肉⑩"]
[null,null,"バナナ",null,false,"★","バナナ⑩","",{"$nulls":3},"",{"$nulls":1488},"バナナ⑩"]
[null,null,"豚肉",null,false,"★","豚肉⑩","",{"$nulls":3},"",{"$nulls":1488},"豚肉⑩"]
[null,null,"まつたけ",null,false,"★","まつたけ⑩","",{"$nulls":3},"",{"$nulls":1488},"まつたけ⑩"]
[null,null,"もも",null,false,"★","もも⑩","",{"$nulls":3},"",{"$nulls":1488},"もも⑩"]
[null,null,"やまいも",null,false,"★","やまいも⑩",{"$f":"IF(COUNTIFS(G:G,G782)=1,\"\",\"■\")","v":""},{"$nulls":3},"",{"$nulls":1488},"やまいも⑩"]
[null,null,"りんご",null,false,"★","りんご⑩","",{"$nulls":3},"",{"$nulls":1488},"りんご⑩"]
[null,null,"ゼラチン",null,false,"★","ゼラチン⑩","",{"$nulls":3},"",{"$nulls":1488},"ゼラチン⑩"]
["備考\n(当商品以外にアレルゲンを扱って\nいる場合はその旨を記入)",{"$nulls":4},{"$f":"IF(B785=\"\",\"★\",B785)","v":"★"},"備考⑩","",{"$nulls":3},"",{"$nulls":1488},"備考⑩"]
["商品情報⑪　(提案・登録情報シートに商品の全体像がわかる画像と裏面ラベルのアップ画像を添付して下さい)",{"$nulls":10},"",{"$nulls":1488},0]
["商品名",{"$nulls":4},{"$f":"IF(B787=\"\",\"★\",B787)","v":"★"},"商品名⑪",{"$f":"IF(COUNTIFS(G:G,G787)=1,\"\",\"■\")","v":""},{"$nulls":3},"",{"$nulls":1488},"商品名⑪"]
["提供可能時期",{"$nulls":4},"★","提供可能時期⑪","",{"$nulls":3},"",{"$nulls":1488},"提供可能時期⑪"]
["主原料産地(漁獲場所等)",{"$nulls":4},"★","主原料産地⑪","",{"$nulls":3},"",{"$nulls":1488},"主原料産地⑪"]
["内容量",{"$nulls":4},"★","内容量⑪","",{"$nulls":3},"",{"$nulls":1488},"内容量⑪"]
["1ケースあたり入数",{"$nulls":4},"★","1ケースあたり⑪","",{"$nulls":3},"",{"$nulls":1488},"1ケースあたり⑪"]
["発注リードタイム",{"$nulls":4},"★","発注リードタイム⑪","",{"$nulls":3},"",{"$nulls":1488},"発注リードタイム⑪"]
["最大ケース納品単位\n(◎ケース/日　等単位も記載)",{"$nulls":4},"★","最大ケース⑪","",{"$nulls":3},"",{"$nulls":1488},"最大ケース⑪"]
["最小ケース納品単位\n(◎ケース/日　等単位も記載)",{"$nulls":4},"★","最小ケース⑪","",{"$nulls":3},"",{"$nulls":1488},"最小ケース⑪"]
["ケースサイズ縦 (cm)\n(数字のみ記入)",{"$nulls":4},"★","縦⑪","",{"$nulls":3},"",{"$nulls":1488},"縦⑪"]
["ケースサイズ横 (cm)\n(数字のみ記入)",{"$nulls":4},"★","横⑪","",{"$nulls":3},"",{"$nulls":1488},"横⑪"]
["ケースサイズ高さ (cm)\n(数字のみ記入)",{"$nulls":4},"★","高さ⑪","",{"$nulls":3},"",{"$nulls":1488},"高さ⑪"]
["ケース重量 (kg)\n(数字のみ記入)",{"$nulls":4},"★","重量⑪","",{"$nulls":3},"",{"$nulls":1488},"重量⑪"]
["賞味期限",{"$nulls":4},"★","賞味期限⑪","",{"$nulls":3},"",{"$nulls":1488},"賞味期限⑪"]
["消費期限",{"$nulls":4},"★","消費期限⑪","",{"$nulls":3},"",{"$nulls":1488},"消費期限⑪"]
["JANコード(13桁or8桁)\n(空白を入れずに数字のみ入力)",{"$nulls":4},"★","JANコード⑪","",{"$nulls":3},"",{"$nulls":1488},"JANコード⑪"]
["希望小売価格(円:税抜)\n(金額のみ入力)",{"$nulls":4},"★","希望小売⑪","",{"$nulls":3},"",{"$nulls":1488},"希望小売⑪"]
["仕切単価(円:税抜)\n(金額のみ入力)",{"$nulls":4},"★","仕切単価⑪","",{"$nulls":3},"",{"$nulls":1488},"仕切単価⑪"]
["(一つ選択)",null,"工場出し",null,false,{"$f":"IF(E804=TRUE,1,\"★\")","v":"★"},"工場出し⑪","",{"$nulls":3},"",{"$nulls":1488},"工場出し⑪"]
[null,null,"関東向け",null,false,"★","関東向け⑪","",{"$nulls":3},"",{"$nulls":1488},"関東向け⑪"]
[null,null,"関西向け",null,false,"★","関西向け⑪","",{"$nulls":3},"",{"$nulls":1488},"関西向け⑪"]
["税率",null,"８％",null,false,{"$f":"IF(E807=TRUE,1,\"★\")","v":"★"},"8%⑪","",{"$nulls":3},"",{"$nulls":1488},"8%⑪"]
[null,null,"１０％",null,false,"★","10%⑪","",{"$nulls":3},"",{"$nulls":1488},"10%⑪"]
["保存温度帯",null,"常温",null,false,"★","常温⑪","",{"$nulls":3},"",{"$nulls":1488},"常温⑪"]
[null,null,"冷蔵",null,false,"★","冷蔵⑪","",{"$nulls":3},"",{"$nulls":1488},"冷蔵⑪"]
[null,null,"冷凍",null,false,"★","冷凍⑪","",{"$nulls":3},"",{"$nulls":1488},"冷凍⑪"]
["ターゲット(売先)",null,"外食",null,false,"★","外食⑪","",{"$nulls":3},"",{"$nulls":1488},"外食⑪"]
[null,null,"中食",null,false,"★","中食⑪","",{"$nulls":3},"",{"$nulls":1488},"中食⑪"]
[null,null,"商社・卸売",null,false,"★","商社・卸売⑪","",{"$nulls":3},"",{"$nulls":1488},"商社・卸売⑪"]
[null,null,"メーカー",null,false,"★","メーカー⑪","",{"$nulls":3},"",{"$nulls":1488},"メーカー⑪"]
[null,null,"スーパーマーケット",null,false,"★","スーパーマーケット⑪","",{"$nulls":3},"",{"$nulls":1488},"スーパーマーケット⑪"]
[null,null,"百貨店",null,false,"★","百貨店⑪","",{"$nulls":3},"",{"$nulls":1488},"百貨店⑪"]
[null,null,"その他小売",null,false,"★","その他小売⑪","",{"$nulls":3},"",{"$nulls":1488},"その他小売⑪"]
[null,null,"ホテル・宴会・レジャー",null,false,"★","ホテル・宴会・レジャー⑪",{"$f":"IF(COUNTIFS(G:G,G819)=1,\"\",\"■\")","v":""},{"$nulls":3},"",{"$nulls":1488},"ホテル・宴会・レジャー⑪"]
[null,null,"その他(下記記入)",null,false,"★","その他・ターゲット⑪","",{"$nulls":3},"",{"$nulls":1488},"その他・ターゲット⑪"]
[{"$nulls":5},{"$f":"IF(B821=\"\",\"★\",B821)","v":"★"},"その他・ターゲット・⑪","",{"$nulls":3},"",{"$nulls":1488},"その他・ターゲット・⑪"]
["対応",null,"業務用対応可能",null,false,{"$f":"IF(E822=TRUE,1,\"★\")","v":"★"},"業務用対応可能⑪","",{"$nulls":3},"",{"$nulls":1488},"業務用対応可能⑪"]
[null,null,"ギフト対応可能",null,false,"★","ギフト対応可能⑪","",{"$nulls":3},"",{"$nulls":1488},"ギフト対応可能⑪"]
["ターゲット(性別・年齢層等)",{"$nulls":4},{"$f":"IF(B824=\"\",\"★\",B824)","v":"★"},"ターゲット⑪","",{"$nulls":3},"",{"$nulls":1488},"ターゲット⑪"]
["利用シーン\n(利用方法・おすすめレシピ等)",{"$nulls":4},{"$f":"IF(B825=\"\",\"★\",B825)","v":"★"},"利用シーン⑪","",{"$nulls":3},"",{"$nulls":1488},"利用シーン⑪"]
["商品特徴",{"$nulls":4},{"$f":"IF(B826=\"\",\"★\",B826)","v":"★"},"商品特徴⑪","",{"$nulls":3},"",{"$nulls":1488},"商品特徴⑪"]
["アレルギー表示",null,"えび",null,false,{"$f":"IF(E827=TRUE,1,\"★\")","v":"★"},"えび⑪","",{"$nulls":3},"",{"$nulls":1488},"えび⑪"]
["(特定原材料)",null,"かに",null,false,"★","かに⑪","",{"$nulls":3},"",{"$nulls":1488},"かに⑪"]
["＊使用している項目に☑",null,"小麦",null,false,"★","小麦⑪","",{"$nulls":3},"",{"$nulls":1488},"小麦⑪"]
["表示義務有",null,"そば",null,false,"★","そば⑪","",{"$nulls":3},"",{"$nulls":1488},"そば⑪"]
[null,null,"卵",null,false,"★","卵⑪","",{"$nulls":3},"",{"$nulls":1488},"卵⑪"]
[null,null,"乳",null,false,"★","乳⑪","",{"$nulls":3},"",{"$nulls":1488},"乳⑪"]
[null,null,"落花生",null,false,"★","落花生⑪","",{"$nulls":3},"",{"$nulls":1488},"落花生⑪"]
["表示を推奨(任意表示)",null,"あわび",null,false,"★","あわび⑪","",{"$nulls":3},"",{"$nulls":1488},"あわび⑪"]
[null,null,"いか",null,false,"★","いか⑪","",{"$nulls":3},"",{"$nulls":1488},"いか⑪"]
[null,null,"いくら",null,false,"★","いくら⑪","",{"$nulls":3},{"$f":"IF(F836=J836,\"\",IF(AND(F836=\"★\",J836=\"\"),\"\",IF(VALUE(F836)=VALUE(J836),\"\",\"●\")))","v":""},{"$nulls":1488},"いくら⑪"]
[null,null,"オレンジ",null,false,"★","オレンジ⑪","",{"$nulls":3},"",{"$nulls":1488},"オレンジ⑪"]
[null,null,"カシューナッツ",null,false,"★","カシューナッツ⑪","",{"$nulls":3},"",{"$nulls":1488},"カシューナッツ⑪"]
[null,null,"キウイフルーツ",null,false,"★","キウイフルーツ⑪","",{"$nulls":3},"",{"$nulls":1488},"キウイフルーツ⑪"]
[null,null,"牛肉",null,false,"★","牛肉⑪","",{"$nulls":3},"",{"$nulls":1488},"牛肉⑪"]
[null,null,"くるみ",null,false,"★","くるみ⑪","",{"$nulls":3},"",{"$nulls":1488},"くるみ⑪"]
[null,null,"ごま",null,false,"★","ごま⑪","",{"$nulls":3},"",{"$nulls":1488},"ごま⑪"]
[null,null,"さけ",null,false,"★","さけ⑪","",{"$nulls":3},"",{"$nulls":1488},"さけ⑪"]
[null,null,"さば",null,false,"★","さば⑪","",{"$nulls":3},"",{"$nulls":1488},"さば⑪"]
[null,null,"大豆",null,false,"★","大豆⑪","",{"$nulls":3},"",{"$nulls":1488},"大豆⑪"]
[null,null,"鶏肉",null,false,"★","鶏肉⑪","",{"$nulls":3},"",{"$nulls":1488},"鶏肉⑪"]
[null,null,"バナナ",null,false,"★","バナナ⑪","",{"$nulls":3},"",{"$nulls":1488},"バナナ⑪"]
[null,null,"豚肉",null,false,"★","豚肉⑪","",{"$nulls":3},"",{"$nulls":1488},"豚肉⑪"]
[null,null,"まつたけ",null,false,"★","まつたけ⑪","",{"$nulls":3},"",{"$nulls":1488},"まつたけ⑪"]
[null,null,"もも",null,false,"★","もも⑪","",{"$nulls":3},"",{"$nulls":1488},"もも⑪"]
[null,null,"やまいも",null,false,"★","やまいも⑪",{"$f":"IF(COUNTIFS(G:G,G851)=1,\"\",\"■\")","v":""},{"$nulls":3},"",{"$nulls":1488},"やまいも⑪"]
[null,null,"りんご",null,false,"★","りんご⑪","",{"$nulls":3},"",{"$nulls":1488},"りんご⑪"]
[null,null,"ゼラチン",null,false,"★","ゼラチン⑪","",{"$nulls":3},"",{"$nulls":1488},"ゼラチン⑪"]
["備考\n(当商品以外にアレルゲンを扱って\nいる場合はその旨を記入)",{"$nulls":4},{"$f":"IF(B854=\"\",\"★\",B854)","v":"★"},"備考⑪","",{"$nulls":3},"",{"$nulls":1488},"備考⑪"]
["商品情報⑫　(提案・登録情報シートに商品の全体像がわかる画像と裏面ラベルのアップ画像を添付して下さい)",{"$nulls":10},"",{"$nulls":1488},0]
["商品名",{"$nulls":4},{"$f":"IF(B856=\"\",\"★\",B856)","v":"★"},"商品名⑫",{"$f":"IF(COUNTIFS(G:G,G856)=1,\"\",\"■\")","v":""},{"$nulls":3},"",{"$nulls":1488},"商品名⑫"]
["提供可能時期",{"$nulls":4},"★","提供可能時期⑫","",{"$nulls":3},"",{"$nulls":1488},"提供可能時期⑫"]
["主原料産地(漁獲場所等)",{"$nulls":4},"★","主原料産地⑫","",{"$nulls":3},"",{"$nulls":1488},"主原料産地⑫"]
["内容量",{"$nulls":4},"★","内容量⑫","",{"$nulls":3},"",{"$nulls":1488},"内容量⑫"]
["1ケースあたり入数",{"$nulls":4},"★","1ケースあたり⑫","",{"$nulls":3},"",{"$nulls":1488},"1ケースあたり⑫"]
["発注リードタイム",{"$nulls":4},"★","発注リードタイム⑫","",{"$nulls":3},"",{"$nulls":1488},"発注リードタイム⑫"]
["最大ケース納品単位\n(◎ケース/日　等単位も記載)",{"$nulls":4},"★","最大ケース⑫","",{"$nulls":3},"",{"$nulls":1488},"最大ケース⑫"]
["最小ケース納品単位\n(◎ケース/日　等単位も記載)",{"$nulls":4},"★","最小ケース⑫","",{"$nulls":3},"",{"$nulls":1488},"最小ケース⑫"]
["ケースサイズ縦 (cm)\n(数字のみ記入)",{"$nulls":4},"★","縦⑫","",{"$nulls":3},"",{"$nulls":1488},"縦⑫"]
["ケースサイズ横 (cm)\n(数字のみ記入)",{"$nulls":4},"★","横⑫","",{"$nulls":3},"",{"$nulls":1488},"横⑫"]
["ケースサイズ高さ (cm)\n(数字のみ記入)",{"$nulls":4},"★","高さ⑫","",{"$nulls":3},"",{"$nulls":1488},"高さ⑫"]
["ケース重量 (kg)\n(数字のみ記入)",{"$nulls":4},"★","重量⑫","",{"$nulls":3},"",{"$nulls":1488},"重量⑫"]
["賞味期限",{"$nulls":4},"★","賞味期限⑫","",{"$nulls":3},"",{"$nulls":1488},"賞味期限⑫"]
["消費期限",{"$nulls":4},"★","消費期限⑫","",{"$nulls":3},"",{"$nulls":1488},"消費期限⑫"]
["JANコード(13桁or8桁)\n(空白を入れずに数字のみ入力)",{"$nulls":4},"★","JANコード⑫","",{"$nulls":3},"",{"$nulls":1488},"JANコード⑫"]
["希望小売価格(円:税抜)\n(金額のみ入力)",{"$nulls":4},"★","希望小売⑫","",{"$nulls":3},"",{"$nulls":1488},"希望小売⑫"]
["仕切単価(円:税抜)\n(金額のみ入力)",{"$nulls":4},"★","仕切単価⑫","",{"$nulls":3},"",{"$nulls":1488},"仕切単価⑫"]
["(一つ選択)",null,"工場出し",null,false,{"$f":"IF(E873=TRUE,1,\"★\")","v":"★"},"工場出し⑫","",{"$nulls":3},"",{"$nulls":1488},"工場出し⑫"]
[null,null,"関東向け",null,false,"★","関東向け⑫","",{"$nulls":3},"",{"$nulls":1488},"関東向け⑫"]
[null,null,"関西向け",null,false,"★","関西向け⑫","",{"$nulls":3},"",{"$nulls":1488},"関西向け⑫"]
["税率",null,"８％",null,false,{"$f":"IF(E876=TRUE,1,\"★\")","v":"★"},"8%⑫","",{"$nulls":3},"",{"$nulls":1488},"8%⑫"]
[null,null,"１０％",null,false,"★","10%⑫","",{"$nulls":3},"",{"$nulls":1488},"10%⑫"]
["保存温度帯",null,"常温",null,false,"★","常温⑫","",{"$nulls":3},"",{"$nulls":1488},"常温⑫"]
[null,null,"冷蔵",null,false,"★","冷蔵⑫","",{"$nulls":3},"",{"$nulls":1488},"冷蔵⑫"]
[null,null,"冷凍",null,false,"★","冷凍⑫","",{"$nulls":3},"",{"$nulls":1488},"冷凍⑫"]
["ターゲット(売先)",null,"外食",null,false,"★","外食⑫","",{"$nulls":3},"",{"$nulls":1488},"外食⑫"]
[null,null,"中食",null,false,"★","中食⑫","",{"$nulls":3},"",{"$nulls":1488},"中食⑫"]
[null,null,"商社・卸売",null,false,"★","商社・卸売⑫","",{"$nulls":3},"",{"$nulls":1488},"商社・卸売⑫"]
[null,null,"メーカー",null,false,"★","メーカー⑫","",{"$nulls":3},"",{"$nulls":1488},"メーカー⑫"]
[null,null,"スーパーマーケット",null,false,"★","スーパーマーケット⑫","",{"$nulls":3},"",{"$nulls":1488},"スーパーマーケット⑫"]
[null,null,"百貨店",null,false,"★","百貨店⑫","",{"$nulls":3},"",{"$nulls":1488},"百貨店⑫"]
[null,null,"その他小売",null,false,"★","その他小売⑫","",{"$nulls":3},"",{"$nulls":1488},"その他小売⑫"]
[null,null,"ホテル・宴会・レジャー",null,false,"★","ホテル・宴会・レジャー⑫",{"$f":"IF(COUNTIFS(G:G,G888)=1,\"\",\"■\")","v":""},{"$nulls":3},"",{"$nulls":1488},"ホテル・宴会・レジャー⑫"]
[null,null,"その他(下記記入)",null,false,"★","その他・ターゲット⑫","",{"$nulls":3},"",{"$nulls":1488},"その他・ターゲット⑫"]
[{"$nulls":5},{"$f":"IF(B890=\"\",\"★\",B890)","v":"★"},"その他・ターゲット・⑫","",{"$nulls":3},"",{"$nulls":1488},"その他・ターゲット・⑫"]
["対応",null,"業務用対応可能",null,false,{"$f":"IF(E891=TRUE,1,\"★\")","v":"★"},"業務用対応可能⑫","",{"$nulls":3},"",{"$nulls":1488},"業務用対応可能⑫"]
[null,null,"ギフト対応可能",null,false,"★","ギフト対応可能⑫","",{"$nulls":3},"",{"$nulls":1488},"ギフト対応可能⑫"]
["ターゲット(性別・年齢層等)",{"$nulls":4},{"$f":"IF(B893=\"\",\"★\",B893)","v":"★"},"ターゲット⑫","",{"$nulls":3},"",{"$nulls":1488},"ターゲット⑫"]
["利用シーン\n(利用方法・おすすめレシピ等)",{"$nulls":4},{"$f":"IF(B894=\"\",\"★\",B894)","v":"★"},"利用シーン⑫","",{"$nulls":3},"",{"$nulls":1488},"利用シーン⑫"]
["商品特徴",{"$nulls":4},{"$f":"IF(B895=\"\",\"★\",B895)","v":"★"},"商品特徴⑫","",{"$nulls":3},"",{"$nulls":1488},"商品特徴⑫"]
["アレルギー表示",null,"えび",null,false,{"$f":"IF(E896=TRUE,1,\"★\")","v":"★"},"えび⑫","",{"$nulls":3},"",{"$nulls":1488},"えび⑫"]
["(特定原材料)",null,"かに",null,false,"★","かに⑫","",{"$nulls":3},"",{"$nulls":1488},"かに⑫"]
["＊使用している項目に☑",null,"小麦",null,false,"★","小麦⑫","",{"$nulls":3},"",{"$nulls":1488},"小麦⑫"]
["表示義務有",null,"そば",null,false,"★","そば⑫","",{"$nulls":3},"",{"$nulls":1488},"そば⑫"]
[null,null,"卵",null,false,"★","卵⑫","",{"$nulls":3},{"$f":"IF(F900=J900,\"\",IF(AND(F900=\"★\",J900=\"\"),\"\",IF(VALUE(F900)=VALUE(J900),\"\",\"●\")))","v":""},{"$nulls":1488},"卵⑫"]
[null,null,"乳",null,false,"★","乳⑫","",{"$nulls":3},"",{"$nulls":1488},"乳⑫"]
[null,null,"落花生",null,false,"★","落花生⑫","",{"$nulls":3},"",{"$nulls":1488},"落花生⑫"]
["表示を推奨(任意表示)",null,"あわび",null,false,"★","あわび⑫","",{"$nulls":3},"",{"$nulls":1488},"あわび⑫"]
[null,null,"いか",null,false,"★","いか⑫","",{"$nulls":3},"",{"$nulls":1488},"いか⑫"]
[null,null,"いくら",null,false,"★","いくら⑫","",{"$nulls":3},"",{"$nulls":1488},"いくら⑫"]
[null,null,"オレンジ",null,false,"★","オレンジ⑫","",{"$nulls":3},"",{"$nulls":1488},"オレンジ⑫"]
[null,null,"カシューナッツ",null,false,"★","カシューナッツ⑫","",{"$nulls":3},"",{"$nulls":1488},"カシューナッツ⑫"]
[null,null,"キウイフルーツ",null,false,"★","キウイフルーツ⑫","",{"$nulls":3},"",{"$nulls":1488},"キウイフルーツ⑫"]
[null,null,"牛肉",null,false,"★","牛肉⑫","",{"$nulls":3},"",{"$nulls":1488},"牛肉⑫"]
[null,null,"くるみ",null,false,"★","くるみ⑫","",{"$nulls":3},"",{"$nulls":1488},"くるみ⑫"]
[null,null,"ごま",null,false,"★","ごま⑫","",{"$nulls":3},"",{"$nulls":1488},"ごま⑫"]
[null,null,"さけ",null,false,"★","さけ⑫","",{"$nulls":3},"",{"$nulls":1488},"さけ⑫"]
[null,null,"さば",null,false,"★","さば⑫","",{"$nulls":3},"",{"$nulls":1488},"さば⑫"]
[null,null,"大豆",null,false,"★","大豆⑫","",{"$nulls":3},"",{"$nulls":1488},"大豆⑫"]
[null,null,"鶏肉",null,false,"★","鶏肉⑫","",{"$nulls":3},"",{"$nulls":1488},"鶏肉⑫"]
[null,null,"バナナ",null,false,"★","バナナ⑫","",{"$nulls":3},"",{"$nulls":1488},"バナナ⑫"]
[null,null,"豚肉",null,false,"★","豚肉⑫","",{"$nulls":3},"",{"$nulls":1488},"豚肉⑫"]
[null,null,"まつたけ",null,false,"★","まつたけ⑫","",{"$nulls":3},"",{"$nulls":1488},"まつたけ⑫"]
[null,null,"もも",null,false,"★","もも⑫","",{"$nulls":3},"",{"$nulls":1488},"もも⑫"]
[null,null,"やまいも",null,false,"★","やまいも⑫",{"$f":"IF(COUNTIFS(G:G,G920)=1,\"\",\"■\")","v":""},{"$nulls":3},"",{"$nulls":1488},"やまいも⑫"]
[null,null,"りんご",null,false,"★","りんご⑫","",{"$nulls":3},"",{"$nulls":1488},"りんご⑫"]
[null,null,"ゼラチン",null,false,"★","ゼラチン⑫","",{"$nulls":3},"",{"$nulls":1488},"ゼラチン⑫"]
["備考\n(当商品以外にアレルゲンを扱って\nいる場合はその旨を記入)",{"$nulls":4},{"$f":"IF(B923=\"\",\"★\",B923)","v":"★"},"備考⑫","",{"$nulls":3},"",{"$nulls":1488},"備考⑫"]
["商品情報⑬　(提案・登録情報シートに商品の全体像がわかる画像と裏面ラベルのアップ画像を添付して下さい)",{"$nulls":10},"",{"$nulls":1488},0]
["商品名",{"$nulls":4},{"$f":"IF(B925=\"\",\"★\",B925)","v":"★"},"商品名⑬",{"$f":"IF(COUNTIFS(G:G,G925)=1,\"\",\"■\")","v":""},{"$nulls":3},"",{"$nulls":1488},"商品名⑬"]
["提供可能時期",{"$nulls":4},"★","提供可能時期⑬","",{"$nulls":3},"",{"$nulls":1488},"提供可能時期⑬"]
["主原料産地(漁獲場所等)",{"$nulls":4},"★","主原料産地⑬","",{"$nulls":3},"",{"$nulls":1488},"主原料産地⑬"]
["内容量",{"$nulls":4},"★","内容量⑬","",{"$nulls":3},"",{"$nulls":1488},"内容量⑬"]
["1ケースあたり入数",{"$nulls":4},"★","1ケースあたり⑬","",{"$nulls":3},"",{"$nulls":1488},"1ケースあたり⑬"]
["発注リードタイム",{"$nulls":4},"★","発注リードタイム⑬","",{"$nulls":3},"",{"$nulls":1488},"発注リードタイム⑬"]
["最大ケース納品単位\n(◎ケース/日　等単位も記載)",{"$nulls":4},"★","最大ケース⑬","",{"$nulls":3},"",{"$nulls":1488},"最大ケース⑬"]
["最小ケース納品単位\n(◎ケース/日　等単位も記載)",{"$nulls":4},"★","最小ケース⑬","",{"$nulls":3},"",{"$nulls":1488},"最小ケース⑬"]
["ケースサイズ縦 (cm)\n(数字のみ記入)",{"$nulls":4},"★","縦⑬","",{"$nulls":3},"",{"$nulls":1488},"縦⑬"]
["ケースサイズ横 (cm)\n(数字のみ記入)",{"$nulls":4},"★","横⑬","",{"$nulls":3},"",{"$nulls":1488},"横⑬"]
["ケースサイズ高さ (cm)\n(数字のみ記入)",{"$nulls":4},"★","高さ⑬","",{"$nulls":3},"",{"$nulls":1488},"高さ⑬"]
["ケース重量 (kg)\n(数字のみ記入)",{"$nulls":4},"★","重量⑬","",{"$nulls":3},"",{"$nulls":1488},"重量⑬"]
["賞味期限",{"$nulls":4},"★","賞味期限⑬","",{"$nulls":3},"",{"$nulls":1488},"賞味期限⑬"]
["消費期限",{"$nulls":4},"★","消費期限⑬","",{"$nulls":3},"",{"$nulls":1488},"消費期限⑬"]
["JANコード(13桁or8桁)\n(空白を入れずに数字のみ入力)",{"$nulls":4},"★","JANコード⑬","",{"$nulls":3},"",{"$nulls":1488},"JANコード⑬"]
["希望小売価格(円:税抜)\n(金額のみ入力)",{"$nulls":4},"★","希望小売⑬","",{"$nulls":3},"",{"$nulls":1488},"希望小売⑬"]
["仕切単価(円:税抜)\n(金額のみ入力)",{"$nulls":4},"★","仕切単価⑬","",{"$nulls":3},"",{"$nulls":1488},"仕切単価⑬"]
["(一つ選択)",null,"工場出し",null,false,{"$f":"IF(E942=TRUE,1,\"★\")","v":"★"},"工場出し⑬","",{"$nulls":3},"",{"$nulls":1488},"工場出し⑬"]
[null,null,"関東向け",null,false,"★","関東向け⑬","",{"$nulls":3},"",{"$nulls":1488},"関東向け⑬"]
[null,null,"関西向け",null,false,"★","関西向け⑬","",{"$nulls":3},"",{"$nulls":1488},"関西向け⑬"]
["税率",null,"８％",null,false,{"$f":"IF(E945=TRUE,1,\"★\")","v":"★"},"8%⑬","",{"$nulls":3},"",{"$nulls":1488},"8%⑬"]
[null,null,"１０％",null,false,"★","10%⑬","",{"$nulls":3},"",{"$nulls":1488},"10%⑬"]
["保存温度帯",null,"常温",null,false,"★","常温⑬","",{"$nulls":3},"",{"$nulls":1488},"常温⑬"]
[null,null,"冷蔵",null,false,"★","冷蔵⑬","",{"$nulls":3},"",{"$nulls":1488},"冷蔵⑬"]
[null,null,"冷凍",null,false,"★","冷凍⑬","",{"$nulls":3},"",{"$nulls":1488},"冷凍⑬"]
["ターゲット(売先)",null,"外食",null,false,"★","外食⑬","",{"$nulls":3},"",{"$nulls":1488},"外食⑬"]
[null,null,"中食",null,false,"★","中食⑬","",{"$nulls":3},"",{"$nulls":1488},"中食⑬"]
[null,null,"商社・卸売",null,false,"★","商社・卸売⑬","",{"$nulls":3},"",{"$nulls":1488},"商社・卸売⑬"]
[null,null,"メーカー",null,false,"★","メーカー⑬","",{"$nulls":3},"",{"$nulls":1488},"メーカー⑬"]
[null,null,"スーパーマーケット",null,false,"★","スーパーマーケット⑬","",{"$nulls":3},"",{"$nulls":1488},"スーパーマーケット⑬"]
[null,null,"百貨店",null,false,"★","百貨店⑬","",{"$nulls":3},"",{"$nulls":1488},"百貨店⑬"]
[null,null,"その他小売",null,false,"★","その他小売⑬","",{"$nulls":3},"",{"$nulls":1488},"その他小売⑬"]
[null,null,"ホテル・宴会・レジャー",null,false,"★","ホテル・宴会・レジャー⑬",{"$f":"IF(COUNTIFS(G:G,G957)=1,\"\",\"■\")","v":""},{"$nulls":3},"",{"$nulls":1488},"ホテル・宴会・レジャー⑬"]
[null,null,"その他(下記記入)",null,false,"★","その他・ターゲット⑬","",{"$nulls":3},"",{"$nulls":1488},"その他・ターゲット⑬"]
[{"$nulls":5},{"$f":"IF(B959=\"\",\"★\",B959)","v":"★"},"その他・ターゲット・⑬","",{"$nulls":3},"",{"$nulls":1488},"その他・ターゲット・⑬"]
["対応",null,"業務用対応可能",null,false,{"$f":"IF(E960=TRUE,1,\"★\")","v":"★"},"業務用対応可能⑬","",{"$nulls":3},"",{"$nulls":1488},"業務用対応可能⑬"]
[null,null,"ギフト対応可能",null,false,"★","ギフト対応可能⑬","",{"$nulls":3},"",{"$nulls":1488},"ギフト対応可能⑬"]
["ターゲット(性別・年齢層等)",{"$nulls":4},{"$f":"IF(B962=\"\",\"★\",B962)","v":"★"},"ターゲット⑬","",{"$nulls":3},"",{"$nulls":1488},"ターゲット⑬"]
["利用シーン\n(利用方法・おすすめレシピ等)",{"$nulls":4},{"$f":"IF(B963=\"\",\"★\",B963)","v":"★"},"利用シーン⑬","",{"$nulls":3},"",{"$nulls":1488},"利用シーン⑬"]
["商品特徴",{"$nulls":4},{"$f":"IF(B964=\"\",\"★\",B964)","v":"★"},"商品特徴⑬","",{"$nulls":3},{"$f":"IF(F964=J964,\"\",IF(AND(F964=\"★\",J964=\"\"),\"\",IF(VALUE(F964)=VALUE(J964),\"\",\"●\")))","v":""},{"$nulls":1488},"商品特徴⑬"]
["アレルギー表示",null,"えび",null,false,{"$f":"IF(E965=TRUE,1,\"★\")","v":"★"},"えび⑬","",{"$nulls":3},"",{"$nulls":1488},"えび⑬"]
["(特定原材料)",null,"かに",null,false,"★","かに⑬","",{"$nulls":3},"",{"$nulls":1488},"かに⑬"]
["＊使用している項目に☑",null,"小麦",null,false,"★","小麦⑬","",{"$nulls":3},"",{"$nulls":1488},"小麦⑬"]
["表示義務有",null,"そば",null,false,"★","そば⑬","",{"$nulls":3},"",{"$nulls":1488},"そば⑬"]
[null,null,"卵",null,false,"★","卵⑬","",{"$nulls":3},"",{"$nulls":1488},"卵⑬"]
[null,null,"乳",null,false,"★","乳⑬","",{"$nulls":3},"",{"$nulls":1488},"乳⑬"]
[null,null,"落花生",null,false,"★","落花生⑬","",{"$nulls":3},"",{"$nulls":1488},"落花生⑬"]
["表示を推奨(任意表示)",null,"あわび",null,false,"★","あわび⑬","",{"$nulls":3},"",{"$nulls":1488},"あわび⑬"]
[null,null,"いか",null,false,"★","いか⑬","",{"$nulls":3},"",{"$nulls":1488},"いか⑬"]
[null,null,"いくら",null,false,"★","いくら⑬","",{"$nulls":3},"",{"$nulls":1488},"いくら⑬"]
[null,null,"オレンジ",null,false,"★","オレンジ⑬","",{"$nulls":3},"",{"$nulls":1488},"オレンジ⑬"]
[null,null,"カシューナッツ",null,false,"★","カシューナッツ⑬","",{"$nulls":3},"",{"$nulls":1488},"カシューナッツ⑬"]
[null,null,"キウイフルーツ",null,false,"★","キウイフルーツ⑬","",{"$nulls":3},"",{"$nulls":1488},"キウイフルーツ⑬"]
[null,null,"牛肉",null,false,"★","牛肉⑬","",{"$nulls":3},"",{"$nulls":1488},"牛肉⑬"]
[null,null,"くるみ",null,false,"★","くるみ⑬","",{"$nulls":3},"",{"$nulls":1488},"くるみ⑬"]
[null,null,"ごま",null,false,"★","ごま⑬","",{"$nulls":3},"",{"$nulls":1488},"ごま⑬"]
[null,null,"さけ",null,false,"★","さけ⑬","",{"$nulls":3},"",{"$nulls":1488},"さけ⑬"]
[null,null,"さば",null,false,"★","さば⑬","",{"$nulls":3},"",{"$nulls":1488},"さば⑬"]
[null,null,"大豆",null,false,"★","大豆⑬","",{"$nulls":3},"",{"$nulls":1488},"大豆⑬"]
[null,null,"鶏肉",null,false,"★","鶏肉⑬","",{"$nulls":3},"",{"$nulls":1488},"鶏肉⑬"]
[null,null,"バナナ",null,false,"★","バナナ⑬","",{"$nulls":3},"",{"$nulls":1488},"バナナ⑬"]
[null,null,"豚肉",null,false,"★","豚肉⑬","",{"$nulls":3},"",{"$nulls":1488},"豚肉⑬"]
[null,null,"まつたけ",null,false,"★","まつたけ⑬","",{"$nulls":3},"",{"$nulls":1488},"まつたけ⑬"]
[null,null,"もも",null,false,"★","もも⑬","",{"$nulls":3},"",{"$nulls":1488},"もも⑬"]
[null,null,"やまいも",null,false,"★","やまいも⑬",{"$f":"IF(COUNTIFS(G:G,G989)=1,\"\",\"■\")","v":""},{"$nulls":3},"",{"$nulls":1488},"やまいも⑬"]
[null,null,"りんご",null,false,"★","りんご⑬","",{"$nulls":3},"",{"$nulls":1488},"りんご⑬"]
[null,null,"ゼラチン",null,false,"★","ゼラチン⑬","",{"$nulls":3},"",{"$nulls":1488},"ゼラチン⑬"]
["備考\n(当商品以外にアレルゲンを扱って\nいる場合はその旨を記入)",{"$nulls":4},{"$f":"IF(B992=\"\",\"★\",B992)","v":"★"},"備考⑬","",{"$nulls":3},"",{"$nulls":1488},"備考⑬"]
["商品情報⑭　(提案・登録情報シートに商品の全体像がわかる画像と裏面ラベルのアップ画像を添付して下さい)",{"$nulls":10},"",{"$nulls":1488},0]
["商品名",{"$nulls":4},{"$f":"IF(B994=\"\",\"★\",B994)","v":"★"},"商品名⑭",{"$f":"IF(COUNTIFS(G:G,G994)=1,\"\",\"■\")","v":""},{"$nulls":3},"",{"$nulls":1488},"商品名⑭"]
["提供可能時期",{"$nulls":4},"★","提供可能時期⑭","",{"$nulls":3},"",{"$nulls":1488},"提供可能時期⑭"]
["主原料産地(漁獲場所等)",{"$nulls":4},"★","主原料産地⑭","",{"$nulls":3},"",{"$nulls":1488},"主原料産地⑭"]
["内容量",{"$nulls":4},"★","内容量⑭","",{"$nulls":3},"",{"$nulls":1488},"内容量⑭"]
["1ケースあたり入数",{"$nulls":4},"★","1ケースあたり⑭","",{"$nulls":3},"",{"$nulls":1488},"1ケースあたり⑭"]
["発注リードタイム",{"$nulls":4},"★","発注リードタイム⑭","",{"$nulls":3},"",{"$nulls":1488},"発注リードタイム⑭"]
["最大ケース納品単位\n(◎ケース/日　等単位も記載)",{"$nulls":4},"★","最大ケース⑭","",{"$nulls":3},"",{"$nulls":1488},"最大ケース⑭"]
["最小ケース納品単位\n(◎ケース/日　等単位も記載)",{"$nulls":4},"★","最小ケース⑭","",{"$nulls":3},"",{"$nulls":1488},"最小ケース⑭"]
["ケースサイズ縦 (cm)\n(数字のみ記入)",{"$nulls":4},"★","縦⑭","",{"$nulls":3},"",{"$nulls":1488},"縦⑭"]
["ケースサイズ横 (cm)\n(数字のみ記入)",{"$nulls":4},"★","横⑭","",{"$nulls":3},"",{"$nulls":1488},"横⑭"]
["ケースサイズ高さ (cm)\n(数字のみ記入)",{"$nulls":4},"★","高さ⑭","",{"$nulls":3},"",{"$nulls":1488},"高さ⑭"]
["ケース重量 (kg)\n(数字のみ記入)",{"$nulls":4},"★","重量⑭","",{"$nulls":3},"",{"$nulls":1488},"重量⑭"]
["賞味期限",{"$nulls":4},"★","賞味期限⑭","",{"$nulls":3},"",{"$nulls":1488},"賞味期限⑭"]
["消費期限",{"$nulls":4},"★","消費期限⑭","",{"$nulls":3},"",{"$nulls":1488},"消費期限⑭"]
["JANコード(13桁or8桁)\n(空白を入れずに数字のみ入力)",{"$nulls":4},"★","JANコード⑭","",{"$nulls":3},"",{"$nulls":1488},"JANコード⑭"]
["希望小売価格(円:税抜)\n(金額のみ入力)",{"$nulls":4},"★","希望小売⑭","",{"$nulls":3},"",{"$nulls":1488},"希望小売⑭"]
["仕切単価(円:税抜)\n(金額のみ入力)",{"$nulls":4},"★","仕切単価⑭","",{"$nulls":3},"",{"$nulls":1488},"仕切単価⑭"]
["(一つ選択)",null,"工場出し",null,false,{"$f":"IF(E1011=TRUE,1,\"★\")","v":"★"},"工場出し⑭","",{"$nulls":3},"",{"$nulls":1488},"工場出し⑭"]
[null,null,"関東向け",null,false,"★","関東向け⑭","",{"$nulls":3},"",{"$nulls":1488},"関東向け⑭"]
[null,null,"関西向け",null,false,"★","関西向け⑭","",{"$nulls":3},"",{"$nulls":1488},"関西向け⑭"]
["税率",null,"８％",null,false,{"$f":"IF(E1014=TRUE,1,\"★\")","v":"★"},"8%⑭","",{"$nulls":3},"",{"$nulls":1488},"8%⑭"]
[null,null,"１０％",null,false,"★","10%⑭","",{"$nulls":3},"",{"$nulls":1488},"10%⑭"]
["保存温度帯",null,"常温",null,false,"★","常温⑭","",{"$nulls":3},"",{"$nulls":1488},"常温⑭"]
[null,null,"冷蔵",null,false,"★","冷蔵⑭","",{"$nulls":3},"",{"$nulls":1488},"冷蔵⑭"]
[null,null,"冷凍",null,false,"★","冷凍⑭","",{"$nulls":3},"",{"$nulls":1488},"冷凍⑭"]
["ターゲット(売先)",null,"外食",null,false,"★","外食⑭","",{"$nulls":3},"",{"$nulls":1488},"外食⑭"]
[null,null,"中食",null,false,"★","中食⑭","",{"$nulls":3},"",{"$nulls":1488},"中食⑭"]
[null,null,"商社・卸売",null,false,"★","商社・卸売⑭","",{"$nulls":3},"",{"$nulls":1488},"商社・卸売⑭"]
[null,null,"メーカー",null,false,"★","メーカー⑭","",{"$nulls":3},"",{"$nulls":1488},"メーカー⑭"]
[null,null,"スーパーマーケット",null,false,"★","スーパーマーケット⑭","",{"$nulls":3},"",{"$nulls":1488},"スーパーマーケット⑭"]
[null,null,"百貨店",null,false,"★","百貨店⑭","",{"$nulls":3},"",{"$nulls":1488},"百貨店⑭"]
[null,null,"その他小売",null,false,"★","その他小売⑭","",{"$nulls":3},"",{"$nulls":1488},"その他小売⑭"]
[null,null,"ホテル・宴会・レジャー",null,false,"★","ホテル・宴会・レジャー⑭",{"$f":"IF(COUNTIFS(G:G,G1026)=1,\"\",\"■\")","v":""},{"$nulls":3},"",{"$nulls":1488},"ホテル・宴会・レジャー⑭"]
[null,null,"その他(下記記入)",null,false,"★","その他・ターゲット⑭","",{"$nulls":3},"",{"$nulls":1488},"その他・ターゲット⑭"]
[{"$nulls":5},{"$f":"IF(B1028=\"\",\"★\",B1028)","v":"★"},"その他・ターゲット・⑭","",{"$nulls":3},{"$f":"IF(F1028=J1028,\"\",IF(AND(F1028=\"★\",J1028=\"\"),\"\",IF(VALUE(F1028)=VALUE(J1028),\"\",\"●\")))","v":""},{"$nulls":1488},"その他・ターゲット・⑭"]
["対応",null,"業務用対応可能",null,false,{"$f":"IF(E1029=TRUE,1,\"★\")","v":"★"},"業務用対応可能⑭","",{"$nulls":3},"",{"$nulls":1488},"業務用対応可能⑭"]
[null,null,"ギフト対応可能",null,false,"★","ギフト対応可能⑭","",{"$nulls":3},"",{"$nulls":1488},"ギフト対応可能⑭"]
["ターゲット(性別・年齢層等)",{"$nulls":4},{"$f":"IF(B1031=\"\",\"★\",B1031)","v":"★"},"ターゲット⑭","",{"$nulls":3},"",{"$nulls":1488},"ターゲット⑭"]
["利用シーン\n(利用方法・おすすめレシピ等)",{"$nulls":4},{"$f":"IF(B1032=\"\",\"★\",B1032)","v":"★"},"利用シーン⑭","",{"$nulls":3},"",{"$nulls":1488},"利用シーン⑭"]
["商品特徴",{"$nulls":4},{"$f":"IF(B1033=\"\",\"★\",B1033)","v":"★"},"商品特徴⑭","",{"$nulls":3},"",{"$nulls":1488},"商品特徴⑭"]
["アレルギー表示",null,"えび",null,false,{"$f":"IF(E1034=TRUE,1,\"★\")","v":"★"},"えび⑭","",{"$nulls":3},"",{"$nulls":1488},"えび⑭"]
["(特定原材料)",null,"かに",null,false,"★","かに⑭","",{"$nulls":3},"",{"$nulls":1488},"かに⑭"]
["＊使用している項目に☑",null,"小麦",null,false,"★","小麦⑭","",{"$nulls":3},"",{"$nulls":1488},"小麦⑭"]
["表示義務有",null,"そば",null,false,"★","そば⑭","",{"$nulls":3},"",{"$nulls":1488},"そば⑭"]
[null,null,"卵",null,false,"★","卵⑭","",{"$nulls":3},"",{"$nulls":1488},"卵⑭"]
[null,null,"乳",null,false,"★","乳⑭","",{"$nulls":3},"",{"$nulls":1488},"乳⑭"]
[null,null,"落花生",null,false,"★","落花生⑭","",{"$nulls":3},"",{"$nulls":1488},"落花生⑭"]
["表示を推奨(任意表示)",null,"あわび",null,false,"★","あわび⑭","",{"$nulls":3},"",{"$nulls":1488},"あわび⑭"]
[null,null,"いか",null,false,"★","いか⑭","",{"$nulls":3},"",{"$nulls":1488},"いか⑭"]
[null,null,"いくら",null,false,"★","いくら⑭","",{"$nulls":3},"",{"$nulls":1488},"いくら⑭"]
[null,null,"オレンジ",null,false,"★","オレンジ⑭","",{"$nulls":3},"",{"$nulls":1488},"オレンジ⑭"]
[null,null,"カシューナッツ",null,false,"★","カシューナッツ⑭","",{"$nulls":3},"",{"$nulls":1488},"カシューナッツ⑭"]
[null,null,"キウイフルーツ",null,false,"★","キウイフルーツ⑭","",{"$nulls":3},"",{"$nulls":1488},"キウイフルーツ⑭"]
[null,null,"牛肉",null,false,"★","牛肉⑭","",{"$nulls":3},"",{"$nulls":1488},"牛肉⑭"]
[null,null,"くるみ",null,false,"★","くるみ⑭","",{"$nulls":3},"",{"$nulls":1488},"くるみ⑭"]
[null,null,"ごま",null,false,"★","ごま⑭","",{"$nulls":3},"",{"$nulls":1488},"ごま⑭"]
[null,null,"さけ",null,false,"★","さけ⑭","",{"$nulls":3},"",{"$nulls":1488},"さけ⑭"]
[null,null,"さば",null,false,"★","さば⑭","",{"$nulls":3},"",{"$nulls":1488},"さば⑭"]
[null,null,"大豆",null,false,"★","大豆⑭","",{"$nulls":3},"",{"$nulls":1488},"大豆⑭"]
[null,null,"鶏肉",null,false,"★","鶏肉⑭","",{"$nulls":3},"",{"$nulls":1488},"鶏肉⑭"]
[null,null,"バナナ",null,false,"★","バナナ⑭","",{"$nulls":3},"",{"$nulls":1488},"バナナ⑭"]
[null,null,"豚肉",null,false,"★","豚肉⑭","",{"$nulls":3},"",{"$nulls":1488},"豚肉⑭"]
[null,null,"まつたけ",null,false,"★","まつたけ⑭","",{"$nulls":3},"",{"$nulls":1488},"まつたけ⑭"]
[null,null,"もも",null,false,"★","もも⑭","",{"$nulls":3},"",{"$nulls":1488},"もも⑭"]
[null,null,"やまいも",null,false,"★","やまいも⑭",{"$f":"IF(COUNTIFS(G:G,G1058)=1,\"\",\"■\")","v":""},{"$nulls":3},"",{"$nulls":1488},"やまいも⑭"]
[null,null,"りんご",null,false,"★","りんご⑭","",{"$nulls":3},"",{"$nulls":1488},"りんご⑭"]
[null,null,"ゼラチン",null,false,"★","ゼラチン⑭","",{"$nulls":3},"",{"$nulls":1488},"ゼラチン⑭"]
["備考\n(当商品以外にアレルゲンを扱って\nいる場合はその旨を記入)",{"$nulls":4},{"$f":"IF(B1061=\"\",\"★\",B1061)","v":"★"},"備考⑭","",{"$nulls":3},"",{"$nulls":1488},"備考⑭"]
["商品情報⑮　(提案・登録情報シートに商品の全体像がわかる画像と裏面ラベルのアップ画像を添付して下さい)",{"$nulls":10},"",{"$nulls":1488},0]
["商品名",{"$nulls":4},{"$f":"IF(B1063=\"\",\"★\",B1063)","v":"★"},"商品名⑮",{"$f":"IF(COUNTIFS(G:G,G1063)=1,\"\",\"■\")","v":""},{"$nulls":3},"",{"$nulls":1488},"商品名⑮"]
["提供可能時期",{"$nulls":4},"★","提供可能時期⑮","",{"$nulls":3},"",{"$nulls":1488},"提供可能時期⑮"]
["主原料産地(漁獲場所等)",{"$nulls":4},"★","主原料産地⑮","",{"$nulls":3},"",{"$nulls":1488},"主原料産地⑮"]
["内容量",{"$nulls":4},"★","内容量⑮","",{"$nulls":3},"",{"$nulls":1488},"内容量⑮"]
["1ケースあたり入数",{"$nulls":4},"★","1ケースあたり⑮","",{"$nulls":3},"",{"$nulls":1488},"1ケースあたり⑮"]
["発注リードタイム",{"$nulls":4},"★","発注リードタイム⑮","",{"$nulls":3},"",{"$nulls":1488},"発注リードタイム⑮"]
["最大ケース納品単位\n(◎ケース/日　等単位も記載)",{"$nulls":4},"★","最大ケース⑮","",{"$nulls":3},"",{"$nulls":1488},"最大ケース⑮"]
["最小ケース納品単位\n(◎ケース/日　等単位も記載)",{"$nulls":4},"★","最小ケース⑮","",{"$nulls":3},"",{"$nulls":1488},"最小ケース⑮"]
["ケースサイズ縦 (cm)\n(数字のみ記入)",{"$nulls":4},"★","縦⑮","",{"$nulls":3},"",{"$nulls":1488},"縦⑮"]
["ケースサイズ横 (cm)\n(数字のみ記入)",{"$nulls":4},"★","横⑮","",{"$nulls":3},"",{"$nulls":1488},"横⑮"]
["ケースサイズ高さ (cm)\n(数字のみ記入)",{"$nulls":4},"★","高さ⑮","",{"$nulls":3},"",{"$nulls":1488},"高さ⑮"]
["ケース重量 (kg)\n(数字のみ記入)",{"$nulls":4},"★","重量⑮","",{"$nulls":3},"",{"$nulls":1488},"重量⑮"]
["賞味期限",{"$nulls":4},"★","賞味期限⑮","",{"$nulls":3},"",{"$nulls":1488},"賞味期限⑮"]
["消費期限",{"$nulls":4},"★","消費期限⑮","",{"$nulls":3},"",{"$nulls":1488},"消費期限⑮"]
["JANコード(13桁or8桁)\n(空白を入れずに数字のみ入力)",{"$nulls":4},"★","JANコード⑮","",{"$nulls":3},"",{"$nulls":1488},"JANコード⑮"]
["希望小売価格(円:税抜)\n(金額のみ入力)",{"$nulls":4},"★","希望小売⑮","",{"$nulls":3},"",{"$nulls":1488},"希望小売⑮"]
["仕切単価(円:税抜)\n(金額のみ入力)",{"$nulls":4},"★","仕切単価⑮","",{"$nulls":3},"",{"$nulls":1488},"仕切単価⑮"]
["(一つ選択)",null,"工場出し",null,false,{"$f":"IF(E1080=TRUE,1,\"★\")","v":"★"},"工場出し⑮","",{"$nulls":3},"",{"$nulls":1488},"工場出し⑮"]
[null,null,"関東向け",null,false,"★","関東向け⑮","",{"$nulls":3},"",{"$nulls":1488},"関東向け⑮"]
[null,null,"関西向け",null,false,"★","関西向け⑮","",{"$nulls":3},"",{"$nulls":1488},"関西向け⑮"]
["税率",null,"８％",null,false,{"$f":"IF(E1083=TRUE,1,\"★\")","v":"★"},"8%⑮","",{"$nulls":3},"",{"$nulls":1488},"8%⑮"]
[null,null,"１０％",null,false,"★","10%⑮","",{"$nulls":3},"",{"$nulls":1488},"10%⑮"]
["保存温度帯",null,"常温",null,false,"★","常温⑮","",{"$nulls":3},"",{"$nulls":1488},"常温⑮"]
[null,null,"冷蔵",null,false,"★","冷蔵⑮","",{"$nulls":3},"",{"$nulls":1488},"冷蔵⑮"]
[null,null,"冷凍",null,false,"★","冷凍⑮","",{"$nulls":3},"",{"$nulls":1488},"冷凍⑮"]
["ターゲット(売先)",null,"外食",null,false,"★","外食⑮","",{"$nulls":3},"",{"$nulls":1488},"外食⑮"]
[null,null,"中食",null,false,"★","中食⑮","",{"$nulls":3},"",{"$nulls":1488},"中食⑮"]
[null,null,"商社・卸売",null,false,"★","商社・卸売⑮","",{"$nulls":3},"",{"$nulls":1488},"商社・卸売⑮"]
[null,null,"メーカー",null,false,"★","メーカー⑮","",{"$nulls":3},"",{"$nulls":1488},"メーカー⑮"]
[null,null,"スーパーマーケット",null,false,"★","スーパーマーケット⑮","",{"$nulls":3},{"$f":"IF(F1092=J1092,\"\",IF(AND(F1092=\"★\",J1092=\"\"),\"\",IF(VALUE(F1092)=VALUE(J1092),\"\",\"●\")))","v":""},{"$nulls":1488},"スーパーマーケット⑮"]
[null,null,"百貨店",null,false,"★","百貨店⑮","",{"$nulls":3},"",{"$nulls":1488},"百貨店⑮"]
[null,null,"その他小売",null,false,"★","その他小売⑮","",{"$nulls":3},"",{"$nulls":1488},"その他小売⑮"]
[null,null,"ホテル・宴会・レジャー",null,false,"★","ホテル・宴会・レジャー⑮",{"$f":"IF(COUNTIFS(G:G,G1095)=1,\"\",\"■\")","v":""},{"$nulls":3},"",{"$nulls":1488},"ホテル・宴会・レジャー⑮"]
[null,null,"その他(下記記入)",null,false,"★","その他・ターゲット⑮","",{"$nulls":3},"",{"$nulls":1488},"その他・ターゲット⑮"]
[{"$nulls":5},{"$f":"IF(B1097=\"\",\"★\",B1097)","v":"★"},"その他・ターゲット・⑮","",{"$nulls":3},"",{"$nulls":1488},"その他・ターゲット・⑮"]
["対応",null,"業務用対応可能",null,false,{"$f":"IF(E1098=TRUE,1,\"★\")","v":"★"},"業務用対応可能⑮","",{"$nulls":3},"",{"$nulls":1488},"業務用対応可能⑮"]
[null,null,"ギフト対応可能",null,false,"★","ギフト対応可能⑮","",{"$nulls":3},"",{"$nulls":1488},"ギフト対応可能⑮"]
["ターゲット(性別・年齢層等)",{"$nulls":4},{"$f":"IF(B1100=\"\",\"★\",B1100)","v":"★"},"ターゲット⑮","",{"$nulls":3},"",{"$nulls":1488},"ターゲット⑮"]
["利用シーン\n(利用方法・おすすめレシピ等)",{"$nulls":4},{"$f":"IF(B1101=\"\",\"★\",B1101)","v":"★"},"利用シーン⑮","",{"$nulls":3},"",{"$nulls":1488},"利用シーン⑮"]
["商品特徴",{"$nulls":4},{"$f":"IF(B1102=\"\",\"★\",B1102)","v":"★"},"商品特徴⑮","",{"$nulls":3},"",{"$nulls":1488},"商品特徴⑮"]
["アレルギー表示",null,"えび",null,false,{"$f":"IF(E1103=TRUE,1,\"★\")","v":"★"},"えび⑮","",{"$nulls":3},"",{"$nulls":1488},"えび⑮"]
["(特定原材料)",null,"かに",null,false,"★","かに⑮","",{"$nulls":3},"",{"$nulls":1488},"かに⑮"]
["＊使用している項目に☑",null,"小麦",null,false,"★","小麦⑮","",{"$nulls":3},"",{"$nulls":1488},"小麦⑮"]
["表示義務有",null,"そば",null,false,"★","そば⑮","",{"$nulls":3},"",{"$nulls":1488},"そば⑮"]
[null,null,"卵",null,false,"★","卵⑮","",{"$nulls":3},"",{"$nulls":1488},"卵⑮"]
[null,null,"乳",null,false,"★","乳⑮","",{"$nulls":3},"",{"$nulls":1488},"乳⑮"]
[null,null,"落花生",null,false,"★","落花生⑮","",{"$nulls":3},"",{"$nulls":1488},"落花生⑮"]
["表示を推奨(任意表示)",null,"あわび",null,false,"★","あわび⑮","",{"$nulls":3},"",{"$nulls":1488},"あわび⑮"]
[null,null,"いか",null,false,"★","いか⑮","",{"$nulls":3},"",{"$nulls":1488},"いか⑮"]
[null,null,"いくら",null,false,"★","いくら⑮","",{"$nulls":3},"",{"$nulls":1488},"いくら⑮"]
[null,null,"オレンジ",null,false,"★","オレンジ⑮","",{"$nulls":3},"",{"$nulls":1488},"オレンジ⑮"]
[null,null,"カシューナッツ",null,false,"★","カシューナッツ⑮","",{"$nulls":3},"",{"$nulls":1488},"カシューナッツ⑮"]
[null,null,"キウイフルーツ",null,false,"★","キウイフルーツ⑮","",{"$nulls":3},"",{"$nulls":1488},"キウイフルーツ⑮"]
[null,null,"牛肉",null,false,"★","牛肉⑮","",{"$nulls":3},"",{"$nulls":1488},"牛肉⑮"]
[null,null,"くるみ",null,false,"★","くるみ⑮","",{"$nulls":3},"",{"$nulls":1488},"くるみ⑮"]
[null,null,"ごま",null,false,"★","ごま⑮","",{"$nulls":3},"",{"$nulls":1488},"ごま⑮"]
[null,null,"さけ",null,false,"★","さけ⑮","",{"$nulls":3},"",{"$nulls":1488},"さけ⑮"]
[null,null,"さば",null,false,"★","さば⑮","",{"$nulls":3},"",{"$nulls":1488},"さば⑮"]
[null,null,"大豆",null,false,"★","大豆⑮","",{"$nulls":3},"",{"$nulls":1488},"大豆⑮"]
[null,null,"鶏肉",null,false,"★","鶏肉⑮","",{"$nulls":3},"",{"$nulls":1488},"鶏肉⑮"]
[null,null,"バナナ",null,false,"★","バナナ⑮","",{"$nulls":3},"",{"$nulls":1488},"バナナ⑮"]
[null,null,"豚肉",null,false,"★","豚肉⑮","",{"$nulls":3},"",{"$nulls":1488},"豚肉⑮"]
[null,null,"まつたけ",null,false,"★","まつたけ⑮","",{"$nulls":3},"",{"$nulls":1488},"まつたけ⑮"]
[null,null,"もも",null,false,"★","もも⑮","",{"$nulls":3},"",{"$nulls":1488},"もも⑮"]
[null,null,"やまいも",null,false,"★","やまいも⑮",{"$f":"IF(COUNTIFS(G:G,G1127)=1,\"\",\"■\")","v":""},{"$nulls":3},"",{"$nulls":1488},"やまいも⑮"]
[null,null,"りんご",null,false,"★","りんご⑮","",{"$nulls":3},"",{"$nulls":1488},"りんご⑮"]
[null,null,"ゼラチン",null,false,"★","ゼラチン⑮","",{"$nulls":3},"",{"$nulls":1488},"ゼラチン⑮"]
["備考\n(当商品以外にアレルゲンを扱って\nいる場合はその旨を記入)",{"$nulls":4},{"$f":"IF(B1130=\"\",\"★\",B1130)","v":"★"},"備考⑮","",{"$nulls":3},"",{"$nulls":1488},"備考⑮"]
["商品情報⑯　(提案・登録情報シートに商品の全体像がわかる画像と裏面ラベルのアップ画像を添付して下さい)",{"$nulls":10},"",{"$nulls":1488},0]
["商品名",{"$nulls":4},{"$f":"IF(B1132=\"\",\"★\",B1132)","v":"★"},"商品名⑯",{"$f":"IF(COUNTIFS(G:G,G1132)=1,\"\",\"■\")","v":""},{"$nulls":3},"",{"$nulls":1488},"商品名⑯"]
["提供可能時期",{"$nulls":4},"★","提供可能時期⑯","",{"$nulls":3},"",{"$nulls":1488},"提供可能時期⑯"]
["主原料産地(漁獲場所等)",{"$nulls":4},"★","主原料産地⑯","",{"$nulls":3},"",{"$nulls":1488},"主原料産地⑯"]
["内容量",{"$nulls":4},"★","内容量⑯","",{"$nulls":3},"",{"$nulls":1488},"内容量⑯"]
["1ケースあたり入数",{"$nulls":4},"★","1ケースあたり⑯","",{"$nulls":3},"",{"$nulls":1488},"1ケースあたり⑯"]
["発注リードタイム",{"$nulls":4},"★","発注リードタイム⑯","",{"$nulls":3},"",{"$nulls":1488},"発注リードタイム⑯"]
["最大ケース納品単位\n(◎ケース/日　等単位も記載)",{"$nulls":4},"★","最大ケース⑯","",{"$nulls":3},"",{"$nulls":1488},"最大ケース⑯"]
["最小ケース納品単位\n(◎ケース/日　等単位も記載)",{"$nulls":4},"★","最小ケース⑯","",{"$nulls":3},"",{"$nulls":1488},"最小ケース⑯"]
["ケースサイズ縦 (cm)\n(数字のみ記入)",{"$nulls":4},"★","縦⑯","",{"$nulls":3},"",{"$nulls":1488},"縦⑯"]
["ケースサイズ横 (cm)\n(数字のみ記入)",{"$nulls":4},"★","横⑯","",{"$nulls":3},"",{"$nulls":1488},"横⑯"]
["ケースサイズ高さ (cm)\n(数字のみ記入)",{"$nulls":4},"★","高さ⑯","",{"$nulls":3},"",{"$nulls":1488},"高さ⑯"]
["ケース重量 (kg)\n(数字のみ記入)",{"$nulls":4},"★","重量⑯","",{"$nulls":3},"",{"$nulls":1488},"重量⑯"]
["賞味期限",{"$nulls":4},"★","賞味期限⑯","",{"$nulls":3},"",{"$nulls":1488},"賞味期限⑯"]
["消費期限",{"$nulls":4},"★","消費期限⑯","",{"$nulls":3},"",{"$nulls":1488},"消費期限⑯"]
["JANコード(13桁or8桁)\n(空白を入れずに数字のみ入力)",{"$nulls":4},"★","JANコード⑯","",{"$nulls":3},"",{"$nulls":1488},"JANコード⑯"]
["希望小売価格(円:税抜)\n(金額のみ入力)",{"$nulls":4},"★","希望小売⑯","",{"$nulls":3},"",{"$nulls":1488},"希望小売⑯"]
["仕切単価(円:税抜)\n(金額のみ入力)",{"$nulls":4},"★","仕切単価⑯","",{"$nulls":3},"",{"$nulls":1488},"仕切単価⑯"]
["(一つ選択)",null,"工場出し",null,false,{"$f":"IF(E1149=TRUE,1,\"★\")","v":"★"},"工場出し⑯","",{"$nulls":3},"",{"$nulls":1488},"工場出し⑯"]
[null,null,"関東向け",null,false,"★","関東向け⑯","",{"$nulls":3},"",{"$nulls":1488},"関東向け⑯"]
[null,null,"関西向け",null,false,"★","関西向け⑯","",{"$nulls":3},"",{"$nulls":1488},"関西向け⑯"]
["税率",null,"８％",null,false,{"$f":"IF(E1152=TRUE,1,\"★\")","v":"★"},"8%⑯","",{"$nulls":3},"",{"$nulls":1488},"8%⑯"]
[null,null,"１０％",null,false,"★","10%⑯","",{"$nulls":3},"",{"$nulls":1488},"10%⑯"]
["保存温度帯",null,"常温",null,false,"★","常温⑯","",{"$nulls":3},"",{"$nulls":1488},"常温⑯"]
[null,null,"冷蔵",null,false,"★","冷蔵⑯","",{"$nulls":3},"",{"$nulls":1488},"冷蔵⑯"]
[null,null,"冷凍",null,false,"★","冷凍⑯","",{"$nulls":3},{"$f":"IF(F1156=J1156,\"\",IF(AND(F1156=\"★\",J1156=\"\"),\"\",IF(VALUE(F1156)=VALUE(J1156),\"\",\"●\")))","v":""},{"$nulls":1488},"冷凍⑯"]
["ターゲット(売先)",null,"外食",null,false,"★","外食⑯","",{"$nulls":3},"",{"$nulls":1488},"外食⑯"]
[null,null,"中食",null,false,"★","中食⑯","",{"$nulls":3},"",{"$nulls":1488},"中食⑯"]
[null,null,"商社・卸売",null,false,"★","商社・卸売⑯","",{"$nulls":3},"",{"$nulls":1488},"商社・卸売⑯"]
[null,null,"メーカー",null,false,"★","メーカー⑯","",{"$nulls":3},"",{"$nulls":1488},"メーカー⑯"]
[null,null,"スーパーマーケット",null,false,"★","スーパーマーケット⑯","",{"$nulls":3},"",{"$nulls":1488},"スーパーマーケット⑯"]
[null,null,"百貨店",null,false,"★","百貨店⑯","",{"$nulls":3},"",{"$nulls":1488},"百貨店⑯"]
[null,null,"その他小売",null,false,"★","その他小売⑯","",{"$nulls":3},"",{"$nulls":1488},"その他小売⑯"]
[null,null,"ホテル・宴会・レジャー",null,false,"★","ホテル・宴会・レジャー⑯",{"$f":"IF(COUNTIFS(G:G,G1164)=1,\"\",\"■\")","v":""},{"$nulls":3},"",{"$nulls":1488},"ホテル・宴会・レジャー⑯"]
[null,null,"その他(下記記入)",null,false,"★","その他・ターゲット⑯","",{"$nulls":3},"",{"$nulls":1488},"その他・ターゲット⑯"]
[{"$nulls":5},{"$f":"IF(B1166=\"\",\"★\",B1166)","v":"★"},"その他・ターゲット・⑯","",{"$nulls":3},"",{"$nulls":1488},"その他・ターゲット・⑯"]
["対応",null,"業務用対応可能",null,false,{"$f":"IF(E1167=TRUE,1,\"★\")","v":"★"},"業務用対応可能⑯","",{"$nulls":3},"",{"$nulls":1488},"業務用対応可能⑯"]
[null,null,"ギフト対応可能",null,false,"★","ギフト対応可能⑯","",{"$nulls":3},"",{"$nulls":1488},"ギフト対応可能⑯"]
["ターゲット(性別・年齢層等)",{"$nulls":4},{"$f":"IF(B1169=\"\",\"★\",B1169)","v":"★"},"ターゲット⑯","",{"$nulls":3},"",{"$nulls":1488},"ターゲット⑯"]
["利用シーン\n(利用方法・おすすめレシピ等)",{"$nulls":4},{"$f":"IF(B1170=\"\",\"★\",B1170)","v":"★"},"利用シーン⑯","",{"$nulls":3},"",{"$nulls":1488},"利用シーン⑯"]
["商品特徴",{"$nulls":4},{"$f":"IF(B1171=\"\",\"★\",B1171)","v":"★"},"商品特徴⑯","",{"$nulls":3},"",{"$nulls":1488},"商品特徴⑯"]
["アレルギー表示",null,"えび",null,false,{"$f":"IF(E1172=TRUE,1,\"★\")","v":"★"},"えび⑯","",{"$nulls":3},"",{"$nulls":1488},"えび⑯"]
["(特定原材料)",null,"かに",null,false,"★","かに⑯","",{"$nulls":3},"",{"$nulls":1488},"かに⑯"]
["＊使用している項目に☑",null,"小麦",null,false,"★","小麦⑯","",{"$nulls":3},"",{"$nulls":1488},"小麦⑯"]
["表示義務有",null,"そば",null,false,"★","そば⑯","",{"$nulls":3},"",{"$nulls":1488},"そば⑯"]
[null,null,"卵",null,false,"★","卵⑯","",{"$nulls":3},"",{"$nulls":1488},"卵⑯"]
[null,null,"乳",null,false,"★","乳⑯","",{"$nulls":3},"",{"$nulls":1488},"乳⑯"]
[null,null,"落花生",null,false,"★","落花生⑯","",{"$nulls":3},"",{"$nulls":1488},"落花生⑯"]
["表示を推奨(任意表示)",null,"あわび",null,false,"★","あわび⑯","",{"$nulls":3},"",{"$nulls":1488},"あわび⑯"]
[null,null,"いか",null,false,"★","いか⑯","",{"$nulls":3},"",{"$nulls":1488},"いか⑯"]
[null,null,"いくら",null,false,"★","いくら⑯","",{"$nulls":3},"",{"$nulls":1488},"いくら⑯"]
[null,null,"オレンジ",null,false,"★","オレンジ⑯","",{"$nulls":3},"",{"$nulls":1488},"オレンジ⑯"]
[null,null,"カシューナッツ",null,false,"★","カシューナッツ⑯","",{"$nulls":3},"",{"$nulls":1488},"カシューナッツ⑯"]
[null,null,"キウイフルーツ",null,false,"★","キウイフルーツ⑯","",{"$nulls":3},"",{"$nulls":1488},"キウイフルーツ⑯"]
[null,null,"牛肉",null,false,"★","牛肉⑯","",{"$nulls":3},"",{"$nulls":1488},"牛肉⑯"]
[null,null,"くるみ",null,false,"★","くるみ⑯","",{"$nulls":3},"",{"$nulls":1488},"くるみ⑯"]
[null,null,"ごま",null,false,"★","ごま⑯","",{"$nulls":3},"",{"$nulls":1488},"ごま⑯"]
[null,null,"さけ",null,false,"★","さけ⑯","",{"$nulls":3},"",{"$nulls":1488},"さけ⑯"]
[null,null,"さば",null,false,"★","さば⑯","",{"$nulls":3},"",{"$nulls":1488},"さば⑯"]
[null,null,"大豆",null,false,"★","大豆⑯","",{"$nulls":3},"",{"$nulls":1488},"大豆⑯"]
[null,null,"鶏肉",null,false,"★","鶏肉⑯","",{"$nulls":3},"",{"$nulls":1488},"鶏肉⑯"]
[null,null,"バナナ",null,false,"★","バナナ⑯","",{"$nulls":3},"",{"$nulls":1488},"バナナ⑯"]
[null,null,"豚肉",null,false,"★","豚肉⑯","",{"$nulls":3},"",{"$nulls":1488},"豚肉⑯"]
[null,null,"まつたけ",null,false,"★","まつたけ⑯","",{"$nulls":3},"",{"$nulls":1488},"まつたけ⑯"]
[null,null,"もも",null,false,"★","もも⑯","",{"$nulls":3},"",{"$nulls":1488},"もも⑯"]
[null,null,"やまいも",null,false,"★","やまいも⑯",{"$f":"IF(COUNTIFS(G:G,G1196)=1,\"\",\"■\")","v":""},{"$nulls":3},"",{"$nulls":1488},"やまいも⑯"]
[null,null,"りんご",null,false,"★","りんご⑯","",{"$nulls":3},"",{"$nulls":1488},"りんご⑯"]
[null,null,"ゼラチン",null,false,"★","ゼラチン⑯","",{"$nulls":3},"",{"$nulls":1488},"ゼラチン⑯"]
["備考\n(当商品以外にアレルゲンを扱って\nいる場合はその旨を記入)",{"$nulls":4},{"$f":"IF(B1199=\"\",\"★\",B1199)","v":"★"},"備考⑯","",{"$nulls":3},"",{"$nulls":1488},"備考⑯"]
["商品情報⑰　(提案・登録情報シートに商品の全体像がわかる画像と裏面ラベルのアップ画像を添付して下さい)",{"$nulls":10},"",{"$nulls":1488},0]
["商品名",{"$nulls":4},{"$f":"IF(B1201=\"\",\"★\",B1201)","v":"★"},"商品名⑰",{"$f":"IF(COUNTIFS(G:G,G1201)=1,\"\",\"■\")","v":""},{"$nulls":3},"",{"$nulls":1488},"商品名⑰"]
["提供可能時期",{"$nulls":4},"★","提供可能時期⑰","",{"$nulls":3},"",{"$nulls":1488},"提供可能時期⑰"]
["主原料産地(漁獲場所等)",{"$nulls":4},"★","主原料産地⑰","",{"$nulls":3},"",{"$nulls":1488},"主原料産地⑰"]
["内容量",{"$nulls":4},"★","内容量⑰","",{"$nulls":3},"",{"$nulls":1488},"内容量⑰"]
["1ケースあたり入数",{"$nulls":4},"★","1ケースあたり⑰","",{"$nulls":3},"",{"$nulls":1488},"1ケースあたり⑰"]
["発注リードタイム",{"$nulls":4},"★","発注リードタイム⑰","",{"$nulls":3},"",{"$nulls":1488},"発注リードタイム⑰"]
["最大ケース納品単位\n(◎ケース/日　等単位も記載)",{"$nulls":4},"★","最大ケース⑰","",{"$nulls":3},"",{"$nulls":1488},"最大ケース⑰"]
["最小ケース納品単位\n(◎ケース/日　等単位も記載)",{"$nulls":4},"★","最小ケース⑰","",{"$nulls":3},"",{"$nulls":1488},"最小ケース⑰"]
["ケースサイズ縦 (cm)\n(数字のみ記入)",{"$nulls":4},"★","縦⑰","",{"$nulls":3},"",{"$nulls":1488},"縦⑰"]
["ケースサイズ横 (cm)\n(数字のみ記入)",{"$nulls":4},"★","横⑰","",{"$nulls":3},"",{"$nulls":1488},"横⑰"]
["ケースサイズ高さ (cm)\n(数字のみ記入)",{"$nulls":4},"★","高さ⑰","",{"$nulls":3},"",{"$nulls":1488},"高さ⑰"]
["ケース重量 (kg)\n(数字のみ記入)",{"$nulls":4},"★","重量⑰","",{"$nulls":3},"",{"$nulls":1488},"重量⑰"]
["賞味期限",{"$nulls":4},"★","賞味期限⑰","",{"$nulls":3},"",{"$nulls":1488},"賞味期限⑰"]
["消費期限",{"$nulls":4},"★","消費期限⑰","",{"$nulls":3},"",{"$nulls":1488},"消費期限⑰"]
["JANコード(13桁or8桁)\n(空白を入れずに数字のみ入力)",{"$nulls":4},"★","JANコード⑰","",{"$nulls":3},"",{"$nulls":1488},"JANコード⑰"]
["希望小売価格(円:税抜)\n(金額のみ入力)",{"$nulls":4},"★","希望小売⑰","",{"$nulls":3},"",{"$nulls":1488},"希望小売⑰"]
["仕切単価(円:税抜)\n(金額のみ入力)",{"$nulls":4},"★","仕切単価⑰","",{"$nulls":3},"",{"$nulls":1488},"仕切単価⑰"]
["(一つ選択)",null,"工場出し",null,false,{"$f":"IF(E1218=TRUE,1,\"★\")","v":"★"},"工場出し⑰","",{"$nulls":3},"",{"$nulls":1488},"工場出し⑰"]
[null,null,"関東向け",null,false,"★","関東向け⑰","",{"$nulls":3},"",{"$nulls":1488},"関東向け⑰"]
[null,null,"関西向け",null,false,"★","関西向け⑰","",{"$nulls":3},{"$f":"IF(F1220=J1220,\"\",IF(AND(F1220=\"★\",J1220=\"\"),\"\",IF(VALUE(F1220)=VALUE(J1220),\"\",\"●\")))","v":""},{"$nulls":1488},"関西向け⑰"]
["税率",null,"８％",null,false,{"$f":"IF(E1221=TRUE,1,\"★\")","v":"★"},"8%⑰","",{"$nulls":3},"",{"$nulls":1488},"8%⑰"]
[null,null,"１０％",null,false,"★","10%⑰","",{"$nulls":3},"",{"$nulls":1488},"10%⑰"]
["保存温度帯",null,"常温",null,false,"★","常温⑰","",{"$nulls":3},"",{"$nulls":1488},"常温⑰"]
[null,null,"冷蔵",null,false,"★","冷蔵⑰","",{"$nulls":3},"",{"$nulls":1488},"冷蔵⑰"]
[null,null,"冷凍",null,false,"★","冷凍⑰","",{"$nulls":3},"",{"$nulls":1488},"冷凍⑰"]
["ターゲット(売先)",null,"外食",null,false,"★","外食⑰","",{"$nulls":3},"",{"$nulls":1488},"外食⑰"]
[null,null,"中食",null,false,"★","中食⑰","",{"$nulls":3},"",{"$nulls":1488},"中食⑰"]
[null,null,"商社・卸売",null,false,"★","商社・卸売⑰","",{"$nulls":3},"",{"$nulls":1488},"商社・卸売⑰"]
[null,null,"メーカー",null,false,"★","メーカー⑰","",{"$nulls":3},"",{"$nulls":1488},"メーカー⑰"]
[null,null,"スーパーマーケット",null,false,"★","スーパーマーケット⑰","",{"$nulls":3},"",{"$nulls":1488},"スーパーマーケット⑰"]
[null,null,"百貨店",null,false,"★","百貨店⑰","",{"$nulls":3},"",{"$nulls":1488},"百貨店⑰"]
[null,null,"その他小売",null,false,"★","その他小売⑰","",{"$nulls":3},"",{"$nulls":1488},"その他小売⑰"]
[null,null,"ホテル・宴会・レジャー",null,false,"★","ホテル・宴会・レジャー⑰",{"$f":"IF(COUNTIFS(G:G,G1233)=1,\"\",\"■\")","v":""},{"$nulls":3},"",{"$nulls":1488},"ホテル・宴会・レジャー⑰"]
[null,null,"その他(下記記入)",null,false,"★","その他・ターゲット⑰","",{"$nulls":3},"",{"$nulls":1488},"その他・ターゲット⑰"]
[{"$nulls":5},{"$f":"IF(B1235=\"\",\"★\",B1235)","v":"★"},"その他・ターゲット・⑰","",{"$nulls":3},"",{"$nulls":1488},"その他・ターゲット・⑰"]
["対応",null,"業務用対応可能",null,false,{"$f":"IF(E1236=TRUE,1,\"★\")","v":"★"},"業務用対応可能⑰","",{"$nulls":3},"",{"$nulls":1488},"業務用対応可能⑰"]
[null,null,"ギフト対応可能",null,false,"★","ギフト対応可能⑰","",{"$nulls":3},"",{"$nulls":1488},"ギフト対応可能⑰"]
["ターゲット(性別・年齢層等)",{"$nulls":4},{"$f":"IF(B1238=\"\",\"★\",B1238)","v":"★"},"ターゲット⑰","",{"$nulls":3},"",{"$nulls":1488},"ターゲット⑰"]
["利用シーン\n(利用方法・おすすめレシピ等)",{"$nulls":4},{"$f":"IF(B1239=\"\",\"★\",B1239)","v":"★"},"利用シーン⑰","",{"$nulls":3},"",{"$nulls":1488},"利用シーン⑰"]
["商品特徴",{"$nulls":4},{"$f":"IF(B1240=\"\",\"★\",B1240)","v":"★"},"商品特徴⑰","",{"$nulls":3},"",{"$nulls":1488},"商品特徴⑰"]
["アレルギー表示",null,"えび",null,false,{"$f":"IF(E1241=TRUE,1,\"★\")","v":"★"},"えび⑰","",{"$nulls":3},"",{"$nulls":1488},"えび⑰"]
["(特定原材料)",null,"かに",null,false,"★","かに⑰","",{"$nulls":3},"",{"$nulls":1488},"かに⑰"]
["＊使用している項目に☑",null,"小麦",null,false,"★","小麦⑰","",{"$nulls":3},"",{"$nulls":1488},"小麦⑰"]
["表示義務有",null,"そば",null,false,"★","そば⑰","",{"$nulls":3},"",{"$nulls":1488},"そば⑰"]
[null,null,"卵",null,false,"★","卵⑰","",{"$nulls":3},"",{"$nulls":1488},"卵⑰"]
[null,null,"乳",null,false,"★","乳⑰","",{"$nulls":3},"",{"$nulls":1488},"乳⑰"]
[null,null,"落花生",null,false,"★","落花生⑰","",{"$nulls":3},"",{"$nulls":1488},"落花生⑰"]
["表示を推奨(任意表示)",null,"あわび",null,false,"★","あわび⑰","",{"$nulls":3},"",{"$nulls":1488},"あわび⑰"]
[null,null,"いか",null,false,"★","いか⑰","",{"$nulls":3},"",{"$nulls":1488},"いか⑰"]
[null,null,"いくら",null,false,"★","いくら⑰","",{"$nulls":3},"",{"$nulls":1488},"いくら⑰"]
[null,null,"オレンジ",null,false,"★","オレンジ⑰","",{"$nulls":3},"",{"$nulls":1488},"オレンジ⑰"]
[null,null,"カシューナッツ",null,false,"★","カシューナッツ⑰","",{"$nulls":3},"",{"$nulls":1488},"カシューナッツ⑰"]
[null,null,"キウイフルーツ",null,false,"★","キウイフルーツ⑰","",{"$nulls":3},"",{"$nulls":1488},"キウイフルーツ⑰"]
[null,null,"牛肉",null,false,"★","牛肉⑰","",{"$nulls":3},"",{"$nulls":1488},"牛肉⑰"]
[null,null,"くるみ",null,false,"★","くるみ⑰","",{"$nulls":3},"",{"$nulls":1488},"くるみ⑰"]
[null,null,"ごま",null,false,"★","ごま⑰","",{"$nulls":3},"",{"$nulls":1488},"ごま⑰"]
[null,null,"さけ",null,false,"★","さけ⑰","",{"$nulls":3},"",{"$nulls":1488},"さけ⑰"]
[null,null,"さば",null,false,"★","さば⑰","",{"$nulls":3},"",{"$nulls":1488},"さば⑰"]
[null,null,"大豆",null,false,"★","大豆⑰","",{"$nulls":3},"",{"$nulls":1488},"大豆⑰"]
[null,null,"鶏肉",null,false,"★","鶏肉⑰","",{"$nulls":3},"",{"$nulls":1488},"鶏肉⑰"]
[null,null,"バナナ",null,false,"★","バナナ⑰","",{"$nulls":3},"",{"$nulls":1488},"バナナ⑰"]
[null,null,"豚肉",null,false,"★","豚肉⑰","",{"$nulls":3},"",{"$nulls":1488},"豚肉⑰"]
[null,null,"まつたけ",null,false,"★","まつたけ⑰","",{"$nulls":3},"",{"$nulls":1488},"まつたけ⑰"]
[null,null,"もも",null,false,"★","もも⑰","",{"$nulls":3},"",{"$nulls":1488},"もも⑰"]
[null,null,"やまいも",null,false,"★","やまいも⑰",{"$f":"IF(COUNTIFS(G:G,G1265)=1,\"\",\"■\")","v":""},{"$nulls":3},"",{"$nulls":1488},"やまいも⑰"]
[null,null,"りんご",null,false,"★","りんご⑰","",{"$nulls":3},"",{"$nulls":1488},"りんご⑰"]
[null,null,"ゼラチン",null,false,"★","ゼラチン⑰","",{"$nulls":3},"",{"$nulls":1488},"ゼラチン⑰"]
["備考\n(当商品以外にアレルゲンを扱って\nいる場合はその旨を記入)",{"$nulls":4},{"$f":"IF(B1268=\"\",\"★\",B1268)","v":"★"},"備考⑰","",{"$nulls":3},"",{"$nulls":1488},"備考⑰"]
["商品情報⑱　(提案・登録情報シートに商品の全体像がわかる画像と裏面ラベルのアップ画像を添付して下さい)",{"$nulls":10},"",{"$nulls":1488},0]
["商品名",{"$nulls":4},{"$f":"IF(B1270=\"\",\"★\",B1270)","v":"★"},"商品名⑱",{"$f":"IF(COUNTIFS(G:G,G1270)=1,\"\",\"■\")","v":""},{"$nulls":3},"",{"$nulls":1488},"商品名⑱"]
["提供可能時期",{"$nulls":4},"★","提供可能時期⑱","",{"$nulls":3},"",{"$nulls":1488},"提供可能時期⑱"]
["主原料産地(漁獲場所等)",{"$nulls":4},"★","主原料産地⑱","",{"$nulls":3},"",{"$nulls":1488},"主原料産地⑱"]
["内容量",{"$nulls":4},"★","内容量⑱","",{"$nulls":3},"",{"$nulls":1488},"内容量⑱"]
["1ケースあたり入数",{"$nulls":4},"★","1ケースあたり⑱","",{"$nulls":3},"",{"$nulls":1488},"1ケースあたり⑱"]
["発注リードタイム",{"$nulls":4},"★","発注リードタイム⑱","",{"$nulls":3},"",{"$nulls":1488},"発注リードタイム⑱"]
["最大ケース納品単位\n(◎ケース/日　等単位も記載)",{"$nulls":4},"★","最大ケース⑱","",{"$nulls":3},"",{"$nulls":1488},"最大ケース⑱"]
["最小ケース納品単位\n(◎ケース/日　等単位も記載)",{"$nulls":4},"★","最小ケース⑱","",{"$nulls":3},"",{"$nulls":1488},"最小ケース⑱"]
["ケースサイズ縦 (cm)\n(数字のみ記入)",{"$nulls":4},"★","縦⑱","",{"$nulls":3},"",{"$nulls":1488},"縦⑱"]
["ケースサイズ横 (cm)\n(数字のみ記入)",{"$nulls":4},"★","横⑱","",{"$nulls":3},"",{"$nulls":1488},"横⑱"]
["ケースサイズ高さ (cm)\n(数字のみ記入)",{"$nulls":4},"★","高さ⑱","",{"$nulls":3},"",{"$nulls":1488},"高さ⑱"]
["ケース重量 (kg)\n(数字のみ記入)",{"$nulls":4},"★","重量⑱","",{"$nulls":3},"",{"$nulls":1488},"重量⑱"]
["賞味期限",{"$nulls":4},"★","賞味期限⑱","",{"$nulls":3},"",{"$nulls":1488},"賞味期限⑱"]
["消費期限",{"$nulls":4},"★","消費期限⑱","",{"$nulls":3},"",{"$nulls":1488},"消費期限⑱"]
["JANコード(13桁or8桁)\n(空白を入れずに数字のみ入力)",{"$nulls":4},"★","JANコード⑱","",{"$nulls":3},{"$f":"IF(F1284=J1284,\"\",IF(AND(F1284=\"★\",J1284=\"\"),\"\",IF(VALUE(F1284)=VALUE(J1284),\"\",\"●\")))","v":""},{"$nulls":1488},"JANコード⑱"]
["希望小売価格(円:税抜)\n(金額のみ入力)",{"$nulls":4},"★","希望小売⑱","",{"$nulls":3},"",{"$nulls":1488},"希望小売⑱"]
["仕切単価(円:税抜)\n(金額のみ入力)",{"$nulls":4},"★","仕切単価⑱","",{"$nulls":3},"",{"$nulls":1488},"仕切単価⑱"]
["(一つ選択)",null,"工場出し",null,false,{"$f":"IF(E1287=TRUE,1,\"★\")","v":"★"},"工場出し⑱","",{"$nulls":3},"",{"$nulls":1488},"工場出し⑱"]
[null,null,"関東向け",null,false,"★","関東向け⑱","",{"$nulls":3},"",{"$nulls":1488},"関東向け⑱"]
[null,null,"関西向け",null,false,"★","関西向け⑱","",{"$nulls":3},"",{"$nulls":1488},"関西向け⑱"]
["税率",null,"８％",null,false,{"$f":"IF(E1290=TRUE,1,\"★\")","v":"★"},"8%⑱","",{"$nulls":3},"",{"$nulls":1488},"8%⑱"]
[null,null,"１０％",null,false,"★","10%⑱","",{"$nulls":3},"",{"$nulls":1488},"10%⑱"]
["保存温度帯",null,"常温",null,false,"★","常温⑱","",{"$nulls":3},"",{"$nulls":1488},"常温⑱"]
[null,null,"冷蔵",null,false,"★","冷蔵⑱","",{"$nulls":3},"",{"$nulls":1488},"冷蔵⑱"]
[null,null,"冷凍",null,false,"★","冷凍⑱","",{"$nulls":3},"",{"$nulls":1488},"冷凍⑱"]
["ターゲット(売先)",null,"外食",null,false,"★","外食⑱","",{"$nulls":3},"",{"$nulls":1488},"外食⑱"]
[null,null,"中食",null,false,"★","中食⑱","",{"$nulls":3},"",{"$nulls":1488},"中食⑱"]
[null,null,"商社・卸売",null,false,"★","商社・卸売⑱","",{"$nulls":3},"",{"$nulls":1488},"商社・卸売⑱"]
[null,null,"メーカー",null,false,"★","メーカー⑱","",{"$nulls":3},"",{"$nulls":1488},"メーカー⑱"]
[null,null,"スーパーマーケット",null,false,"★","スーパーマーケット⑱","",{"$nulls":3},"",{"$nulls":1488},"スーパーマーケット⑱"]
[null,null,"百貨店",null,false,"★","百貨店⑱","",{"$nulls":3},"",{"$nulls":1488},"百貨店⑱"]
[null,null,"その他小売",null,false,"★","その他小売⑱","",{"$nulls":3},"",{"$nulls":1488},"その他小売⑱"]
[null,null,"ホテル・宴会・レジャー",null,false,"★","ホテル・宴会・レジャー⑱",{"$f":"IF(COUNTIFS(G:G,G1302)=1,\"\",\"■\")","v":""},{"$nulls":3},"",{"$nulls":1488},"ホテル・宴会・レジャー⑱"]
[null,null,"その他(下記記入)",null,false,"★","その他・ターゲット⑱","",{"$nulls":3},"",{"$nulls":1488},"その他・ターゲット⑱"]
[{"$nulls":5},{"$f":"IF(B1304=\"\",\"★\",B1304)","v":"★"},"その他・ターゲット・⑱","",{"$nulls":3},"",{"$nulls":1488},"その他・ターゲット・⑱"]
["対応",null,"業務用対応可能",null,false,{"$f":"IF(E1305=TRUE,1,\"★\")","v":"★"},"業務用対応可能⑱","",{"$nulls":3},"",{"$nulls":1488},"業務用対応可能⑱"]
[null,null,"ギフト対応可能",null,false,"★","ギフト対応可能⑱","",{"$nulls":3},"",{"$nulls":1488},"ギフト対応可能⑱"]
["ターゲット(性別・年齢層等)",{"$nulls":4},{"$f":"IF(B1307=\"\",\"★\",B1307)","v":"★"},"ターゲット⑱","",{"$nulls":3},"",{"$nulls":1488},"ターゲット⑱"]
["利用シーン\n(利用方法・おすすめレシピ等)",{"$nulls":4},{"$f":"IF(B1308=\"\",\"★\",B1308)","v":"★"},"利用シーン⑱","",{"$nulls":3},"",{"$nulls":1488},"利用シーン⑱"]
["商品特徴",{"$nulls":4},{"$f":"IF(B1309=\"\",\"★\",B1309)","v":"★"},"商品特徴⑱","",{"$nulls":3},"",{"$nulls":1488},"商品特徴⑱"]
["アレルギー表示",null,"えび",null,false,{"$f":"IF(E1310=TRUE,1,\"★\")","v":"★"},"えび⑱","",{"$nulls":3},"",{"$nulls":1488},"えび⑱"]
["(特定原材料)",null,"かに",null,false,"★","かに⑱","",{"$nulls":3},"",{"$nulls":1488},"かに⑱"]
["＊使用している項目に☑",null,"小麦",null,false,"★","小麦⑱","",{"$nulls":3},"",{"$nulls":1488},"小麦⑱"]
["表示義務有",null,"そば",null,false,"★","そば⑱","",{"$nulls":3},"",{"$nulls":1488},"そば⑱"]
[null,null,"卵",null,false,"★","卵⑱","",{"$nulls":3},"",{"$nulls":1488},"卵⑱"]
[null,null,"乳",null,false,"★","乳⑱","",{"$nulls":3},"",{"$nulls":1488},"乳⑱"]
[null,null,"落花生",null,false,"★","落花生⑱","",{"$nulls":3},"",{"$nulls":1488},"落花生⑱"]
["表示を推奨(任意表示)",null,"あわび",null,false,"★","あわび⑱","",{"$nulls":3},"",{"$nulls":1488},"あわび⑱"]
[null,null,"いか",null,false,"★","いか⑱","",{"$nulls":3},"",{"$nulls":1488},"いか⑱"]
[null,null,"いくら",null,false,"★","いくら⑱","",{"$nulls":3},"",{"$nulls":1488},"いくら⑱"]
[null,null,"オレンジ",null,false,"★","オレンジ⑱","",{"$nulls":3},"",{"$nulls":1488},"オレンジ⑱"]
[null,null,"カシューナッツ",null,false,"★","カシューナッツ⑱","",{"$nulls":3},"",{"$nulls":1488},"カシューナッツ⑱"]
[null,null,"キウイフルーツ",null,false,"★","キウイフルーツ⑱","",{"$nulls":3},"",{"$nulls":1488},"キウイフルーツ⑱"]
[null,null,"牛肉",null,false,"★","牛肉⑱","",{"$nulls":3},"",{"$nulls":1488},"牛肉⑱"]
[null,null,"くるみ",null,false,"★","くるみ⑱","",{"$nulls":3},"",{"$nulls":1488},"くるみ⑱"]
[null,null,"ごま",null,false,"★","ごま⑱","",{"$nulls":3},"",{"$nulls":1488},"ごま⑱"]
[null,null,"さけ",null,false,"★","さけ⑱","",{"$nulls":3},"",{"$nulls":1488},"さけ⑱"]
[null,null,"さば",null,false,"★","さば⑱","",{"$nulls":3},"",{"$nulls":1488},"さば⑱"]
[null,null,"大豆",null,false,"★","大豆⑱","",{"$nulls":3},"",{"$nulls":1488},"大豆⑱"]
[null,null,"鶏肉",null,false,"★","鶏肉⑱","",{"$nulls":3},"",{"$nulls":1488},"鶏肉⑱"]
[null,null,"バナナ",null,false,"★","バナナ⑱","",{"$nulls":3},"",{"$nulls":1488},"バナナ⑱"]
[null,null,"豚肉",null,false,"★","豚肉⑱","",{"$nulls":3},"",{"$nulls":1488},"豚肉⑱"]
[null,null,"まつたけ",null,false,"★","まつたけ⑱","",{"$nulls":3},"",{"$nulls":1488},"まつたけ⑱"]
[null,null,"もも",null,false,"★","もも⑱","",{"$nulls":3},"",{"$nulls":1488},"もも⑱"]
[null,null,"やまいも",null,false,"★","やまいも⑱",{"$f":"IF(COUNTIFS(G:G,G1334)=1,\"\",\"■\")","v":""},{"$nulls":3},"",{"$nulls":1488},"やまいも⑱"]
[null,null,"りんご",null,false,"★","りんご⑱","",{"$nulls":3},"",{"$nulls":1488},"りんご⑱"]
[null,null,"ゼラチン",null,false,"★","ゼラチン⑱","",{"$nulls":3},"",{"$nulls":1488},"ゼラチン⑱"]
["備考\n(当商品以外にアレルゲンを扱って\nいる場合はその旨を記入)",{"$nulls":4},{"$f":"IF(B1337=\"\",\"★\",B1337)","v":"★"},"備考⑱","",{"$nulls":3},"",{"$nulls":1488},"備考⑱"]
["商品情報⑲　(提案・登録情報シートに商品の全体像がわかる画像と裏面ラベルのアップ画像を添付して下さい)",{"$nulls":10},"",{"$nulls":1488},0]
["商品名",{"$nulls":4},{"$f":"IF(B1339=\"\",\"★\",B1339)","v":"★"},"商品名⑲",{"$f":"IF(COUNTIFS(G:G,G1339)=1,\"\",\"■\")","v":""},{"$nulls":3},"",{"$nulls":1488},"商品名⑲"]
["提供可能時期",{"$nulls":4},"★","提供可能時期⑲","",{"$nulls":3},"",{"$nulls":1488},"提供可能時期⑲"]
["主原料産地(漁獲場所等)",{"$nulls":4},"★","主原料産地⑲","",{"$nulls":3},"",{"$nulls":1488},"主原料産地⑲"]
["内容量",{"$nulls":4},"★","内容量⑲","",{"$nulls":3},"",{"$nulls":1488},"内容量⑲"]
["1ケースあたり入数",{"$nulls":4},"★","1ケースあたり⑲","",{"$nulls":3},"",{"$nulls":1488},"1ケースあたり⑲"]
["発注リードタイム",{"$nulls":4},"★","発注リードタイム⑲","",{"$nulls":3},"",{"$nulls":1488},"発注リードタイム⑲"]
["最大ケース納品単位\n(◎ケース/日　等単位も記載)",{"$nulls":4},"★","最大ケース⑲","",{"$nulls":3},"",{"$nulls":1488},"最大ケース⑲"]
["最小ケース納品単位\n(◎ケース/日　等単位も記載)",{"$nulls":4},"★","最小ケース⑲","",{"$nulls":3},"",{"$nulls":1488},"最小ケース⑲"]
["ケースサイズ縦 (cm)\n(数字のみ記入)",{"$nulls":4},"★","縦⑲","",{"$nulls":3},"",{"$nulls":1488},"縦⑲"]
["ケースサイズ横 (cm)\n(数字のみ記入)",{"$nulls":4},"★","横⑲","",{"$nulls":3},{"$f":"IF(F1348=J1348,\"\",IF(AND(F1348=\"★\",J1348=\"\"),\"\",IF(VALUE(F1348)=VALUE(J1348),\"\",\"●\")))","v":""},{"$nulls":1488},"横⑲"]
["ケースサイズ高さ (cm)\n(数字のみ記入)",{"$nulls":4},"★","高さ⑲","",{"$nulls":3},"",{"$nulls":1488},"高さ⑲"]
["ケース重量 (kg)\n(数字のみ記入)",{"$nulls":4},"★","重量⑲","",{"$nulls":3},"",{"$nulls":1488},"重量⑲"]
["賞味期限",{"$nulls":4},"★","賞味期限⑲","",{"$nulls":3},"",{"$nulls":1488},"賞味期限⑲"]
["消費期限",{"$nulls":4},"★","消費期限⑲","",{"$nulls":3},"",{"$nulls":1488},"消費期限⑲"]
["JANコード(13桁or8桁)\n(空白を入れずに数字のみ入力)",{"$nulls":4},"★","JANコード⑲","",{"$nulls":3},"",{"$nulls":1488},"JANコード⑲"]
["希望小売価格(円:税抜)\n(金額のみ入力)",{"$nulls":4},"★","希望小売⑲","",{"$nulls":3},"",{"$nulls":1488},"希望小売⑲"]
["仕切単価(円:税抜)\n(金額のみ入力)",{"$nulls":4},"★","仕切単価⑲","",{"$nulls":3},"",{"$nulls":1488},"仕切単価⑲"]
["(一つ選択)",null,"工場出し",null,false,{"$f":"IF(E1356=TRUE,1,\"★\")","v":"★"},"工場出し⑲","",{"$nulls":3},"",{"$nulls":1488},"工場出し⑲"]
[null,null,"関東向け",null,false,"★","関東向け⑲","",{"$nulls":3},"",{"$nulls":1488},"関東向け⑲"]
[null,null,"関西向け",null,false,"★","関西向け⑲","",{"$nulls":3},"",{"$nulls":1488},"関西向け⑲"]
["税率",null,"８％",null,false,{"$f":"IF(E1359=TRUE,1,\"★\")","v":"★"},"8%⑲","",{"$nulls":3},"",{"$nulls":1488},"8%⑲"]
[null,null,"１０％",null,false,"★","10%⑲","",{"$nulls":3},"",{"$nulls":1488},"10%⑲"]
["保存温度帯",null,"常温",null,false,"★","常温⑲","",{"$nulls":3},"",{"$nulls":1488},"常温⑲"]
[null,null,"冷蔵",null,false,"★","冷蔵⑲","",{"$nulls":3},"",{"$nulls":1488},"冷蔵⑲"]
[null,null,"冷凍",null,false,"★","冷凍⑲","",{"$nulls":3},"",{"$nulls":1488},"冷凍⑲"]
["ターゲット(売先)",null,"外食",null,false,"★","外食⑲","",{"$nulls":3},"",{"$nulls":1488},"外食⑲"]
[null,null,"中食",null,false,"★","中食⑲","",{"$nulls":3},"",{"$nulls":1488},"中食⑲"]
[null,null,"商社・卸売",null,false,"★","商社・卸売⑲","",{"$nulls":3},"",{"$nulls":1488},"商社・卸売⑲"]
[null,null,"メーカー",null,false,"★","メーカー⑲","",{"$nulls":3},"",{"$nulls":1488},"メーカー⑲"]
[null,null,"スーパーマーケット",null,false,"★","スーパーマーケット⑲","",{"$nulls":3},"",{"$nulls":1488},"スーパーマーケット⑲"]
[null,null,"百貨店",null,false,"★","百貨店⑲","",{"$nulls":3},"",{"$nulls":1488},"百貨店⑲"]
[null,null,"その他小売",null,false,"★","その他小売⑲","",{"$nulls":3},"",{"$nulls":1488},"その他小売⑲"]
[null,null,"ホテル・宴会・レジャー",null,false,"★","ホテル・宴会・レジャー⑲",{"$f":"IF(COUNTIFS(G:G,G1371)=1,\"\",\"■\")","v":""},{"$nulls":3},"",{"$nulls":1488},"ホテル・宴会・レジャー⑲"]
[null,null,"その他(下記記入)",null,false,"★","その他・ターゲット⑲","",{"$nulls":3},"",{"$nulls":1488},"その他・ターゲット⑲"]
[{"$nulls":5},{"$f":"IF(B1373=\"\",\"★\",B1373)","v":"★"},"その他・ターゲット・⑲","",{"$nulls":3},"",{"$nulls":1488},"その他・ターゲット・⑲"]
["対応",null,"業務用対応可能",null,false,{"$f":"IF(E1374=TRUE,1,\"★\")","v":"★"},"業務用対応可能⑲","",{"$nulls":3},"",{"$nulls":1488},"業務用対応可能⑲"]
[null,null,"ギフト対応可能",null,false,"★","ギフト対応可能⑲","",{"$nulls":3},"",{"$nulls":1488},"ギフト対応可能⑲"]
["ターゲット(性別・年齢層等)",{"$nulls":4},{"$f":"IF(B1376=\"\",\"★\",B1376)","v":"★"},"ターゲット⑲","",{"$nulls":3},"",{"$nulls":1488},"ターゲット⑲"]
["利用シーン\n(利用方法・おすすめレシピ等)",{"$nulls":4},{"$f":"IF(B1377=\"\",\"★\",B1377)","v":"★"},"利用シーン⑲","",{"$nulls":3},"",{"$nulls":1488},"利用シーン⑲"]
["商品特徴",{"$nulls":4},{"$f":"IF(B1378=\"\",\"★\",B1378)","v":"★"},"商品特徴⑲","",{"$nulls":3},"",{"$nulls":1488},"商品特徴⑲"]
["アレルギー表示",null,"えび",null,false,{"$f":"IF(E1379=TRUE,1,\"★\")","v":"★"},"えび⑲","",{"$nulls":3},"",{"$nulls":1488},"えび⑲"]
["(特定原材料)",null,"かに",null,false,"★","かに⑲","",{"$nulls":3},"",{"$nulls":1488},"かに⑲"]
["＊使用している項目に☑",null,"小麦",null,false,"★","小麦⑲","",{"$nulls":3},"",{"$nulls":1488},"小麦⑲"]
["表示義務有",null,"そば",null,false,"★","そば⑲","",{"$nulls":3},"",{"$nulls":1488},"そば⑲"]
[null,null,"卵",null,false,"★","卵⑲","",{"$nulls":3},"",{"$nulls":1488},"卵⑲"]
[null,null,"乳",null,false,"★","乳⑲","",{"$nulls":3},"",{"$nulls":1488},"乳⑲"]
[null,null,"落花生",null,false,"★","落花生⑲","",{"$nulls":3},"",{"$nulls":1488},"落花生⑲"]
["表示を推奨(任意表示)",null,"あわび",null,false,"★","あわび⑲","",{"$nulls":3},"",{"$nulls":1488},"あわび⑲"]
[null,null,"いか",null,false,"★","いか⑲","",{"$nulls":3},"",{"$nulls":1488},"いか⑲"]
[null,null,"いくら",null,false,"★","いくら⑲","",{"$nulls":3},"",{"$nulls":1488},"いくら⑲"]
[null,null,"オレンジ",null,false,"★","オレンジ⑲","",{"$nulls":3},"",{"$nulls":1488},"オレンジ⑲"]
[null,null,"カシューナッツ",null,false,"★","カシューナッツ⑲","",{"$nulls":3},"",{"$nulls":1488},"カシューナッツ⑲"]
[null,null,"キウイフルーツ",null,false,"★","キウイフルーツ⑲","",{"$nulls":3},"",{"$nulls":1488},"キウイフルーツ⑲"]
[null,null,"牛肉",null,false,"★","牛肉⑲","",{"$nulls":3},"",{"$nulls":1488},"牛肉⑲"]
[null,null,"くるみ",null,false,"★","くるみ⑲","",{"$nulls":3},"",{"$nulls":1488},"くるみ⑲"]
[null,null,"ごま",null,false,"★","ごま⑲","",{"$nulls":3},"",{"$nulls":1488},"ごま⑲"]
[null,null,"さけ",null,false,"★","さけ⑲","",{"$nulls":3},"",{"$nulls":1488},"さけ⑲"]
[null,null,"さば",null,false,"★","さば⑲","",{"$nulls":3},"",{"$nulls":1488},"さば⑲"]
[null,null,"大豆",null,false,"★","大豆⑲","",{"$nulls":3},"",{"$nulls":1488},"大豆⑲"]
[null,null,"鶏肉",null,false,"★","鶏肉⑲","",{"$nulls":3},"",{"$nulls":1488},"鶏肉⑲"]
[null,null,"バナナ",null,false,"★","バナナ⑲","",{"$nulls":3},"",{"$nulls":1488},"バナナ⑲"]
[null,null,"豚肉",null,false,"★","豚肉⑲","",{"$nulls":3},"",{"$nulls":1488},"豚肉⑲"]
[null,null,"まつたけ",null,false,"★","まつたけ⑲","",{"$nulls":3},"",{"$nulls":1488},"まつたけ⑲"]
[null,null,"もも",null,false,"★","もも⑲","",{"$nulls":3},"",{"$nulls":1488},"もも⑲"]
[null,null,"やまいも",null,false,"★","やまいも⑲",{"$f":"IF(COUNTIFS(G:G,G1403)=1,\"\",\"■\")","v":""},{"$nulls":3},"",{"$nulls":1488},"やまいも⑲"]
[null,null,"りんご",null,false,"★","りんご⑲","",{"$nulls":3},"",{"$nulls":1488},"りんご⑲"]
[null,null,"ゼラチン",null,false,"★","ゼラチン⑲","",{"$nulls":3},"",{"$nulls":1488},"ゼラチン⑲"]
["備考\n(当商品以外にアレルゲンを扱って\nいる場合はその旨を記入)",{"$nulls":4},{"$f":"IF(B1406=\"\",\"★\",B1406)","v":"★"},"備考⑲","",{"$nulls":3},"",{"$nulls":1488},"備考⑲"]
["商品情報⑳　(提案・登録情報シートに商品の全体像がわかる画像と裏面ラベルのアップ画像を添付して下さい)",{"$nulls":10},"",{"$nulls":1488},0]
["商品名",{"$nulls":4},{"$f":"IF(B1408=\"\",\"★\",B1408)","v":"★"},"商品名⑳",{"$f":"IF(COUNTIFS(G:G,G1408)=1,\"\",\"■\")","v":""},{"$nulls":3},"",{"$nulls":1488},"商品名⑳"]
["提供可能時期",{"$nulls":4},"★","提供可能時期⑳","",{"$nulls":3},"",{"$nulls":1488},"提供可能時期⑳"]
["主原料産地(漁獲場所等)",{"$nulls":4},"★","主原料産地⑳","",{"$nulls":3},"",{"$nulls":1488},"主原料産地⑳"]
["内容量",{"$nulls":4},"★","内容量⑳","",{"$nulls":3},"",{"$nulls":1488},"内容量⑳"]
["1ケースあたり入数",{"$nulls":4},"★","1ケースあたり⑳","",{"$nulls":3},{"$f":"IF(F1412=J1412,\"\",IF(AND(F1412=\"★\",J1412=\"\"),\"\",IF(VALUE(F1412)=VALUE(J1412),\"\",\"●\")))","v":""},{"$nulls":1488},"1ケースあたり⑳"]
["発注リードタイム",{"$nulls":4},"★","発注リードタイム⑳","",{"$nulls":3},"",{"$nulls":1488},"発注リードタイム⑳"]
["最大ケース納品単位\n(◎ケース/日　等単位も記載)",{"$nulls":4},"★","最大ケース⑳","",{"$nulls":3},"",{"$nulls":1488},"最大ケース⑳"]
["最小ケース納品単位\n(◎ケース/日　等単位も記載)",{"$nulls":4},"★","最小ケース⑳","",{"$nulls":3},"",{"$nulls":1488},"最小ケース⑳"]
["ケースサイズ縦 (cm)\n(数字のみ記入)",{"$nulls":4},"★","縦⑳","",{"$nulls":3},"",{"$nulls":1488},"縦⑳"]
["ケースサイズ横 (cm)\n(数字のみ記入)",{"$nulls":4},"★","横⑳","",{"$nulls":3},"",{"$nulls":1488},"横⑳"]
["ケースサイズ高さ (cm)\n(数字のみ記入)",{"$nulls":4},"★","高さ⑳","",{"$nulls":3},"",{"$nulls":1488},"高さ⑳"]
["ケース重量 (kg)\n(数字のみ記入)",{"$nulls":4},"★","重量⑳","",{"$nulls":3},"",{"$nulls":1488},"重量⑳"]
["賞味期限",{"$nulls":4},"★","賞味期限⑳","",{"$nulls":3},"",{"$nulls":1488},"賞味期限⑳"]
["消費期限",{"$nulls":4},"★","消費期限⑳","",{"$nulls":3},"",{"$nulls":1488},"消費期限⑳"]
["JANコード(13桁or8桁)\n(空白を入れずに数字のみ入力)",{"$nulls":4},"★","JANコード⑳","",{"$nulls":3},"",{"$nulls":1488},"JANコード⑳"]
["希望小売価格(円:税抜)\n(金額のみ入力)",{"$nulls":4},"★","希望小売⑳","",{"$nulls":3},"",{"$nulls":1488},"希望小売⑳"]
["仕切単価(円:税抜)\n(金額のみ入力)",{"$nulls":4},"★","仕切単価⑳","",{"$nulls":3},"",{"$nulls":1488},"仕切単価⑳"]
["(一つ選択)",null,"工場出し",null,false,{"$f":"IF(E1425=TRUE,1,\"★\")","v":"★"},"工場出し⑳","",{"$nulls":3},"",{"$nulls":1488},"工場出し⑳"]
[null,null,"関東向け",null,false,"★","関東向け⑳","",{"$nulls":3},"",{"$nulls":1488},"関東向け⑳"]
[null,null,"関西向け",null,false,"★","関西向け⑳","",{"$nulls":3},"",{"$nulls":1488},"関西向け⑳"]
["税率",null,"８％",null,false,{"$f":"IF(E1428=TRUE,1,\"★\")","v":"★"},"8%⑳","",{"$nulls":3},"",{"$nulls":1488},"8%⑳"]
[null,null,"１０％",null,false,"★","10%⑳","",{"$nulls":3},"",{"$nulls":1488},"10%⑳"]
["保存温度帯",null,"常温",null,false,"★","常温⑳","",{"$nulls":3},"",{"$nulls":1488},"常温⑳"]
[null,null,"冷蔵",null,false,"★","冷蔵⑳","",{"$nulls":3},"",{"$nulls":1488},"冷蔵⑳"]
[null,null,"冷凍",null,false,"★","冷凍⑳","",{"$nulls":3},"",{"$nulls":1488},"冷凍⑳"]
["ターゲット(売先)",null,"外食",null,false,"★","外食⑳","",{"$nulls":3},"",{"$nulls":1488},"外食⑳"]
[null,null,"中食",null,false,"★","中食⑳","",{"$nulls":3},"",{"$nulls":1488},"中食⑳"]
[null,null,"商社・卸売",null,false,"★","商社・卸売⑳","",{"$nulls":3},"",{"$nulls":1488},"商社・卸売⑳"]
[null,null,"メーカー",null,false,"★","メーカー⑳","",{"$nulls":3},"",{"$nulls":1488},"メーカー⑳"]
[null,null,"スーパーマーケット",null,false,"★","スーパーマーケット⑳","",{"$nulls":3},"",{"$nulls":1488},"スーパーマーケット⑳"]
[null,null,"百貨店",null,false,"★","百貨店⑳","",{"$nulls":3},"",{"$nulls":1488},"百貨店⑳"]
[null,null,"その他小売",null,false,"★","その他小売⑳","",{"$nulls":3},"",{"$nulls":1488},"その他小売⑳"]
[null,null,"ホテル・宴会・レジャー",null,false,"★","ホテル・宴会・レジャー⑳",{"$f":"IF(COUNTIFS(G:G,G1440)=1,\"\",\"■\")","v":""},{"$nulls":3},"",{"$nulls":1488},"ホテル・宴会・レジャー⑳"]
[null,null,"その他(下記記入)",null,false,"★","その他・ターゲット⑳","",{"$nulls":3},"",{"$nulls":1488},"その他・ターゲット⑳"]
[{"$nulls":5},{"$f":"IF(B1442=\"\",\"★\",B1442)","v":"★"},"その他・ターゲット・⑳","",{"$nulls":3},"",{"$nulls":1488},"その他・ターゲット・⑳"]
["対応",null,"業務用対応可能",null,false,{"$f":"IF(E1443=TRUE,1,\"★\")","v":"★"},"業務用対応可能⑳","",{"$nulls":3},"",{"$nulls":1488},"業務用対応可能⑳"]
[null,null,"ギフト対応可能",null,false,"★","ギフト対応可能⑳","",{"$nulls":3},"",{"$nulls":1488},"ギフト対応可能⑳"]
["ターゲット(性別・年齢層等)",{"$nulls":4},{"$f":"IF(B1445=\"\",\"★\",B1445)","v":"★"},"ターゲット⑳","",{"$nulls":3},"",{"$nulls":1488},"ターゲット⑳"]
["利用シーン\n(利用方法・おすすめレシピ等)",{"$nulls":4},{"$f":"IF(B1446=\"\",\"★\",B1446)","v":"★"},"利用シーン⑳","",{"$nulls":3},"",{"$nulls":1488},"利用シーン⑳"]
["商品特徴",{"$nulls":4},{"$f":"IF(B1447=\"\",\"★\",B1447)","v":"★"},"商品特徴⑳","",{"$nulls":3},"",{"$nulls":1488},"商品特徴⑳"]
["アレルギー表示",null,"えび",null,false,{"$f":"IF(E1448=TRUE,1,\"★\")","v":"★"},"えび⑳","",{"$nulls":3},"",{"$nulls":1488},"えび⑳"]
["(特定原材料)",null,"かに",null,false,"★","かに⑳","",{"$nulls":3},"",{"$nulls":1488},"かに⑳"]
["＊使用している項目に☑",null,"小麦",null,false,"★","小麦⑳","",{"$nulls":3},"",{"$nulls":1488},"小麦⑳"]
["表示義務有",null,"そば",null,false,"★","そば⑳","",{"$nulls":3},"",{"$nulls":1488},"そば⑳"]
[null,null,"卵",null,false,"★","卵⑳","",{"$nulls":3},"",{"$nulls":1488},"卵⑳"]
[null,null,"乳",null,false,"★","乳⑳","",{"$nulls":3},"",{"$nulls":1488},"乳⑳"]
[null,null,"落花生",null,false,"★","落花生⑳","",{"$nulls":3},"",{"$nulls":1488},"落花生⑳"]
["表示を推奨(任意表示)",null,"あわび",null,false,"★","あわび⑳","",{"$nulls":3},"",{"$nulls":1488},"あわび⑳"]
[null,null,"いか",null,false,"★","いか⑳","",{"$nulls":3},"",{"$nulls":1488},"いか⑳"]
[null,null,"いくら",null,false,"★","いくら⑳","",{"$nulls":3},"",{"$nulls":1488},"いくら⑳"]
[null,null,"オレンジ",null,false,"★","オレンジ⑳","",{"$nulls":3},"",{"$nulls":1488},"オレンジ⑳"]
[null,null,"カシューナッツ",null,false,"★","カシューナッツ⑳","",{"$nulls":3},"",{"$nulls":1488},"カシューナッツ⑳"]
[null,null,"キウイフルーツ",null,false,"★","キウイフルーツ⑳","",{"$nulls":3},"",{"$nulls":1488},"キウイフルーツ⑳"]
[null,null,"牛肉",null,false,"★","牛肉⑳","",{"$nulls":3},"",{"$nulls":1488},"牛肉⑳"]
[null,null,"くるみ",null,false,"★","くるみ⑳","",{"$nulls":3},"",{"$nulls":1488},"くるみ⑳"]
[null,null,"ごま",null,false,"★","ごま⑳","",{"$nulls":3},"",{"$nulls":1488},"ごま⑳"]
[null,null,"さけ",null,false,"★","さけ⑳","",{"$nulls":3},"",{"$nulls":1488},"さけ⑳"]
[null,null,"さば",null,false,"★","さば⑳","",{"$nulls":3},"",{"$nulls":1488},"さば⑳"]
[null,null,"大豆",null,false,"★","大豆⑳","",{"$nulls":3},"",{"$nulls":1488},"大豆⑳"]
[null,null,"鶏肉",null,false,"★","鶏肉⑳","",{"$nulls":3},"",{"$nulls":1488},"鶏肉⑳"]
[null,null,"バナナ",null,false,"★","バナナ⑳","",{"$nulls":3},"",{"$nulls":1488},"バナナ⑳"]
[null,null,"豚肉",null,false,"★","豚肉⑳","",{"$nulls":3},"",{"$nulls":1488},"豚肉⑳"]
[null,null,"まつたけ",null,false,"★","まつたけ⑳","",{"$nulls":3},"",{"$nulls":1488},"まつたけ⑳"]
[null,null,"もも",null,false,"★","もも⑳","",{"$nulls":3},"",{"$nulls":1488},"もも⑳"]
[null,null,"やまいも",null,false,"★","やまいも⑳",{"$f":"IF(COUNTIFS(G:G,G1472)=1,\"\",\"■\")","v":""},{"$nulls":3},"",{"$nulls":1488},"やまいも⑳"]
[null,null,"りんご",null,false,"★","りんご⑳","",{"$nulls":3},"",{"$nulls":1488},"りんご⑳"]
[null,null,"ゼラチン",null,false,"★","ゼラチン⑳","",{"$nulls":3},"",{"$nulls":1488},"ゼラチン⑳"]
["備考\n(当商品以外にアレルゲンを扱って\nいる場合はその旨を記入)",{"$nulls":4},{"$f":"IF(B1475=\"\",\"★\",B1475)","v":"★"},"備考⑳","",{"$nulls":3},"",{"$nulls":1488},"備考⑳"]

{"sheet":"商品提案シート","index":2,"n_rows":175,"n_cols":1628,"rows_kept":175,"merged":[[0,1,0,103],[2,9,2,16],[2,17,2,38],[2,42,2,96],[3,9,4,16],[3,17,4,38],[3,42,4,48],[3,49,4,69],[3,70,3,76],[3,77,3,96],[4,70,4,76],[4,77,4,96],[5,9,6,16],[5,17,6,38],[5,70,5,76],[5,77,5,96],[8,32,8,39],[9,1,10,2],[9,3,10,10],[9,11,10,24],[9,25,10,28],[9,29,10,32],[9,33,10,36],[9,37,10,40],[9,41,10,42],[9,43,10,46],[9,47,10,88],[9,89,9,94],[9,95,10,96],[9,97,10,100],[9,101,10,103],[10,89,10,90],[10,91,10,92],[10,93,10,94],[11,1,12,2],[11,3,12,10],[11,11,12,24],[11,25,12,28],[11,29,12,32],[11,33,11,36],[11,37,12,40],[11,41,12,42],[11,43,12,46],[11,47,12,88],[11,89,12,90],[11,91,12,92],[11,93,12,94],[11,95,12,96],[11,97,11,100],[11,101,12,103],[12,33,12,36],[12,97,12,100],[13,1,14,2],[13,3,14,10],[13,11,14,24],[13,25,14,28],[13,29,14,32],[13,33,13,36],[13,37,14,40],[13,41,14,42],[13,43,14,46],[13,47,14,88],[13,89,14,90],[13,91,14,92],[13,93,14,94],[13,95,14,96],[13,97,13,100],[13,101,14,103],[14,33,14,36],[14,97,14,100],[15,1,16,2],[15,3,16,10],[15,11,16,24],[15,25,16,28],[15,29,16,32],[15,33,15,36],[15,37,16,40],[15,41,16,42],[15,43,16,46],[15,47,16,88],[15,89,16,90],[15,91,16,92],[15,93,16,94],[15,95,16,96],[15,97,15,100],[15,101,16,103],[16,33,16,36],[16,97,16,100],[17,1,18,2],[17,3,18,10],[17,11,18,24],[17,25,18,28],[17,29,18,32],[17,33,17,36],[17,37,18,40],[17,41,18,42],[17,43,18,46],[17,47,18,88],[17,89,18,90],[17,91,18,92],[17,93,18,94],[17,95,18,96],[17,97,17,100],[17,101,18,103],[18,33,18,36],[18,97,18,100],[19,1,20,2],[19,3,20,10],[19,11,20,24],[19,25,20,28],[19,29,20,32],[19,33,19,36],[19,37,20,40],[19,41,20,42],[19,43,20,46],[19,47,20,88],[19,89,20,90],[19,91,20,92],[19,93,20,94],[19,95,20,96],[19,97,19,100],[19,101,20,103],[20,33,20,36],[20,97,20,100],[22,1,41,3],[22,4,31,5],[22,6,31,23],[22,24,31,25],[22,26,31,43],[22,44,31,45],[22,46,31,63],[22,64,31,65],[22,66,31,83],[22,84,31,85],[22,86,31,103],[32,4,41,5],[32,6,41,23],[32,24,41,25],[32,26,41,43],[32,44,41,45],[32,46,41,63],[32,64,41,65],[32,66,41,83],[32,84,41,85],[32,86,41,103],[43,1,43,103],[45,9,45,16],[45,17,45,38],[45,42,45,96],[46,9,47,16],[46,17,47,38],[46,42,47,48],[46,49,47,69],[46,70,46,76],[46,77,46,96],[47,70,47,76],[47,77,47,96],[48,9,49,16],[48,17,49,38],[48,70,48,76],[48,77,48,96],[51,32,51,39],[52,1,53,2],[52,3,53,10],[52,11,53,24],[52,25,53,28],[52,29,53,32],[52,33,53,36],[52,37,53,40],[52,41,53,42],[52,43,53,46],[52,47,53,88],[52,89,52,94],[52,95,53,96],[52,97,53,100],[52,101,53,103],[53,89,53,90],[53,91,53,92],[53,93,53,94],[54,1,55,2],[54,3,55,10],[54,11,55,24],[54,25,55,28],[54,29,55,32],[54,33,54,36],[54,37,55,40],[54,41,55,42],[54,43,55,46],[54,47,55,88],[54,89,55,90],[54,91,55,92],[54,93,55,94],[54,95,55,96],[54,97,54,100],[54,101,55,103],[55,33,55,36],[55,97,55,100],[56,1,57,2],[56,3,57,10],[56,11,57,24],[56,25,57,28],[56,29,57,32],[56,33,56,36],[56,37,57,40],[56,41,57,42],[56,43,57,46],[56,47,57,88],[56,89,57,90],[56,91,57,92],[56,93,57,94],[56,95,57,96],[56,97,56,100],[56,101,57,103],[57,33,57,36],[57,97,57,100],[58,1,59,2],[58,3,59,10],[58,11,59,24],[58,25,59,28],[58,29,59,32],[58,33,58,36],[58,37,59,40],[58,41,59,42],[58,43,59,46],[58,47,59,88],[58,89,59,90],[58,91,59,92],[58,93,59,94],[58,95,59,96],[58,97,58,100],[58,101,59,103],[59,33,59,36],[59,97,59,100],[60,1,61,2],[60,3,61,10],[60,11,61,24],[60,25,61,28],[60,29,61,32],[60,33,60,36],[60,37,61,40],[60,41,61,42],[60,43,61,46],[60,47,61,88],[60,89,61,90],[60,91,61,92],[60,93,61,94],[60,95,61,96],[60,97,60,100],[60,101,61,103],[61,33,61,36],[61,97,61,100],[62,1,63,2],[62,3,63,10],[62,11,63,24],[62,25,63,28],[62,29,63,32],[62,33,62,36],[62,37,63,40],[62,41,63,42],[62,43,63,46],[62,47,63,88],[62,89,63,90],[62,91,63,92],[62,93,63,94],[62,95,63,96],[62,97,62,100],[62,101,63,103],[63,33,63,36],[63,97,63,100],[65,1,84,3],[65,4,74,5],[65,6,74,23],[65,24,74,25],[65,26,74,43],[65,44,74,45],[65,46,74,63],[65,64,74,65],[65,66,74,83],[65,84,74,85],[65,86,74,103],[75,4,84,5],[75,6,84,23],[75,24,84,25],[75,26,84,43],[75,44,84,45],[75,46,84,63],[75,64,84,65],[75,66,84,83],[75,84,84,85],[75,86,84,103],[86,1,86,103],[88,9,88,16],[88,17,88,38],[88,42,88,96],[89,9,90,16],[89,17,90,38],[89,42,90,48],[89,49,90,69],[89,70,89,76],[89,77,89,96],[90,70,90,76],[90,77,90,96],[91,9,92,16],[91,17,92,38],[91,70,91,76],[91,77,91,96],[94,32,94,39],[95,1,96,2],[95,3,96,10],[95,11,96,24],[95,25,96,28],[95,29,96,32],[95,33,96,36],[95,37,96,40],[95,41,96,42],[95,43,96,46],[95,47,96,88],[95,89,95,94],[95,95,96,96],[95,97,96,100],[95,101,96,103],[96,89,96,90],[96,91,96,92],[96,93,96,94],[97,1,98,2],[97,3,98,10],[97,11,98,24],[97,25,98,28],[97,29,98,32],[97,33,97,36],[97,37,98,40],[97,41,98,42],[97,43,98,46],[97,47,98,88],[97,89,98,90],[97,91,98,92],[97,93,98,94],[97,95,98,96],[97,97,97,100],[97,101,98,103],[98,33,98,36],[98,97,98,100],[99,1,100,2],[99,3,100,10],[99,11,100,24],[99,25,100,28],[99,29,100,32],[99,33,99,36],[99,37,100,40],[99,41,100,42],[99,43,100,46],[99,47,100,88],[99,89,100,90],[99,91,100,92],[99,93,100,94],[99,95,100,96],[99,97,99,100],[99,101,100,103],[100,33,100,36],[100,97,100,100],[101,1,102,2],[101,3,102,10],[101,11,102,24],[101,25,102,28],[101,29,102,32],[101,33,101,36],[101,37,102,40],[101,41,102,42],[101,43,102,46],[101,47,102,88],[101,89,102,90],[101,91,102,92],[101,93,102,94],[101,95,102,96],[101,97,101,100],[101,101,102,103],[102,33,102,36],[102,97,102,100],[103,1,104,2],[103,3,104,10],[103,11,104,24],[103,25,104,28],[103,29,104,32],[103,33,103,36],[103,37,104,40],[103,41,104,42],[103,43,104,46],[103,47,104,88],[103,89,104,90],[103,91,104,92],[103,93,104,94],[103,95,104,96],[103,97,103,100],[103,101,104,103],[104,33,104,36],[104,97,104,100],[105,1,106,2],[105,3,106,10],[105,11,106,24],[105,25,106,28],[105,29,106,32],[105,33,105,36],[105,37,106,40],[105,41,106,42],[105,43,106,46],[105,47,106,88],[105,89,106,90],[105,91,106,92],[105,93,106,94],[105,95,106,96],[105,97,105,100],[105,101,106,103],[106,33,106,36],[106,97,106,100],[108,1,127,3],[108,4,117,5],[108,6,117,23],[108,24,117,25],[108,26,117,43],[108,44,117,45],[108,46,117,63],[108,64,117,65],[108,66,117,83],[108,84,117,85],[108,86,117,103],[118,4,127,5],[118,6,127,23],[118,24,127,25],[118,26,127,43],[118,44,127,45],[118,46,127,63],[118,64,127,65],[118,66,127,83],[118,84,127,85],[118,86,127,103],[129,1,129,103],[131,9,131,16],[131,17,131,38],[131,42,131,96],[132,9,133,16],[132,17,133,38],[132,42,133,48],[132,49,133,69],[132,70,132,76],[132,77,132,96],[133,70,133,76],[133,77,133,96],[134,9,135,16],[134,17,135,38],[134,70,134,76],[134,77,134,96],[137,32,137,39],[138,1,139,2],[138,3,139,10],[138,11,139,24],[138,25,139,28],[138,29,139,32],[138,33,139,36],[138,37,139,40],[138,41,139,42],[138,43,139,46],[138,47,139,88],[138,89,138,94],[138,95,139,96],[138,97,139,100],[138,101,139,103],[139,89,139,90],[139,91,139,92],[139,93,139,94],[140,1,141,2],[140,3,141,10],[140,11,141,24],[140,25,141,28],[140,29,141,32],[140,33,140,36],[140,37,141,40],[140,41,141,42],[140,43,141,46],[140,47,141,88],[140,89,141,90],[140,91,141,92],[140,93,141,94],[140,95,141,96],[140,97,140,100],[140,101,141,103],[141,33,141,36],[141,97,141,100],[142,1,143,2],[142,3,143,10],[142,11,143,24],[142,25,143,28],[142,29,143,32],[142,33,142,36],[142,37,143,40],[142,41,143,42],[142,43,143,46],[142,47,143,88],[142,89,143,90],[142,91,143,92],[142,93,143,94],[142,95,143,96],[142,97,142,100],[142,101,143,103],[143,33,143,36],[143,97,143,100],[144,1,145,2],[144,3,145,10],[144,11,145,24],[144,25,145,28],[144,29,145,32],[144,33,144,36],[144,37,145,40],[144,41,145,42],[144,43,145,46],[144,47,145,88],[144,89,145,90],[144,91,145,92],[144,93,145,94],[144,95,145,96],[144,97,144,100],[144,101,145,103],[145,33,145,36],[145,97,145,100],[146,1,147,2],[146,3,147,10],[146,11,147,24],[146,25,147,28],[146,29,147,32],[146,33,146,36],[146,37,147,40],[146,41,147,42],[146,43,147,46],[146,47,147,88],[146,89,147,90],[146,91,147,92],[146,93,147,94],[146,95,147,96],[146,97,146,100],[146,101,147,103],[147,33,147,36],[147,97,147,100],[148,1,149,2],[148,3,149,10],[148,11,149,24],[148,25,149,28],[148,29,149,32],[148,33,148,36],[148,37,149,40],[148,41,149,42],[148,43,149,46],[148,47,149,88],[148,89,149,90],[148,91,149,92],[148,93,149,94],[148,95,149,96],[148,97,148,100],[148,101,149,103],[149,33,149,36],[149,97,149,100],[151,1,170,3],[151,4,160,5],[151,6,160,23],[151,24,160,25],[151,26,160,43],[151,44,160,45],[151,46,160,63],[151,64,160,65],[151,66,160,83],[151,84,160,85],[151,86,160,103],[161,4,170,5],[161,6,170,23],[161,24,170,25],[161,26,170,43],[161,44,170,45],[161,46,170,63],[161,64,170,65],[161,66,170,83],[161,84,170,85],[161,86,170,103]]}
[null,"商品提案シート"]
[]
[{"$nulls":9},"ふりがな",{"$nulls":7},{"$f":"CONCATENATE($DH$3)","v":""},{"$nulls":24},"担当者連絡先",{"$nulls":67},"会社名等(フリガナ)",{"$f":"IFERROR(IF(INDEX($EP$174:$BJP$174,1,MATCH(DG3,$EP$173:$BJP$173,0))=\"★\",\"\",INDEX($EP$174:$BJP$174,1,MATCH(DG3,$EP$173:$BJP$173,0))),\"\")","v":""}]
[{"$nulls":9},"企業名",{"$nulls":7},{"$f":"CONCATENATE($DH$4)","v":""},{"$nulls":24},"担当者氏名",{"$nulls":6},{"$f":"CONCATENATE($DJ$6)","v":""},{"$nulls":20},"TEL",{"$nulls":6},{"$f":"CONCATENATE($DL$4)","v":""},{"$nulls":32},"会社名等",{"$f":"IFERROR(IF(INDEX($EP$174:$BJP$174,1,MATCH(DG4,$EP$173:$BJP$173,0))=\"★\",\"\",INDEX($EP$174:$BJP$174,1,MATCH(DG4,$EP$173:$BJP$173,0))),\"\")","v":""},null,null,"会社TEL",{"$f":"IFERROR(IF(INDEX($EP$174:$BJP$174,1,MATCH(DK4,$EP$173:$BJP$173,0))=\"★\",\"\",INDEX($EP$174:$BJP$174,1,MATCH(DK4,$EP$173:$BJP$173,0))),\"\")","v":""}]
[{"$nulls":70},"FAX",{"$nulls":6},{"$f":"CONCATENATE($DL$5)","v":""},{"$nulls":36},"会社FAX",{"$f":"IFERROR(IF(INDEX($EP$174:$BJP$174,1,MATCH(DK5,$EP$173:$BJP$173,0))=\"★\",\"\",INDEX($EP$174:$BJP$174,1,MATCH(DK5,$EP$173:$BJP$173,0))),\"\")","v":""}]
[{"$nulls":9},"代表者氏名",{"$nulls":7},{"$f":"CONCATENATE($DH$6)","v":""},{"$nulls":52},"E-mail",{"$nulls":6},{"$f":"CONCATENATE($DL$6)","v":""},{"$nulls":32},"代表者氏名",{"$f":"IFERROR(IF(INDEX($EP$174:$BJP$174,1,MATCH(DG6,$EP$173:$BJP$173,0))=\"★\",\"\",INDEX($EP$174:$BJP$174,1,MATCH(DG6,$EP$173:$BJP$173,0))),\"\")","v":""},"担当者氏名",{"$f":"IFERROR(IF(INDEX($EP$174:$BJP$174,1,MATCH(DI6,$EP$173:$BJP$173,0))=\"★\",\"\",INDEX($EP$174:$BJP$174,1,MATCH(DI6,$EP$173:$BJP$173,0))),\"\")","v":""},"会社Email",{"$f":"IFERROR(IF(INDEX($EP$174:$BJP$174,1,MATCH(DK6,$EP$173:$BJP$173,0))=\"★\",\"\",INDEX($EP$174:$BJP$174,1,MATCH(DK6,$EP$173:$BJP$173,0))),\"\")","v":""}]
[]
[]
[{"$nulls":32},"【税抜】"]
[{"$nulls":3},"JANコード",{"$nulls":7},"商品名",{"$nulls":13},"規格",{"$nulls":3},"ｹｰｽ\n入数",{"$nulls":3},"納入価格\n(円)",{"$nulls":3},"希望小売\n価格(円)",{"$nulls":3},"税率\n(％)",null,"リードタイム",{"$nulls":3},"商品説明",{"$nulls":41},"ｹｰｽｻｲｽﾞ(cm)",{"$nulls":5},"ｹｰｽ\n重量\n(kg)",null,"賞味期限\n消費期限",{"$nulls":3},"管理\n温度帯",{"$nulls":15},8,10]
[{"$nulls":89},"横",null,"奥行",null,"高さ",{"$nulls":13},"商品名","発注リードタイム","1ケースあたり","内容量","縦","横","高さ","賞味期限","消費期限","JANコード","希望小売","仕切単価","8%","10%","常温","冷蔵","冷凍","商品特徴","重量","工場出し","関東向け","関西向け",null,"税率","管理","希望小売","仕切単価","JANコード","仕切り"]
[null,{"$f":"DC12","v":"①"},null,{"$f":"CONCATENATE(EE12)","v":""},{"$nulls":7},{"$f":"CONCATENATE(DD12)","v":""},{"$nulls":13},{"$f":"CONCATENATE(DG12)","v":""},{"$nulls":3},{"$f":"CONCATENATE(DF12)","v":""},{"$nulls":3},{"$f":"(ED12)","v":""},{"$nulls":3},{"$f":"(EC12)","v":""},{"$nulls":3},{"$f":"CONCATENATE(EA12)","v":""},null,{"$f":"ASC(CONCATENATE(DE12))","v":""},{"$nulls":3},{"$f":"CONCATENATE(DU12)","v":""},{"$nulls":41},{"$f":"ASC(CONCATENATE(DH12))","v":""},null,{"$f":"ASC(CONCATENATE(DI12))","v":""},null,{"$f":"ASC(CONCATENATE(DJ12))","v":""},null,{"$f":"ASC(CONCATENATE(DV12))","v":""},null,{"$f":"IF(DD12=\"\",\"\",IF(OR(DK12=\"\",DK12=\"－\",DK12=\"-\"),\"－\",ASC(CONCATENATE(DK12))))","v":""},{"$nulls":3},{"$f":"CONCATENATE(EB12)","v":""},{"$nulls":4},"①",{"$f":"IFERROR(IF(INDEX($EP$174:$BJP$174,1,MATCH(DD$11&$DC12,$EP$173:$BJP$173,0))=\"★\",\"\",INDEX($EP$174:$BJP$174,1,MATCH(DD$11&$DC12,$EP$173:$BJP$173,0))),\"\")","v":""},"","","","","","","","","","","","","","","","","","",{"$f":"IFERROR(IF(INDEX($EP$174:$BJP$174,1,MATCH(DW$11&$DC12,$EP$173:$BJP$173,0))=\"★\",\"\",INDEX($EP$174:$BJP$174,1,MATCH(DW$11&$DC12,$EP$173:$BJP$173,0))),\"\")","v":""},"","",null,{"$f":"IF(DP12=\"\",\"\",$DN$10)&IF(DQ12=\"\",\"\",$DO$10)","v":""},{"$f":"IF(DR12=\"\",\"\",$DR$11)&IF(SUM(DR12:DS12)=1,IF(DS12=\"\",\"\",$DS$11),IF(DS12=\"\",\"\",CHAR(10)&$DS$11))&IF(SUM(DR12:DT12)=1,IF(DT12=\"\",\"\",$DT$11),IF(DT12=\"\",\"\",CHAR(10)&$DT$11))","v":""},{"$f":"IF(DN12=\"\",\"\",IF(ISERROR(VALUE(SUBSTITUTE(DN12,\"円\",\"\"))),ASC(SUBSTITUTE(DN12,\"円\",\"\")),VALUE(ASC(SUBSTITUTE(DN12,\"円\",\"\")))))","v":""},{"$f":"IF(DO12=\"\",\"\",IF(ISERROR(VALUE(SUBSTITUTE(DO12,\"円\",\"\"))),ASC(SUBSTITUTE(DO12,\"円\",\"\")),VALUE(ASC(SUBSTITUTE(DO12,\"円\",\"\")))))","v":""},{"$f":"IF(DM12=\"\",\"\",SUBSTITUTE(SUBSTITUTE(DM12,\" \",\"\"),\"　\",\"\"))","v":""},{"$f":"IF(SUM(DW12:DY12)=0,\"\",IF(DW12=\"\",\"\",$DW$11)&IF(DX12=\"\",\"\",IF(DW12=\"\",$DX$11,CHAR(10)&$DX$11))&IF(DY12=\"\",\"\",IF(AND(DW12=\"\",DX12=\"\"),$DY$11,CHAR(10)&$DY$11)))","v":""}]
[{"$nulls":33},{"$f":"EF12","v":""},{"$nulls":63},{"$f":"IF(DD12=\"\",\"\",IF(OR(DL12=\"\",DL12=\"－\",DL12=\"-\"),\"－\",ASC(CONCATENATE(DL12))))","v":""}]
[null,{"$f":"DC14","v":"②"},null,{"$f":"CONCATENATE(EE14)","v":""},{"$nulls":7},{"$f":"CONCATENATE(DD14)","v":""},{"$nulls":13},{"$f":"CONCATENATE(DG14)","v":""},{"$nulls":3},{"$f":"CONCATENATE(DF14)","v":""},{"$nulls":3},{"$f":"(ED14)","v":""},{"$nulls":3},{"$f":"(EC14)","v":""},{"$nulls":3},{"$f":"CONCATENATE(EA14)","v":""},null,{"$f":"ASC(CONCATENATE(DE14))","v":""},{"$nulls":3},{"$f":"CONCATENATE(DU14)","v":""},{"$nulls":41},{"$f":"ASC(CONCATENATE(DH14))","v":""},null,{"$f":"ASC(CONCATENATE(DI14))","v":""},null,{"$f":"ASC(CONCATENATE(DJ14))","v":""},null,{"$f":"ASC(CONCATENATE(DV14))","v":""},null,{"$f":"IF(DD14=\"\",\"\",IF(OR(DK14=\"\",DK14=\"－\",DK14=\"-\"),\"－\",ASC(CONCATENATE(DK14))))","v":""},{"$nulls":3},{"$f":"CONCATENATE(EB14)","v":""},{"$nulls":4},"②",{"$f":"IFERROR(IF(INDEX($EP$174:$BJP$174,1,MATCH(DD$11&$DC14,$EP$173:$BJP$173,0))=\"★\",\"\",INDEX($EP$174:$BJP$174,1,MATCH(DD$11&$DC14,$EP$173:$BJP$173,0))),\"\")","v":""},"","","","","","","","","","","","","","","","","","","","","",null,{"$f":"IF(DP14=\"\",\"\",$DN$10)&IF(DQ14=\"\",\"\",$DO$10)","v":""},{"$f":"IF(DR14=\"\",\"\",$DR$11)&IF(SUM(DR14:DS14)=1,IF(DS14=\"\",\"\",$DS$11),IF(DS14=\"\",\"\",CHAR(10)&$DS$11))&IF(SUM(DR14:DT14)=1,IF(DT14=\"\",\"\",$DT$11),IF(DT14=\"\",\"\",CHAR(10)&$DT$11))","v":""},{"$f":"IF(DN14=\"\",\"\",IF(ISERROR(VALUE(SUBSTITUTE(DN14,\"円\",\"\"))),ASC(SUBSTITUTE(DN14,\"円\",\"\")),VALUE(ASC(SUBSTITUTE(DN14,\"円\",\"\")))))","v":""},{"$f":"IF(DO14=\"\",\"\",IF(ISERROR(VALUE(SUBSTITUTE(DO14,\"円\",\"\"))),ASC(SUBSTITUTE(DO14,\"円\",\"\")),VALUE(ASC(SUBSTITUTE(DO14,\"円\",\"\")))))","v":""},{"$f":"IF(DM14=\"\",\"\",SUBSTITUTE(SUBSTITUTE(DM14,\" \",\"\"),\"　\",\"\"))","v":""},{"$f":"IF(SUM(DW14:DY14)=0,\"\",IF(DW14=\"\",\"\",$DW$11)&IF(DX14=\"\",\"\",IF(DW14=\"\",$DX$11,CHAR(10)&$DX$11))&IF(DY14=\"\",\"\",IF(AND(DW14=\"\",DX14=\"\"),$DY$11,CHAR(10)&$DY$11)))","v":""}]
[{"$nulls":33},{"$f":"EF14","v":""},{"$nulls":63},{"$f":"IF(DD14=\"\",\"\",IF(OR(DL14=\"\",DL14=\"－\",DL14=\"-\"),\"－\",ASC(CONCATENATE(DL14))))","v":""}]
[null,{"$f":"DC16","v":"③"},null,{"$f":"CONCATENATE(EE16)","v":""},{"$nulls":7},{"$f":"CONCATENATE(DD16)","v":""},{"$nulls":13},{"$f":"CONCATENATE(DG16)","v":""},{"$nulls":3},{"$f":"CONCATENATE(DF16)","v":""},{"$nulls":3},{"$f":"(ED16)","v":""},{"$nulls":3},{"$f":"(EC16)","v":""},{"$nulls":3},{"$f":"CONCATENATE(EA16)","v":""},null,{"$f":"ASC(CONCATENATE(DE16))","v":""},{"$nulls":3},{"$f":"CONCATENATE(DU16)","v":""},{"$nulls":41},{"$f":"ASC(CONCATENATE(DH16))","v":""},null,{"$f":"ASC(CONCATENATE(DI16))","v":""},null,{"$f":"ASC(CONCATENATE(DJ16))","v":""},null,{"$f":"ASC(CONCATENATE(DV16))","v":""},null,{"$f":"IF(DD16=\"\",\"\",IF(OR(DK16=\"\",DK16=\"－\",DK16=\"-\"),\"－\",ASC(CONCATENATE(DK16))))","v":""},{"$nulls":3},{"$f":"CONCATENATE(EB16)","v":""},{"$nulls":4},"③",{"$f":"IFERROR(IF(INDEX($EP$174:$BJP$174,1,MATCH(DD$11&$DC16,$EP$173:$BJP$173,0))=\"★\",\"\",INDEX($EP$174:$BJP$174,1,MATCH(DD$11&$DC16,$EP$173:$BJP$173,0))),\"\")","v":""},"","","","","","","","","","","","","","","","","","","","","",null,{"$f":"IF(DP16=\"\",\"\",$DN$10)&IF(DQ16=\"\",\"\",$DO$10)","v":""},{"$f":"IF(DR16=\"\",\"\",$DR$11)&IF(SUM(DR16:DS16)=1,IF(DS16=\"\",\"\",$DS$11),IF(DS16=\"\",\"\",CHAR(10)&$DS$11))&IF(SUM(DR16:DT16)=1,IF(DT16=\"\",\"\",$DT$11),IF(DT16=\"\",\"\",CHAR(10)&$DT$11))","v":""},{"$f":"IF(DN16=\"\",\"\",IF(ISERROR(VALUE(SUBSTITUTE(DN16,\"円\",\"\"))),ASC(SUBSTITUTE(DN16,\"円\",\"\")),VALUE(ASC(SUBSTITUTE(DN16,\"円\",\"\")))))","v":""},{"$f":"IF(DO16=\"\",\"\",IF(ISERROR(VALUE(SUBSTITUTE(DO16,\"円\",\"\"))),ASC(SUBSTITUTE(DO16,\"円\",\"\")),VALUE(ASC(SUBSTITUTE(DO16,\"円\",\"\")))))","v":""},{"$f":"IF(DM16=\"\",\"\",SUBSTITUTE(SUBSTITUTE(DM16,\" \",\"\"),\"　\",\"\"))","v":""},{"$f":"IF(SUM(DW16:DY16)=0,\"\",IF(DW16=\"\",\"\",$DW$11)&IF(DX16=\"\",\"\",IF(DW16=\"\",$DX$11,CHAR(10)&$DX$11))&IF(DY16=\"\",\"\",IF(AND(DW16=\"\",DX16=\"\"),$DY$11,CHAR(10)&$DY$11)))","v":""}]
[{"$nulls":33},{"$f":"EF16","v":""},{"$nulls":63},{"$f":"IF(DD16=\"\",\"\",IF(OR(DL16=\"\",DL16=\"－\",DL16=\"-\"),\"－\",ASC(CONCATENATE(DL16))))","v":""}]
[null,{"$f":"DC18","v":"④"},null,{"$f":"CONCATENATE(EE18)","v":""},{"$nulls":7},{"$f":"CONCATENATE(DD18)","v":""},{"$nulls":13},{"$f":"CONCATENATE(DG18)","v":""},{"$nulls":3},{"$f":"CONCATENATE(DF18)","v":""},{"$nulls":3},{"$f":"(ED18)","v":""},{"$nulls":3},{"$f":"(EC18)","v":""},{"$nulls":3},{"$f":"CONCATENATE(EA18)","v":""},null,{"$f":"ASC(CONCATENATE(DE18))","v":""},{"$nulls":3},{"$f":"CONCATENATE(DU18)","v":""},{"$nulls":41},{"$f":"ASC(CONCATENATE(DH18))","v":""},null,{"$f":"ASC(CONCATENATE(DI18))","v":""},null,{"$f":"ASC(CONCATENATE(DJ18))","v":""},null,{"$f":"ASC(CONCATENATE(DV18))","v":""},null,{"$f":"IF(DD18=\"\",\"\",IF(OR(DK18=\"\",DK18=\"－\",DK18=\"-\"),\"－\",ASC(CONCATENATE(DK18))))","v":""},{"$nulls":3},{"$f":"CONCATENATE(EB18)","v":""},{"$nulls":4},"④",{"$f":"IFERROR(IF(INDEX($EP$174:$BJP$174,1,MATCH(DD$11&$DC18,$EP$173:$BJP$173,0))=\"★\",\"\",INDEX($EP$174:$BJP$174,1,MATCH(DD$11&$DC18,$EP$173:$BJP$173,0))),\"\")","v":""},"","","","","","","","","","","","","","","","","","","","","",null,{"$f":"IF(DP18=\"\",\"\",$DN$10)&IF(DQ18=\"\",\"\",$DO$10)","v":""},{"$f":"IF(DR18=\"\",\"\",$DR$11)&IF(SUM(DR18:DS18)=1,IF(DS18=\"\",\"\",$DS$11),IF(DS18=\"\",\"\",CHAR(10)&$DS$11))&IF(SUM(DR18:DT18)=1,IF(DT18=\"\",\"\",$DT$11),IF(DT18=\"\",\"\",CHAR(10)&$DT$11))","v":""},{"$f":"IF(DN18=\"\",\"\",IF(ISERROR(VALUE(SUBSTITUTE(DN18,\"円\",\"\"))),ASC(SUBSTITUTE(DN18,\"円\",\"\")),VALUE(ASC(SUBSTITUTE(DN18,\"円\",\"\")))))","v":""},{"$f":"IF(DO18=\"\",\"\",IF(ISERROR(VALUE(SUBSTITUTE(DO18,\"円\",\"\"))),ASC(SUBSTITUTE(DO18,\"円\",\"\")),VALUE(ASC(SUBSTITUTE(DO18,\"円\",\"\")))))","v":""},{"$f":"IF(DM18=\"\",\"\",SUBSTITUTE(SUBSTITUTE(DM18,\" \",\"\"),\"　\",\"\"))","v":""},{"$f":"IF(SUM(DW18:DY18)=0,\"\",IF(DW18=\"\",\"\",$DW$11)&IF(DX18=\"\",\"\",IF(DW18=\"\",$DX$11,CHAR(10)&$DX$11))&IF(DY18=\"\",\"\",IF(AND(DW18=\"\",DX18=\"\"),$DY$11,CHAR(10)&$DY$11)))","v":""}]
[{"$nulls":33},{"$f":"EF18","v":""},{"$nulls":63},{"$f":"IF(DD18=\"\",\"\",IF(OR(DL18=\"\",DL18=\"－\",DL18=\"-\"),\"－\",ASC(CONCATENATE(DL18))))","v":""}]
[null,{"$f":"DC20","v":"⑤"},null,{"$f":"CONCATENATE(EE20)","v":""},{"$nulls":7},{"$f":"CONCATENATE(DD20)","v":""},{"$nulls":13},{"$f":"CONCATENATE(DG20)","v":""},{"$nulls":3},{"$f":"CONCATENATE(DF20)","v":""},{"$nulls":3},{"$f":"(ED20)","v":""},{"$nulls":3},{"$f":"(EC20)","v":""},{"$nulls":3},{"$f":"CONCATENATE(EA20)","v":""},null,{"$f":"ASC(CONCATENATE(DE20))","v":""},{"$nulls":3},{"$f":"CONCATENATE(DU20)","v":""},{"$nulls":41},{"$f":"ASC(CONCATENATE(DH20))","v":""},null,{"$f":"ASC(CONCATENATE(DI20))","v":""},null,{"$f":"ASC(CONCATENATE(DJ20))","v":""},null,{"$f":"ASC(CONCATENATE(DV20))","v":""},null,{"$f":"IF(DD20=\"\",\"\",IF(OR(DK20=\"\",DK20=\"－\",DK20=\"-\"),\"－\",ASC(CONCATENATE(DK20))))","v":""},{"$nulls":3},{"$f":"CONCATENATE(EB20)","v":""},{"$nulls":4},"⑤",{"$f":"IFERROR(IF(INDEX($EP$174:$BJP$174,1,MATCH(DD$11&$DC20,$EP$173:$BJP$173,0))=\"★\",\"\",INDEX($EP$174:$BJP$174,1,MATCH(DD$11&$DC20,$EP$173:$BJP$173,0))),\"\")","v":""},"","","","","","","","","","","","","","","","","","","","","",null,{"$f":"IF(DP20=\"\",\"\",$DN$10)&IF(DQ20=\"\",\"\",$DO$10)","v":""},{"$f":"IF(DR20=\"\",\"\",$DR$11)&IF(SUM(DR20:DS20)=1,IF(DS20=\"\",\"\",$DS$11),IF(DS20=\"\",\"\",CHAR(10)&$DS$11))&IF(SUM(DR20:DT20)=1,IF(DT20=\"\",\"\",$DT$11),IF(DT20=\"\",\"\",CHAR(10)&$DT$11))","v":""},{"$f":"IF(DN20=\"\",\"\",IF(ISERROR(VALUE(SUBSTITUTE(DN20,\"円\",\"\"))),ASC(SUBSTITUTE(DN20,\"円\",\"\")),VALUE(ASC(SUBSTITUTE(DN20,\"円\",\"\")))))","v":""},{"$f":"IF(DO20=\"\",\"\",IF(ISERROR(VALUE(SUBSTITUTE(DO20,\"円\",\"\"))),ASC(SUBSTITUTE(DO20,\"円\",\"\")),VALUE(ASC(SUBSTITUTE(DO20,\"円\",\"\")))))","v":""},{"$f":"IF(DM20=\"\",\"\",SUBSTITUTE(SUBSTITUTE(DM20,\" \",\"\"),\"　\",\"\"))","v":""},{"$f":"IF(SUM(DW20:DY20)=0,\"\",IF(DW20=\"\",\"\",$DW$11)&IF(DX20=\"\",\"\",IF(DW20=\"\",$DX$11,CHAR(10)&$DX$11))&IF(DY20=\"\",\"\",IF(AND(DW20=\"\",DX20=\"\"),$DY$11,CHAR(10)&$DY$11)))","v":""}]
[{"$nulls":33},{"$f":"EF20","v":""},{"$nulls":63},{"$f":"IF(DD20=\"\",\"\",IF(OR(DL20=\"\",DL20=\"－\",DL20=\"-\"),\"－\",ASC(CONCATENATE(DL20))))","v":""}]
[]
[null,"商品画像一覧",null,null,{"$f":"DC12","v":"①"},{"$nulls":19},{"$f":"DC14","v":"②"},{"$nulls":19},{"$f":"DC16","v":"③"},{"$nulls":19},{"$f":"DC18","v":"④"},{"$nulls":19},{"$f":"DC20","v":"⑤"}]
{"$rows_empty":9}
[{"$nulls":4},{"$f":"E23&\"裏\"","v":"①裏"},{"$nulls":19},{"$f":"Y23&\"裏\"","v":"②裏"},{"$nulls":19},{"$f":"AS23&\"裏\"","v":"③裏"},{"$nulls":19},{"$f":"BM23&\"裏\"","v":"④裏"},{"$nulls":19},{"$f":"CG23&\"裏\"","v":"⑤裏"}]
{"$rows_empty":10}
[null,"商品提案シート"]
[]
[{"$nulls":9},"ふりがな",{"$nulls":7},{"$f":"CONCATENATE($DH$3)","v":""},{"$nulls":24},"担当者連絡先"]
[{"$nulls":9},"企業名",{"$nulls":7},{"$f":"CONCATENATE($DH$4)","v":""},{"$nulls":24},"担当者氏名",{"$nulls":6},{"$f":"CONCATENATE($DJ$6)","v":""},{"$nulls":20},"TEL",{"$nulls":6},{"$f":"CONCATENATE($DL$4)","v":""}]
[{"$nulls":70},"FAX",{"$nulls":6},{"$f":"CONCATENATE($DL$5)","v":""}]
[{"$nulls":9},"代表者氏名",{"$nulls":7},{"$f":"CONCATENATE($DH$6)","v":""},{"$nulls":52},"E-mail",{"$nulls":6},{"$f":"CONCATENATE($DL$6)","v":""}]
[]
[]
[{"$nulls":32},"【税抜】"]
[{"$nulls":3},"JANコード",{"$nulls":7},"商品名",{"$nulls":13},"規格",{"$nulls":3},"ｹｰｽ\n入数",{"$nulls":3},"納入価格\n(円)",{"$nulls":3},"希望小売\n価格(円)",{"$nulls":3},"税率\n(％)",null,"リードタイム",{"$nulls":3},"商品説明",{"$nulls":41},"ｹｰｽｻｲｽﾞ(cm)",{"$nulls":5},"ｹｰｽ\n重量\n(kg)",null,"賞味期限\n消費期限",{"$nulls":3},"管理\n温度帯",{"$nulls":15},8,10]
[{"$nulls":89},"横",null,"奥行",null,"高さ",{"$nulls":13},"商品名","発注リードタイム","1ケースあたり","内容量","縦","横","高さ","賞味期限","消費期限","JANコード","希望小売","仕切単価","8%","10%","常温","冷蔵","冷凍","商品特徴","重量","工場出し","関東向け","関西向け",null,"税率","管理","希望小売","仕切単価","JANコード","仕切り"]
[null,{"$f":"DC55","v":"⑥"},null,{"$f":"CONCATENATE(EE55)","v":""},{"$nulls":7},{"$f":"CONCATENATE(DD55)","v":""},{"$nulls":13},{"$f":"CONCATENATE(DG55)","v":""},{"$nulls":3},{"$f":"CONCATENATE(DF55)","v":""},{"$nulls":3},{"$f":"(ED55)","v":""},{"$nulls":3},{"$f":"(EC55)","v":""},{"$nulls":3},{"$f":"CONCATENATE(EA55)","v":""},null,{"$f":"ASC(CONCATENATE(DE55))","v":""},{"$nulls":3},{"$f":"CONCATENATE(DU55)","v":""},{"$nulls":41},{"$f":"ASC(CONCATENATE(DH55))","v":""},null,{"$f":"ASC(CONCATENATE(DI55))","v":""},null,{"$f":"ASC(CONCATENATE(DJ55))","v":""},null,{"$f":"ASC(CONCATENATE(DV55))","v":""},null,{"$f":"IF(DD55=\"\",\"\",IF(OR(DK55=\"\",DK55=\"－\",DK55=\"-\"),\"－\",ASC(CONCATENATE(DK55))))","v":""},{"$nulls":3},{"$f":"CONCATENATE(EB55)","v":""},{"$nulls":4},"⑥",{"$f":"IFERROR(IF(INDEX($EP$174:$BJP$174,1,MATCH(DD$11&$DC55,$EP$173:$BJP$173,0))=\"★\",\"\",INDEX($EP$174:$BJP$174,1,MATCH(DD$11&$DC55,$EP$173:$BJP$173,0))),\"\")","v":""},"","","","","","","","","","","","","","","","","","",{"$f":"IFERROR(IF(INDEX($EP$174:$BJP$174,1,MATCH(DW$11&$DC55,$EP$173:$BJP$173,0))=\"★\",\"\",INDEX($EP$174:$BJP$174,1,MATCH(DW$11&$DC55,$EP$173:$BJP$173,0))),\"\")","v":""},"","",null,{"$f":"IF(DP55=\"\",\"\",$DN$10)&IF(DQ55=\"\",\"\",$DO$10)","v":""},{"$f":"IF(DR55=\"\",\"\",$DR$11)&IF(SUM(DR55:DS55)=1,IF(DS55=\"\",\"\",$DS$11),IF(DS55=\"\",\"\",CHAR(10)&$DS$11))&IF(SUM(DR55:DT55)=1,IF(DT55=\"\",\"\",$DT$11),IF(DT55=\"\",\"\",CHAR(10)&$DT$11))","v":""},{"$f":"IF(DN55=\"\",\"\",IF(ISERROR(VALUE(SUBSTITUTE(DN55,\"円\",\"\"))),ASC(SUBSTITUTE(DN55,\"円\",\"\")),VALUE(ASC(SUBSTITUTE(DN55,\"円\",\"\")))))","v":""},{"$f":"IF(DO55=\"\",\"\",IF(ISERROR(VALUE(SUBSTITUTE(DO55,\"円\",\"\"))),ASC(SUBSTITUTE(DO55,\"円\",\"\")),VALUE(ASC(SUBSTITUTE(DO55,\"円\",\"\")))))","v":""},{"$f":"IF(DM55=\"\",\"\",SUBSTITUTE(SUBSTITUTE(DM55,\" \",\"\"),\"　\",\"\"))","v":""},{"$f":"IF(SUM(DW55:DY55)=0,\"\",IF(DW55=\"\",\"\",$DW$11)&IF(DX55=\"\",\"\",IF(DW55=\"\",$DX$11,CHAR(10)&$DX$11))&IF(DY55=\"\",\"\",IF(AND(DW55=\"\",DX55=\"\"),$DY$11,CHAR(10)&$DY$11)))","v":""}]
[{"$nulls":33},{"$f":"EF55","v":""},{"$nulls":63},{"$f":"IF(DD55=\"\",\"\",IF(OR(DL55=\"\",DL55=\"－\",DL55=\"-\"),\"－\",ASC(CONCATENATE(DL55))))","v":""}]
[null,{"$f":"DC57","v":"⑦"},null,{"$f":"CONCATENATE(EE57)","v":""},{"$nulls":7},{"$f":"CONCATENATE(DD57)","v":""},{"$nulls":13},{"$f":"CONCATENATE(DG57)","v":""},{"$nulls":3},{"$f":"CONCATENATE(DF57)","v":""},{"$nulls":3},{"$f":"(ED57)","v":""},{"$nulls":3},{"$f":"(EC57)","v":""},{"$nulls":3},{"$f":"CONCATENATE(EA57)","v":""},null,{"$f":"ASC(CONCATENATE(DE57))","v":""},{"$nulls":3},{"$f":"CONCATENATE(DU57)","v":""},{"$nulls":41},{"$f":"ASC(CONCATENATE(DH57))","v":""},null,{"$f":"ASC(CONCATENATE(DI57))","v":""},null,{"$f":"ASC(CONCATENATE(DJ57))","v":""},null,{"$f":"ASC(CONCATENATE(DV57))","v":""},null,{"$f":"IF(DD57=\"\",\"\",IF(OR(DK57=\"\",DK57=\"－\",DK57=\"-\"),\"－\",ASC(CONCATENATE(DK57))))","v":""},{"$nulls":3},{"$f":"CONCATENATE(EB57)","v":""},{"$nulls":4},"⑦",{"$f":"IFERROR(IF(INDEX($EP$174:$BJP$174,1,MATCH(DD$11&$DC57,$EP$173:$BJP$173,0))=\"★\",\"\",INDEX($EP$174:$BJP$174,1,MATCH(DD$11&$DC57,$EP$173:$BJP$173,0))),\"\")","v":""},"","","","","","","","","","","","","","","","","","","","","",null,{"$f":"IF(DP57=\"\",\"\",$DN$10)&IF(DQ57=\"\",\"\",$DO$10)","v":""},{"$f":"IF(DR57=\"\",\"\",$DR$11)&IF(SUM(DR57:DS57)=1,IF(DS57=\"\",\"\",$DS$11),IF(DS57=\"\",\"\",CHAR(10)&$DS$11))&IF(SUM(DR57:DT57)=1,IF(DT57=\"\",\"\",$DT$11),IF(DT57=\"\",\"\",CHAR(10)&$DT$11))","v":""},{"$f":"IF(DN57=\"\",\"\",IF(ISERROR(VALUE(SUBSTITUTE(DN57,\"円\",\"\"))),ASC(SUBSTITUTE(DN57,\"円\",\"\")),VALUE(ASC(SUBSTITUTE(DN57,\"円\",\"\")))))","v":""},{"$f":"IF(DO57=\"\",\"\",IF(ISERROR(VALUE(SUBSTITUTE(DO57,\"円\",\"\"))),ASC(SUBSTITUTE(DO57,\"円\",\"\")),VALUE(ASC(SUBSTITUTE(DO57,\"円\",\"\")))))","v":""},{"$f":"IF(DM57=\"\",\"\",SUBSTITUTE(SUBSTITUTE(DM57,\" \",\"\"),\"　\",\"\"))","v":""},{"$f":"IF(SUM(DW57:DY57)=0,\"\",IF(DW57=\"\",\"\",$DW$11)&IF(DX57=\"\",\"\",IF(DW57=\"\",$DX$11,CHAR(10)&$DX$11))&IF(DY57=\"\",\"\",IF(AND(DW57=\"\",DX57=\"\"),$DY$11,CHAR(10)&$DY$11)))","v":""}]
[{"$nulls":33},{"$f":"EF57","v":""},{"$nulls":63},{"$f":"IF(DD57=\"\",\"\",IF(OR(DL57=\"\",DL57=\"－\",DL57=\"-\"),\"－\",ASC(CONCATENATE(DL57))))","v":""}]
[null,{"$f":"DC59","v":"⑧"},null,{"$f":"CONCATENATE(EE59)","v":""},{"$nulls":7},{"$f":"CONCATENATE(DD59)","v":""},{"$nulls":13},{"$f":"CONCATENATE(DG59)","v":""},{"$nulls":3},{"$f":"CONCATENATE(DF59)","v":""},{"$nulls":3},{"$f":"(ED59)","v":""},{"$nulls":3},{"$f":"(EC59)","v":""},{"$nulls":3},{"$f":"CONCATENATE(EA59)","v":""},null,{"$f":"ASC(CONCATENATE(DE59))","v":""},{"$nulls":3},{"$f":"CONCATENATE(DU59)","v":""},{"$nulls":41},{"$f":"ASC(CONCATENATE(DH59))","v":""},null,{"$f":"ASC(CONCATENATE(DI59))","v":""},null,{"$f":"ASC(CONCATENATE(DJ59))","v":""},null,{"$f":"ASC(CONCATENATE(DV59))","v":""},null,{"$f":"IF(DD59=\"\",\"\",IF(OR(DK59=\"\",DK59=\"－\",DK59=\"-\"),\"－\",ASC(CONCATENATE(DK59))))","v":""},{"$nulls":3},{"$f":"CONCATENATE(EB59)","v":""},{"$nulls":4},"⑧",{"$f":"IFERROR(IF(INDEX($EP$174:$BJP$174,1,MATCH(DD$11&$DC59,$EP$173:$BJP$173,0))=\"★\",\"\",INDEX($EP$174:$BJP$174,1,MATCH(DD$11&$DC59,$EP$173:$BJP$173,0))),\"\")","v":""},"","","","","","","","","","","","","","","","","","","","","",null,{"$f":"IF(DP59=\"\",\"\",$DN$10)&IF(DQ59=\"\",\"\",$DO$10)","v":""},{"$f":"IF(DR59=\"\",\"\",$DR$11)&IF(SUM(DR59:DS59)=1,IF(DS59=\"\",\"\",$DS$11),IF(DS59=\"\",\"\",CHAR(10)&$DS$11))&IF(SUM(DR59:DT59)=1,IF(DT59=\"\",\"\",$DT$11),IF(DT59=\"\",\"\",CHAR(10)&$DT$11))","v":""},{"$f":"IF(DN59=\"\",\"\",IF(ISERROR(VALUE(SUBSTITUTE(DN59,\"円\",\"\"))),ASC(SUBSTITUTE(DN59,\"円\",\"\")),VALUE(ASC(SUBSTITUTE(DN59,\"円\",\"\")))))","v":""},{"$f":"IF(DO59=\"\",\"\",IF(ISERROR(VALUE(SUBSTITUTE(DO59,\"円\",\"\"))),ASC(SUBSTITUTE(DO59,\"円\",\"\")),VALUE(ASC(SUBSTITUTE(DO59,\"円\",\"\")))))","v":""},{"$f":"IF(DM59=\"\",\"\",SUBSTITUTE(SUBSTITUTE(DM59,\" \",\"\"),\"　\",\"\"))","v":""},{"$f":"IF(SUM(DW59:DY59)=0,\"\",IF(DW59=\"\",\"\",$DW$11)&IF(DX59=\"\",\"\",IF(DW59=\"\",$DX$11,CHAR(10)&$DX$11))&IF(DY59=\"\",\"\",IF(AND(DW59=\"\",DX59=\"\"),$DY$11,CHAR(10)&$DY$11)))","v":""}]
[{"$nulls":33},{"$f":"EF59","v":""},{"$nulls":63},{"$f":"IF(DD59=\"\",\"\",IF(OR(DL59=\"\",DL59=\"－\",DL59=\"-\"),\"－\",ASC(CONCATENATE(DL59))))","v":""}]
[null,{"$f":"DC61","v":"⑨"},null,{"$f":"CONCATENATE(EE61)","v":""},{"$nulls":7},{"$f":"CONCATENATE(DD61)","v":""},{"$nulls":13},{"$f":"CONCATENATE(DG61)","v":""},{"$nulls":3},{"$f":"CONCATENATE(DF61)","v":""},{"$nulls":3},{"$f":"(ED61)","v":""},{"$nulls":3},{"$f":"(EC61)","v":""},{"$nulls":3},{"$f":"CONCATENATE(EA61)","v":""},null,{"$f":"ASC(CONCATENATE(DE61))","v":""},{"$nulls":3},{"$f":"CONCATENATE(DU61)","v":""},{"$nulls":41},{"$f":"ASC(CONCATENATE(DH61))","v":""},null,{"$f":"ASC(CONCATENATE(DI61))","v":""},null,{"$f":"ASC(CONCATENATE(DJ61))","v":""},null,{"$f":"ASC(CONCATENATE(DV61))","v":""},null,{"$f":"IF(DD61=\"\",\"\",IF(OR(DK61=\"\",DK61=\"－\",DK61=\"-\"),\"－\",ASC(CONCATENATE(DK61))))","v":""},{"$nulls":3},{"$f":"CONCATENATE(EB61)","v":""},{"$nulls":4},"⑨",{"$f":"IFERROR(IF(INDEX($EP$174:$BJP$174,1,MATCH(DD$11&$DC61,$EP$173:$BJP$173,0))=\"★\",\"\",INDEX($EP$174:$BJP$174,1,MATCH(DD$11&$DC61,$EP$173:$BJP$173,0))),\"\")","v":""},"","","","","","","","","","","","","","","","","","","","","",null,{"$f":"IF(DP61=\"\",\"\",$DN$10)&IF(DQ61=\"\",\"\",$DO$10)","v":""},{"$f":"IF(DR61=\"\",\"\",$DR$11)&IF(SUM(DR61:DS61)=1,IF(DS61=\"\",\"\",$DS$11),IF(DS61=\"\",\"\",CHAR(10)&$DS$11))&IF(SUM(DR61:DT61)=1,IF(DT61=\"\",\"\",$DT$11),IF(DT61=\"\",\"\",CHAR(10)&$DT$11))","v":""},{"$f":"IF(DN61=\"\",\"\",IF(ISERROR(VALUE(SUBSTITUTE(DN61,\"円\",\"\"))),ASC(SUBSTITUTE(DN61,\"円\",\"\")),VALUE(ASC(SUBSTITUTE(DN61,\"円\",\"\")))))","v":""},{"$f":"IF(DO61=\"\",\"\",IF(ISERROR(VALUE(SUBSTITUTE(DO61,\"円\",\"\"))),ASC(SUBSTITUTE(DO61,\"円\",\"\")),VALUE(ASC(SUBSTITUTE(DO61,\"円\",\"\")))))","v":""},{"$f":"IF(DM61=\"\",\"\",SUBSTITUTE(SUBSTITUTE(DM61,\" \",\"\"),\"　\",\"\"))","v":""},{"$f":"IF(SUM(DW61:DY61)=0,\"\",IF(DW61=\"\",\"\",$DW$11)&IF(DX61=\"\",\"\",IF(DW61=\"\",$DX$11,CHAR(10)&$DX$11))&IF(DY61=\"\",\"\",IF(AND(DW61=\"\",DX61=\"\"),$DY$11,CHAR(10)&$DY$11)))","v":""}]
[{"$nulls":33},{"$f":"EF61","v":""},{"$nulls":63},{"$f":"IF(DD61=\"\",\"\",IF(OR(DL61=\"\",DL61=\"－\",DL61=\"-\"),\"－\",ASC(CONCATENATE(DL61))))","v":""}]
[null,{"$f":"DC63","v":"⑩"},null,{"$f":"CONCATENATE(EE63)","v":""},{"$nulls":7},{"$f":"CONCATENATE(DD63)","v":""},{"$nulls":13},{"$f":"CONCATENATE(DG63)","v":""},{"$nulls":3},{"$f":"CONCATENATE(DF63)","v":""},{"$nulls":3},{"$f":"(ED63)","v":""},{"$nulls":3},{"$f":"(EC63)","v":""},{"$nulls":3},{"$f":"CONCATENATE(EA63)","v":""},null,{"$f":"ASC(CONCATENATE(DE63))","v":""},{"$nulls":3},{"$f":"CONCATENATE(DU63)","v":""},{"$nulls":41},{"$f":"ASC(CONCATENATE(DH63))","v":""},null,{"$f":"ASC(CONCATENATE(DI63))","v":""},null,{"$f":"ASC(CONCATENATE(DJ63))","v":""},null,{"$f":"ASC(CONCATENATE(DV63))","v":""},null,{"$f":"IF(DD63=\"\",\"\",IF(OR(DK63=\"\",DK63=\"－\",DK63=\"-\"),\"－\",ASC(CONCATENATE(DK63))))","v":""},{"$nulls":3},{"$f":"CONCATENATE(EB63)","v":""},{"$nulls":4},"⑩",{"$f":"IFERROR(IF(INDEX($EP$174:$BJP$174,1,MATCH(DD$11&$DC63,$EP$173:$BJP$173,0))=\"★\",\"\",INDEX($EP$174:$BJP$174,1,MATCH(DD$11&$DC63,$EP$173:$BJP$173,0))),\"\")","v":""},"","","","","","","","","","","","","","","","","","","","","",null,{"$f":"IF(DP63=\"\",\"\",$DN$10)&IF(DQ63=\"\",\"\",$DO$10)","v":""},{"$f":"IF(DR63=\"\",\"\",$DR$11)&IF(SUM(DR63:DS63)=1,IF(DS63=\"\",\"\",$DS$11),IF(DS63=\"\",\"\",CHAR(10)&$DS$11))&IF(SUM(DR63:DT63)=1,IF(DT63=\"\",\"\",$DT$11),IF(DT63=\"\",\"\",CHAR(10)&$DT$11))","v":""},{"$f":"IF(DN63=\"\",\"\",IF(ISERROR(VALUE(SUBSTITUTE(DN63,\"円\",\"\"))),ASC(SUBSTITUTE(DN63,\"円\",\"\")),VALUE(ASC(SUBSTITUTE(DN63,\"円\",\"\")))))","v":""},{"$f":"IF(DO63=\"\",\"\",IF(ISERROR(VALUE(SUBSTITUTE(DO63,\"円\",\"\"))),ASC(SUBSTITUTE(DO63,\"円\",\"\")),VALUE(ASC(SUBSTITUTE(DO63,\"円\",\"\")))))","v":""},{"$f":"IF(DM63=\"\",\"\",SUBSTITUTE(SUBSTITUTE(DM63,\" \",\"\"),\"　\",\"\"))","v":""},{"$f":"IF(SUM(DW63:DY63)=0,\"\",IF(DW63=\"\",\"\",$DW$11)&IF(DX63=\"\",\"\",IF(DW63=\"\",$DX$11,CHAR(10)&$DX$11))&IF(DY63=\"\",\"\",IF(AND(DW63=\"\",DX63=\"\"),$DY$11,CHAR(10)&$DY$11)))","v":""}]
[{"$nulls":33},{"$f":"EF63","v":""},{"$nulls":63},{"$f":"IF(DD63=\"\",\"\",IF(OR(DL63=\"\",DL63=\"－\",DL63=\"-\"),\"－\",ASC(CONCATENATE(DL63))))","v":""}]
[]
[null,"商品画像一覧",null,null,{"$f":"DC55","v":"⑥"},{"$nulls":19},{"$f":"DC57","v":"⑦"},{"$nulls":19},{"$f":"DC59","v":"⑧"},{"$nulls":19},{"$f":"DC61","v":"⑨"},{"$nulls":19},{"$f":"DC63","v":"⑩"}]
{"$rows_empty":9}
[{"$nulls":4},{"$f":"E66&\"裏\"","v":"⑥裏"},{"$nulls":19},{"$f":"Y66&\"裏\"","v":"⑦裏"},{"$nulls":19},{"$f":"AS66&\"裏\"","v":"⑧裏"},{"$nulls":19},{"$f":"BM66&\"裏\"","v":"⑨裏"},{"$nulls":19},{"$f":"CG66&\"裏\"","v":"⑩裏"}]
{"$rows_empty":10}
[null,"商品提案シート"]
[]
[{"$nulls":9},"ふりがな",{"$nulls":7},{"$f":"CONCATENATE($DH$3)","v":""},{"$nulls":24},"担当者連絡先"]
[{"$nulls":9},"企業名",{"$nulls":7},{"$f":"CONCATENATE($DH$4)","v":""},{"$nulls":24},"担当者氏名",{"$nulls":6},{"$f":"CONCATENATE($DJ$6)","v":""},{"$nulls":20},"TEL",{"$nulls":6},{"$f":"CONCATENATE($DL$4)","v":""}]
[{"$nulls":70},"FAX",{"$nulls":6},{"$f":"CONCATENATE($DL$5)","v":""}]
[{"$nulls":9},"代表者氏名",{"$nulls":7},{"$f":"CONCATENATE($DH$6)","v":""},{"$nulls":52},"E-mail",{"$nulls":6},{"$f":"CONCATENATE($DL$6)","v":""}]
[]
[]
[{"$nulls":32},"【税抜】"]
[{"$nulls":3},"JANコード",{"$nulls":7},"商品名",{"$nulls":13},"規格",{"$nulls":3},"ｹｰｽ\n入数",{"$nulls":3},"納入価格\n(円)",{"$nulls":3},"希望小売\n価格(円)",{"$nulls":3},"税率\n(％)",null,"リードタイム",{"$nulls":3},"商品説明",{"$nulls":41},"ｹｰｽｻｲｽﾞ(cm)",{"$nulls":5},"ｹｰｽ\n重量\n(kg)",null,"賞味期限\n消費期限",{"$nulls":3},"管理\n温度帯",{"$nulls":15},8,10]
[{"$nulls":89},"横",null,"奥行",null,"高さ",{"$nulls":13},"商品名","発注リードタイム","1ケースあたり","内容量","縦","横","高さ","賞味期限","消費期限","JANコード","希望小売","仕切単価","8%","10%","常温","冷蔵","冷凍","商品特徴","重量","工場出し","関東向け","関西向け",null,"税率","管理","希望小売","仕切単価","JANコード","仕切り"]
[null,{"$f":"DC98","v":"⑪"},null,{"$f":"CONCATENATE(EE98)","v":""},{"$nulls":7},{"$f":"CONCATENATE(DD98)","v":""},{"$nulls":13},{"$f":"CONCATENATE(DG98)","v":""},{"$nulls":3},{"$f":"CONCATENATE(DF98)","v":""},{"$nulls":3},{"$f":"(ED98)","v":""},{"$nulls":3},{"$f":"(EC98)","v":""},{"$nulls":3},{"$f":"CONCATENATE(EA98)","v":""},null,{"$f":"ASC(CONCATENATE(DE98))","v":""},{"$nulls":3},{"$f":"CONCATENATE(DU98)","v":""},{"$nulls":41},{"$f":"ASC(CONCATENATE(DH98))","v":""},null,{"$f":"ASC(CONCATENATE(DI98))","v":""},null,{"$f":"ASC(CONCATENATE(DJ98))","v":""},null,{"$f":"ASC(CONCATENATE(DV98))","v":""},null,{"$f":"IF(DD98=\"\",\"\",IF(OR(DK98=\"\",DK98=\"－\",DK98=\"-\"),\"－\",ASC(CONCATENATE(DK98))))","v":""},{"$nulls":3},{"$f":"CONCATENATE(EB98)","v":""},{"$nulls":4},"⑪",{"$f":"IFERROR(IF(INDEX($EP$174:$BJP$174,1,MATCH(DD$11&$DC98,$EP$173:$BJP$173,0))=\"★\",\"\",INDEX($EP$174:$BJP$174,1,MATCH(DD$11&$DC98,$EP$173:$BJP$173,0))),\"\")","v":""},"","","","","","","","","","","","","","","","","","",{"$f":"IFERROR(IF(INDEX($EP$174:$BJP$174,1,MATCH(DW$11&$DC98,$EP$173:$BJP$173,0))=\"★\",\"\",INDEX($EP$174:$BJP$174,1,MATCH(DW$11&$DC98,$EP$173:$BJP$173,0))),\"\")","v":""},"","",null,{"$f":"IF(DP98=\"\",\"\",$DN$10)&IF(DQ98=\"\",\"\",$DO$10)","v":""},{"$f":"IF(DR98=\"\",\"\",$DR$11)&IF(SUM(DR98:DS98)=1,IF(DS98=\"\",\"\",$DS$11),IF(DS98=\"\",\"\",CHAR(10)&$DS$11))&IF(SUM(DR98:DT98)=1,IF(DT98=\"\",\"\",$DT$11),IF(DT98=\"\",\"\",CHAR(10)&$DT$11))","v":""},{"$f":"IF(DN98=\"\",\"\",IF(ISERROR(VALUE(SUBSTITUTE(DN98,\"円\",\"\"))),ASC(SUBSTITUTE(DN98,\"円\",\"\")),VALUE(ASC(SUBSTITUTE(DN98,\"円\",\"\")))))","v":""},{"$f":"IF(DO98=\"\",\"\",IF(ISERROR(VALUE(SUBSTITUTE(DO98,\"円\",\"\"))),ASC(SUBSTITUTE(DO98,\"円\",\"\")),VALUE(ASC(SUBSTITUTE(DO98,\"円\",\"\")))))","v":""},{"$f":"IF(DM98=\"\",\"\",SUBSTITUTE(SUBSTITUTE(DM98,\" \",\"\"),\"　\",\"\"))","v":""},{"$f":"IF(SUM(DW98:DY98)=0,\"\",IF(DW98=\"\",\"\",$DW$11)&IF(DX98=\"\",\"\",IF(DW98=\"\",$DX$11,CHAR(10)&$DX$11))&IF(DY98=\"\",\"\",IF(AND(DW98=\"\",DX98=\"\"),$DY$11,CHAR(10)&$DY$11)))","v":""}]
[{"$nulls":33},{"$f":"EF98","v":""},{"$nulls":63},{"$f":"IF(DD98=\"\",\"\",IF(OR(DL98=\"\",DL98=\"－\",DL98=\"-\"),\"－\",ASC(CONCATENATE(DL98))))","v":""}]
[null,{"$f":"DC100","v":"⑫"},null,{"$f":"CONCATENATE(EE100)","v":""},{"$nulls":7},{"$f":"CONCATENATE(DD100)","v":""},{"$nulls":13},{"$f":"CONCATENATE(DG100)","v":""},{"$nulls":3},{"$f":"CONCATENATE(DF100)","v":""},{"$nulls":3},{"$f":"(ED100)","v":""},{"$nulls":3},{"$f":"(EC100)","v":""},{"$nulls":3},{"$f":"CONCATENATE(EA100)","v":""},null,{"$f":"ASC(CONCATENATE(DE100))","v":""},{"$nulls":3},{"$f":"CONCATENATE(DU100)","v":""},{"$nulls":41},{"$f":"ASC(CONCATENATE(DH100))","v":""},null,{"$f":"ASC(CONCATENATE(DI100))","v":""},null,{"$f":"ASC(CONCATENATE(DJ100))","v":""},null,{"$f":"ASC(CONCATENATE(DV100))","v":""},null,{"$f":"IF(DD100=\"\",\"\",IF(OR(DK100=\"\",DK100=\"－\",DK100=\"-\"),\"－\",ASC(CONCATENATE(DK100))))","v":""},{"$nulls":3},{"$f":"CONCATENATE(EB100)","v":""},{"$nulls":4},"⑫",{"$f":"IFERROR(IF(INDEX($EP$174:$BJP$174,1,MATCH(DD$11&$DC100,$EP$173:$BJP$173,0))=\"★\",\"\",INDEX($EP$174:$BJP$174,1,MATCH(DD$11&$DC100,$EP$173:$BJP$173,0))),\"\")","v":""},"","","","","","","","","","","","","","","","","","","","","",null,{"$f":"IF(DP100=\"\",\"\",$DN$10)&IF(DQ100=\"\",\"\",$DO$10)","v":""},{"$f":"IF(DR100=\"\",\"\",$DR$11)&IF(SUM(DR100:DS100)=1,IF(DS100=\"\",\"\",$DS$11),IF(DS100=\"\",\"\",CHAR(10)&$DS$11))&IF(SUM(DR100:DT100)=1,IF(DT100=\"\",\"\",$DT$11),IF(DT100=\"\",\"\",CHAR(10)&$DT$11))","v":""},{"$f":"IF(DN100=\"\",\"\",IF(ISERROR(VALUE(SUBSTITUTE(DN100,\"円\",\"\"))),ASC(SUBSTITUTE(DN100,\"円\",\"\")),VALUE(ASC(SUBSTITUTE(DN100,\"円\",\"\")))))","v":""},{"$f":"IF(DO100=\"\",\"\",IF(ISERROR(VALUE(SUBSTITUTE(DO100,\"円\",\"\"))),ASC(SUBSTITUTE(DO100,\"円\",\"\")),VALUE(ASC(SUBSTITUTE(DO100,\"円\",\"\")))))","v":""},{"$f":"IF(DM100=\"\",\"\",SUBSTITUTE(SUBSTITUTE(DM100,\" \",\"\"),\"　\",\"\"))","v":""},{"$f":"IF(SUM(DW100:DY100)=0,\"\",IF(DW100=\"\",\"\",$DW$11)&IF(DX100=\"\",\"\",IF(DW100=\"\",$DX$11,CHAR(10)&$DX$11))&IF(DY100=\"\",\"\",IF(AND(DW100=\"\",DX100=\"\"),$DY$11,CHAR(10)&$DY$11)))","v":""}]
[{"$nulls":33},{"$f":"EF100","v":""},{"$nulls":63},{"$f":"IF(DD100=\"\",\"\",IF(OR(DL100=\"\",DL100=\"－\",DL100=\"-\"),\"－\",ASC(CONCATENATE(DL100))))","v":""}]
[null,{"$f":"DC102","v":"⑬"},null,{"$f":"CONCATENATE(EE102)","v":""},{"$nulls":7},{"$f":"CONCATENATE(DD102)","v":""},{"$nulls":13},{"$f":"CONCATENATE(DG102)","v":""},{"$nulls":3},{"$f":"CONCATENATE(DF102)","v":""},{"$nulls":3},{"$f":"(ED102)","v":""},{"$nulls":3},{"$f":"(EC102)","v":""},{"$nulls":3},{"$f":"CONCATENATE(EA102)","v":""},null,{"$f":"ASC(CONCATENATE(DE102))","v":""},{"$nulls":3},{"$f":"CONCATENATE(DU102)","v":""},{"$nulls":41},{"$f":"ASC(CONCATENATE(DH102))","v":""},null,{"$f":"ASC(CONCATENATE(DI102))","v":""},null,{"$f":"ASC(CONCATENATE(DJ102))","v":""},null,{"$f":"ASC(CONCATENATE(DV102))","v":""},null,{"$f":"IF(DD102=\"\",\"\",IF(OR(DK102=\"\",DK102=\"－\",DK102=\"-\"),\"－\",ASC(CONCATENATE(DK102))))","v":""},{"$nulls":3},{"$f":"CONCATENATE(EB102)","v":""},{"$nulls":4},"⑬",{"$f":"IFERROR(IF(INDEX($EP$174:$BJP$174,1,MATCH(DD$11&$DC102,$EP$173:$BJP$173,0))=\"★\",\"\",INDEX($EP$174:$BJP$174,1,MATCH(DD$11&$DC102,$EP$173:$BJP$173,0))),\"\")","v":""},"","","","","","","","","","","","","","","","","","","","","",null,{"$f":"IF(DP102=\"\",\"\",$DN$10)&IF(DQ102=\"\",\"\",$DO$10)","v":""},{"$f":"IF(DR102=\"\",\"\",$DR$11)&IF(SUM(DR102:DS102)=1,IF(DS102=\"\",\"\",$DS$11),IF(DS102=\"\",\"\",CHAR(10)&$DS$11))&IF(SUM(DR102:DT102)=1,IF(DT102=\"\",\"\",$DT$11),IF(DT102=\"\",\"\",CHAR(10)&$DT$11))","v":""},{"$f":"IF(DN102=\"\",\"\",IF(ISERROR(VALUE(SUBSTITUTE(DN102,\"円\",\"\"))),ASC(SUBSTITUTE(DN102,\"円\",\"\")),VALUE(ASC(SUBSTITUTE(DN102,\"円\",\"\")))))","v":""},{"$f":"IF(DO102=\"\",\"\",IF(ISERROR(VALUE(SUBSTITUTE(DO102,\"円\",\"\"))),ASC(SUBSTITUTE(DO102,\"円\",\"\")),VALUE(ASC(SUBSTITUTE(DO102,\"円\",\"\")))))","v":""},{"$f":"IF(DM102=\"\",\"\",SUBSTITUTE(SUBSTITUTE(DM102,\" \",\"\"),\"　\",\"\"))","v":""},{"$f":"IF(SUM(DW102:DY102)=0,\"\",IF(DW102=\"\",\"\",$DW$11)&IF(DX102=\"\",\"\",IF(DW102=\"\",$DX$11,CHAR(10)&$DX$11))&IF(DY102=\"\",\"\",IF(AND(DW102=\"\",DX102=\"\"),$DY$11,CHAR(10)&$DY$11)))","v":""}]
[{"$nulls":33},{"$f":"EF102","v":""},{"$nulls":63},{"$f":"IF(DD102=\"\",\"\",IF(OR(DL102=\"\",DL102=\"－\",DL102=\"-\"),\"－\",ASC(CONCATENATE(DL102))))","v":""}]
[null,{"$f":"DC104","v":"⑭"},null,{"$f":"CONCATENATE(EE104)","v":""},{"$nulls":7},{"$f":"CONCATENATE(DD104)","v":""},{"$nulls":13},{"$f":"CONCATENATE(DG104)","v":""},{"$nulls":3},{"$f":"CONCATENATE(DF104)","v":""},{"$nulls":3},{"$f":"(ED104)","v":""},{"$nulls":3},{"$f":"(EC104)","v":""},{"$nulls":3},{"$f":"CONCATENATE(EA104)","v":""},null,{"$f":"ASC(CONCATENATE(DE104))","v":""},{"$nulls":3},{"$f":"CONCATENATE(DU104)","v":""},{"$nulls":41},{"$f":"ASC(CONCATENATE(DH104))","v":""},null,{"$f":"ASC(CONCATENATE(DI104))","v":""},null,{"$f":"ASC(CONCATENATE(DJ104))","v":""},null,{"$f":"ASC(CONCATENATE(DV104))","v":""},null,{"$f":"IF(DD104=\"\",\"\",IF(OR(DK104=\"\",DK104=\"－\",DK104=\"-\"),\"－\",ASC(CONCATENATE(DK104))))","v":""},{"$nulls":3},{"$f":"CONCATENATE(EB104)","v":""},{"$nulls":4},"⑭",{"$f":"IFERROR(IF(INDEX($EP$174:$BJP$174,1,MATCH(DD$11&$DC104,$EP$173:$BJP$173,0))=\"★\",\"\",INDEX($EP$174:$BJP$174,1,MATCH(DD$11&$DC104,$EP$173:$BJP$173,0))),\"\")","v":""},"","","","","","","","","","","","","","","","","","","","","",null,{"$f":"IF(DP104=\"\",\"\",$DN$10)&IF(DQ104=\"\",\"\",$DO$10)","v":""},{"$f":"IF(DR104=\"\",\"\",$DR$11)&IF(SUM(DR104:DS104)=1,IF(DS104=\"\",\"\",$DS$11),IF(DS104=\"\",\"\",CHAR(10)&$DS$11))&IF(SUM(DR104:DT104)=1,IF(DT104=\"\",\"\",$DT$11),IF(DT104=\"\",\"\",CHAR(10)&$DT$11))","v":""},{"$f":"IF(DN104=\"\",\"\",IF(ISERROR(VALUE(SUBSTITUTE(DN104,\"円\",\"\"))),ASC(SUBSTITUTE(DN104,\"円\",\"\")),VALUE(ASC(SUBSTITUTE(DN104,\"円\",\"\")))))","v":""},{"$f":"IF(DO104=\"\",\"\",IF(ISERROR(VALUE(SUBSTITUTE(DO104,\"円\",\"\"))),ASC(SUBSTITUTE(DO104,\"円\",\"\")),VALUE(ASC(SUBSTITUTE(DO104,\"円\",\"\")))))","v":""},{"$f":"IF(DM104=\"\",\"\",SUBSTITUTE(SUBSTITUTE(DM104,\" \",\"\"),\"　\",\"\"))","v":""},{"$f":"IF(SUM(DW104:DY104)=0,\"\",IF(DW104=\"\",\"\",$DW$11)&IF(DX104=\"\",\"\",IF(DW104=\"\",$DX$11,CHAR(10)&$DX$11))&IF(DY104=\"\",\"\",IF(AND(DW104=\"\",DX104=\"\"),$DY$11,CHAR(10)&$DY$11)))","v":""}]
[{"$nulls":33},{"$f":"EF104","v":""},{"$nulls":63},{"$f":"IF(DD104=\"\",\"\",IF(OR(DL104=\"\",DL104=\"－\",DL104=\"-\"),\"－\",ASC(CONCATENATE(DL104))))","v":""}]
[null,{"$f":"DC106","v":"⑮"},null,{"$f":"CONCATENATE(EE106)","v":""},{"$nulls":7},{"$f":"CONCATENATE(DD106)","v":""},{"$nulls":13},{"$f":"CONCATENATE(DG106)","v":""},{"$nulls":3},{"$f":"CONCATENATE(DF106)","v":""},{"$nulls":3},{"$f":"(ED106)","v":""},{"$nulls":3},{"$f":"(EC106)","v":""},{"$nulls":3},{"$f":"CONCATENATE(EA106)","v":""},null,{"$f":"ASC(CONCATENATE(DE106))","v":""},{"$nulls":3},{"$f":"CONCATENATE(DU106)","v":""},{"$nulls":41},{"$f":"ASC(CONCATENATE(DH106))","v":""},null,{"$f":"ASC(CONCATENATE(DI106))","v":""},null,{"$f":"ASC(CONCATENATE(DJ106))","v":""},null,{"$f":"ASC(CONCATENATE(DV106))","v":""},null,{"$f":"IF(DD106=\"\",\"\",IF(OR(DK106=\"\",DK106=\"－\",DK106=\"-\"),\"－\",ASC(CONCATENATE(DK106))))","v":""},{"$nulls":3},{"$f":"CONCATENATE(EB106)","v":""},{"$nulls":4},"⑮",{"$f":"IFERROR(IF(INDEX($EP$174:$BJP$174,1,MATCH(DD$11&$DC106,$EP$173:$BJP$173,0))=\"★\",\"\",INDEX($EP$174:$BJP$174,1,MATCH(DD$11&$DC106,$EP$173:$BJP$173,0))),\"\")","v":""},"","","","","","","","","","","","","","","","","","","","","",null,{"$f":"IF(DP106=\"\",\"\",$DN$10)&IF(DQ106=\"\",\"\",$DO$10)","v":""},{"$f":"IF(DR106=\"\",\"\",$DR$11)&IF(SUM(DR106:DS106)=1,IF(DS106=\"\",\"\",$DS$11),IF(DS106=\"\",\"\",CHAR(10)&$DS$11))&IF(SUM(DR106:DT106)=1,IF(DT106=\"\",\"\",$DT$11),IF(DT106=\"\",\"\",CHAR(10)&$DT$11))","v":""},{"$f":"IF(DN106=\"\",\"\",IF(ISERROR(VALUE(SUBSTITUTE(DN106,\"円\",\"\"))),ASC(SUBSTITUTE(DN106,\"円\",\"\")),VALUE(ASC(SUBSTITUTE(DN106,\"円\",\"\")))))","v":""},{"$f":"IF(DO106=\"\",\"\",IF(ISERROR(VALUE(SUBSTITUTE(DO106,\"円\",\"\"))),ASC(SUBSTITUTE(DO106,\"円\",\"\")),VALUE(ASC(SUBSTITUTE(DO106,\"円\",\"\")))))","v":""},{"$f":"IF(DM106=\"\",\"\",SUBSTITUTE(SUBSTITUTE(DM106,\" \",\"\"),\"　\",\"\"))","v":""},{"$f":"IF(SUM(DW106:DY106)=0,\"\",IF(DW106=\"\",\"\",$DW$11)&IF(DX106=\"\",\"\",IF(DW106=\"\",$DX$11,CHAR(10)&$DX$11))&IF(DY106=\"\",\"\",IF(AND(DW106=\"\",DX106=\"\"),$DY$11,CHAR(10)&$DY$11)))","v":""}]
[{"$nulls":33},{"$f":"EF106","v":""},{"$nulls":63},{"$f":"IF(DD106=\"\",\"\",IF(OR(DL106=\"\",DL106=\"－\",DL106=\"-\"),\"－\",ASC(CONCATENATE(DL106))))","v":""}]
[]
[null,"商品画像一覧",null,null,{"$f":"DC98","v":"⑪"},{"$nulls":19},{"$f":"DC100","v":"⑫"},{"$nulls":19},{"$f":"DC102","v":"⑬"},{"$nulls":19},{"$f":"DC104","v":"⑭"},{"$nulls":19},{"$f":"DC106","v":"⑮"}]
{"$rows_empty":9}
[{"$nulls":4},{"$f":"E109&\"裏\"","v":"⑪裏"},{"$nulls":19},{"$f":"Y109&\"裏\"","v":"⑫裏"},{"$nulls":19},{"$f":"AS109&\"裏\"","v":"⑬裏"},{"$nulls":19},{"$f":"BM109&\"裏\"","v":"⑭裏"},{"$nulls":19},{"$f":"CG109&\"裏\"","v":"⑮裏"}]
{"$rows_empty":10}
[null,"商品提案シート"]
[]
[{"$nulls":9},"ふりがな",{"$nulls":7},{"$f":"CONCATENATE($DH$3)","v":""},{"$nulls":24},"担当者連絡先"]
[{"$nulls":9},"企業名",{"$nulls":7},{"$f":"CONCATENATE($DH$4)","v":""},{"$nulls":24},"担当者氏名",{"$nulls":6},{"$f":"CONCATENATE($DJ$6)","v":""},{"$nulls":20},"TEL",{"$nulls":6},{"$f":"CONCATENATE($DL$4)","v":""}]
[{"$nulls":70},"FAX",{"$nulls":6},{"$f":"CONCATENATE($DL$5)","v":""}]
[{"$nulls":9},"代表者氏名",{"$nulls":7},{"$f":"CONCATENATE($DH$6)","v":""},{"$nulls":52},"E-mail",{"$nulls":6},{"$f":"CONCATENATE($DL$6)","v":""}]
[]
[]
[{"$nulls":32},"【税抜】"]
[{"$nulls":3},"JANコード",{"$nulls":7},"商品名",{"$nulls":13},"規格",{"$nulls":3},"ｹｰｽ\n入数",{"$nulls":3},"納入価格\n(円)",{"$nulls":3},"希望小売\n価格(円)",{"$nulls":3},"税率\n(％)",null,"リードタイム",{"$nulls":3},"商品説明",{"$nulls":41},"ｹｰｽｻｲｽﾞ(cm)",{"$nulls":5},"ｹｰｽ\n重量\n(kg)",null,"賞味期限\n消費期限",{"$nulls":3},"管理\n温度帯",{"$nulls":15},8,10]
[{"$nulls":89},"横",null,"奥行",null,"高さ",{"$nulls":13},"商品名","発注リードタイム","1ケースあたり","内容量","縦","横","高さ","賞味期限","消費期限","JANコード","希望小売","仕切単価","8%","10%","常温","冷蔵","冷凍","商品特徴","重量","工場出し","関東向け","関西向け",null,"税率","管理","希望小売","仕切単価","JANコード","仕切り"]
[null,{"$f":"DC141","v":"⑯"},null,{"$f":"CONCATENATE(EE141)","v":""},{"$nulls":7},{"$f":"CONCATENATE(DD141)","v":""},{"$nulls":13},{"$f":"CONCATENATE(DG141)","v":""},{"$nulls":3},{"$f":"CONCATENATE(DF141)","v":""},{"$nulls":3},{"$f":"(ED141)","v":""},{"$nulls":3},{"$f":"(EC141)","v":""},{"$nulls":3},{"$f":"CONCATENATE(EA141)","v":""},null,{"$f":"ASC(CONCATENATE(DE141))","v":""},{"$nulls":3},{"$f":"CONCATENATE(DU141)","v":""},{"$nulls":41},{"$f":"ASC(CONCATENATE(DH141))","v":""},null,{"$f":"ASC(CONCATENATE(DI141))","v":""},null,{"$f":"ASC(CONCATENATE(DJ141))","v":""},null,{"$f":"ASC(CONCATENATE(DV141))","v":""},null,{"$f":"IF(DD141=\"\",\"\",IF(OR(DK141=\"\",DK141=\"－\",DK141=\"-\"),\"－\",ASC(CONCATENATE(DK141))))","v":""},{"$nulls":3},{"$f":"CONCATENATE(EB141)","v":""},{"$nulls":4},"⑯",{"$f":"IFERROR(IF(INDEX($EP$174:$BJP$174,1,MATCH(DD$11&$DC141,$EP$173:$BJP$173,0))=\"★\",\"\",INDEX($EP$174:$BJP$174,1,MATCH(DD$11&$DC141,$EP$173:$BJP$173,0))),\"\")","v":""},"","","","","","","","","","","","","","","","","","",{"$f":"IFERROR(IF(INDEX($EP$174:$BJP$174,1,MATCH(DW$11&$DC141,$EP$173:$BJP$173,0))=\"★\",\"\",INDEX($EP$174:$BJP$174,1,MATCH(DW$11&$DC141,$EP$173:$BJP$173,0))),\"\")","v":""},"","",null,{"$f":"IF(DP141=\"\",\"\",$DN$10)&IF(DQ141=\"\",\"\",$DO$10)","v":""},{"$f":"IF(DR141=\"\",\"\",$DR$11)&IF(SUM(DR141:DS141)=1,IF(DS141=\"\",\"\",$DS$11),IF(DS141=\"\",\"\",CHAR(10)&$DS$11))&IF(SUM(DR141:DT141)=1,IF(DT141=\"\",\"\",$DT$11),IF(DT141=\"\",\"\",CHAR(10)&$DT$11))","v":""},{"$f":"IF(DN141=\"\",\"\",IF(ISERROR(VALUE(SUBSTITUTE(DN141,\"円\",\"\"))),ASC(SUBSTITUTE(DN141,\"円\",\"\")),VALUE(ASC(SUBSTITUTE(DN141,\"円\",\"\")))))","v":""},{"$f":"IF(DO141=\"\",\"\",IF(ISERROR(VALUE(SUBSTITUTE(DO141,\"円\",\"\"))),ASC(SUBSTITUTE(DO141,\"円\",\"\")),VALUE(ASC(SUBSTITUTE(DO141,\"円\",\"\")))))","v":""},{"$f":"IF(DM141=\"\",\"\",SUBSTITUTE(SUBSTITUTE(DM141,\" \",\"\"),\"　\",\"\"))","v":""},{"$f":"IF(SUM(DW141:DY141)=0,\"\",IF(DW141=\"\",\"\",$DW$11)&IF(DX141=\"\",\"\",IF(DW141=\"\",$DX$11,CHAR(10)&$DX$11))&IF(DY141=\"\",\"\",IF(AND(DW141=\"\",DX141=\"\"),$DY$11,CHAR(10)&$DY$11)))","v":""}]
[{"$nulls":33},{"$f":"EF141","v":""},{"$nulls":63},{"$f":"IF(DD141=\"\",\"\",IF(OR(DL141=\"\",DL141=\"－\",DL141=\"-\"),\"－\",ASC(CONCATENATE(DL141))))","v":""}]
[null,{"$f":"DC143","v":"⑰"},null,{"$f":"CONCATENATE(EE143)","v":""},{"$nulls":7},{"$f":"CONCATENATE(DD143)","v":""},{"$nulls":13},{"$f":"CONCATENATE(DG143)","v":""},{"$nulls":3},{"$f":"CONCATENATE(DF143)","v":""},{"$nulls":3},{"$f":"(ED143)","v":""},{"$nulls":3},{"$f":"(EC143)","v":""},{"$nulls":3},{"$f":"CONCATENATE(EA143)","v":""},null,{"$f":"ASC(CONCATENATE(DE143))","v":""},{"$nulls":3},{"$f":"CONCATENATE(DU143)","v":""},{"$nulls":41},{"$f":"ASC(CONCATENATE(DH143))","v":""},null,{"$f":"ASC(CONCATENATE(DI143))","v":""},null,{"$f":"ASC(CONCATENATE(DJ143))","v":""},null,{"$f":"ASC(CONCATENATE(DV143))","v":""},null,{"$f":"IF(DD143=\"\",\"\",IF(OR(DK143=\"\",DK143=\"－\",DK143=\"-\"),\"－\",ASC(CONCATENATE(DK143))))","v":""},{"$nulls":3},{"$f":"CONCATENATE(EB143)","v":""},{"$nulls":4},"⑰",{"$f":"IFERROR(IF(INDEX($EP$174:$BJP$174,1,MATCH(DD$11&$DC143,$EP$173:$BJP$173,0))=\"★\",\"\",INDEX($EP$174:$BJP$174,1,MATCH(DD$11&$DC143,$EP$173:$BJP$173,0))),\"\")","v":""},"","","","","","","","","","","","","","","","","","","","","",null,{"$f":"IF(DP143=\"\",\"\",$DN$10)&IF(DQ143=\"\",\"\",$DO$10)","v":""},{"$f":"IF(DR143=\"\",\"\",$DR$11)&IF(SUM(DR143:DS143)=1,IF(DS143=\"\",\"\",$DS$11),IF(DS143=\"\",\"\",CHAR(10)&$DS$11))&IF(SUM(DR143:DT143)=1,IF(DT143=\"\",\"\",$DT$11),IF(DT143=\"\",\"\",CHAR(10)&$DT$11))","v":""},{"$f":"IF(DN143=\"\",\"\",IF(ISERROR(VALUE(SUBSTITUTE(DN143,\"円\",\"\"))),ASC(SUBSTITUTE(DN143,\"円\",\"\")),VALUE(ASC(SUBSTITUTE(DN143,\"円\",\"\")))))","v":""},{"$f":"IF(DO143=\"\",\"\",IF(ISERROR(VALUE(SUBSTITUTE(DO143,\"円\",\"\"))),ASC(SUBSTITUTE(DO143,\"円\",\"\")),VALUE(ASC(SUBSTITUTE(DO143,\"円\",\"\")))))","v":""},{"$f":"IF(DM143=\"\",\"\",SUBSTITUTE(SUBSTITUTE(DM143,\" \",\"\"),\"　\",\"\"))","v":""},{"$f":"IF(SUM(DW143:DY143)=0,\"\",IF(DW143=\"\",\"\",$DW$11)&IF(DX143=\"\",\"\",IF(DW143=\"\",$DX$11,CHAR(10)&$DX$11))&IF(DY143=\"\",\"\",IF(AND(DW143=\"\",DX143=\"\"),$DY$11,CHAR(10)&$DY$11)))","v":""}]
[{"$nulls":33},{"$f":"EF143","v":""},{"$nulls":63},{"$f":"IF(DD143=\"\",\"\",IF(OR(DL143=\"\",DL143=\"－\",DL143=\"-\"),\"－\",ASC(CONCATENATE(DL143))))","v":""}]
[null,{"$f":"DC145","v":"⑱"},null,{"$f":"CONCATENATE(EE145)","v":""},{"$nulls":7},{"$f":"CONCATENATE(DD145)","v":""},{"$nulls":13},{"$f":"CONCATENATE(DG145)","v":""},{"$nulls":3},{"$f":"CONCATENATE(DF145)","v":""},{"$nulls":3},{"$f":"(ED145)","v":""},{"$nulls":3},{"$f":"(EC145)","v":""},{"$nulls":3},{"$f":"CONCATENATE(EA145)","v":""},null,{"$f":"ASC(CONCATENATE(DE145))","v":""},{"$nulls":3},{"$f":"CONCATENATE(DU145)","v":""},{"$nulls":41},{"$f":"ASC(CONCATENATE(DH145))","v":""},null,{"$f":"ASC(CONCATENATE(DI145))","v":""},null,{"$f":"ASC(CONCATENATE(DJ145))","v":""},null,{"$f":"ASC(CONCATENATE(DV145))","v":""},null,{"$f":"IF(DD145=\"\",\"\",IF(OR(DK145=\"\",DK145=\"－\",DK145=\"-\"),\"－\",ASC(CONCATENATE(DK145))))","v":""},{"$nulls":3},{"$f":"CONCATENATE(EB145)","v":""},{"$nulls":4},"⑱",{"$f":"IFERROR(IF(INDEX($EP$174:$BJP$174,1,MATCH(DD$11&$DC145,$EP$173:$BJP$173,0))=\"★\",\"\",INDEX($EP$174:$BJP$174,1,MATCH(DD$11&$DC145,$EP$173:$BJP$173,0))),\"\")","v":""},"","","","","","","","","","","","","","","","","","","","","",null,{"$f":"IF(DP145=\"\",\"\",$DN$10)&IF(DQ145=\"\",\"\",$DO$10)","v":""},{"$f":"IF(DR145=\"\",\"\",$DR$11)&IF(SUM(DR145:DS145)=1,IF(DS145=\"\",\"\",$DS$11),IF(DS145=\"\",\"\",CHAR(10)&$DS$11))&IF(SUM(DR145:DT145)=1,IF(DT145=\"\",\"\",$DT$11),IF(DT145=\"\",\"\",CHAR(10)&$DT$11))","v":""},{"$f":"IF(DN145=\"\",\"\",IF(ISERROR(VALUE(SUBSTITUTE(DN145,\"円\",\"\"))),ASC(SUBSTITUTE(DN145,\"円\",\"\")),VALUE(ASC(SUBSTITUTE(DN145,\"円\",\"\")))))","v":""},{"$f":"IF(DO145=\"\",\"\",IF(ISERROR(VALUE(SUBSTITUTE(DO145,\"円\",\"\"))),ASC(SUBSTITUTE(DO145,\"円\",\"\")),VALUE(ASC(SUBSTITUTE(DO145,\"円\",\"\")))))","v":""},{"$f":"IF(DM145=\"\",\"\",SUBSTITUTE(SUBSTITUTE(DM145,\" \",\"\"),\"　\",\"\"))","v":""},{"$f":"IF(SUM(DW145:DY145)=0,\"\",IF(DW145=\"\",\"\",$DW$11)&IF(DX145=\"\",\"\",IF(DW145=\"\",$DX$11,CHAR(10)&$DX$11))&IF(DY145=\"\",\"\",IF(AND(DW145=\"\",DX145=\"\"),$DY$11,CHAR(10)&$DY$11)))","v":""}]
[{"$nulls":33},{"$f":"EF145","v":""},{"$nulls":63},{"$f":"IF(DD145=\"\",\"\",IF(OR(DL145=\"\",DL145=\"－\",DL145=\"-\"),\"－\",ASC(CONCATENATE(DL145))))","v":""}]
[null,{"$f":"DC147","v":"⑲"},null,{"$f":"CONCATENATE(EE147)","v":""},{"$nulls":7},{"$f":"CONCATENATE(DD147)","v":""},{"$nulls":13},{"$f":"CONCATENATE(DG147)","v":""},{"$nulls":3},{"$f":"CONCATENATE(DF147)","v":""},{"$nulls":3},{"$f":"(ED147)","v":""},{"$nulls":3},{"$f":"(EC147)","v":""},{"$nulls":3},{"$f":"CONCATENATE(EA147)","v":""},null,{"$f":"ASC(CONCATENATE(DE147))","v":""},{"$nulls":3},{"$f":"CONCATENATE(DU147)","v":""},{"$nulls":41},{"$f":"ASC(CONCATENATE(DH147))","v":""},null,{"$f":"ASC(CONCATENATE(DI147))","v":""},null,{"$f":"ASC(CONCATENATE(DJ147))","v":""},null,{"$f":"ASC(CONCATENATE(DV147))","v":""},null,{"$f":"IF(DD147=\"\",\"\",IF(OR(DK147=\"\",DK147=\"－\",DK147=\"-\"),\"－\",ASC(CONCATENATE(DK147))))","v":""},{"$nulls":3},{"$f":"CONCATENATE(EB147)","v":""},{"$nulls":4},"⑲",{"$f":"IFERROR(IF(INDEX($EP$174:$BJP$174,1,MATCH(DD$11&$DC147,$EP$173:$BJP$173,0))=\"★\",\"\",INDEX($EP$174:$BJP$174,1,MATCH(DD$11&$DC147,$EP$173:$BJP$173,0))),\"\")","v":""},"","","","","","","","","","","","","","","","","","","","","",null,{"$f":"IF(DP147=\"\",\"\",$DN$10)&IF(DQ147=\"\",\"\",$DO$10)","v":""},{"$f":"IF(DR147=\"\",\"\",$DR$11)&IF(SUM(DR147:DS147)=1,IF(DS147=\"\",\"\",$DS$11),IF(DS147=\"\",\"\",CHAR(10)&$DS$11))&IF(SUM(DR147:DT147)=1,IF(DT147=\"\",\"\",$DT$11),IF(DT147=\"\",\"\",CHAR(10)&$DT$11))","v":""},{"$f":"IF(DN147=\"\",\"\",IF(ISERROR(VALUE(SUBSTITUTE(DN147,\"円\",\"\"))),ASC(SUBSTITUTE(DN147,\"円\",\"\")),VALUE(ASC(SUBSTITUTE(DN147,\"円\",\"\")))))","v":""},{"$f":"IF(DO147=\"\",\"\",IF(ISERROR(VALUE(SUBSTITUTE(DO147,\"円\",\"\"))),ASC(SUBSTITUTE(DO147,\"円\",\"\")),VALUE(ASC(SUBSTITUTE(DO147,\"円\",\"\")))))","v":""},{"$f":"IF(DM147=\"\",\"\",SUBSTITUTE(SUBSTITUTE(DM147,\" \",\"\"),\"　\",\"\"))","v":""},{"$f":"IF(SUM(DW147:DY147)=0,\"\",IF(DW147=\"\",\"\",$DW$11)&IF(DX147=\"\",\"\",IF(DW147=\"\",$DX$11,CHAR(10)&$DX$11))&IF(DY147=\"\",\"\",IF(AND(DW147=\"\",DX147=\"\"),$DY$11,CHAR(10)&$DY$11)))","v":""}]
[{"$nulls":33},{"$f":"EF147","v":""},{"$nulls":63},{"$f":"IF(DD147=\"\",\"\",IF(OR(DL147=\"\",DL147=\"－\",DL147=\"-\"),\"－\",ASC(CONCATENATE(DL147))))","v":""}]
[null,{"$f":"DC149","v":"⑳"},null,{"$f":"CONCATENATE(EE149)","v":""},{"$nulls":7},{"$f":"CONCATENATE(DD149)","v":""},{"$nulls":13},{"$f":"CONCATENATE(DG149)","v":""},{"$nulls":3},{"$f":"CONCATENATE(DF149)","v":""},{"$nulls":3},{"$f":"(ED149)","v":""},{"$nulls":3},{"$f":"(EC149)","v":""},{"$nulls":3},{"$f":"CONCATENATE(EA149)","v":""},null,{"$f":"ASC(CONCATENATE(DE149))","v":""},{"$nulls":3},{"$f":"CONCATENATE(DU149)","v":""},{"$nulls":41},{"$f":"ASC(CONCATENATE(DH149))","v":""},null,{"$f":"ASC(CONCATENATE(DI149))","v":""},null,{"$f":"ASC(CONCATENATE(DJ149))","v":""},null,{"$f":"ASC(CONCATENATE(DV149))","v":""},null,{"$f":"IF(DD149=\"\",\"\",IF(OR(DK149=\"\",DK149=\"－\",DK149=\"-\"),\"－\",ASC(CONCATENATE(DK149))))","v":""},{"$nulls":3},{"$f":"CONCATENATE(EB149)","v":""},{"$nulls":4},"⑳",{"$f":"IFERROR(IF(INDEX($EP$174:$BJP$174,1,MATCH(DD$11&$DC149,$EP$173:$BJP$173,0))=\"★\",\"\",INDEX($EP$174:$BJP$174,1,MATCH(DD$11&$DC149,$EP$173:$BJP$173,0))),\"\")","v":""},{"$f":"IFERROR(IF(INDEX($EP$174:$BJP$174,1,MATCH(DE$11&$DC149,$EP$173:$BJP$173,0))=\"★\",\"\",INDEX($EP$174:$BJP$174,1,MATCH(DE$11&$DC149,$EP$173:$BJP$173,0))),\"\")","v":""},"","","","","","","","","","","","","","","","","","","","",null,{"$f":"IF(DP149=\"\",\"\",$DN$10)&IF(DQ149=\"\",\"\",$DO$10)","v":""},{"$f":"IF(DR149=\"\",\"\",$DR$11)&IF(SUM(DR149:DS149)=1,IF(DS149=\"\",\"\",$DS$11),IF(DS149=\"\",\"\",CHAR(10)&$DS$11))&IF(SUM(DR149:DT149)=1,IF(DT149=\"\",\"\",$DT$11),IF(DT149=\"\",\"\",CHAR(10)&$DT$11))","v":""},{"$f":"IF(DN149=\"\",\"\",IF(ISERROR(VALUE(SUBSTITUTE(DN149,\"円\",\"\"))),ASC(SUBSTITUTE(DN149,\"円\",\"\")),VALUE(ASC(SUBSTITUTE(DN149,\"円\",\"\")))))","v":""},{"$f":"IF(DO149=\"\",\"\",IF(ISERROR(VALUE(SUBSTITUTE(DO149,\"円\",\"\"))),ASC(SUBSTITUTE(DO149,\"円\",\"\")),VALUE(ASC(SUBSTITUTE(DO149,\"円\",\"\")))))","v":""},{"$f":"IF(DM149=\"\",\"\",SUBSTITUTE(SUBSTITUTE(DM149,\" \",\"\"),\"　\",\"\"))","v":""},{"$f":"IF(SUM(DW149:DY149)=0,\"\",IF(DW149=\"\",\"\",$DW$11)&IF(DX149=\"\",\"\",IF(DW149=\"\",$DX$11,CHAR(10)&$DX$11))&IF(DY149=\"\",\"\",IF(AND(DW149=\"\",DX149=\"\"),$DY$11,CHAR(10)&$DY$11)))","v":""}]
[{"$nulls":33},{"$f":"EF149","v":""},{"$nulls":63},{"$f":"IF(DD149=\"\",\"\",IF(OR(DL149=\"\",DL149=\"－\",DL149=\"-\"),\"－\",ASC(CONCATENATE(DL149))))","v":""}]
[]
[null,"商品画像一覧",null,null,{"$f":"DC141","v":"⑯"},{"$nulls":19},{"$f":"DC143","v":"⑰"},{"$nulls":19},{"$f":"DC145","v":"⑱"},{"$nulls":19},{"$f":"DC147","v":"⑲"},{"$nulls":19},{"$f":"DC149","v":"⑳"}]
{"$rows_empty":9}
[{"$nulls":4},{"$f":"E152&\"裏\"","v":"⑯裏"},{"$nulls":19},{"$f":"Y152&\"裏\"","v":"⑰裏"},{"$nulls":19},{"$f":"AS152&\"裏\"","v":"⑱裏"},{"$nulls":19},{"$f":"BM152&\"裏\"","v":"⑲裏"},{"$nulls":19},{"$f":"CG152&\"裏\"","v":"⑳裏"}]
{"$rows_empty":10}
[{"$nulls":145},{"$f":"INDEX(入力フォーム!$N3:$BEQ3,1,MATCH(EP$175,入力フォーム!$N$5:$BEQ$5,0))","v":"会社名等"},{"$f":"INDEX(入力フォーム!$N3:$BEQ3,1,MATCH(EQ$175,入力フォーム!$N$5:$BEQ$5,0))","v":"会社名等(フリガナ)"},{"$f":"INDEX(入力フォーム!$N3:$BEQ3,1,MATCH(ER$175,入力フォーム!$N$5:$BEQ$5,0))","v":"会社所在地(〒)"},{"$f":"INDEX(入力フォーム!$N3:$BEQ3,1,MATCH(ES$175,入力フォーム!$N$5:$BEQ$5,0))","v":"会社所在地(住所)"},{"$f":"INDEX(入力フォーム!$N3:$BEQ3,1,MATCH(ET$175,入力フォーム!$N$5:$BEQ$5,0))","v":"工場所在地(〒)"},{"$f":"INDEX(入力フォーム!$N3:$BEQ3,1,MATCH(EU$175,入力フォーム!$N$5:$BEQ$5,0))","v":"工場所在地(住所)"},{"$f":"INDEX(入力フォーム!$N3:$BEQ3,1,MATCH(EV$175,入力フォーム!$N$5:$BEQ$5,0))","v":"会社TEL"},{"$f":"INDEX(入力フォーム!$N3:$BEQ3,1,MATCH(EW$175,入力フォーム!$N$5:$BEQ$5,0))","v":"会社FAX"},{"$f":"INDEX(入力フォーム!$N3:$BEQ3,1,MATCH(EX$175,入力フォーム!$N$5:$BEQ$5,0))","v":"会社Email"},{"$f":"INDEX(入力フォーム!$N3:$BEQ3,1,MATCH(EY$175,入力フォーム!$N$5:$BEQ$5,0))","v":"代表者役職"},{"$f":"INDEX(入力フォーム!$N3:$BEQ3,1,MATCH(EZ$175,入力フォーム!$N$5:$BEQ$5,0))","v":"代表者氏名"},{"$f":"INDEX(入力フォーム!$N3:$BEQ3,1,MATCH(FA$175,入力フォーム!$N$5:$BEQ$5,0))","v":"年間売上高"},{"$f":"INDEX(入力フォーム!$N3:$BEQ3,1,MATCH(FB$175,入力フォーム!$N$5:$BEQ$5,0))","v":"従業員数"},{"$f":"INDEX(入力フォーム!$N3:$BEQ3,1,MATCH(FC$175,入力フォーム!$N$5:$BEQ$5,0))","v":"担当者役職"},{"$f":"INDEX(入力フォーム!$N3:$BEQ3,1,MATCH(FD$175,入力フォーム!$N$5:$BEQ$5,0))","v":"担当者氏名"},{"$f":"INDEX(入力フォーム!$N3:$BEQ3,1,MATCH(FE$175,入力フォーム!$N$5:$BEQ$5,0))","v":"担当者TEL"},{"$f":"INDEX(入力フォーム!$N3:$BEQ3,1,MATCH(FF$175,入力フォーム!$N$5:$BEQ$5,0))","v":"担当者Email"},{"$f":"INDEX(入力フォーム!$N3:$BEQ3,1,MATCH(FG$175,入力フォーム!$N$5:$BEQ$5,0))","v":"ホームページURL"},{"$f":"INDEX(入力フォーム!$N3:$BEQ3,1,MATCH(FH$175,入力フォーム!$N$5:$BEQ$5,0))","v":"メッセージ・\nアピールポイント"},{"$f":"INDEX(入力フォーム!$N3:$BEQ3,1,MATCH(FI$175,入力フォーム!$N$5:$BEQ$5,0))","v":"飲料"},{"$f":"INDEX(入力フォーム!$N3:$BEQ3,1,MATCH(FJ$175,入力フォーム!$N$5:$BEQ$5,0))","v":"酒類"},{"$f":"INDEX(入力フォーム!$N3:$BEQ3,1,MATCH(FK$175,入力フォーム!$N$5:$BEQ$5,0))","v":"菓子類"},{"$f":"INDEX(入力フォーム!$N3:$BEQ3,1,MATCH(FL$175,入力フォーム!$N$5:$BEQ$5,0))","v":"水産品・水産加工品"},{"$f":"INDEX(入力フォーム!$N3:$BEQ3,1,MATCH(FM$175,入力フォーム!$N$5:$BEQ$5,0))","v":"畜産品・畜産加工品"},{"$f":"INDEX(入力フォーム!$N3:$BEQ3,1,MATCH(FN$175,入力フォーム!$N$5:$BEQ$5,0))","v":"農産加工品"},{"$f":"INDEX(入力フォーム!$N3:$BEQ3,1,MATCH(FO$175,入力フォーム!$N$5:$BEQ$5,0))","v":"茶・茶加工品"},{"$f":"INDEX(入力フォーム!$N3:$BEQ3,1,MATCH(FP$175,入力フォーム!$N$5:$BEQ$5,0))","v":"調味料"},{"$f":"INDEX(入力フォーム!$N3:$BEQ3,1,MATCH(FQ$175,入力フォーム!$N$5:$BEQ$5,0))","v":"食品卸"},{"$f":"INDEX(入力フォーム!$N3:$BEQ3,1,MATCH(FR$175,入力フォーム!$N$5:$BEQ$5,0))","v":"その他・業種"},{"$f":"INDEX(入力フォーム!$N3:$BEQ3,1,MATCH(FS$175,入力フォーム!$N$5:$BEQ$5,0))","v":"その他・業種・"},{"$f":"INDEX(入力フォーム!$N3:$BEQ3,1,MATCH(FT$175,入力フォーム!$N$5:$BEQ$5,0))","v":"日本語"},{"$f":"INDEX(入力フォーム!$N3:$BEQ3,1,MATCH(FU$175,入力フォーム!$N$5:$BEQ$5,0))","v":"中国語"},{"$f":"INDEX(入力フォーム!$N3:$BEQ3,1,MATCH(FV$175,入力フォーム!$N$5:$BEQ$5,0))","v":"英語"},{"$f":"INDEX(入力フォーム!$N3:$BEQ3,1,MATCH(FW$175,入力フォーム!$N$5:$BEQ$5,0))","v":"その他・言語"},{"$f":"INDEX(入力フォーム!$N3:$BEQ3,1,MATCH(FX$175,入力フォーム!$N$5:$BEQ$5,0))","v":"その他・言語・"},{"$f":"INDEX(入力フォーム!$N3:$BEQ3,1,MATCH(FY$175,入力フォーム!$N$5:$BEQ$5,0))","v":"可"},{"$f":"INDEX(入力フォーム!$N3:$BEQ3,1,MATCH(FZ$175,入力フォーム!$N$5:$BEQ$5,0))","v":"不可"},{"$f":"INDEX(入力フォーム!$N3:$BEQ3,1,MATCH(GA$175,入力フォーム!$N$5:$BEQ$5,0))","v":"生産・製造工程\nアピールポイント\n"},{"$f":"INDEX(入力フォーム!$N3:$BEQ3,1,MATCH(GB$175,入力フォーム!$N$5:$BEQ$5,0))","v":"HACCP"},{"$f":"INDEX(入力フォーム!$N3:$BEQ3,1,MATCH(GC$175,入力フォーム!$N$5:$BEQ$5,0))","v":"G-GAP"},{"$f":"INDEX(入力フォーム!$N3:$BEQ3,1,MATCH(GD$175,入力フォーム!$N$5:$BEQ$5,0))","v":"ISO22000"},{"$f":"INDEX(入力フォーム!$N3:$BEQ3,1,MATCH(GE$175,入力フォーム!$N$5:$BEQ$5,0))","v":"ISO9001"},{"$f":"INDEX(入力フォーム!$N3:$BEQ3,1,MATCH(GF$175,入力フォーム!$N$5:$BEQ$5,0))","v":"Halal"},{"$f":"INDEX(入力フォーム!$N3:$BEQ3,1,MATCH(GG$175,入力フォーム!$N$5:$BEQ$5,0))","v":"FSSC22000"},{"$f":"INDEX(入力フォーム!$N3:$BEQ3,1,MATCH(GH$175,入力フォーム!$N$5:$BEQ$5,0))","v":"Organic JAS"},{"$f":"INDEX(入力フォーム!$N3:$BEQ3,1,MATCH(GI$175,入力フォーム!$N$5:$BEQ$5,0))","v":"なし・取得"},{"$f":"INDEX(入力フォーム!$N3:$BEQ3,1,MATCH(GJ$175,入力フォーム!$N$5:$BEQ$5,0))","v":"その他・取得"},{"$f":"INDEX(入力フォーム!$N3:$BEQ3,1,MATCH(GK$175,入力フォーム!$N$5:$BEQ$5,0))","v":"その他・取得・"},{"$f":"INDEX(入力フォーム!$N3:$BEQ3,1,MATCH(GL$175,入力フォーム!$N$5:$BEQ$5,0))","v":0},{"$f":"INDEX(入力フォーム!$N3:$BEQ3,1,MATCH(GM$175,入力フォーム!$N$5:$BEQ$5,0))","v":"なし・品質"},{"$f":"INDEX(入力フォーム!$N3:$BEQ3,1,MATCH(GN$175,入力フォーム!$N$5:$BEQ$5,0))","v":"あり・品質"},{"$f":"INDEX(入力フォーム!$N3:$BEQ3,1,MATCH(GO$175,入力フォーム!$N$5:$BEQ$5,0))","v":"あり・品質・"},{"$f":"INDEX(入力フォーム!$N3:$BEQ3,1,MATCH(GP$175,入力フォーム!$N$5:$BEQ$5,0))","v":"衛生・生産"},{"$f":"INDEX(入力フォーム!$N3:$BEQ3,1,MATCH(GQ$175,入力フォーム!$N$5:$BEQ$5,0))","v":"衛生・従業員"},{"$f":"INDEX(入力フォーム!$N3:$BEQ3,1,MATCH(GR$175,入力フォーム!$N$5:$BEQ$5,0))","v":"衛生・施設"},{"$f":"INDEX(入力フォーム!$N3:$BEQ3,1,MATCH(GS$175,入力フォーム!$N$5:$BEQ$5,0))","v":"危機・担当"},{"$f":"INDEX(入力フォーム!$N3:$BEQ3,1,MATCH(GT$175,入力フォーム!$N$5:$BEQ$5,0))","v":"危機・担当連絡"},{"$f":"INDEX(入力フォーム!$N3:$BEQ3,1,MATCH(GU$175,入力フォーム!$N$5:$BEQ$5,0))","v":"危機・対応"},{"$f":"INDEX(入力フォーム!$N3:$BEQ3,1,MATCH(GV$175,入力フォーム!$N$5:$BEQ$5,0))","v":0},{"$f":"INDEX(入力フォーム!$N3:$BEQ3,1,MATCH(GW$175,入力フォーム!$N$5:$BEQ$5,0))","v":"商談・中国"},{"$f":"INDEX(入力フォーム!$N3:$BEQ3,1,MATCH(GX$175,入力フォーム!$N$5:$BEQ$5,0))","v":"商談・韓国"},{"$f":"INDEX(入力フォーム!$N3:$BEQ3,1,MATCH(GY$175,入力フォーム!$N$5:$BEQ$5,0))","v":"商談・台湾"},{"$f":"INDEX(入力フォーム!$N3:$BEQ3,1,MATCH(GZ$175,入力フォーム!$N$5:$BEQ$5,0))","v":"商談・香港"},{"$f":"INDEX(入力フォーム!$N3:$BEQ3,1,MATCH(HA$175,入力フォーム!$N$5:$BEQ$5,0))","v":"商談・シンガポール"},{"$f":"INDEX(入力フォーム!$N3:$BEQ3,1,MATCH(HB$175,入力フォーム!$N$5:$BEQ$5,0))","v":"商談・タイ"},{"$f":"INDEX(入力フォーム!$N3:$BEQ3,1,MATCH(HC$175,入力フォーム!$N$5:$BEQ$5,0))","v":"商談・マレーシア"},{"$f":"INDEX(入力フォーム!$N3:$BEQ3,1,MATCH(HD$175,入力フォーム!$N$5:$BEQ$5,0))","v":"商談・ベトナム"},{"$f":"INDEX(入力フォーム!$N3:$BEQ3,1,MATCH(HE$175,入力フォーム!$N$5:$BEQ$5,0))","v":"商談・北米"},{"$f":"INDEX(入力フォーム!$N3:$BEQ3,1,MATCH(HF$175,入力フォーム!$N$5:$BEQ$5,0))","v":"商談・ドバイ"},{"$f":"INDEX(入力フォーム!$N3:$BEQ3,1,MATCH(HG$175,入力フォーム!$N$5:$BEQ$5,0))","v":"商談・フランス"},{"$f":"INDEX(入力フォーム!$N3:$BEQ3,1,MATCH(HH$175,入力フォーム!$N$5:$BEQ$5,0))","v":"商談・イギリス"},{"$f":"INDEX(入力フォーム!$N3:$BEQ3,1,MATCH(HI$175,入力フォーム!$N$5:$BEQ$5,0))","v":"商談・ブラジル"},{"$f":"INDEX(入力フォーム!$N3:$BEQ3,1,MATCH(HJ$175,入力フォーム!$N$5:$BEQ$5,0))","v":"商談・オーストラリア"},{"$f":"INDEX(入力フォーム!$N3:$BEQ3,1,MATCH(HK$175,入力フォーム!$N$5:$BEQ$5,0))","v":"その他・商談"},{"$f":"INDEX(入力フォーム!$N3:$BEQ3,1,MATCH(HL$175,入力フォーム!$N$5:$BEQ$5,0))","v":"その他・商談・"},{"$f":"INDEX(入力フォーム!$N3:$BEQ3,1,MATCH(HM$175,入力フォーム!$N$5:$BEQ$5,0))","v":"輸出・中国"},{"$f":"INDEX(入力フォーム!$N3:$BEQ3,1,MATCH(HN$175,入力フォーム!$N$5:$BEQ$5,0))","v":"輸出・韓国"},{"$f":"INDEX(入力フォーム!$N3:$BEQ3,1,MATCH(HO$175,入力フォーム!$N$5:$BEQ$5,0))","v":"輸出・台湾"},{"$f":"INDEX(入力フォーム!$N3:$BEQ3,1,MATCH(HP$175,入力フォーム!$N$5:$BEQ$5,0))","v":"輸出・香港"},{"$f":"INDEX(入力フォーム!$N3:$BEQ3,1,MATCH(HQ$175,入力フォーム!$N$5:$BEQ$5,0))","v":"輸出・シンガポール"},{"$f":"INDEX(入力フォーム!$N3:$BEQ3,1,MATCH(HR$175,入力フォーム!$N$5:$BEQ$5,0))","v":"輸出・タイ"},{"$f":"INDEX(入力フォーム!$N3:$BEQ3,1,MATCH(HS$175,入力フォーム!$N$5:$BEQ$5,0))","v":"輸出・マレーシア"},{"$f":"INDEX(入力フォーム!$N3:$BEQ3,1,MATCH(HT$175,入力フォーム!$N$5:$BEQ$5,0))","v":"輸出・ベトナム"},{"$f":"INDEX(入力フォーム!$N3:$BEQ3,1,MATCH(HU$175,入力フォーム!$N$5:$BEQ$5,0))","v":"輸出・北米"},{"$f":"INDEX(入力フォーム!$N3:$BEQ3,1,MATCH(HV$175,入力フォーム!$N$5:$BEQ$5,0))","v":"輸出・ドバイ"},{"$f":"INDEX(入力フォーム!$N3:$BEQ3,1,MATCH(HW$175,入力フォーム!$N$5:$BEQ$5,0))","v":"輸出・フランス"},{"$f":"INDEX(入力フォーム!$N3:$BEQ3,1,MATCH(HX$175,入力フォーム!$N$5:$BEQ$5,0))","v":"輸出・イギリス"},{"$f":"INDEX(入力フォーム!$N3:$BEQ3,1,MATCH(HY$175,入力フォーム!$N$5:$BEQ$5,0))","v":"輸出・ブラジル"},{"$f":"INDEX(入力フォーム!$N3:$BEQ3,1,MATCH(HZ$175,入力フォーム!$N$5:$BEQ$5,0))","v":"輸出・オーストラリア"},{"$f":"INDEX(入力フォーム!$N3:$BEQ3,1,MATCH(IA$175,入力フォーム!$N$5:$BEQ$5,0))","v":"その他・輸出"},{"$f":"INDEX(入力フォーム!$N3:$BEQ3,1,MATCH(IB$175,入力フォーム!$N$5:$BEQ$5,0))","v":"その他・輸出・"},{"$f":"INDEX(入力フォーム!$N3:$BEQ3,1,MATCH(IC$175,入力フォーム!$N$5:$BEQ$5,0))","v":"あり・輸出"},{"$f":"INDEX(入力フォーム!$N3:$BEQ3,1,MATCH(ID$175,入力フォーム!$N$5:$BEQ$5,0))","v":"なし・輸出"},{"$f":"INDEX(入力フォーム!$N3:$BEQ3,1,MATCH(IE$175,入力フォーム!$N$5:$BEQ$5,0))","v":0},{"$f":"INDEX(入力フォーム!$N3:$BEQ3,1,MATCH(IF$175,入力フォーム!$N$5:$BEQ$5,0))","v":"商品名①"},{"$f":"INDEX(入力フォーム!$N3:$BEQ3,1,MATCH(IG$175,入力フォーム!$N$5:$BEQ$5,0))","v":"提供可能時期①"},{"$f":"INDEX(入力フォーム!$N3:$BEQ3,1,MATCH(IH$175,入力フォーム!$N$5:$BEQ$5,0))","v":"主原料産地①"},{"$f":"INDEX(入力フォーム!$N3:$BEQ3,1,MATCH(II$175,入力フォーム!$N$5:$BEQ$5,0))","v":"内容量①"},{"$f":"INDEX(入力フォーム!$N3:$BEQ3,1,MATCH(IJ$175,入力フォーム!$N$5:$BEQ$5,0))","v":"1ケースあたり①"},{"$f":"INDEX(入力フォーム!$N3:$BEQ3,1,MATCH(IK$175,入力フォーム!$N$5:$BEQ$5,0))","v":"発注リードタイム①"},{"$f":"INDEX(入力フォーム!$N3:$BEQ3,1,MATCH(IL$175,入力フォーム!$N$5:$BEQ$5,0))","v":"最大ケース①"},{"$f":"INDEX(入力フォーム!$N3:$BEQ3,1,MATCH(IM$175,入力フォーム!$N$5:$BEQ$5,0))","v":"最小ケース①"},{"$f":"INDEX(入力フォーム!$N3:$BEQ3,1,MATCH(IN$175,入力フォーム!$N$5:$BEQ$5,0))","v":"縦①"},{"$f":"INDEX(入力フォーム!$N3:$BEQ3,1,MATCH(IO$175,入力フォーム!$N$5:$BEQ$5,0))","v":"横①"},{"$f":"INDEX(入力フォーム!$N3:$BEQ3,1,MATCH(IP$175,入力フォーム!$N$5:$BEQ$5,0))","v":"高さ①"},{"$f":"INDEX(入力フォーム!$N3:$BEQ3,1,MATCH(IQ$175,入力フォーム!$N$5:$BEQ$5,0))","v":"重量①"},{"$f":"INDEX(入力フォーム!$N3:$BEQ3,1,MATCH(IR$175,入力フォーム!$N$5:$BEQ$5,0))","v":"賞味期限①"},{"$f":"INDEX(入力フォーム!$N3:$BEQ3,1,MATCH(IS$175,入力フォーム!$N$5:$BEQ$5,0))","v":"消費期限①"},{"$f":"INDEX(入力フォーム!$N3:$BEQ3,1,MATCH(IT$175,入力フォーム!$N$5:$BEQ$5,0))","v":"JANコード①"},{"$f":"INDEX(入力フォーム!$N3:$BEQ3,1,MATCH(IU$175,入力フォーム!$N$5:$BEQ$5,0))","v":"希望小売①"},{"$f":"INDEX(入力フォーム!$N3:$BEQ3,1,MATCH(IV$175,入力フォーム!$N$5:$BEQ$5,0))","v":"仕切単価①"},{"$f":"INDEX(入力フォーム!$N3:$BEQ3,1,MATCH(IW$175,入力フォーム!$N$5:$BEQ$5,0))","v":"工場出し①"},{"$f":"INDEX(入力フォーム!$N3:$BEQ3,1,MATCH(IX$175,入力フォーム!$N$5:$BEQ$5,0))","v":"関東向け①"},{"$f":"INDEX(入力フォーム!$N3:$BEQ3,1,MATCH(IY$175,入力フォーム!$N$5:$BEQ$5,0))","v":"関西向け①"},{"$f":"INDEX(入力フォーム!$N3:$BEQ3,1,MATCH(IZ$175,入力フォーム!$N$5:$BEQ$5,0))","v":"8%①"},{"$f":"INDEX(入力フォーム!$N3:$BEQ3,1,MATCH(JA$175,入力フォーム!$N$5:$BEQ$5,0))","v":"10%①"},{"$f":"INDEX(入力フォーム!$N3:$BEQ3,1,MATCH(JB$175,入力フォーム!$N$5:$BEQ$5,0))","v":"常温①"},{"$f":"INDEX(入力フォーム!$N3:$BEQ3,1,MATCH(JC$175,入力フォーム!$N$5:$BEQ$5,0))","v":"冷蔵①"},{"$f":"INDEX(入力フォーム!$N3:$BEQ3,1,MATCH(JD$175,入力フォーム!$N$5:$BEQ$5,0))","v":"冷凍①"},{"$f":"INDEX(入力フォーム!$N3:$BEQ3,1,MATCH(JE$175,入力フォーム!$N$5:$BEQ$5,0))","v":"外食①"},{"$f":"INDEX(入力フォーム!$N3:$BEQ3,1,MATCH(JF$175,入力フォーム!$N$5:$BEQ$5,0))","v":"中食①"},{"$f":"INDEX(入力フォーム!$N3:$BEQ3,1,MATCH(JG$175,入力フォーム!$N$5:$BEQ$5,0))","v":"商社・卸売①"},{"$f":"INDEX(入力フォーム!$N3:$BEQ3,1,MATCH(JH$175,入力フォーム!$N$5:$BEQ$5,0))","v":"メーカー①"},{"$f":"INDEX(入力フォーム!$N3:$BEQ3,1,MATCH(JI$175,入力フォーム!$N$5:$BEQ$5,0))","v":"スーパーマーケット①"},{"$f":"INDEX(入力フォーム!$N3:$BEQ3,1,MATCH(JJ$175,入力フォーム!$N$5:$BEQ$5,0))","v":"百貨店①"},{"$f":"INDEX(入力フォーム!$N3:$BEQ3,1,MATCH(JK$175,入力フォーム!$N$5:$BEQ$5,0))","v":"その他小売①"},{"$f":"INDEX(入力フォーム!$N3:$BEQ3,1,MATCH(JL$175,入力フォーム!$N$5:$BEQ$5,0))","v":"ホテル・宴会・レジャー①"},{"$f":"INDEX(入力フォーム!$N3:$BEQ3,1,MATCH(JM$175,入力フォーム!$N$5:$BEQ$5,0))","v":"その他・ターゲット①"},{"$f":"INDEX(入力フォーム!$N3:$BEQ3,1,MATCH(JN$175,入力フォーム!$N$5:$BEQ$5,0))","v":"その他・ターゲット・①"},{"$f":"INDEX(入力フォーム!$N3:$BEQ3,1,MATCH(JO$175,入力フォーム!$N$5:$BEQ$5,0))","v":"業務用対応可能①"},{"$f":"INDEX(入力フォーム!$N3:$BEQ3,1,MATCH(JP$175,入力フォーム!$N$5:$BEQ$5,0))","v":"ギフト対応可能①"},{"$f":"INDEX(入力フォーム!$N3:$BEQ3,1,MATCH(JQ$175,入力フォーム!$N$5:$BEQ$5,0))","v":"ターゲット①"},{"$f":"INDEX(入力フォーム!$N3:$BEQ3,1,MATCH(JR$175,入力フォーム!$N$5:$BEQ$5,0))","v":"利用シーン①"},{"$f":"INDEX(入力フォーム!$N3:$BEQ3,1,MATCH(JS$175,入力フォーム!$N$5:$BEQ$5,0))","v":"商品特徴①"},{"$f":"INDEX(入力フォーム!$N3:$BEQ3,1,MATCH(JT$175,入力フォーム!$N$5:$BEQ$5,0))","v":"えび①"},{"$f":"INDEX(入力フォーム!$N3:$BEQ3,1,MATCH(JU$175,入力フォーム!$N$5:$BEQ$5,0))","v":"かに①"},{"$f":"INDEX(入力フォーム!$N3:$BEQ3,1,MATCH(JV$175,入力フォーム!$N$5:$BEQ$5,0))","v":"小麦①"},{"$f":"INDEX(入力フォーム!$N3:$BEQ3,1,MATCH(JW$175,入力フォーム!$N$5:$BEQ$5,0))","v":"そば①"},{"$f":"INDEX(入力フォーム!$N3:$BEQ3,1,MATCH(JX$175,入力フォーム!$N$5:$BEQ$5,0))","v":"卵①"},{"$f":"INDEX(入力フォーム!$N3:$BEQ3,1,MATCH(JY$175,入力フォーム!$N$5:$BEQ$5,0))","v":"乳①"},{"$f":"INDEX(入力フォーム!$N3:$BEQ3,1,MATCH(JZ$175,入力フォーム!$N$5:$BEQ$5,0))","v":"落花生①"},{"$f":"INDEX(入力フォーム!$N3:$BEQ3,1,MATCH(KA$175,入力フォーム!$N$5:$BEQ$5,0))","v":"あわび①"},{"$f":"INDEX(入力フォーム!$N3:$BEQ3,1,MATCH(KB$175,入力フォーム!$N$5:$BEQ$5,0))","v":"いか①"},{"$f":"INDEX(入力フォーム!$N3:$BEQ3,1,MATCH(KC$175,入力フォーム!$N$5:$BEQ$5,0))","v":"いくら①"},{"$f":"INDEX(入力フォーム!$N3:$BEQ3,1,MATCH(KD$175,入力フォーム!$N$5:$BEQ$5,0))","v":"オレンジ①"},{"$f":"INDEX(入力フォーム!$N3:$BEQ3,1,MATCH(KE$175,入力フォーム!$N$5:$BEQ$5,0))","v":"カシューナッツ①"},{"$f":"INDEX(入力フォーム!$N3:$BEQ3,1,MATCH(KF$175,入力フォーム!$N$5:$BEQ$5,0))","v":"キウイフルーツ①"},{"$f":"INDEX(入力フォーム!$N3:$BEQ3,1,MATCH(KG$175,入力フォーム!$N$5:$BEQ$5,0))","v":"牛肉①"},{"$f":"INDEX(入力フォーム!$N3:$BEQ3,1,MATCH(KH$175,入力フォーム!$N$5:$BEQ$5,0))","v":"くるみ①"},{"$f":"INDEX(入力フォーム!$N3:$BEQ3,1,MATCH(KI$175,入力フォーム!$N$5:$BEQ$5,0))","v":"ごま①"},{"$f":"INDEX(入力フォーム!$N3:$BEQ3,1,MATCH(KJ$175,入力フォーム!$N$5:$BEQ$5,0))","v":"さけ①"},{"$f":"INDEX(入力フォーム!$N3:$BEQ3,1,MATCH(KK$175,入力フォーム!$N$5:$BEQ$5,0))","v":"さば①"},{"$f":"INDEX(入力フォーム!$N3:$BEQ3,1,MATCH(KL$175,入力フォーム!$N$5:$BEQ$5,0))","v":"大豆①"},{"$f":"INDEX(入力フォーム!$N3:$BEQ3,1,MATCH(KM$175,入力フォーム!$N$5:$BEQ$5,0))","v":"鶏肉①"},{"$f":"INDEX(入力フォーム!$N3:$BEQ3,1,MATCH(KN$175,入力フォーム!$N$5:$BEQ$5,0))","v":"バナナ①"},{"$f":"INDEX(入力フォーム!$N3:$BEQ3,1,MATCH(KO$175,入力フォーム!$N$5:$BEQ$5,0))","v":"豚肉①"},{"$f":"INDEX(入力フォーム!$N3:$BEQ3,1,MATCH(KP$175,入力フォーム!$N$5:$BEQ$5,0))","v":"まつたけ①"},{"$f":"INDEX(入力フォーム!$N3:$BEQ3,1,MATCH(KQ$175,入力フォーム!$N$5:$BEQ$5,0))","v":"もも①"},{"$f":"INDEX(入力フォーム!$N3:$BEQ3,1,MATCH(KR$175,入力フォーム!$N$5:$BEQ$5,0))","v":"やまいも①"},{"$f":"INDEX(入力フォーム!$N3:$BEQ3,1,MATCH(KS$175,入力フォーム!$N$5:$BEQ$5,0))","v":"りんご①"},{"$f":"INDEX(入力フォーム!$N3:$BEQ3,1,MATCH(KT$175,入力フォーム!$N$5:$BEQ$5,0))","v":"ゼラチン①"},{"$f":"INDEX(入力フォーム!$N3:$BEQ3,1,MATCH(KU$175,入力フォーム!$N$5:$BEQ$5,0))","v":"備考①"},{"$f":"INDEX(入力フォーム!$N3:$BEQ3,1,MATCH(KV$175,入力フォーム!$N$5:$BEQ$5,0))","v":0},{"$f":"INDEX(入力フォーム!$N3:$BEQ3,1,MATCH(KW$175,入力フォーム!$N$5:$BEQ$5,0))","v":"商品名②"},{"$f":"INDEX(入力フォーム!$N3:$BEQ3,1,MATCH(KX$175,入力フォーム!$N$5:$BEQ$5,0))","v":"提供可能時期②"},{"$f":"INDEX(入力フォーム!$N3:$BEQ3,1,MATCH(KY$175,入力フォーム!$N$5:$BEQ$5,0))","v":"主原料産地②"},{"$f":"INDEX(入力フォーム!$N3:$BEQ3,1,MATCH(KZ$175,入力フォーム!$N$5:$BEQ$5,0))","v":"内容量②"},{"$f":"INDEX(入力フォーム!$N3:$BEQ3,1,MATCH(LA$175,入力フォーム!$N$5:$BEQ$5,0))","v":"1ケースあたり②"},{"$f":"INDEX(入力フォーム!$N3:$BEQ3,1,MATCH(LB$175,入力フォーム!$N$5:$BEQ$5,0))","v":"発注リードタイム②"},{"$f":"INDEX(入力フォーム!$N3:$BEQ3,1,MATCH(LC$175,入力フォーム!$N$5:$BEQ$5,0))","v":"最大ケース②"},{"$f":"INDEX(入力フォーム!$N3:$BEQ3,1,MATCH(LD$175,入力フォーム!$N$5:$BEQ$5,0))","v":"最小ケース②"},{"$f":"INDEX(入力フォーム!$N3:$BEQ3,1,MATCH(LE$175,入力フォーム!$N$5:$BEQ$5,0))","v":"縦②"},{"$f":"INDEX(入力フォーム!$N3:$BEQ3,1,MATCH(LF$175,入力フォーム!$N$5:$BEQ$5,0))","v":"横②"},{"$f":"INDEX(入力フォーム!$N3:$BEQ3,1,MATCH(LG$175,入力フォーム!$N$5:$BEQ$5,0))","v":"高さ②"},{"$f":"INDEX(入力フォーム!$N3:$BEQ3,1,MATCH(LH$175,入力フォーム!$N$5:$BEQ$5,0))","v":"重量②"},{"$f":"INDEX(入力フォーム!$N3:$BEQ3,1,MATCH(LI$175,入力フォーム!$N$5:$BEQ$5,0))","v":"賞味期限②"},{"$f":"INDEX(入力フォーム!$N3:$BEQ3,1,MATCH(LJ$175,入力フォーム!$N$5:$BEQ$5,0))","v":"消費期限②"},{"$f":"INDEX(入力フォーム!$N3:$BEQ3,1,MATCH(LK$175,入力フォーム!$N$5:$BEQ$5,0))","v":"JANコード②"},{"$f":"INDEX(入力フォーム!$N3:$BEQ3,1,MATCH(LL$175,入力フォーム!$N$5:$BEQ$5,0))","v":"希望小売②"},{"$f":"INDEX(入力フォーム!$N3:$BEQ3,1,MATCH(LM$175,入力フォーム!$N$5:$BEQ$5,0))","v":"仕切単価②"},{"$f":"INDEX(入力フォーム!$N3:$BEQ3,1,MATCH(LN$175,入力フォーム!$N$5:$BEQ$5,0))","v":"工場出し②"},{"$f":"INDEX(入力フォーム!$N3:$BEQ3,1,MATCH(LO$175,入力フォーム!$N$5:$BEQ$5,0))","v":"関東向け②"},{"$f":"INDEX(入力フォーム!$N3:$BEQ3,1,MATCH(LP$175,入力フォーム!$N$5:$BEQ$5,0))","v":"関西向け②"},{"$f":"INDEX(入力フォーム!$N3:$BEQ3,1,MATCH(LQ$175,入力フォーム!$N$5:$BEQ$5,0))","v":"8%②"},{"$f":"INDEX(入力フォーム!$N3:$BEQ3,1,MATCH(LR$175,入力フォーム!$N$5:$BEQ$5,0))","v":"10%②"},{"$f":"INDEX(入力フォーム!$N3:$BEQ3,1,MATCH(LS$175,入力フォーム!$N$5:$BEQ$5,0))","v":"常温②"},{"$f":"INDEX(入力フォーム!$N3:$BEQ3,1,MATCH(LT$175,入力フォーム!$N$5:$BEQ$5,0))","v":"冷蔵②"},{"$f":"INDEX(入力フォーム!$N3:$BEQ3,1,MATCH(LU$175,入力フォーム!$N$5:$BEQ$5,0))","v":"冷凍②"},{"$f":"INDEX(入力フォーム!$N3:$BEQ3,1,MATCH(LV$175,入力フォーム!$N$5:$BEQ$5,0))","v":"外食②"},{"$f":"INDEX(入力フォーム!$N3:$BEQ3,1,MATCH(LW$175,入力フォーム!$N$5:$BEQ$5,0))","v":"中食②"},{"$f":"INDEX(入力フォーム!$N3:$BEQ3,1,MATCH(LX$175,入力フォーム!$N$5:$BEQ$5,0))","v":"商社・卸売②"},{"$f":"INDEX(入力フォーム!$N3:$BEQ3,1,MATCH(LY$175,入力フォーム!$N$5:$BEQ$5,0))","v":"メーカー②"},{"$f":"INDEX(入力フォーム!$N3:$BEQ3,1,MATCH(LZ$175,入力フォーム!$N$5:$BEQ$5,0))","v":"スーパーマーケット②"},{"$f":"INDEX(入力フォーム!$N3:$BEQ3,1,MATCH(MA$175,入力フォーム!$N$5:$BEQ$5,0))","v":"百貨店②"},{"$f":"INDEX(入力フォーム!$N3:$BEQ3,1,MATCH(MB$175,入力フォーム!$N$5:$BEQ$5,0))","v":"その他小売②"},{"$f":"INDEX(入力フォーム!$N3:$BEQ3,1,MATCH(MC$175,入力フォーム!$N$5:$BEQ$5,0))","v":"ホテル・宴会・レジャー②"},{"$f":"INDEX(入力フォーム!$N3:$BEQ3,1,MATCH(MD$175,入力フォーム!$N$5:$BEQ$5,0))","v":"その他・ターゲット②"},{"$f":"INDEX(入力フォーム!$N3:$BEQ3,1,MATCH(ME$175,入力フォーム!$N$5:$BEQ$5,0))","v":"その他・ターゲット・②"},{"$f":"INDEX(入力フォーム!$N3:$BEQ3,1,MATCH(MF$175,入力フォーム!$N$5:$BEQ$5,0))","v":"業務用対応可能②"},{"$f":"INDEX(入力フォーム!$N3:$BEQ3,1,MATCH(MG$175,入力フォーム!$N$5:$BEQ$5,0))","v":"ギフト対応可能②"},{"$f":"INDEX(入力フォーム!$N3:$BEQ3,1,MATCH(MH$175,入力フォーム!$N$5:$BEQ$5,0))","v":"ターゲット②"},{"$f":"INDEX(入力フォーム!$N3:$BEQ3,1,MATCH(MI$175,入力フォーム!$N$5:$BEQ$5,0))","v":"利用シーン②"},{"$f":"INDEX(入力フォーム!$N3:$BEQ3,1,MATCH(MJ$175,入力フォーム!$N$5:$BEQ$5,0))","v":"商品特徴②"},{"$f":"INDEX(入力フォーム!$N3:$BEQ3,1,MATCH(MK$175,入力フォーム!$N$5:$BEQ$5,0))","v":"えび②"},{"$f":"INDEX(入力フォーム!$N3:$BEQ3,1,MATCH(ML$175,入力フォーム!$N$5:$BEQ$5,0))","v":"かに②"},{"$f":"INDEX(入力フォーム!$N3:$BEQ3,1,MATCH(MM$175,入力フォーム!$N$5:$BEQ$5,0))","v":"小麦②"},{"$f":"INDEX(入力フォーム!$N3:$BEQ3,1,MATCH(MN$175,入力フォーム!$N$5:$BEQ$5,0))","v":"そば②"},{"$f":"INDEX(入力フォーム!$N3:$BEQ3,1,MATCH(MO$175,入力フォーム!$N$5:$BEQ$5,0))","v":"卵②"},{"$f":"INDEX(入力フォーム!$N3:$BEQ3,1,MATCH(MP$175,入力フォーム!$N$5:$BEQ$5,0))","v":"乳②"},{"$f":"INDEX(入力フォーム!$N3:$BEQ3,1,MATCH(MQ$175,入力フォーム!$N$5:$BEQ$5,0))","v":"落花生②"},{"$f":"INDEX(入力フォーム!$N3:$BEQ3,1,MATCH(MR$175,入力フォーム!$N$5:$BEQ$5,0))","v":"あわび②"},{"$f":"INDEX(入力フォーム!$N3:$BEQ3,1,MATCH(MS$175,入力フォーム!$N$5:$BEQ$5,0))","v":"いか②"},{"$f":"INDEX(入力フォーム!$N3:$BEQ3,1,MATCH(MT$175,入力フォーム!$N$5:$BEQ$5,0))","v":"いくら②"},{"$f":"INDEX(入力フォーム!$N3:$BEQ3,1,MATCH(MU$175,入力フォーム!$N$5:$BEQ$5,0))","v":"オレンジ②"},{"$f":"INDEX(入力フォーム!$N3:$BEQ3,1,MATCH(MV$175,入力フォーム!$N$5:$BEQ$5,0))","v":"カシューナッツ②"},{"$f":"INDEX(入力フォーム!$N3:$BEQ3,1,MATCH(MW$175,入力フォーム!$N$5:$BEQ$5,0))","v":"キウイフルーツ②"},{"$f":"INDEX(入力フォーム!$N3:$BEQ3,1,MATCH(MX$175,入力フォーム!$N$5:$BEQ$5,0))","v":"牛肉②"},{"$f":"INDEX(入力フォーム!$N3:$BEQ3,1,MATCH(MY$175,入力フォーム!$N$5:$BEQ$5,0))","v":"くるみ②"},{"$f":"INDEX(入力フォーム!$N3:$BEQ3,1,MATCH(MZ$175,入力フォーム!$N$5:$BEQ$5,0))","v":"ごま②"},{"$f":"INDEX(入力フォーム!$N3:$BEQ3,1,MATCH(NA$175,入力フォーム!$N$5:$BEQ$5,0))","v":"さけ②"},{"$f":"INDEX(入力フォーム!$N3:$BEQ3,1,MATCH(NB$175,入力フォーム!$N$5:$BEQ$5,0))","v":"さば②"},{"$f":"INDEX(入力フォーム!$N3:$BEQ3,1,MATCH(NC$175,入力フォーム!$N$5:$BEQ$5,0))","v":"大豆②"},{"$f":"INDEX(入力フォーム!$N3:$BEQ3,1,MATCH(ND$175,入力フォーム!$N$5:$BEQ$5,0))","v":"鶏肉②"},{"$f":"INDEX(入力フォーム!$N3:$BEQ3,1,MATCH(NE$175,入力フォーム!$N$5:$BEQ$5,0))","v":"バナナ②"},{"$f":"INDEX(入力フォーム!$N3:$BEQ3,1,MATCH(NF$175,入力フォーム!$N$5:$BEQ$5,0))","v":"豚肉②"},{"$f":"INDEX(入力フォーム!$N3:$BEQ3,1,MATCH(NG$175,入力フォーム!$N$5:$BEQ$5,0))","v":"まつたけ②"},{"$f":"INDEX(入力フォーム!$N3:$BEQ3,1,MATCH(NH$175,入力フォーム!$N$5:$BEQ$5,0))","v":"もも②"},{"$f":"INDEX(入力フォーム!$N3:$BEQ3,1,MATCH(NI$175,入力フォーム!$N$5:$BEQ$5,0))","v":"やまいも②"},{"$f":"INDEX(入力フォーム!$N3:$BEQ3,1,MATCH(NJ$175,入力フォーム!$N$5:$BEQ$5,0))","v":"りんご②"},{"$f":"INDEX(入力フォーム!$N3:$BEQ3,1,MATCH(NK$175,入力フォーム!$N$5:$BEQ$5,0))","v":"ゼラチン②"},{"$f":"INDEX(入力フォーム!$N3:$BEQ3,1,MATCH(NL$175,入力フォーム!$N$5:$BEQ$5,0))","v":"備考②"},{"$f":"INDEX(入力フォーム!$N3:$BEQ3,1,MATCH(NM$175,入力フォーム!$N$5:$BEQ$5,0))","v":0},{"$f":"INDEX(入力フォーム!$N3:$BEQ3,1,MATCH(NN$175,入力フォーム!$N$5:$BEQ$5,0))","v":"商品名③"},{"$f":"INDEX(入力フォーム!$N3:$BEQ3,1,MATCH(NO$175,入力フォーム!$N$5:$BEQ$5,0))","v":"提供可能時期③"},{"$f":"INDEX(入力フォーム!$N3:$BEQ3,1,MATCH(NP$175,入力フォーム!$N$5:$BEQ$5,0))","v":"主原料産地③"},{"$f":"INDEX(入力フォーム!$N3:$BEQ3,1,MATCH(NQ$175,入力フォーム!$N$5:$BEQ$5,0))","v":"内容量③"},{"$f":"INDEX(入力フォーム!$N3:$BEQ3,1,MATCH(NR$175,入力フォーム!$N$5:$BEQ$5,0))","v":"1ケースあたり③"},{"$f":"INDEX(入力フォーム!$N3:$BEQ3,1,MATCH(NS$175,入力フォーム!$N$5:$BEQ$5,0))","v":"発注リードタイム③"},{"$f":"INDEX(入力フォーム!$N3:$BEQ3,1,MATCH(NT$175,入力フォーム!$N$5:$BEQ$5,0))","v":"最大ケース③"},{"$f":"INDEX(入力フォーム!$N3:$BEQ3,1,MATCH(NU$175,入力フォーム!$N$5:$BEQ$5,0))","v":"最小ケース③"},{"$f":"INDEX(入力フォーム!$N3:$BEQ3,1,MATCH(NV$175,入力フォーム!$N$5:$BEQ$5,0))","v":"縦③"},{"$f":"INDEX(入力フォーム!$N3:$BEQ3,1,MATCH(NW$175,入力フォーム!$N$5:$BEQ$5,0))","v":"横③"},{"$f":"INDEX(入力フォーム!$N3:$BEQ3,1,MATCH(NX$175,入力フォーム!$N$5:$BEQ$5,0))","v":"高さ③"},{"$f":"INDEX(入力フォーム!$N3:$BEQ3,1,MATCH(NY$175,入力フォーム!$N$5:$BEQ$5,0))","v":"重量③"},{"$f":"INDEX(入力フォーム!$N3:$BEQ3,1,MATCH(NZ$175,入力フォーム!$N$5:$BEQ$5,0))","v":"賞味期限③"},{"$f":"INDEX(入力フォーム!$N3:$BEQ3,1,MATCH(OA$175,入力フォーム!$N$5:$BEQ$5,0))","v":"消費期限③"},{"$f":"INDEX(入力フォーム!$N3:$BEQ3,1,MATCH(OB$175,入力フォーム!$N$5:$BEQ$5,0))","v":"JANコード③"},{"$f":"INDEX(入力フォーム!$N3:$BEQ3,1,MATCH(OC$175,入力フォーム!$N$5:$BEQ$5,0))","v":"希望小売③"},{"$f":"INDEX(入力フォーム!$N3:$BEQ3,1,MATCH(OD$175,入力フォーム!$N$5:$BEQ$5,0))","v":"仕切単価③"},{"$f":"INDEX(入力フォーム!$N3:$BEQ3,1,MATCH(OE$175,入力フォーム!$N$5:$BEQ$5,0))","v":"工場出し③"},{"$f":"INDEX(入力フォーム!$N3:$BEQ3,1,MATCH(OF$175,入力フォーム!$N$5:$BEQ$5,0))","v":"関東向け③"},{"$f":"INDEX(入力フォーム!$N3:$BEQ3,1,MATCH(OG$175,入力フォーム!$N$5:$BEQ$5,0))","v":"関西向け③"},{"$f":"INDEX(入力フォーム!$N3:$BEQ3,1,MATCH(OH$175,入力フォーム!$N$5:$BEQ$5,0))","v":"8%③"},{"$f":"INDEX(入力フォーム!$N3:$BEQ3,1,MATCH(OI$175,入力フォーム!$N$5:$BEQ$5,0))","v":"10%③"},{"$f":"INDEX(入力フォーム!$N3:$BEQ3,1,MATCH(OJ$175,入力フォーム!$N$5:$BEQ$5,0))","v":"常温③"},{"$f":"INDEX(入力フォーム!$N3:$BEQ3,1,MATCH(OK$175,入力フォーム!$N$5:$BEQ$5,0))","v":"冷蔵③"},{"$f":"INDEX(入力フォーム!$N3:$BEQ3,1,MATCH(OL$175,入力フォーム!$N$5:$BEQ$5,0))","v":"冷凍③"},{"$f":"INDEX(入力フォーム!$N3:$BEQ3,1,MATCH(OM$175,入力フォーム!$N$5:$BEQ$5,0))","v":"外食③"},{"$f":"INDEX(入力フォーム!$N3:$BEQ3,1,MATCH(ON$175,入力フォーム!$N$5:$BEQ$5,0))","v":"中食③"},{"$f":"INDEX(入力フォーム!$N3:$BEQ3,1,MATCH(OO$175,入力フォーム!$N$5:$BEQ$5,0))","v":"商社・卸売③"},{"$f":"INDEX(入力フォーム!$N3:$BEQ3,1,MATCH(OP$175,入力フォーム!$N$5:$BEQ$5,0))","v":"メーカー③"},{"$f":"INDEX(入力フォーム!$N3:$BEQ3,1,MATCH(OQ$175,入力フォーム!$N$5:$BEQ$5,0))","v":"スーパーマーケット③"},{"$f":"INDEX(入力フォーム!$N3:$BEQ3,1,MATCH(OR$175,入力フォーム!$N$5:$BEQ$5,0))","v":"百貨店③"},{"$f":"INDEX(入力フォーム!$N3:$BEQ3,1,MATCH(OS$175,入力フォーム!$N$5:$BEQ$5,0))","v":"その他小売③"},{"$f":"INDEX(入力フォーム!$N3:$BEQ3,1,MATCH(OT$175,入力フォーム!$N$5:$BEQ$5,0))","v":"ホテル・宴会・レジャー③"},{"$f":"INDEX(入力フォーム!$N3:$BEQ3,1,MATCH(OU$175,入力フォーム!$N$5:$BEQ$5,0))","v":"その他・ターゲット③"},{"$f":"INDEX(入力フォーム!$N3:$BEQ3,1,MATCH(OV$175,入力フォーム!$N$5:$BEQ$5,0))","v":"その他・ターゲット・③"},{"$f":"INDEX(入力フォーム!$N3:$BEQ3,1,MATCH(OW$175,入力フォーム!$N$5:$BEQ$5,0))","v":"業務用対応可能③"},{"$f":"INDEX(入力フォーム!$N3:$BEQ3,1,MATCH(OX$175,入力フォーム!$N$5:$BEQ$5,0))","v":"ギフト対応可能③"},{"$f":"INDEX(入力フォーム!$N3:$BEQ3,1,MATCH(OY$175,入力フォーム!$N$5:$BEQ$5,0))","v":"ターゲット③"},{"$f":"INDEX(入力フォーム!$N3:$BEQ3,1,MATCH(OZ$175,入力フォーム!$N$5:$BEQ$5,0))","v":"利用シーン③"},{"$f":"INDEX(入力フォーム!$N3:$BEQ3,1,MATCH(PA$175,入力フォーム!$N$5:$BEQ$5,0))","v":"商品特徴③"},{"$f":"INDEX(入力フォーム!$N3:$BEQ3,1,MATCH(PB$175,入力フォーム!$N$5:$BEQ$5,0))","v":"えび③"},{"$f":"INDEX(入力フォーム!$N3:$BEQ3,1,MATCH(PC$175,入力フォーム!$N$5:$BEQ$5,0))","v":"かに③"},{"$f":"INDEX(入力フォーム!$N3:$BEQ3,1,MATCH(PD$175,入力フォーム!$N$5:$BEQ$5,0))","v":"小麦③"},{"$f":"INDEX(入力フォーム!$N3:$BEQ3,1,MATCH(PE$175,入力フォーム!$N$5:$BEQ$5,0))","v":"そば③"},{"$f":"INDEX(入力フォーム!$N3:$BEQ3,1,MATCH(PF$175,入力フォーム!$N$5:$BEQ$5,0))","v":"卵③"},{"$f":"INDEX(入力フォーム!$N3:$BEQ3,1,MATCH(PG$175,入力フォーム!$N$5:$BEQ$5,0))","v":"乳③"},{"$f":"INDEX(入力フォーム!$N3:$BEQ3,1,MATCH(PH$175,入力フォーム!$N$5:$BEQ$5,0))","v":"落花生③"},{"$f":"INDEX(入力フォーム!$N3:$BEQ3,1,MATCH(PI$175,入力フォーム!$N$5:$BEQ$5,0))","v":"あわび③"},{"$f":"INDEX(入力フォーム!$N3:$BEQ3,1,MATCH(PJ$175,入力フォーム!$N$5:$BEQ$5,0))","v":"いか③"},{"$f":"INDEX(入力フォーム!$N3:$BEQ3,1,MATCH(PK$175,入力フォーム!$N$5:$BEQ$5,0))","v":"いくら③"},{"$f":"INDEX(入力フォーム!$N3:$BEQ3,1,MATCH(PL$175,入力フォーム!$N$5:$BEQ$5,0))","v":"オレンジ③"},{"$f":"INDEX(入力フォーム!$N3:$BEQ3,1,MATCH(PM$175,入力フォーム!$N$5:$BEQ$5,0))","v":"カシューナッツ③"},{"$f":"INDEX(入力フォーム!$N3:$BEQ3,1,MATCH(PN$175,入力フォーム!$N$5:$BEQ$5,0))","v":"キウイフルーツ③"},{"$f":"INDEX(入力フォーム!$N3:$BEQ3,1,MATCH(PO$175,入力フォーム!$N$5:$BEQ$5,0))","v":"牛肉③"},{"$f":"INDEX(入力フォーム!$N3:$BEQ3,1,MATCH(PP$175,入力フォーム!$N$5:$BEQ$5,0))","v":"くるみ③"},{"$f":"INDEX(入力フォーム!$N3:$BEQ3,1,MATCH(PQ$175,入力フォーム!$N$5:$BEQ$5,0))","v":"ごま③"},{"$f":"INDEX(入力フォーム!$N3:$BEQ3,1,MATCH(PR$175,入力フォーム!$N$5:$BEQ$5,0))","v":"さけ③"},{"$f":"INDEX(入力フォーム!$N3:$BEQ3,1,MATCH(PS$175,入力フォーム!$N$5:$BEQ$5,0))","v":"さば③"},{"$f":"INDEX(入力フォーム!$N3:$BEQ3,1,MATCH(PT$175,入力フォーム!$N$5:$BEQ$5,0))","v":"大豆③"},{"$f":"INDEX(入力フォーム!$N3:$BEQ3,1,MATCH(PU$175,入力フォーム!$N$5:$BEQ$5,0))","v":"鶏肉③"},{"$f":"INDEX(入力フォーム!$N3:$BEQ3,1,MATCH(PV$175,入力フォーム!$N$5:$BEQ$5,0))","v":"バナナ③"},{"$f":"INDEX(入力フォーム!$N3:$BEQ3,1,MATCH(PW$175,入力フォーム!$N$5:$BEQ$5,0))","v":"豚肉③"},{"$f":"INDEX(入力フォーム!$N3:$BEQ3,1,MATCH(PX$175,入力フォーム!$N$5:$BEQ$5,0))","v":"まつたけ③"},{"$f":"INDEX(入力フォーム!$N3:$BEQ3,1,MATCH(PY$175,入力フォーム!$N$5:$BEQ$5,0))","v":"もも③"},{"$f":"INDEX(入力フォーム!$N3:$BEQ3,1,MATCH(PZ$175,入力フォーム!$N$5:$BEQ$5,0))","v":"やまいも③"},{"$f":"INDEX(入力フォーム!$N3:$BEQ3,1,MATCH(QA$175,入力フォーム!$N$5:$BEQ$5,0))","v":"りんご③"},{"$f":"INDEX(入力フォーム!$N3:$BEQ3,1,MATCH(QB$175,入力フォーム!$N$5:$BEQ$5,0))","v":"ゼラチン③"},{"$f":"INDEX(入力フォーム!$N3:$BEQ3,1,MATCH(QC$175,入力フォーム!$N$5:$BEQ$5,0))","v":"備考③"},{"$f":"INDEX(入力フォーム!$N3:$BEQ3,1,MATCH(QD$175,入力フォーム!$N$5:$BEQ$5,0))","v":0},{"$f":"INDEX(入力フォーム!$N3:$BEQ3,1,MATCH(QE$175,入力フォーム!$N$5:$BEQ$5,0))","v":"商品名④"},{"$f":"INDEX(入力フォーム!$N3:$BEQ3,1,MATCH(QF$175,入力フォーム!$N$5:$BEQ$5,0))","v":"提供可能時期④"},{"$f":"INDEX(入力フォーム!$N3:$BEQ3,1,MATCH(QG$175,入力フォーム!$N$5:$BEQ$5,0))","v":"主原料産地④"},{"$f":"INDEX(入力フォーム!$N3:$BEQ3,1,MATCH(QH$175,入力フォーム!$N$5:$BEQ$5,0))","v":"内容量④"},{"$f":"INDEX(入力フォーム!$N3:$BEQ3,1,MATCH(QI$175,入力フォーム!$N$5:$BEQ$5,0))","v":"1ケースあたり④"},{"$f":"INDEX(入力フォーム!$N3:$BEQ3,1,MATCH(QJ$175,入力フォーム!$N$5:$BEQ$5,0))","v":"発注リードタイム④"},{"$f":"INDEX(入力フォーム!$N3:$BEQ3,1,MATCH(QK$175,入力フォーム!$N$5:$BEQ$5,0))","v":"最大ケース④"},{"$f":"INDEX(入力フォーム!$N3:$BEQ3,1,MATCH(QL$175,入力フォーム!$N$5:$BEQ$5,0))","v":"最小ケース④"},{"$f":"INDEX(入力フォーム!$N3:$BEQ3,1,MATCH(QM$175,入力フォーム!$N$5:$BEQ$5,0))","v":"縦④"},{"$f":"INDEX(入力フォーム!$N3:$BEQ3,1,MATCH(QN$175,入力フォーム!$N$5:$BEQ$5,0))","v":"横④"},{"$f":"INDEX(入力フォーム!$N3:$BEQ3,1,MATCH(QO$175,入力フォーム!$N$5:$BEQ$5,0))","v":"高さ④"},{"$f":"INDEX(入力フォーム!$N3:$BEQ3,1,MATCH(QP$175,入力フォーム!$N$5:$BEQ$5,0))","v":"重量④"},{"$f":"INDEX(入力フォーム!$N3:$BEQ3,1,MATCH(QQ$175,入力フォーム!$N$5:$BEQ$5,0))","v":"賞味期限④"},{"$f":"INDEX(入力フォーム!$N3:$BEQ3,1,MATCH(QR$175,入力フォーム!$N$5:$BEQ$5,0))","v":"消費期限④"},{"$f":"INDEX(入力フォーム!$N3:$BEQ3,1,MATCH(QS$175,入力フォーム!$N$5:$BEQ$5,0))","v":"JANコード④"},{"$f":"INDEX(入力フォーム!$N3:$BEQ3,1,MATCH(QT$175,入力フォーム!$N$5:$BEQ$5,0))","v":"希望小売④"},{"$f":"INDEX(入力フォーム!$N3:$BEQ3,1,MATCH(QU$175,入力フォーム!$N$5:$BEQ$5,0))","v":"仕切単価④"},{"$f":"INDEX(入力フォーム!$N3:$BEQ3,1,MATCH(QV$175,入力フォーム!$N$5:$BEQ$5,0))","v":"工場出し④"},{"$f":"INDEX(入力フォーム!$N3:$BEQ3,1,MATCH(QW$175,入力フォーム!$N$5:$BEQ$5,0))","v":"関東向け④"},{"$f":"INDEX(入力フォーム!$N3:$BEQ3,1,MATCH(QX$175,入力フォーム!$N$5:$BEQ$5,0))","v":"関西向け④"},{"$f":"INDEX(入力フォーム!$N3:$BEQ3,1,MATCH(QY$175,入力フォーム!$N$5:$BEQ$5,0))","v":"8%④"},{"$f":"INDEX(入力フォーム!$N3:$BEQ3,1,MATCH(QZ$175,入力フォーム!$N$5:$BEQ$5,0))","v":"10%④"},{"$f":"INDEX(入力フォーム!$N3:$BEQ3,1,MATCH(RA$175,入力フォーム!$N$5:$BEQ$5,0))","v":"常温④"},{"$f":"INDEX(入力フォーム!$N3:$BEQ3,1,MATCH(RB$175,入力フォーム!$N$5:$BEQ$5,0))","v":"冷蔵④"},{"$f":"INDEX(入力フォーム!$N3:$BEQ3,1,MATCH(RC$175,入力フォーム!$N$5:$BEQ$5,0))","v":"冷凍④"},{"$f":"INDEX(入力フォーム!$N3:$BEQ3,1,MATCH(RD$175,入力フォーム!$N$5:$BEQ$5,0))","v":"外食④"},{"$f":"INDEX(入力フォーム!$N3:$BEQ3,1,MATCH(RE$175,入力フォーム!$N$5:$BEQ$5,0))","v":"中食④"},{"$f":"INDEX(入力フォーム!$N3:$BEQ3,1,MATCH(RF$175,入力フォーム!$N$5:$BEQ$5,0))","v":"商社・卸売④"},{"$f":"INDEX(入力フォーム!$N3:$BEQ3,1,MATCH(RG$175,入力フォーム!$N$5:$BEQ$5,0))","v":"メーカー④"},{"$f":"INDEX(入力フォーム!$N3:$BEQ3,1,MATCH(RH$175,入力フォーム!$N$5:$BEQ$5,0))","v":"スーパーマーケット④"},{"$f":"INDEX(入力フォーム!$N3:$BEQ3,1,MATCH(RI$175,入力フォーム!$N$5:$BEQ$5,0))","v":"百貨店④"},{"$f":"INDEX(入力フォーム!$N3:$BEQ3,1,MATCH(RJ$175,入力フォーム!$N$5:$BEQ$5,0))","v":"その他小売④"},{"$f":"INDEX(入力フォーム!$N3:$BEQ3,1,MATCH(RK$175,入力フォーム!$N$5:$BEQ$5,0))","v":"ホテル・宴会・レジャー④"},{"$f":"INDEX(入力フォーム!$N3:$BEQ3,1,MATCH(RL$175,入力フォーム!$N$5:$BEQ$5,0))","v":"その他・ターゲット④"},{"$f":"INDEX(入力フォーム!$N3:$BEQ3,1,MATCH(RM$175,入力フォーム!$N$5:$BEQ$5,0))","v":"その他・ターゲット・④"},{"$f":"INDEX(入力フォーム!$N3:$BEQ3,1,MATCH(RN$175,入力フォーム!$N$5:$BEQ$5,0))","v":"業務用対応可能④"},{"$f":"INDEX(入力フォーム!$N3:$BEQ3,1,MATCH(RO$175,入力フォーム!$N$5:$BEQ$5,0))","v":"ギフト対応可能④"},{"$f":"INDEX(入力フォーム!$N3:$BEQ3,1,MATCH(RP$175,入力フォーム!$N$5:$BEQ$5,0))","v":"ターゲット④"},{"$f":"INDEX(入力フォーム!$N3:$BEQ3,1,MATCH(RQ$175,入力フォーム!$N$5:$BEQ$5,0))","v":"利用シーン④"},{"$f":"INDEX(入力フォーム!$N3:$BEQ3,1,MATCH(RR$175,入力フォーム!$N$5:$BEQ$5,0))","v":"商品特徴④"},{"$f":"INDEX(入力フォーム!$N3:$BEQ3,1,MATCH(RS$175,入力フォーム!$N$5:$BEQ$5,0))","v":"えび④"},{"$f":"INDEX(入力フォーム!$N3:$BEQ3,1,MATCH(RT$175,入力フォーム!$N$5:$BEQ$5,0))","v":"かに④"},{"$f":"INDEX(入力フォーム!$N3:$BEQ3,1,MATCH(RU$175,入力フォーム!$N$5:$BEQ$5,0))","v":"小麦④"},{"$f":"INDEX(入力フォーム!$N3:$BEQ3,1,MATCH(RV$175,入力フォーム!$N$5:$BEQ$5,0))","v":"そば④"},{"$f":"INDEX(入力フォーム!$N3:$BEQ3,1,MATCH(RW$175,入力フォーム!$N$5:$BEQ$5,0))","v":"卵④"},{"$f":"INDEX(入力フォーム!$N3:$BEQ3,1,MATCH(RX$175,入力フォーム!$N$5:$BEQ$5,0))","v":"乳④"},{"$f":"INDEX(入力フォーム!$N3:$BEQ3,1,MATCH(RY$175,入力フォーム!$N$5:$BEQ$5,0))","v":"落花生④"},{"$f":"INDEX(入力フォーム!$N3:$BEQ3,1,MATCH(RZ$175,入力フォーム!$N$5:$BEQ$5,0))","v":"あわび④"},{"$f":"INDEX(入力フォーム!$N3:$BEQ3,1,MATCH(SA$175,入力フォーム!$N$5:$BEQ$5,0))","v":"いか④"},{"$f":"INDEX(入力フォーム!$N3:$BEQ3,1,MATCH(SB$175,入力フォーム!$N$5:$BEQ$5,0))","v":"いくら④"},{"$f":"INDEX(入力フォーム!$N3:$BEQ3,1,MATCH(SC$175,入力フォーム!$N$5:$BEQ$5,0))","v":"オレンジ④"},{"$f":"INDEX(入力フォーム!$N3:$BEQ3,1,MATCH(SD$175,入力フォーム!$N$5:$BEQ$5,0))","v":"カシューナッツ④"},{"$f":"INDEX(入力フォーム!$N3:$BEQ3,1,MATCH(SE$175,入力フォーム!$N$5:$BEQ$5,0))","v":"キウイフルーツ④"},{"$f":"INDEX(入力フォーム!$N3:$BEQ3,1,MATCH(SF$175,入力フォーム!$N$5:$BEQ$5,0))","v":"牛肉④"},{"$f":"INDEX(入力フォーム!$N3:$BEQ3,1,MATCH(SG$175,入力フォーム!$N$5:$BEQ$5,0))","v":"くるみ④"},{"$f":"INDEX(入力フォーム!$N3:$BEQ3,1,MATCH(SH$175,入力フォーム!$N$5:$BEQ$5,0))","v":"ごま④"},{"$f":"INDEX(入力フォーム!$N3:$BEQ3,1,MATCH(SI$175,入力フォーム!$N$5:$BEQ$5,0))","v":"さけ④"},{"$f":"INDEX(入力フォーム!$N3:$BEQ3,1,MATCH(SJ$175,入力フォーム!$N$5:$BEQ$5,0))","v":"さば④"},{"$f":"INDEX(入力フォーム!$N3:$BEQ3,1,MATCH(SK$175,入力フォーム!$N$5:$BEQ$5,0))","v":"大豆④"},{"$f":"INDEX(入力フォーム!$N3:$BEQ3,1,MATCH(SL$175,入力フォーム!$N$5:$BEQ$5,0))","v":"鶏肉④"},{"$f":"INDEX(入力フォーム!$N3:$BEQ3,1,MATCH(SM$175,入力フォーム!$N$5:$BEQ$5,0))","v":"バナナ④"},{"$f":"INDEX(入力フォーム!$N3:$BEQ3,1,MATCH(SN$175,入力フォーム!$N$5:$BEQ$5,0))","v":"豚肉④"},{"$f":"INDEX(入力フォーム!$N3:$BEQ3,1,MATCH(SO$175,入力フォーム!$N$5:$BEQ$5,0))","v":"まつたけ④"},{"$f":"INDEX(入力フォーム!$N3:$BEQ3,1,MATCH(SP$175,入力フォーム!$N$5:$BEQ$5,0))","v":"もも④"},{"$f":"INDEX(入力フォーム!$N3:$BEQ3,1,MATCH(SQ$175,入力フォーム!$N$5:$BEQ$5,0))","v":"やまいも④"},{"$f":"INDEX(入力フォーム!$N3:$BEQ3,1,MATCH(SR$175,入力フォーム!$N$5:$BEQ$5,0))","v":"りんご④"},{"$f":"INDEX(入力フォーム!$N3:$BEQ3,1,MATCH(SS$175,入力フォーム!$N$5:$BEQ$5,0))","v":"ゼラチン④"},{"$f":"INDEX(入力フォーム!$N3:$BEQ3,1,MATCH(ST$175,入力フォーム!$N$5:$BEQ$5,0))","v":"備考④"},{"$f":"INDEX(入力フォーム!$N3:$BEQ3,1,MATCH(SU$175,入力フォーム!$N$5:$BEQ$5,0))","v":0},{"$f":"INDEX(入力フォーム!$N3:$BEQ3,1,MATCH(SV$175,入力フォーム!$N$5:$BEQ$5,0))","v":"商品名⑤"},{"$f":"INDEX(入力フォーム!$N3:$BEQ3,1,MATCH(SW$175,入力フォーム!$N$5:$BEQ$5,0))","v":"提供可能時期⑤"},{"$f":"INDEX(入力フォーム!$N3:$BEQ3,1,MATCH(SX$175,入力フォーム!$N$5:$BEQ$5,0))","v":"主原料産地⑤"},{"$f":"INDEX(入力フォーム!$N3:$BEQ3,1,MATCH(SY$175,入力フォーム!$N$5:$BEQ$5,0))","v":"内容量⑤"},{"$f":"INDEX(入力フォーム!$N3:$BEQ3,1,MATCH(SZ$175,入力フォーム!$N$5:$BEQ$5,0))","v":"1ケースあたり⑤"},{"$f":"INDEX(入力フォーム!$N3:$BEQ3,1,MATCH(TA$175,入力フォーム!$N$5:$BEQ$5,0))","v":"発注リードタイム⑤"},{"$f":"INDEX(入力フォーム!$N3:$BEQ3,1,MATCH(TB$175,入力フォーム!$N$5:$BEQ$5,0))","v":"最大ケース⑤"},{"$f":"INDEX(入力フォーム!$N3:$BEQ3,1,MATCH(TC$175,入力フォーム!$N$5:$BEQ$5,0))","v":"最小ケース⑤"},{"$f":"INDEX(入力フォーム!$N3:$BEQ3,1,MATCH(TD$175,入力フォーム!$N$5:$BEQ$5,0))","v":"縦⑤"},{"$f":"INDEX(入力フォーム!$N3:$BEQ3,1,MATCH(TE$175,入力フォーム!$N$5:$BEQ$5,0))","v":"横⑤"},{"$f":"INDEX(入力フォーム!$N3:$BEQ3,1,MATCH(TF$175,入力フォーム!$N$5:$BEQ$5,0))","v":"高さ⑤"},{"$f":"INDEX(入力フォーム!$N3:$BEQ3,1,MATCH(TG$175,入力フォーム!$N$5:$BEQ$5,0))","v":"重量⑤"},{"$f":"INDEX(入力フォーム!$N3:$BEQ3,1,MATCH(TH$175,入力フォーム!$N$5:$BEQ$5,0))","v":"賞味期限⑤"},{"$f":"INDEX(入力フォーム!$N3:$BEQ3,1,MATCH(TI$175,入力フォーム!$N$5:$BEQ$5,0))","v":"消費期限⑤"},{"$f":"INDEX(入力フォーム!$N3:$BEQ3,1,MATCH(TJ$175,入力フォーム!$N$5:$BEQ$5,0))","v":"JANコード⑤"},{"$f":"INDEX(入力フォーム!$N3:$BEQ3,1,MATCH(TK$175,入力フォーム!$N$5:$BEQ$5,0))","v":"希望小売⑤"},{"$f":"INDEX(入力フォーム!$N3:$BEQ3,1,MATCH(TL$175,入力フォーム!$N$5:$BEQ$5,0))","v":"仕切単価⑤"},{"$f":"INDEX(入力フォーム!$N3:$BEQ3,1,MATCH(TM$175,入力フォーム!$N$5:$BEQ$5,0))","v":"工場出し⑤"},{"$f":"INDEX(入力フォーム!$N3:$BEQ3,1,MATCH(TN$175,入力フォーム!$N$5:$BEQ$5,0))","v":"関東向け⑤"},{"$f":"INDEX(入力フォーム!$N3:$BEQ3,1,MATCH(TO$175,入力フォーム!$N$5:$BEQ$5,0))","v":"関西向け⑤"},{"$f":"INDEX(入力フォーム!$N3:$BEQ3,1,MATCH(TP$175,入力フォーム!$N$5:$BEQ$5,0))","v":"8%⑤"},{"$f":"INDEX(入力フォーム!$N3:$BEQ3,1,MATCH(TQ$175,入力フォーム!$N$5:$BEQ$5,0))","v":"10%⑤"},{"$f":"INDEX(入力フォーム!$N3:$BEQ3,1,MATCH(TR$175,入力フォーム!$N$5:$BEQ$5,0))","v":"常温⑤"},{"$f":"INDEX(入力フォーム!$N3:$BEQ3,1,MATCH(TS$175,入力フォーム!$N$5:$BEQ$5,0))","v":"冷蔵⑤"},{"$f":"INDEX(入力フォーム!$N3:$BEQ3,1,MATCH(TT$175,入力フォーム!$N$5:$BEQ$5,0))","v":"冷凍⑤"},{"$f":"INDEX(入力フォーム!$N3:$BEQ3,1,MATCH(TU$175,入力フォーム!$N$5:$BEQ$5,0))","v":"外食⑤"},{"$f":"INDEX(入力フォーム!$N3:$BEQ3,1,MATCH(TV$175,入力フォーム!$N$5:$BEQ$5,0))","v":"中食⑤"},{"$f":"INDEX(入力フォーム!$N3:$BEQ3,1,MATCH(TW$175,入力フォーム!$N$5:$BEQ$5,0))","v":"商社・卸売⑤"},{"$f":"INDEX(入力フォーム!$N3:$BEQ3,1,MATCH(TX$175,入力フォーム!$N$5:$BEQ$5,0))","v":"メーカー⑤"},{"$f":"INDEX(入力フォーム!$N3:$BEQ3,1,MATCH(TY$175,入力フォーム!$N$5:$BEQ$5,0))","v":"スーパーマーケット⑤"},{"$f":"INDEX(入力フォーム!$N3:$BEQ3,1,MATCH(TZ$175,入力フォーム!$N$5:$BEQ$5,0))","v":"百貨店⑤"},{"$f":"INDEX(入力フォーム!$N3:$BEQ3,1,MATCH(UA$175,入力フォーム!$N$5:$BEQ$5,0))","v":"その他小売⑤"},{"$f":"INDEX(入力フォーム!$N3:$BEQ3,1,MATCH(UB$175,入力フォーム!$N$5:$BEQ$5,0))","v":"ホテル・宴会・レジャー⑤"},{"$f":"INDEX(入力フォーム!$N3:$BEQ3,1,MATCH(UC$175,入力フォーム!$N$5:$BEQ$5,0))","v":"その他・ターゲット⑤"},{"$f":"INDEX(入力フォーム!$N3:$BEQ3,1,MATCH(UD$175,入力フォーム!$N$5:$BEQ$5,0))","v":"その他・ターゲット・⑤"},{"$f":"INDEX(入力フォーム!$N3:$BEQ3,1,MATCH(UE$175,入力フォーム!$N$5:$BEQ$5,0))","v":"業務用対応可能⑤"},{"$f":"INDEX(入力フォーム!$N3:$BEQ3,1,MATCH(UF$175,入力フォーム!$N$5:$BEQ$5,0))","v":"ギフト対応可能⑤"},{"$f":"INDEX(入力フォーム!$N3:$BEQ3,1,MATCH(UG$175,入力フォーム!$N$5:$BEQ$5,0))","v":"ターゲット⑤"},{"$f":"INDEX(入力フォーム!$N3:$BEQ3,1,MATCH(UH$175,入力フォーム!$N$5:$BEQ$5,0))","v":"利用シーン⑤"},{"$f":"INDEX(入力フォーム!$N3:$BEQ3,1,MATCH(UI$175,入力フォーム!$N$5:$BEQ$5,0))","v":"商品特徴⑤"},{"$f":"INDEX(入力フォーム!$N3:$BEQ3,1,MATCH(UJ$175,入力フォーム!$N$5:$BEQ$5,0))","v":"えび⑤"},{"$f":"INDEX(入力フォーム!$N3:$BEQ3,1,MATCH(UK$175,入力フォーム!$N$5:$BEQ$5,0))","v":"かに⑤"},{"$f":"INDEX(入力フォーム!$N3:$BEQ3,1,MATCH(UL$175,入力フォーム!$N$5:$BEQ$5,0))","v":"小麦⑤"},{"$f":"INDEX(入力フォーム!$N3:$BEQ3,1,MATCH(UM$175,入力フォーム!$N$5:$BEQ$5,0))","v":"そば⑤"},{"$f":"INDEX(入力フォーム!$N3:$BEQ3,1,MATCH(UN$175,入力フォーム!$N$5:$BEQ$5,0))","v":"卵⑤"},{"$f":"INDEX(入力フォーム!$N3:$BEQ3,1,MATCH(UO$175,入力フォーム!$N$5:$BEQ$5,0))","v":"乳⑤"},{"$f":"INDEX(入力フォーム!$N3:$BEQ3,1,MATCH(UP$175,入力フォーム!$N$5:$BEQ$5,0))","v":"落花生⑤"},{"$f":"INDEX(入力フォーム!$N3:$BEQ3,1,MATCH(UQ$175,入力フォーム!$N$5:$BEQ$5,0))","v":"あわび⑤"},{"$f":"INDEX(入力フォーム!$N3:$BEQ3,1,MATCH(UR$175,入力フォーム!$N$5:$BEQ$5,0))","v":"いか⑤"},{"$f":"INDEX(入力フォーム!$N3:$BEQ3,1,MATCH(US$175,入力フォーム!$N$5:$BEQ$5,0))","v":"いくら⑤"},{"$f":"INDEX(入力フォーム!$N3:$BEQ3,1,MATCH(UT$175,入力フォーム!$N$5:$BEQ$5,0))","v":"オレンジ⑤"},{"$f":"INDEX(入力フォーム!$N3:$BEQ3,1,MATCH(UU$175,入力フォーム!$N$5:$BEQ$5,0))","v":"カシューナッツ⑤"},{"$f":"INDEX(入力フォーム!$N3:$BEQ3,1,MATCH(UV$175,入力フォーム!$N$5:$BEQ$5,0))","v":"キウイフルーツ⑤"},{"$f":"INDEX(入力フォーム!$N3:$BEQ3,1,MATCH(UW$175,入力フォーム!$N$5:$BEQ$5,0))","v":"牛肉⑤"},{"$f":"INDEX(入力フォーム!$N3:$BEQ3,1,MATCH(UX$175,入力フォーム!$N$5:$BEQ$5,0))","v":"くるみ⑤"},{"$f":"INDEX(入力フォーム!$N3:$BEQ3,1,MATCH(UY$175,入力フォーム!$N$5:$BEQ$5,0))","v":"ごま⑤"},{"$f":"INDEX(入力フォーム!$N3:$BEQ3,1,MATCH(UZ$175,入力フォーム!$N$5:$BEQ$5,0))","v":"さけ⑤"},{"$f":"INDEX(入力フォーム!$N3:$BEQ3,1,MATCH(VA$175,入力フォーム!$N$5:$BEQ$5,0))","v":"さば⑤"},{"$f":"INDEX(入力フォーム!$N3:$BEQ3,1,MATCH(VB$175,入力フォーム!$N$5:$BEQ$5,0))","v":"大豆⑤"},{"$f":"INDEX(入力フォーム!$N3:$BEQ3,1,MATCH(VC$175,入力フォーム!$N$5:$BEQ$5,0))","v":"鶏肉⑤"},{"$f":"INDEX(入力フォーム!$N3:$BEQ3,1,MATCH(VD$175,入力フォーム!$N$5:$BEQ$5,0))","v":"バナナ⑤"},{"$f":"INDEX(入力フォーム!$N3:$BEQ3,1,MATCH(VE$175,入力フォーム!$N$5:$BEQ$5,0))","v":"豚肉⑤"},{"$f":"INDEX(入力フォーム!$N3:$BEQ3,1,MATCH(VF$175,入力フォーム!$N$5:$BEQ$5,0))","v":"まつたけ⑤"},{"$f":"INDEX(入力フォーム!$N3:$BEQ3,1,MATCH(VG$175,入力フォーム!$N$5:$BEQ$5,0))","v":"もも⑤"},{"$f":"INDEX(入力フォーム!$N3:$BEQ3,1,MATCH(VH$175,入力フォーム!$N$5:$BEQ$5,0))","v":"やまいも⑤"},{"$f":"INDEX(入力フォーム!$N3:$BEQ3,1,MATCH(VI$175,入力フォーム!$N$5:$BEQ$5,0))","v":"りんご⑤"},{"$f":"INDEX(入力フォーム!$N3:$BEQ3,1,MATCH(VJ$175,入力フォーム!$N$5:$BEQ$5,0))","v":"ゼラチン⑤"},{"$f":"INDEX(入力フォーム!$N3:$BEQ3,1,MATCH(VK$175,入力フォーム!$N$5:$BEQ$5,0))","v":"備考⑤"},{"$f":"INDEX(入力フォーム!$N3:$BEQ3,1,MATCH(VL$175,入力フォーム!$N$5:$BEQ$5,0))","v":0},{"$f":"INDEX(入力フォーム!$N3:$BEQ3,1,MATCH(VM$175,入力フォーム!$N$5:$BEQ$5,0))","v":"商品名⑥"},{"$f":"INDEX(入力フォーム!$N3:$BEQ3,1,MATCH(VN$175,入力フォーム!$N$5:$BEQ$5,0))","v":"提供可能時期⑥"},{"$f":"INDEX(入力フォーム!$N3:$BEQ3,1,MATCH(VO$175,入力フォーム!$N$5:$BEQ$5,0))","v":"主原料産地⑥"},{"$f":"INDEX(入力フォーム!$N3:$BEQ3,1,MATCH(VP$175,入力フォーム!$N$5:$BEQ$5,0))","v":"内容量⑥"},{"$f":"INDEX(入力フォーム!$N3:$BEQ3,1,MATCH(VQ$175,入力フォーム!$N$5:$BEQ$5,0))","v":"1ケースあたり⑥"},{"$f":"INDEX(入力フォーム!$N3:$BEQ3,1,MATCH(VR$175,入力フォーム!$N$5:$BEQ$5,0))","v":"発注リードタイム⑥"},{"$f":"INDEX(入力フォーム!$N3:$BEQ3,1,MATCH(VS$175,入力フォーム!$N$5:$BEQ$5,0))","v":"最大ケース⑥"},{"$f":"INDEX(入力フォーム!$N3:$BEQ3,1,MATCH(VT$175,入力フォーム!$N$5:$BEQ$5,0))","v":"最小ケース⑥"},{"$f":"INDEX(入力フォーム!$N3:$BEQ3,1,MATCH(VU$175,入力フォーム!$N$5:$BEQ$5,0))","v":"縦⑥"},{"$f":"INDEX(入力フォーム!$N3:$BEQ3,1,MATCH(VV$175,入力フォーム!$N$5:$BEQ$5,0))","v":"横⑥"},{"$f":"INDEX(入力フォーム!$N3:$BEQ3,1,MATCH(VW$175,入力フォーム!$N$5:$BEQ$5,0))","v":"高さ⑥"},{"$f":"INDEX(入力フォーム!$N3:$BEQ3,1,MATCH(VX$175,入力フォーム!$N$5:$BEQ$5,0))","v":"重量⑥"},{"$f":"INDEX(入力フォーム!$N3:$BEQ3,1,MATCH(VY$175,入力フォーム!$N$5:$BEQ$5,0))","v":"賞味期限⑥"},{"$f":"INDEX(入力フォーム!$N3:$BEQ3,1,MATCH(VZ$175,入力フォーム!$N$5:$BEQ$5,0))","v":"消費期限⑥"},{"$f":"INDEX(入力フォーム!$N3:$BEQ3,1,MATCH(WA$175,入力フォーム!$N$5:$BEQ$5,0))","v":"JANコード⑥"},{"$f":"INDEX(入力フォーム!$N3:$BEQ3,1,MATCH(WB$175,入力フォーム!$N$5:$BEQ$5,0))","v":"希望小売⑥"},{"$f":"INDEX(入力フォーム!$N3:$BEQ3,1,MATCH(WC$175,入力フォーム!$N$5:$BEQ$5,0))","v":"仕切単価⑥"},{"$f":"INDEX(入力フォーム!$N3:$BEQ3,1,MATCH(WD$175,入力フォーム!$N$5:$BEQ$5,0))","v":"工場出し⑥"},{"$f":"INDEX(入力フォーム!$N3:$BEQ3,1,MATCH(WE$175,入力フォーム!$N$5:$BEQ$5,0))","v":"関東向け⑥"},{"$f":"INDEX(入力フォーム!$N3:$BEQ3,1,MATCH(WF$175,入力フォーム!$N$5:$BEQ$5,0))","v":"関西向け⑥"},{"$f":"INDEX(入力フォーム!$N3:$BEQ3,1,MATCH(WG$175,入力フォーム!$N$5:$BEQ$5,0))","v":"8%⑥"},{"$f":"INDEX(入力フォーム!$N3:$BEQ3,1,MATCH(WH$175,入力フォーム!$N$5:$BEQ$5,0))","v":"10%⑥"},{"$f":"INDEX(入力フォーム!$N3:$BEQ3,1,MATCH(WI$175,入力フォーム!$N$5:$BEQ$5,0))","v":"常温⑥"},{"$f":"INDEX(入力フォーム!$N3:$BEQ3,1,MATCH(WJ$175,入力フォーム!$N$5:$BEQ$5,0))","v":"冷蔵⑥"},{"$f":"INDEX(入力フォーム!$N3:$BEQ3,1,MATCH(WK$175,入力フォーム!$N$5:$BEQ$5,0))","v":"冷凍⑥"},{"$f":"INDEX(入力フォーム!$N3:$BEQ3,1,MATCH(WL$175,入力フォーム!$N$5:$BEQ$5,0))","v":"外食⑥"},{"$f":"INDEX(入力フォーム!$N3:$BEQ3,1,MATCH(WM$175,入力フォーム!$N$5:$BEQ$5,0))","v":"中食⑥"},{"$f":"INDEX(入力フォーム!$N3:$BEQ3,1,MATCH(WN$175,入力フォーム!$N$5:$BEQ$5,0))","v":"商社・卸売⑥"},{"$f":"INDEX(入力フォーム!$N3:$BEQ3,1,MATCH(WO$175,入力フォーム!$N$5:$BEQ$5,0))","v":"メーカー⑥"},{"$f":"INDEX(入力フォーム!$N3:$BEQ3,1,MATCH(WP$175,入力フォーム!$N$5:$BEQ$5,0))","v":"スーパーマーケット⑥"},{"$f":"INDEX(入力フォーム!$N3:$BEQ3,1,MATCH(WQ$175,入力フォーム!$N$5:$BEQ$5,0))","v":"百貨店⑥"},{"$f":"INDEX(入力フォーム!$N3:$BEQ3,1,MATCH(WR$175,入力フォーム!$N$5:$BEQ$5,0))","v":"その他小売⑥"},{"$f":"INDEX(入力フォーム!$N3:$BEQ3,1,MATCH(WS$175,入力フォーム!$N$5:$BEQ$5,0))","v":"ホテル・宴会・レジャー⑥"},{"$f":"INDEX(入力フォーム!$N3:$BEQ3,1,MATCH(WT$175,入力フォーム!$N$5:$BEQ$5,0))","v":"その他・ターゲット⑥"},{"$f":"INDEX(入力フォーム!$N3:$BEQ3,1,MATCH(WU$175,入力フォーム!$N$5:$BEQ$5,0))","v":"その他・ターゲット・⑥"},{"$f":"INDEX(入力フォーム!$N3:$BEQ3,1,MATCH(WV$175,入力フォーム!$N$5:$BEQ$5,0))","v":"業務用対応可能⑥"},{"$f":"INDEX(入力フォーム!$N3:$BEQ3,1,MATCH(WW$175,入力フォーム!$N$5:$BEQ$5,0))","v":"ギフト対応可能⑥"},{"$f":"INDEX(入力フォーム!$N3:$BEQ3,1,MATCH(WX$175,入力フォーム!$N$5:$BEQ$5,0))","v":"ターゲット⑥"},{"$f":"INDEX(入力フォーム!$N3:$BEQ3,1,MATCH(WY$175,入力フォーム!$N$5:$BEQ$5,0))","v":"利用シーン⑥"},{"$f":"INDEX(入力フォーム!$N3:$BEQ3,1,MATCH(WZ$175,入力フォーム!$N$5:$BEQ$5,0))","v":"商品特徴⑥"},{"$f":"INDEX(入力フォーム!$N3:$BEQ3,1,MATCH(XA$175,入力フォーム!$N$5:$BEQ$5,0))","v":"えび⑥"},{"$f":"INDEX(入力フォーム!$N3:$BEQ3,1,MATCH(XB$175,入力フォーム!$N$5:$BEQ$5,0))","v":"かに⑥"},{"$f":"INDEX(入力フォーム!$N3:$BEQ3,1,MATCH(XC$175,入力フォーム!$N$5:$BEQ$5,0))","v":"小麦⑥"},{"$f":"INDEX(入力フォーム!$N3:$BEQ3,1,MATCH(XD$175,入力フォーム!$N$5:$BEQ$5,0))","v":"そば⑥"},{"$f":"INDEX(入力フォーム!$N3:$BEQ3,1,MATCH(XE$175,入力フォーム!$N$5:$BEQ$5,0))","v":"卵⑥"},{"$f":"INDEX(入力フォーム!$N3:$BEQ3,1,MATCH(XF$175,入力フォーム!$N$5:$BEQ$5,0))","v":"乳⑥"},{"$f":"INDEX(入力フォーム!$N3:$BEQ3,1,MATCH(XG$175,入力フォーム!$N$5:$BEQ$5,0))","v":"落花生⑥"},{"$f":"INDEX(入力フォーム!$N3:$BEQ3,1,MATCH(XH$175,入力フォーム!$N$5:$BEQ$5,0))","v":"あわび⑥"},{"$f":"INDEX(入力フォーム!$N3:$BEQ3,1,MATCH(XI$175,入力フォーム!$N$5:$BEQ$5,0))","v":"いか⑥"},{"$f":"INDEX(入力フォーム!$N3:$BEQ3,1,MATCH(XJ$175,入力フォーム!$N$5:$BEQ$5,0))","v":"いくら⑥"},{"$f":"INDEX(入力フォーム!$N3:$BEQ3,1,MATCH(XK$175,入力フォーム!$N$5:$BEQ$5,0))","v":"オレンジ⑥"},{"$f":"INDEX(入力フォーム!$N3:$BEQ3,1,MATCH(XL$175,入力フォーム!$N$5:$BEQ$5,0))","v":"カシューナッツ⑥"},{"$f":"INDEX(入力フォーム!$N3:$BEQ3,1,MATCH(XM$175,入力フォーム!$N$5:$BEQ$5,0))","v":"キウイフルーツ⑥"},{"$f":"INDEX(入力フォーム!$N3:$BEQ3,1,MATCH(XN$175,入力フォーム!$N$5:$BEQ$5,0))","v":"牛肉⑥"},{"$f":"INDEX(入力フォーム!$N3:$BEQ3,1,MATCH(XO$175,入力フォーム!$N$5:$BEQ$5,0))","v":"くるみ⑥"},{"$f":"INDEX(入力フォーム!$N3:$BEQ3,1,MATCH(XP$175,入力フォーム!$N$5:$BEQ$5,0))","v":"ごま⑥"},{"$f":"INDEX(入力フォーム!$N3:$BEQ3,1,MATCH(XQ$175,入力フォーム!$N$5:$BEQ$5,0))","v":"さけ⑥"},{"$f":"INDEX(入力フォーム!$N3:$BEQ3,1,MATCH(XR$175,入力フォーム!$N$5:$BEQ$5,0))","v":"さば⑥"},{"$f":"INDEX(入力フォーム!$N3:$BEQ3,1,MATCH(XS$175,入力フォーム!$N$5:$BEQ$5,0))","v":"大豆⑥"},{"$f":"INDEX(入力フォーム!$N3:$BEQ3,1,MATCH(XT$175,入力フォーム!$N$5:$BEQ$5,0))","v":"鶏肉⑥"},{"$f":"INDEX(入力フォーム!$N3:$BEQ3,1,MATCH(XU$175,入力フォーム!$N$5:$BEQ$5,0))","v":"バナナ⑥"},{"$f":"INDEX(入力フォーム!$N3:$BEQ3,1,MATCH(XV$175,入力フォーム!$N$5:$BEQ$5,0))","v":"豚肉⑥"},{"$f":"INDEX(入力フォーム!$N3:$BEQ3,1,MATCH(XW$175,入力フォーム!$N$5:$BEQ$5,0))","v":"まつたけ⑥"},{"$f":"INDEX(入力フォーム!$N3:$BEQ3,1,MATCH(XX$175,入力フォーム!$N$5:$BEQ$5,0))","v":"もも⑥"},{"$f":"INDEX(入力フォーム!$N3:$BEQ3,1,MATCH(XY$175,入力フォーム!$N$5:$BEQ$5,0))","v":"やまいも⑥"},{"$f":"INDEX(入力フォーム!$N3:$BEQ3,1,MATCH(XZ$175,入力フォーム!$N$5:$BEQ$5,0))","v":"りんご⑥"},{"$f":"INDEX(入力フォーム!$N3:$BEQ3,1,MATCH(YA$175,入力フォーム!$N$5:$BEQ$5,0))","v":"ゼラチン⑥"},{"$f":"INDEX(入力フォーム!$N3:$BEQ3,1,MATCH(YB$175,入力フォーム!$N$5:$BEQ$5,0))","v":"備考⑥"},{"$f":"INDEX(入力フォーム!$N3:$BEQ3,1,MATCH(YC$175,入力フォーム!$N$5:$BEQ$5,0))","v":0},{"$f":"INDEX(入力フォーム!$N3:$BEQ3,1,MATCH(YD$175,入力フォーム!$N$5:$BEQ$5,0))","v":"商品名⑦"},{"$f":"INDEX(入力フォーム!$N3:$BEQ3,1,MATCH(YE$175,入力フォーム!$N$5:$BEQ$5,0))","v":"提供可能時期⑦"},{"$f":"INDEX(入力フォーム!$N3:$BEQ3,1,MATCH(YF$175,入力フォーム!$N$5:$BEQ$5,0))","v":"主原料産地⑦"},{"$f":"INDEX(入力フォーム!$N3:$BEQ3,1,MATCH(YG$175,入力フォーム!$N$5:$BEQ$5,0))","v":"内容量⑦"},{"$f":"INDEX(入力フォーム!$N3:$BEQ3,1,MATCH(YH$175,入力フォーム!$N$5:$BEQ$5,0))","v":"1ケースあたり⑦"},{"$f":"INDEX(入力フォーム!$N3:$BEQ3,1,MATCH(YI$175,入力フォーム!$N$5:$BEQ$5,0))","v":"発注リードタイム⑦"},{"$f":"INDEX(入力フォーム!$N3:$BEQ3,1,MATCH(YJ$175,入力フォーム!$N$5:$BEQ$5,0))","v":"最大ケース⑦"},{"$f":"INDEX(入力フォーム!$N3:$BEQ3,1,MATCH(YK$175,入力フォーム!$N$5:$BEQ$5,0))","v":"最小ケース⑦"},{"$f":"INDEX(入力フォーム!$N3:$BEQ3,1,MATCH(YL$175,入力フォーム!$N$5:$BEQ$5,0))","v":"縦⑦"},{"$f":"INDEX(入力フォーム!$N3:$BEQ3,1,MATCH(YM$175,入力フォーム!$N$5:$BEQ$5,0))","v":"横⑦"},{"$f":"INDEX(入力フォーム!$N3:$BEQ3,1,MATCH(YN$175,入力フォーム!$N$5:$BEQ$5,0))","v":"高さ⑦"},{"$f":"INDEX(入力フォーム!$N3:$BEQ3,1,MATCH(YO$175,入力フォーム!$N$5:$BEQ$5,0))","v":"重量⑦"},{"$f":"INDEX(入力フォーム!$N3:$BEQ3,1,MATCH(YP$175,入力フォーム!$N$5:$BEQ$5,0))","v":"賞味期限⑦"},{"$f":"INDEX(入力フォーム!$N3:$BEQ3,1,MATCH(YQ$175,入力フォーム!$N$5:$BEQ$5,0))","v":"消費期限⑦"},{"$f":"INDEX(入力フォーム!$N3:$BEQ3,1,MATCH(YR$175,入力フォーム!$N$5:$BEQ$5,0))","v":"JANコード⑦"},{"$f":"INDEX(入力フォーム!$N3:$BEQ3,1,MATCH(YS$175,入力フォーム!$N$5:$BEQ$5,0))","v":"希望小売⑦"},{"$f":"INDEX(入力フォーム!$N3:$BEQ3,1,MATCH(YT$175,入力フォーム!$N$5:$BEQ$5,0))","v":"仕切単価⑦"},{"$f":"INDEX(入力フォーム!$N3:$BEQ3,1,MATCH(YU$175,入力フォーム!$N$5:$BEQ$5,0))","v":"工場出し⑦"},{"$f":"INDEX(入力フォーム!$N3:$BEQ3,1,MATCH(YV$175,入力フォーム!$N$5:$BEQ$5,0))","v":"関東向け⑦"},{"$f":"INDEX(入力フォーム!$N3:$BEQ3,1,MATCH(YW$175,入力フォーム!$N$5:$BEQ$5,0))","v":"関西向け⑦"},{"$f":"INDEX(入力フォーム!$N3:$BEQ3,1,MATCH(YX$175,入力フォーム!$N$5:$BEQ$5,0))","v":"8%⑦"},{"$f":"INDEX(入力フォーム!$N3:$BEQ3,1,MATCH(YY$175,入力フォーム!$N$5:$BEQ$5,0))","v":"10%⑦"},{"$f":"INDEX(入力フォーム!$N3:$BEQ3,1,MATCH(YZ$175,入力フォーム!$N$5:$BEQ$5,0))","v":"常温⑦"},{"$f":"INDEX(入力フォーム!$N3:$BEQ3,1,MATCH(ZA$175,入力フォーム!$N$5:$BEQ$5,0))","v":"冷蔵⑦"},{"$f":"INDEX(入力フォーム!$N3:$BEQ3,1,MATCH(ZB$175,入力フォーム!$N$5:$BEQ$5,0))","v":"冷凍⑦"},{"$f":"INDEX(入力フォーム!$N3:$BEQ3,1,MATCH(ZC$175,入力フォーム!$N$5:$BEQ$5,0))","v":"外食⑦"},{"$f":"INDEX(入力フォーム!$N3:$BEQ3,1,MATCH(ZD$175,入力フォーム!$N$5:$BEQ$5,0))","v":"中食⑦"},{"$f":"INDEX(入力フォーム!$N3:$BEQ3,1,MATCH(ZE$175,入力フォーム!$N$5:$BEQ$5,0))","v":"商社・卸売⑦"},{"$f":"INDEX(入力フォーム!$N3:$BEQ3,1,MATCH(ZF$175,入力フォーム!$N$5:$BEQ$5,0))","v":"メーカー⑦"},{"$f":"INDEX(入力フォーム!$N3:$BEQ3,1,MATCH(ZG$175,入力フォーム!$N$5:$BEQ$5,0))","v":"スーパーマーケット⑦"},{"$f":"INDEX(入力フォーム!$N3:$BEQ3,1,MATCH(ZH$175,入力フォーム!$N$5:$BEQ$5,0))","v":"百貨店⑦"},{"$f":"INDEX(入力フォーム!$N3:$BEQ3,1,MATCH(ZI$175,入力フォーム!$N$5:$BEQ$5,0))","v":"その他小売⑦"},{"$f":"INDEX(入力フォーム!$N3:$BEQ3,1,MATCH(ZJ$175,入力フォーム!$N$5:$BEQ$5,0))","v":"ホテル・宴会・レジャー⑦"},{"$f":"INDEX(入力フォーム!$N3:$BEQ3,1,MATCH(ZK$175,入力フォーム!$N$5:$BEQ$5,0))","v":"その他・ターゲット⑦"},{"$f":"INDEX(入力フォーム!$N3:$BEQ3,1,MATCH(ZL$175,入力フォーム!$N$5:$BEQ$5,0))","v":"その他・ターゲット・⑦"},{"$f":"INDEX(入力フォーム!$N3:$BEQ3,1,MATCH(ZM$175,入力フォーム!$N$5:$BEQ$5,0))","v":"業務用対応可能⑦"},{"$f":"INDEX(入力フォーム!$N3:$BEQ3,1,MATCH(ZN$175,入力フォーム!$N$5:$BEQ$5,0))","v":"ギフト対応可能⑦"},{"$f":"INDEX(入力フォーム!$N3:$BEQ3,1,MATCH(ZO$175,入力フォーム!$N$5:$BEQ$5,0))","v":"ターゲット⑦"},{"$f":"INDEX(入力フォーム!$N3:$BEQ3,1,MATCH(ZP$175,入力フォーム!$N$5:$BEQ$5,0))","v":"利用シーン⑦"},{"$f":"INDEX(入力フォーム!$N3:$BEQ3,1,MATCH(ZQ$175,入力フォーム!$N$5:$BEQ$5,0))","v":"商品特徴⑦"},{"$f":"INDEX(入力フォーム!$N3:$BEQ3,1,MATCH(ZR$175,入力フォーム!$N$5:$BEQ$5,0))","v":"えび⑦"},{"$f":"INDEX(入力フォーム!$N3:$BEQ3,1,MATCH(ZS$175,入力フォーム!$N$5:$BEQ$5,0))","v":"かに⑦"},{"$f":"INDEX(入力フォーム!$N3:$BEQ3,1,MATCH(ZT$175,入力フォーム!$N$5:$BEQ$5,0))","v":"小麦⑦"},{"$f":"INDEX(入力フォーム!$N3:$BEQ3,1,MATCH(ZU$175,入力フォーム!$N$5:$BEQ$5,0))","v":"そば⑦"},{"$f":"INDEX(入力フォーム!$N3:$BEQ3,1,MATCH(ZV$175,入力フォーム!$N$5:$BEQ$5,0))","v":"卵⑦"},{"$f":"INDEX(入力フォーム!$N3:$BEQ3,1,MATCH(ZW$175,入力フォーム!$N$5:$BEQ$5,0))","v":"乳⑦"},{"$f":"INDEX(入力フォーム!$N3:$BEQ3,1,MATCH(ZX$175,入力フォーム!$N$5:$BEQ$5,0))","v":"落花生⑦"},{"$f":"INDEX(入力フォーム!$N3:$BEQ3,1,MATCH(ZY$175,入力フォーム!$N$5:$BEQ$5,0))","v":"あわび⑦"},{"$f":"INDEX(入力フォーム!$N3:$BEQ3,1,MATCH(ZZ$175,入力フォーム!$N$5:$BEQ$5,0))","v":"いか⑦"},{"$f":"INDEX(入力フォーム!$N3:$BEQ3,1,MATCH(AAA$175,入力フォーム!$N$5:$BEQ$5,0))","v":"いくら⑦"},{"$f":"INDEX(入力フォーム!$N3:$BEQ3,1,MATCH(AAB$175,入力フォーム!$N$5:$BEQ$5,0))","v":"オレンジ⑦"},{"$f":"INDEX(入力フォーム!$N3:$BEQ3,1,MATCH(AAC$175,入力フォーム!$N$5:$BEQ$5,0))","v":"カシューナッツ⑦"},{"$f":"INDEX(入力フォーム!$N3:$BEQ3,1,MATCH(AAD$175,入力フォーム!$N$5:$BEQ$5,0))","v":"キウイフルーツ⑦"},{"$f":"INDEX(入力フォーム!$N3:$BEQ3,1,MATCH(AAE$175,入力フォーム!$N$5:$BEQ$5,0))","v":"牛肉⑦"},{"$f":"INDEX(入力フォーム!$N3:$BEQ3,1,MATCH(AAF$175,入力フォーム!$N$5:$BEQ$5,0))","v":"くるみ⑦"},{"$f":"INDEX(入力フォーム!$N3:$BEQ3,1,MATCH(AAG$175,入力フォーム!$N$5:$BEQ$5,0))","v":"ごま⑦"},{"$f":"INDEX(入力フォーム!$N3:$BEQ3,1,MATCH(AAH$175,入力フォーム!$N$5:$BEQ$5,0))","v":"さけ⑦"},{"$f":"INDEX(入力フォーム!$N3:$BEQ3,1,MATCH(AAI$175,入力フォーム!$N$5:$BEQ$5,0))","v":"さば⑦"},{"$f":"INDEX(入力フォーム!$N3:$BEQ3,1,MATCH(AAJ$175,入力フォーム!$N$5:$BEQ$5,0))","v":"大豆⑦"},{"$f":"INDEX(入力フォーム!$N3:$BEQ3,1,MATCH(AAK$175,入力フォーム!$N$5:$BEQ$5,0))","v":"鶏肉⑦"},{"$f":"INDEX(入力フォーム!$N3:$BEQ3,1,MATCH(AAL$175,入力フォーム!$N$5:$BEQ$5,0))","v":"バナナ⑦"},{"$f":"INDEX(入力フォーム!$N3:$BEQ3,1,MATCH(AAM$175,入力フォーム!$N$5:$BEQ$5,0))","v":"豚肉⑦"},{"$f":"INDEX(入力フォーム!$N3:$BEQ3,1,MATCH(AAN$175,入力フォーム!$N$5:$BEQ$5,0))","v":"まつたけ⑦"},{"$f":"INDEX(入力フォーム!$N3:$BEQ3,1,MATCH(AAO$175,入力フォーム!$N$5:$BEQ$5,0))","v":"もも⑦"},{"$f":"INDEX(入力フォーム!$N3:$BEQ3,1,MATCH(AAP$175,入力フォーム!$N$5:$BEQ$5,0))","v":"やまいも⑦"},{"$f":"INDEX(入力フォーム!$N3:$BEQ3,1,MATCH(AAQ$175,入力フォーム!$N$5:$BEQ$5,0))","v":"りんご⑦"},{"$f":"INDEX(入力フォーム!$N3:$BEQ3,1,MATCH(AAR$175,入力フォーム!$N$5:$BEQ$5,0))","v":"ゼラチン⑦"},{"$f":"INDEX(入力フォーム!$N3:$BEQ3,1,MATCH(AAS$175,入力フォーム!$N$5:$BEQ$5,0))","v":"備考⑦"},{"$f":"INDEX(入力フォーム!$N3:$BEQ3,1,MATCH(AAT$175,入力フォーム!$N$5:$BEQ$5,0))","v":0},{"$f":"INDEX(入力フォーム!$N3:$BEQ3,1,MATCH(AAU$175,入力フォーム!$N$5:$BEQ$5,0))","v":"商品名⑧"},{"$f":"INDEX(入力フォーム!$N3:$BEQ3,1,MATCH(AAV$175,入力フォーム!$N$5:$BEQ$5,0))","v":"提供可能時期⑧"},{"$f":"INDEX(入力フォーム!$N3:$BEQ3,1,MATCH(AAW$175,入力フォーム!$N$5:$BEQ$5,0))","v":"主原料産地⑧"},{"$f":"INDEX(入力フォーム!$N3:$BEQ3,1,MATCH(AAX$175,入力フォーム!$N$5:$BEQ$5,0))","v":"内容量⑧"},{"$f":"INDEX(入力フォーム!$N3:$BEQ3,1,MATCH(AAY$175,入力フォーム!$N$5:$BEQ$5,0))","v":"1ケースあたり⑧"},{"$f":"INDEX(入力フォーム!$N3:$BEQ3,1,MATCH(AAZ$175,入力フォーム!$N$5:$BEQ$5,0))","v":"発注リードタイム⑧"},{"$f":"INDEX(入力フォーム!$N3:$BEQ3,1,MATCH(ABA$175,入力フォーム!$N$5:$BEQ$5,0))","v":"最大ケース⑧"},{"$f":"INDEX(入力フォーム!$N3:$BEQ3,1,MATCH(ABB$175,入力フォーム!$N$5:$BEQ$5,0))","v":"最小ケース⑧"},{"$f":"INDEX(入力フォーム!$N3:$BEQ3,1,MATCH(ABC$175,入力フォーム!$N$5:$BEQ$5,0))","v":"縦⑧"},{"$f":"INDEX(入力フォーム!$N3:$BEQ3,1,MATCH(ABD$175,入力フォーム!$N$5:$BEQ$5,0))","v":"横⑧"},{"$f":"INDEX(入力フォーム!$N3:$BEQ3,1,MATCH(ABE$175,入力フォーム!$N$5:$BEQ$5,0))","v":"高さ⑧"},{"$f":"INDEX(入力フォーム!$N3:$BEQ3,1,MATCH(ABF$175,入力フォーム!$N$5:$BEQ$5,0))","v":"重量⑧"},{"$f":"INDEX(入力フォーム!$N3:$BEQ3,1,MATCH(ABG$175,入力フォーム!$N$5:$BEQ$5,0))","v":"賞味期限⑧"},{"$f":"INDEX(入力フォーム!$N3:$BEQ3,1,MATCH(ABH$175,入力フォーム!$N$5:$BEQ$5,0))","v":"消費期限⑧"},{"$f":"INDEX(入力フォーム!$N3:$BEQ3,1,MATCH(ABI$175,入力フォーム!$N$5:$BEQ$5,0))","v":"JANコード⑧"},{"$f":"INDEX(入力フォーム!$N3:$BEQ3,1,MATCH(ABJ$175,入力フォーム!$N$5:$BEQ$5,0))","v":"希望小売⑧"},{"$f":"INDEX(入力フォーム!$N3:$BEQ3,1,MATCH(ABK$175,入力フォーム!$N$5:$BEQ$5,0))","v":"仕切単価⑧"},{"$f":"INDEX(入力フォーム!$N3:$BEQ3,1,MATCH(ABL$175,入力フォーム!$N$5:$BEQ$5,0))","v":"工場出し⑧"},{"$f":"INDEX(入力フォーム!$N3:$BEQ3,1,MATCH(ABM$175,入力フォーム!$N$5:$BEQ$5,0))","v":"関東向け⑧"},{"$f":"INDEX(入力フォーム!$N3:$BEQ3,1,MATCH(ABN$175,入力フォーム!$N$5:$BEQ$5,0))","v":"関西向け⑧"},{"$f":"INDEX(入力フォーム!$N3:$BEQ3,1,MATCH(ABO$175,入力フォーム!$N$5:$BEQ$5,0))","v":"8%⑧"},{"$f":"INDEX(入力フォーム!$N3:$BEQ3,1,MATCH(ABP$175,入力フォーム!$N$5:$BEQ$5,0))","v":"10%⑧"},{"$f":"INDEX(入力フォーム!$N3:$BEQ3,1,MATCH(ABQ$175,入力フォーム!$N$5:$BEQ$5,0))","v":"常温⑧"},{"$f":"INDEX(入力フォーム!$N3:$BEQ3,1,MATCH(ABR$175,入力フォーム!$N$5:$BEQ$5,0))","v":"冷蔵⑧"},{"$f":"INDEX(入力フォーム!$N3:$BEQ3,1,MATCH(ABS$175,入力フォーム!$N$5:$BEQ$5,0))","v":"冷凍⑧"},{"$f":"INDEX(入力フォーム!$N3:$BEQ3,1,MATCH(ABT$175,入力フォーム!$N$5:$BEQ$5,0))","v":"外食⑧"},{"$f":"INDEX(入力フォーム!$N3:$BEQ3,1,MATCH(ABU$175,入力フォーム!$N$5:$BEQ$5,0))","v":"中食⑧"},{"$f":"INDEX(入力フォーム!$N3:$BEQ3,1,MATCH(ABV$175,入力フォーム!$N$5:$BEQ$5,0))","v":"商社・卸売⑧"},{"$f":"INDEX(入力フォーム!$N3:$BEQ3,1,MATCH(ABW$175,入力フォーム!$N$5:$BEQ$5,0))","v":"メーカー⑧"},{"$f":"INDEX(入力フォーム!$N3:$BEQ3,1,MATCH(ABX$175,入力フォーム!$N$5:$BEQ$5,0))","v":"スーパーマーケット⑧"},{"$f":"INDEX(入力フォーム!$N3:$BEQ3,1,MATCH(ABY$175,入力フォーム!$N$5:$BEQ$5,0))","v":"百貨店⑧"},{"$f":"INDEX(入力フォーム!$N3:$BEQ3,1,MATCH(ABZ$175,入力フォーム!$N$5:$BEQ$5,0))","v":"その他小売⑧"},{"$f":"INDEX(入力フォーム!$N3:$BEQ3,1,MATCH(ACA$175,入力フォーム!$N$5:$BEQ$5,0))","v":"ホテル・宴会・レジャー⑧"},{"$f":"INDEX(入力フォーム!$N3:$BEQ3,1,MATCH(ACB$175,入力フォーム!$N$5:$BEQ$5,0))","v":"その他・ターゲット⑧"},{"$f":"INDEX(入力フォーム!$N3:$BEQ3,1,MATCH(ACC$175,入力フォーム!$N$5:$BEQ$5,0))","v":"その他・ターゲット・⑧"},{"$f":"INDEX(入力フォーム!$N3:$BEQ3,1,MATCH(ACD$175,入力フォーム!$N$5:$BEQ$5,0))","v":"業務用対応可能⑧"},{"$f":"INDEX(入力フォーム!$N3:$BEQ3,1,MATCH(ACE$175,入力フォーム!$N$5:$BEQ$5,0))","v":"ギフト対応可能⑧"},{"$f":"INDEX(入力フォーム!$N3:$BEQ3,1,MATCH(ACF$175,入力フォーム!$N$5:$BEQ$5,0))","v":"ターゲット⑧"},{"$f":"INDEX(入力フォーム!$N3:$BEQ3,1,MATCH(ACG$175,入力フォーム!$N$5:$BEQ$5,0))","v":"利用シーン⑧"},{"$f":"INDEX(入力フォーム!$N3:$BEQ3,1,MATCH(ACH$175,入力フォーム!$N$5:$BEQ$5,0))","v":"商品特徴⑧"},{"$f":"INDEX(入力フォーム!$N3:$BEQ3,1,MATCH(ACI$175,入力フォーム!$N$5:$BEQ$5,0))","v":"えび⑧"},{"$f":"INDEX(入力フォーム!$N3:$BEQ3,1,MATCH(ACJ$175,入力フォーム!$N$5:$BEQ$5,0))","v":"かに⑧"},{"$f":"INDEX(入力フォーム!$N3:$BEQ3,1,MATCH(ACK$175,入力フォーム!$N$5:$BEQ$5,0))","v":"小麦⑧"},{"$f":"INDEX(入力フォーム!$N3:$BEQ3,1,MATCH(ACL$175,入力フォーム!$N$5:$BEQ$5,0))","v":"そば⑧"},{"$f":"INDEX(入力フォーム!$N3:$BEQ3,1,MATCH(ACM$175,入力フォーム!$N$5:$BEQ$5,0))","v":"卵⑧"},{"$f":"INDEX(入力フォーム!$N3:$BEQ3,1,MATCH(ACN$175,入力フォーム!$N$5:$BEQ$5,0))","v":"乳⑧"},{"$f":"INDEX(入力フォーム!$N3:$BEQ3,1,MATCH(ACO$175,入力フォーム!$N$5:$BEQ$5,0))","v":"落花生⑧"},{"$f":"INDEX(入力フォーム!$N3:$BEQ3,1,MATCH(ACP$175,入力フォーム!$N$5:$BEQ$5,0))","v":"あわび⑧"},{"$f":"INDEX(入力フォーム!$N3:$BEQ3,1,MATCH(ACQ$175,入力フォーム!$N$5:$BEQ$5,0))","v":"いか⑧"},{"$f":"INDEX(入力フォーム!$N3:$BEQ3,1,MATCH(ACR$175,入力フォーム!$N$5:$BEQ$5,0))","v":"いくら⑧"},{"$f":"INDEX(入力フォーム!$N3:$BEQ3,1,MATCH(ACS$175,入力フォーム!$N$5:$BEQ$5,0))","v":"オレンジ⑧"},{"$f":"INDEX(入力フォーム!$N3:$BEQ3,1,MATCH(ACT$175,入力フォーム!$N$5:$BEQ$5,0))","v":"カシューナッツ⑧"},{"$f":"INDEX(入力フォーム!$N3:$BEQ3,1,MATCH(ACU$175,入力フォーム!$N$5:$BEQ$5,0))","v":"キウイフルーツ⑧"},{"$f":"INDEX(入力フォーム!$N3:$BEQ3,1,MATCH(ACV$175,入力フォーム!$N$5:$BEQ$5,0))","v":"牛肉⑧"},{"$f":"INDEX(入力フォーム!$N3:$BEQ3,1,MATCH(ACW$175,入力フォーム!$N$5:$BEQ$5,0))","v":"くるみ⑧"},{"$f":"INDEX(入力フォーム!$N3:$BEQ3,1,MATCH(ACX$175,入力フォーム!$N$5:$BEQ$5,0))","v":"ごま⑧"},{"$f":"INDEX(入力フォーム!$N3:$BEQ3,1,MATCH(ACY$175,入力フォーム!$N$5:$BEQ$5,0))","v":"さけ⑧"},{"$f":"INDEX(入力フォーム!$N3:$BEQ3,1,MATCH(ACZ$175,入力フォーム!$N$5:$BEQ$5,0))","v":"さば⑧"},{"$f":"INDEX(入力フォーム!$N3:$BEQ3,1,MATCH(ADA$175,入力フォーム!$N$5:$BEQ$5,0))","v":"大豆⑧"},{"$f":"INDEX(入力フォーム!$N3:$BEQ3,1,MATCH(ADB$175,入力フォーム!$N$5:$BEQ$5,0))","v":"鶏肉⑧"},{"$f":"INDEX(入力フォーム!$N3:$BEQ3,1,MATCH(ADC$175,入力フォーム!$N$5:$BEQ$5,0))","v":"バナナ⑧"},{"$f":"INDEX(入力フォーム!$N3:$BEQ3,1,MATCH(ADD$175,入力フォーム!$N$5:$BEQ$5,0))","v":"豚肉⑧"},{"$f":"INDEX(入力フォーム!$N3:$BEQ3,1,MATCH(ADE$175,入力フォーム!$N$5:$BEQ$5,0))","v":"まつたけ⑧"},{"$f":"INDEX(入力フォーム!$N3:$BEQ3,1,MATCH(ADF$175,入力フォーム!$N$5:$BEQ$5,0))","v":"もも⑧"},{"$f":"INDEX(入力フォーム!$N3:$BEQ3,1,MATCH(ADG$175,入力フォーム!$N$5:$BEQ$5,0))","v":"やまいも⑧"},{"$f":"INDEX(入力フォーム!$N3:$BEQ3,1,MATCH(ADH$175,入力フォーム!$N$5:$BEQ$5,0))","v":"りんご⑧"},{"$f":"INDEX(入力フォーム!$N3:$BEQ3,1,MATCH(ADI$175,入力フォーム!$N$5:$BEQ$5,0))","v":"ゼラチン⑧"},{"$f":"INDEX(入力フォーム!$N3:$BEQ3,1,MATCH(ADJ$175,入力フォーム!$N$5:$BEQ$5,0))","v":"備考⑧"},{"$f":"INDEX(入力フォーム!$N3:$BEQ3,1,MATCH(ADK$175,入力フォーム!$N$5:$BEQ$5,0))","v":0},{"$f":"INDEX(入力フォーム!$N3:$BEQ3,1,MATCH(ADL$175,入力フォーム!$N$5:$BEQ$5,0))","v":"商品名⑨"},{"$f":"INDEX(入力フォーム!$N3:$BEQ3,1,MATCH(ADM$175,入力フォーム!$N$5:$BEQ$5,0))","v":"提供可能時期⑨"},{"$f":"INDEX(入力フォーム!$N3:$BEQ3,1,MATCH(ADN$175,入力フォーム!$N$5:$BEQ$5,0))","v":"主原料産地⑨"},{"$f":"INDEX(入力フォーム!$N3:$BEQ3,1,MATCH(ADO$175,入力フォーム!$N$5:$BEQ$5,0))","v":"内容量⑨"},{"$f":"INDEX(入力フォーム!$N3:$BEQ3,1,MATCH(ADP$175,入力フォーム!$N$5:$BEQ$5,0))","v":"1ケースあたり⑨"},{"$f":"INDEX(入力フォーム!$N3:$BEQ3,1,MATCH(ADQ$175,入力フォーム!$N$5:$BEQ$5,0))","v":"発注リードタイム⑨"},{"$f":"INDEX(入力フォーム!$N3:$BEQ3,1,MATCH(ADR$175,入力フォーム!$N$5:$BEQ$5,0))","v":"最大ケース⑨"},{"$f":"INDEX(入力フォーム!$N3:$BEQ3,1,MATCH(ADS$175,入力フォーム!$N$5:$BEQ$5,0))","v":"最小ケース⑨"},{"$f":"INDEX(入力フォーム!$N3:$BEQ3,1,MATCH(ADT$175,入力フォーム!$N$5:$BEQ$5,0))","v":"縦⑨"},{"$f":"INDEX(入力フォーム!$N3:$BEQ3,1,MATCH(ADU$175,入力フォーム!$N$5:$BEQ$5,0))","v":"横⑨"},{"$f":"INDEX(入力フォーム!$N3:$BEQ3,1,MATCH(ADV$175,入力フォーム!$N$5:$BEQ$5,0))","v":"高さ⑨"},{"$f":"INDEX(入力フォーム!$N3:$BEQ3,1,MATCH(ADW$175,入力フォーム!$N$5:$BEQ$5,0))","v":"重量⑨"},{"$f":"INDEX(入力フォーム!$N3:$BEQ3,1,MATCH(ADX$175,入力フォーム!$N$5:$BEQ$5,0))","v":"賞味期限⑨"},{"$f":"INDEX(入力フォーム!$N3:$BEQ3,1,MATCH(ADY$175,入力フォーム!$N$5:$BEQ$5,0))","v":"消費期限⑨"},{"$f":"INDEX(入力フォーム!$N3:$BEQ3,1,MATCH(ADZ$175,入力フォーム!$N$5:$BEQ$5,0))","v":"JANコード⑨"},{"$f":"INDEX(入力フォーム!$N3:$BEQ3,1,MATCH(AEA$175,入力フォーム!$N$5:$BEQ$5,0))","v":"希望小売⑨"},{"$f":"INDEX(入力フォーム!$N3:$BEQ3,1,MATCH(AEB$175,入力フォーム!$N$5:$BEQ$5,0))","v":"仕切単価⑨"},{"$f":"INDEX(入力フォーム!$N3:$BEQ3,1,MATCH(AEC$175,入力フォーム!$N$5:$BEQ$5,0))","v":"工場出し⑨"},{"$f":"INDEX(入力フォーム!$N3:$BEQ3,1,MATCH(AED$175,入力フォーム!$N$5:$BEQ$5,0))","v":"関東向け⑨"},{"$f":"INDEX(入力フォーム!$N3:$BEQ3,1,MATCH(AEE$175,入力フォーム!$N$5:$BEQ$5,0))","v":"関西向け⑨"},{"$f":"INDEX(入力フォーム!$N3:$BEQ3,1,MATCH(AEF$175,入力フォーム!$N$5:$BEQ$5,0))","v":"8%⑨"},{"$f":"INDEX(入力フォーム!$N3:$BEQ3,1,MATCH(AEG$175,入力フォーム!$N$5:$BEQ$5,0))","v":"10%⑨"},{"$f":"INDEX(入力フォーム!$N3:$BEQ3,1,MATCH(AEH$175,入力フォーム!$N$5:$BEQ$5,0))","v":"常温⑨"},{"$f":"INDEX(入力フォーム!$N3:$BEQ3,1,MATCH(AEI$175,入力フォーム!$N$5:$BEQ$5,0))","v":"冷蔵⑨"},{"$f":"INDEX(入力フォーム!$N3:$BEQ3,1,MATCH(AEJ$175,入力フォーム!$N$5:$BEQ$5,0))","v":"冷凍⑨"},{"$f":"INDEX(入力フォーム!$N3:$BEQ3,1,MATCH(AEK$175,入力フォーム!$N$5:$BEQ$5,0))","v":"外食⑨"},{"$f":"INDEX(入力フォーム!$N3:$BEQ3,1,MATCH(AEL$175,入力フォーム!$N$5:$BEQ$5,0))","v":"中食⑨"},{"$f":"INDEX(入力フォーム!$N3:$BEQ3,1,MATCH(AEM$175,入力フォーム!$N$5:$BEQ$5,0))","v":"商社・卸売⑨"},{"$f":"INDEX(入力フォーム!$N3:$BEQ3,1,MATCH(AEN$175,入力フォーム!$N$5:$BEQ$5,0))","v":"メーカー⑨"},{"$f":"INDEX(入力フォーム!$N3:$BEQ3,1,MATCH(AEO$175,入力フォーム!$N$5:$BEQ$5,0))","v":"スーパーマーケット⑨"},{"$f":"INDEX(入力フォーム!$N3:$BEQ3,1,MATCH(AEP$175,入力フォーム!$N$5:$BEQ$5,0))","v":"百貨店⑨"},{"$f":"INDEX(入力フォーム!$N3:$BEQ3,1,MATCH(AEQ$175,入力フォーム!$N$5:$BEQ$5,0))","v":"その他小売⑨"},{"$f":"INDEX(入力フォーム!$N3:$BEQ3,1,MATCH(AER$175,入力フォーム!$N$5:$BEQ$5,0))","v":"ホテル・宴会・レジャー⑨"},{"$f":"INDEX(入力フォーム!$N3:$BEQ3,1,MATCH(AES$175,入力フォーム!$N$5:$BEQ$5,0))","v":"その他・ターゲット⑨"},{"$f":"INDEX(入力フォーム!$N3:$BEQ3,1,MATCH(AET$175,入力フォーム!$N$5:$BEQ$5,0))","v":"その他・ターゲット・⑨"},{"$f":"INDEX(入力フォーム!$N3:$BEQ3,1,MATCH(AEU$175,入力フォーム!$N$5:$BEQ$5,0))","v":"業務用対応可能⑨"},{"$f":"INDEX(入力フォーム!$N3:$BEQ3,1,MATCH(AEV$175,入力フォーム!$N$5:$BEQ$5,0))","v":"ギフト対応可能⑨"},{"$f":"INDEX(入力フォーム!$N3:$BEQ3,1,MATCH(AEW$175,入力フォーム!$N$5:$BEQ$5,0))","v":"ターゲット⑨"},{"$f":"INDEX(入力フォーム!$N3:$BEQ3,1,MATCH(AEX$175,入力フォーム!$N$5:$BEQ$5,0))","v":"利用シーン⑨"},{"$f":"INDEX(入力フォーム!$N3:$BEQ3,1,MATCH(AEY$175,入力フォーム!$N$5:$BEQ$5,0))","v":"商品特徴⑨"},{"$f":"INDEX(入力フォーム!$N3:$BEQ3,1,MATCH(AEZ$175,入力フォーム!$N$5:$BEQ$5,0))","v":"えび⑨"},{"$f":"INDEX(入力フォーム!$N3:$BEQ3,1,MATCH(AFA$175,入力フォーム!$N$5:$BEQ$5,0))","v":"かに⑨"},{"$f":"INDEX(入力フォーム!$N3:$BEQ3,1,MATCH(AFB$175,入力フォーム!$N$5:$BEQ$5,0))","v":"小麦⑨"},{"$f":"INDEX(入力フォーム!$N3:$BEQ3,1,MATCH(AFC$175,入力フォーム!$N$5:$BEQ$5,0))","v":"そば⑨"},{"$f":"INDEX(入力フォーム!$N3:$BEQ3,1,MATCH(AFD$175,入力フォーム!$N$5:$BEQ$5,0))","v":"卵⑨"},{"$f":"INDEX(入力フォーム!$N3:$BEQ3,1,MATCH(AFE$175,入力フォーム!$N$5:$BEQ$5,0))","v":"乳⑨"},{"$f":"INDEX(入力フォーム!$N3:$BEQ3,1,MATCH(AFF$175,入力フォーム!$N$5:$BEQ$5,0))","v":"落花生⑨"},{"$f":"INDEX(入力フォーム!$N3:$BEQ3,1,MATCH(AFG$175,入力フォーム!$N$5:$BEQ$5,0))","v":"あわび⑨"},{"$f":"INDEX(入力フォーム!$N3:$BEQ3,1,MATCH(AFH$175,入力フォーム!$N$5:$BEQ$5,0))","v":"いか⑨"},{"$f":"INDEX(入力フォーム!$N3:$BEQ3,1,MATCH(AFI$175,入力フォーム!$N$5:$BEQ$5,0))","v":"いくら⑨"},{"$f":"INDEX(入力フォーム!$N3:$BEQ3,1,MATCH(AFJ$175,入力フォーム!$N$5:$BEQ$5,0))","v":"オレンジ⑨"},{"$f":"INDEX(入力フォーム!$N3:$BEQ3,1,MATCH(AFK$175,入力フォーム!$N$5:$BEQ$5,0))","v":"カシューナッツ⑨"},{"$f":"INDEX(入力フォーム!$N3:$BEQ3,1,MATCH(AFL$175,入力フォーム!$N$5:$BEQ$5,0))","v":"キウイフルーツ⑨"},{"$f":"INDEX(入力フォーム!$N3:$BEQ3,1,MATCH(AFM$175,入力フォーム!$N$5:$BEQ$5,0))","v":"牛肉⑨"},{"$f":"INDEX(入力フォーム!$N3:$BEQ3,1,MATCH(AFN$175,入力フォーム!$N$5:$BEQ$5,0))","v":"くるみ⑨"},{"$f":"INDEX(入力フォーム!$N3:$BEQ3,1,MATCH(AFO$175,入力フォーム!$N$5:$BEQ$5,0))","v":"ごま⑨"},{"$f":"INDEX(入力フォーム!$N3:$BEQ3,1,MATCH(AFP$175,入力フォーム!$N$5:$BEQ$5,0))","v":"さけ⑨"},{"$f":"INDEX(入力フォーム!$N3:$BEQ3,1,MATCH(AFQ$175,入力フォーム!$N$5:$BEQ$5,0))","v":"さば⑨"},{"$f":"INDEX(入力フォーム!$N3:$BEQ3,1,MATCH(AFR$175,入力フォーム!$N$5:$BEQ$5,0))","v":"大豆⑨"},{"$f":"INDEX(入力フォーム!$N3:$BEQ3,1,MATCH(AFS$175,入力フォーム!$N$5:$BEQ$5,0))","v":"鶏肉⑨"},{"$f":"INDEX(入力フォーム!$N3:$BEQ3,1,MATCH(AFT$175,入力フォーム!$N$5:$BEQ$5,0))","v":"バナナ⑨"},{"$f":"INDEX(入力フォーム!$N3:$BEQ3,1,MATCH(AFU$175,入力フォーム!$N$5:$BEQ$5,0))","v":"豚肉⑨"},{"$f":"INDEX(入力フォーム!$N3:$BEQ3,1,MATCH(AFV$175,入力フォーム!$N$5:$BEQ$5,0))","v":"まつたけ⑨"},{"$f":"INDEX(入力フォーム!$N3:$BEQ3,1,MATCH(AFW$175,入力フォーム!$N$5:$BEQ$5,0))","v":"もも⑨"},{"$f":"INDEX(入力フォーム!$N3:$BEQ3,1,MATCH(AFX$175,入力フォーム!$N$5:$BEQ$5,0))","v":"やまいも⑨"},{"$f":"INDEX(入力フォーム!$N3:$BEQ3,1,MATCH(AFY$175,入力フォーム!$N$5:$BEQ$5,0))","v":"りんご⑨"},{"$f":"INDEX(入力フォーム!$N3:$BEQ3,1,MATCH(AFZ$175,入力フォーム!$N$5:$BEQ$5,0))","v":"ゼラチン⑨"},{"$f":"INDEX(入力フォーム!$N3:$BEQ3,1,MATCH(AGA$175,入力フォーム!$N$5:$BEQ$5,0))","v":"備考⑨"},{"$f":"INDEX(入力フォーム!$N3:$BEQ3,1,MATCH(AGB$175,入力フォーム!$N$5:$BEQ$5,0))","v":0},{"$f":"INDEX(入力フォーム!$N3:$BEQ3,1,MATCH(AGC$175,入力フォーム!$N$5:$BEQ$5,0))","v":"商品名⑩"},{"$f":"INDEX(入力フォーム!$N3:$BEQ3,1,MATCH(AGD$175,入力フォーム!$N$5:$BEQ$5,0))","v":"提供可能時期⑩"},{"$f":"INDEX(入力フォーム!$N3:$BEQ3,1,MATCH(AGE$175,入力フォーム!$N$5:$BEQ$5,0))","v":"主原料産地⑩"},{"$f":"INDEX(入力フォーム!$N3:$BEQ3,1,MATCH(AGF$175,入力フォーム!$N$5:$BEQ$5,0))","v":"内容量⑩"},{"$f":"INDEX(入力フォーム!$N3:$BEQ3,1,MATCH(AGG$175,入力フォーム!$N$5:$BEQ$5,0))","v":"1ケースあたり⑩"},{"$f":"INDEX(入力フォーム!$N3:$BEQ3,1,MATCH(AGH$175,入力フォーム!$N$5:$BEQ$5,0))","v":"発注リードタイム⑩"},{"$f":"INDEX(入力フォーム!$N3:$BEQ3,1,MATCH(AGI$175,入力フォーム!$N$5:$BEQ$5,0))","v":"最大ケース⑩"},{"$f":"INDEX(入力フォーム!$N3:$BEQ3,1,MATCH(AGJ$175,入力フォーム!$N$5:$BEQ$5,0))","v":"最小ケース⑩"},{"$f":"INDEX(入力フォーム!$N3:$BEQ3,1,MATCH(AGK$175,入力フォーム!$N$5:$BEQ$5,0))","v":"縦⑩"},{"$f":"INDEX(入力フォーム!$N3:$BEQ3,1,MATCH(AGL$175,入力フォーム!$N$5:$BEQ$5,0))","v":"横⑩"},{"$f":"INDEX(入力フォーム!$N3:$BEQ3,1,MATCH(AGM$175,入力フォーム!$N$5:$BEQ$5,0))","v":"高さ⑩"},{"$f":"INDEX(入力フォーム!$N3:$BEQ3,1,MATCH(AGN$175,入力フォーム!$N$5:$BEQ$5,0))","v":"重量⑩"},{"$f":"INDEX(入力フォーム!$N3:$BEQ3,1,MATCH(AGO$175,入力フォーム!$N$5:$BEQ$5,0))","v":"賞味期限⑩"},{"$f":"INDEX(入力フォーム!$N3:$BEQ3,1,MATCH(AGP$175,入力フォーム!$N$5:$BEQ$5,0))","v":"消費期限⑩"},{"$f":"INDEX(入力フォーム!$N3:$BEQ3,1,MATCH(AGQ$175,入力フォーム!$N$5:$BEQ$5,0))","v":"JANコード⑩"},{"$f":"INDEX(入力フォーム!$N3:$BEQ3,1,MATCH(AGR$175,入力フォーム!$N$5:$BEQ$5,0))","v":"希望小売⑩"},{"$f":"INDEX(入力フォーム!$N3:$BEQ3,1,MATCH(AGS$175,入力フォーム!$N$5:$BEQ$5,0))","v":"仕切単価⑩"},{"$f":"INDEX(入力フォーム!$N3:$BEQ3,1,MATCH(AGT$175,入力フォーム!$N$5:$BEQ$5,0))","v":"工場出し⑩"},{"$f":"INDEX(入力フォーム!$N3:$BEQ3,1,MATCH(AGU$175,入力フォーム!$N$5:$BEQ$5,0))","v":"関東向け⑩"},{"$f":"INDEX(入力フォーム!$N3:$BEQ3,1,MATCH(AGV$175,入力フォーム!$N$5:$BEQ$5,0))","v":"関西向け⑩"},{"$f":"INDEX(入力フォーム!$N3:$BEQ3,1,MATCH(AGW$175,入力フォーム!$N$5:$BEQ$5,0))","v":"8%⑩"},{"$f":"INDEX(入力フォーム!$N3:$BEQ3,1,MATCH(AGX$175,入力フォーム!$N$5:$BEQ$5,0))","v":"10%⑩"},{"$f":"INDEX(入力フォーム!$N3:$BEQ3,1,MATCH(AGY$175,入力フォーム!$N$5:$BEQ$5,0))","v":"常温⑩"},{"$f":"INDEX(入力フォーム!$N3:$BEQ3,1,MATCH(AGZ$175,入力フォーム!$N$5:$BEQ$5,0))","v":"冷蔵⑩"},{"$f":"INDEX(入力フォーム!$N3:$BEQ3,1,MATCH(AHA$175,入力フォーム!$N$5:$BEQ$5,0))","v":"冷凍⑩"},{"$f":"INDEX(入力フォーム!$N3:$BEQ3,1,MATCH(AHB$175,入力フォーム!$N$5:$BEQ$5,0))","v":"外食⑩"},{"$f":"INDEX(入力フォーム!$N3:$BEQ3,1,MATCH(AHC$175,入力フォーム!$N$5:$BEQ$5,0))","v":"中食⑩"},{"$f":"INDEX(入力フォーム!$N3:$BEQ3,1,MATCH(AHD$175,入力フォーム!$N$5:$BEQ$5,0))","v":"商社・卸売⑩"},{"$f":"INDEX(入力フォーム!$N3:$BEQ3,1,MATCH(AHE$175,入力フォーム!$N$5:$BEQ$5,0))","v":"メーカー⑩"},{"$f":"INDEX(入力フォーム!$N3:$BEQ3,1,MATCH(AHF$175,入力フォーム!$N$5:$BEQ$5,0))","v":"スーパーマーケット⑩"},{"$f":"INDEX(入力フォーム!$N3:$BEQ3,1,MATCH(AHG$175,入力フォーム!$N$5:$BEQ$5,0))","v":"百貨店⑩"},{"$f":"INDEX(入力フォーム!$N3:$BEQ3,1,MATCH(AHH$175,入力フォーム!$N$5:$BEQ$5,0))","v":"その他小売⑩"},{"$f":"INDEX(入力フォーム!$N3:$BEQ3,1,MATCH(AHI$175,入力フォーム!$N$5:$BEQ$5,0))","v":"ホテル・宴会・レジャー⑩"},{"$f":"INDEX(入力フォーム!$N3:$BEQ3,1,MATCH(AHJ$175,入力フォーム!$N$5:$BEQ$5,0))","v":"その他・ターゲット⑩"},{"$f":"INDEX(入力フォーム!$N3:$BEQ3,1,MATCH(AHK$175,入力フォーム!$N$5:$BEQ$5,0))","v":"その他・ターゲット・⑩"},{"$f":"INDEX(入力フォーム!$N3:$BEQ3,1,MATCH(AHL$175,入力フォーム!$N$5:$BEQ$5,0))","v":"業務用対応可能⑩"},{"$f":"INDEX(入力フォーム!$N3:$BEQ3,1,MATCH(AHM$175,入力フォーム!$N$5:$BEQ$5,0))","v":"ギフト対応可能⑩"},{"$f":"INDEX(入力フォーム!$N3:$BEQ3,1,MATCH(AHN$175,入力フォーム!$N$5:$BEQ$5,0))","v":"ターゲット⑩"},{"$f":"INDEX(入力フォーム!$N3:$BEQ3,1,MATCH(AHO$175,入力フォーム!$N$5:$BEQ$5,0))","v":"利用シーン⑩"},{"$f":"INDEX(入力フォーム!$N3:$BEQ3,1,MATCH(AHP$175,入力フォーム!$N$5:$BEQ$5,0))","v":"商品特徴⑩"},{"$f":"INDEX(入力フォーム!$N3:$BEQ3,1,MATCH(AHQ$175,入力フォーム!$N$5:$BEQ$5,0))","v":"えび⑩"},{"$f":"INDEX(入力フォーム!$N3:$BEQ3,1,MATCH(AHR$175,入力フォーム!$N$5:$BEQ$5,0))","v":"かに⑩"},{"$f":"INDEX(入力フォーム!$N3:$BEQ3,1,MATCH(AHS$175,入力フォーム!$N$5:$BEQ$5,0))","v":"小麦⑩"},{"$f":"INDEX(入力フォーム!$N3:$BEQ3,1,MATCH(AHT$175,入力フォーム!$N$5:$BEQ$5,0))","v":"そば⑩"},{"$f":"INDEX(入力フォーム!$N3:$BEQ3,1,MATCH(AHU$175,入力フォーム!$N$5:$BEQ$5,0))","v":"卵⑩"},{"$f":"INDEX(入力フォーム!$N3:$BEQ3,1,MATCH(AHV$175,入力フォーム!$N$5:$BEQ$5,0))","v":"乳⑩"},{"$f":"INDEX(入力フォーム!$N3:$BEQ3,1,MATCH(AHW$175,入力フォーム!$N$5:$BEQ$5,0))","v":"落花生⑩"},{"$f":"INDEX(入力フォーム!$N3:$BEQ3,1,MATCH(AHX$175,入力フォーム!$N$5:$BEQ$5,0))","v":"あわび⑩"},{"$f":"INDEX(入力フォーム!$N3:$BEQ3,1,MATCH(AHY$175,入力フォーム!$N$5:$BEQ$5,0))","v":"いか⑩"},{"$f":"INDEX(入力フォーム!$N3:$BEQ3,1,MATCH(AHZ$175,入力フォーム!$N$5:$BEQ$5,0))","v":"いくら⑩"},{"$f":"INDEX(入力フォーム!$N3:$BEQ3,1,MATCH(AIA$175,入力フォーム!$N$5:$BEQ$5,0))","v":"オレンジ⑩"},{"$f":"INDEX(入力フォーム!$N3:$BEQ3,1,MATCH(AIB$175,入力フォーム!$N$5:$BEQ$5,0))","v":"カシューナッツ⑩"},{"$f":"INDEX(入力フォーム!$N3:$BEQ3,1,MATCH(AIC$175,入力フォーム!$N$5:$BEQ$5,0))","v":"キウイフルーツ⑩"},{"$f":"INDEX(入力フォーム!$N3:$BEQ3,1,MATCH(AID$175,入力フォーム!$N$5:$BEQ$5,0))","v":"牛肉⑩"},{"$f":"INDEX(入力フォーム!$N3:$BEQ3,1,MATCH(AIE$175,入力フォーム!$N$5:$BEQ$5,0))","v":"くるみ⑩"},{"$f":"INDEX(入力フォーム!$N3:$BEQ3,1,MATCH(AIF$175,入力フォーム!$N$5:$BEQ$5,0))","v":"ごま⑩"},{"$f":"INDEX(入力フォーム!$N3:$BEQ3,1,MATCH(AIG$175,入力フォーム!$N$5:$BEQ$5,0))","v":"さけ⑩"},{"$f":"INDEX(入力フォーム!$N3:$BEQ3,1,MATCH(AIH$175,入力フォーム!$N$5:$BEQ$5,0))","v":"さば⑩"},{"$f":"INDEX(入力フォーム!$N3:$BEQ3,1,MATCH(AII$175,入力フォーム!$N$5:$BEQ$5,0))","v":"大豆⑩"},{"$f":"INDEX(入力フォーム!$N3:$BEQ3,1,MATCH(AIJ$175,入力フォーム!$N$5:$BEQ$5,0))","v":"鶏肉⑩"},{"$f":"INDEX(入力フォーム!$N3:$BEQ3,1,MATCH(AIK$175,入力フォーム!$N$5:$BEQ$5,0))","v":"バナナ⑩"},{"$f":"INDEX(入力フォーム!$N3:$BEQ3,1,MATCH(AIL$175,入力フォーム!$N$5:$BEQ$5,0))","v":"豚肉⑩"},{"$f":"INDEX(入力フォーム!$N3:$BEQ3,1,MATCH(AIM$175,入力フォーム!$N$5:$BEQ$5,0))","v":"まつたけ⑩"},{"$f":"INDEX(入力フォーム!$N3:$BEQ3,1,MATCH(AIN$175,入力フォーム!$N$5:$BEQ$5,0))","v":"もも⑩"},{"$f":"INDEX(入力フォーム!$N3:$BEQ3,1,MATCH(AIO$175,入力フォーム!$N$5:$BEQ$5,0))","v":"やまいも⑩"},{"$f":"INDEX(入力フォーム!$N3:$BEQ3,1,MATCH(AIP$175,入力フォーム!$N$5:$BEQ$5,0))","v":"りんご⑩"},{"$f":"INDEX(入力フォーム!$N3:$BEQ3,1,MATCH(AIQ$175,入力フォーム!$N$5:$BEQ$5,0))","v":"ゼラチン⑩"},{"$f":"INDEX(入力フォーム!$N3:$BEQ3,1,MATCH(AIR$175,入力フォーム!$N$5:$BEQ$5,0))","v":"備考⑩"},{"$f":"INDEX(入力フォーム!$N3:$BEQ3,1,MATCH(AIS$175,入力フォーム!$N$5:$BEQ$5,0))","v":0},{"$f":"INDEX(入力フォーム!$N3:$BEQ3,1,MATCH(AIT$175,入力フォーム!$N$5:$BEQ$5,0))","v":"商品名⑪"},{"$f":"INDEX(入力フォーム!$N3:$BEQ3,1,MATCH(AIU$175,入力フォーム!$N$5:$BEQ$5,0))","v":"提供可能時期⑪"},{"$f":"INDEX(入力フォーム!$N3:$BEQ3,1,MATCH(AIV$175,入力フォーム!$N$5:$BEQ$5,0))","v":"主原料産地⑪"},{"$f":"INDEX(入力フォーム!$N3:$BEQ3,1,MATCH(AIW$175,入力フォーム!$N$5:$BEQ$5,0))","v":"内容量⑪"},{"$f":"INDEX(入力フォーム!$N3:$BEQ3,1,MATCH(AIX$175,入力フォーム!$N$5:$BEQ$5,0))","v":"1ケースあたり⑪"},{"$f":"INDEX(入力フォーム!$N3:$BEQ3,1,MATCH(AIY$175,入力フォーム!$N$5:$BEQ$5,0))","v":"発注リードタイム⑪"},{"$f":"INDEX(入力フォーム!$N3:$BEQ3,1,MATCH(AIZ$175,入力フォーム!$N$5:$BEQ$5,0))","v":"最大ケース⑪"},{"$f":"INDEX(入力フォーム!$N3:$BEQ3,1,MATCH(AJA$175,入力フォーム!$N$5:$BEQ$5,0))","v":"最小ケース⑪"},{"$f":"INDEX(入力フォーム!$N3:$BEQ3,1,MATCH(AJB$175,入力フォーム!$N$5:$BEQ$5,0))","v":"縦⑪"},{"$f":"INDEX(入力フォーム!$N3:$BEQ3,1,MATCH(AJC$175,入力フォーム!$N$5:$BEQ$5,0))","v":"横⑪"},{"$f":"INDEX(入力フォーム!$N3:$BEQ3,1,MATCH(AJD$175,入力フォーム!$N$5:$BEQ$5,0))","v":"高さ⑪"},{"$f":"INDEX(入力フォーム!$N3:$BEQ3,1,MATCH(AJE$175,入力フォーム!$N$5:$BEQ$5,0))","v":"重量⑪"},{"$f":"INDEX(入力フォーム!$N3:$BEQ3,1,MATCH(AJF$175,入力フォーム!$N$5:$BEQ$5,0))","v":"賞味期限⑪"},{"$f":"INDEX(入力フォーム!$N3:$BEQ3,1,MATCH(AJG$175,入力フォーム!$N$5:$BEQ$5,0))","v":"消費期限⑪"},{"$f":"INDEX(入力フォーム!$N3:$BEQ3,1,MATCH(AJH$175,入力フォーム!$N$5:$BEQ$5,0))","v":"JANコード⑪"},{"$f":"INDEX(入力フォーム!$N3:$BEQ3,1,MATCH(AJI$175,入力フォーム!$N$5:$BEQ$5,0))","v":"希望小売⑪"},{"$f":"INDEX(入力フォーム!$N3:$BEQ3,1,MATCH(AJJ$175,入力フォーム!$N$5:$BEQ$5,0))","v":"仕切単価⑪"},{"$f":"INDEX(入力フォーム!$N3:$BEQ3,1,MATCH(AJK$175,入力フォーム!$N$5:$BEQ$5,0))","v":"工場出し⑪"},{"$f":"INDEX(入力フォーム!$N3:$BEQ3,1,MATCH(AJL$175,入力フォーム!$N$5:$BEQ$5,0))","v":"関東向け⑪"},{"$f":"INDEX(入力フォーム!$N3:$BEQ3,1,MATCH(AJM$175,入力フォーム!$N$5:$BEQ$5,0))","v":"関西向け⑪"},{"$f":"INDEX(入力フォーム!$N3:$BEQ3,1,MATCH(AJN$175,入力フォーム!$N$5:$BEQ$5,0))","v":"8%⑪"},{"$f":"INDEX(入力フォーム!$N3:$BEQ3,1,MATCH(AJO$175,入力フォーム!$N$5:$BEQ$5,0))","v":"10%⑪"},{"$f":"INDEX(入力フォーム!$N3:$BEQ3,1,MATCH(AJP$175,入力フォーム!$N$5:$BEQ$5,0))","v":"常温⑪"},{"$f":"INDEX(入力フォーム!$N3:$BEQ3,1,MATCH(AJQ$175,入力フォーム!$N$5:$BEQ$5,0))","v":"冷蔵⑪"},{"$f":"INDEX(入力フォーム!$N3:$BEQ3,1,MATCH(AJR$175,入力フォーム!$N$5:$BEQ$5,0))","v":"冷凍⑪"},{"$f":"INDEX(入力フォーム!$N3:$BEQ3,1,MATCH(AJS$175,入力フォーム!$N$5:$BEQ$5,0))","v":"外食⑪"},{"$f":"INDEX(入力フォーム!$N3:$BEQ3,1,MATCH(AJT$175,入力フォーム!$N$5:$BEQ$5,0))","v":"中食⑪"},{"$f":"INDEX(入力フォーム!$N3:$BEQ3,1,MATCH(AJU$175,入力フォーム!$N$5:$BEQ$5,0))","v":"商社・卸売⑪"},{"$f":"INDEX(入力フォーム!$N3:$BEQ3,1,MATCH(AJV$175,入力フォーム!$N$5:$BEQ$5,0))","v":"メーカー⑪"},{"$f":"INDEX(入力フォーム!$N3:$BEQ3,1,MATCH(AJW$175,入力フォーム!$N$5:$BEQ$5,0))","v":"スーパーマーケット⑪"},{"$f":"INDEX(入力フォーム!$N3:$BEQ3,1,MATCH(AJX$175,入力フォーム!$N$5:$BEQ$5,0))","v":"百貨店⑪"},{"$f":"INDEX(入力フォーム!$N3:$BEQ3,1,MATCH(AJY$175,入力フォーム!$N$5:$BEQ$5,0))","v":"その他小売⑪"},{"$f":"INDEX(入力フォーム!$N3:$BEQ3,1,MATCH(AJZ$175,入力フォーム!$N$5:$BEQ$5,0))","v":"ホテル・宴会・レジャー⑪"},{"$f":"INDEX(入力フォーム!$N3:$BEQ3,1,MATCH(AKA$175,入力フォーム!$N$5:$BEQ$5,0))","v":"その他・ターゲット⑪"},{"$f":"INDEX(入力フォーム!$N3:$BEQ3,1,MATCH(AKB$175,入力フォーム!$N$5:$BEQ$5,0))","v":"その他・ターゲット・⑪"},{"$f":"INDEX(入力フォーム!$N3:$BEQ3,1,MATCH(AKC$175,入力フォーム!$N$5:$BEQ$5,0))","v":"業務用対応可能⑪"},{"$f":"INDEX(入力フォーム!$N3:$BEQ3,1,MATCH(AKD$175,入力フォーム!$N$5:$BEQ$5,0))","v":"ギフト対応可能⑪"},{"$f":"INDEX(入力フォーム!$N3:$BEQ3,1,MATCH(AKE$175,入力フォーム!$N$5:$BEQ$5,0))","v":"ターゲット⑪"},{"$f":"INDEX(入力フォーム!$N3:$BEQ3,1,MATCH(AKF$175,入力フォーム!$N$5:$BEQ$5,0))","v":"利用シーン⑪"},{"$f":"INDEX(入力フォーム!$N3:$BEQ3,1,MATCH(AKG$175,入力フォーム!$N$5:$BEQ$5,0))","v":"商品特徴⑪"},{"$f":"INDEX(入力フォーム!$N3:$BEQ3,1,MATCH(AKH$175,入力フォーム!$N$5:$BEQ$5,0))","v":"えび⑪"},{"$f":"INDEX(入力フォーム!$N3:$BEQ3,1,MATCH(AKI$175,入力フォーム!$N$5:$BEQ$5,0))","v":"かに⑪"},{"$f":"INDEX(入力フォーム!$N3:$BEQ3,1,MATCH(AKJ$175,入力フォーム!$N$5:$BEQ$5,0))","v":"小麦⑪"},{"$f":"INDEX(入力フォーム!$N3:$BEQ3,1,MATCH(AKK$175,入力フォーム!$N$5:$BEQ$5,0))","v":"そば⑪"},{"$f":"INDEX(入力フォーム!$N3:$BEQ3,1,MATCH(AKL$175,入力フォーム!$N$5:$BEQ$5,0))","v":"卵⑪"},{"$f":"INDEX(入力フォーム!$N3:$BEQ3,1,MATCH(AKM$175,入力フォーム!$N$5:$BEQ$5,0))","v":"乳⑪"},{"$f":"INDEX(入力フォーム!$N3:$BEQ3,1,MATCH(AKN$175,入力フォーム!$N$5:$BEQ$5,0))","v":"落花生⑪"},{"$f":"INDEX(入力フォーム!$N3:$BEQ3,1,MATCH(AKO$175,入力フォーム!$N$5:$BEQ$5,0))","v":"あわび⑪"},{"$f":"INDEX(入力フォーム!$N3:$BEQ3,1,MATCH(AKP$175,入力フォーム!$N$5:$BEQ$5,0))","v":"いか⑪"},{"$f":"INDEX(入力フォーム!$N3:$BEQ3,1,MATCH(AKQ$175,入力フォーム!$N$5:$BEQ$5,0))","v":"いくら⑪"},{"$f":"INDEX(入力フォーム!$N3:$BEQ3,1,MATCH(AKR$175,入力フォーム!$N$5:$BEQ$5,0))","v":"オレンジ⑪"},{"$f":"INDEX(入力フォーム!$N3:$BEQ3,1,MATCH(AKS$175,入力フォーム!$N$5:$BEQ$5,0))","v":"カシューナッツ⑪"},{"$f":"INDEX(入力フォーム!$N3:$BEQ3,1,MATCH(AKT$175,入力フォーム!$N$5:$BEQ$5,0))","v":"キウイフルーツ⑪"},{"$f":"INDEX(入力フォーム!$N3:$BEQ3,1,MATCH(AKU$175,入力フォーム!$N$5:$BEQ$5,0))","v":"牛肉⑪"},{"$f":"INDEX(入力フォーム!$N3:$BEQ3,1,MATCH(AKV$175,入力フォーム!$N$5:$BEQ$5,0))","v":"くるみ⑪"},{"$f":"INDEX(入力フォーム!$N3:$BEQ3,1,MATCH(AKW$175,入力フォーム!$N$5:$BEQ$5,0))","v":"ごま⑪"},{"$f":"INDEX(入力フォーム!$N3:$BEQ3,1,MATCH(AKX$175,入力フォーム!$N$5:$BEQ$5,0))","v":"さけ⑪"},{"$f":"INDEX(入力フォーム!$N3:$BEQ3,1,MATCH(AKY$175,入力フォーム!$N$5:$BEQ$5,0))","v":"さば⑪"},{"$f":"INDEX(入力フォーム!$N3:$BEQ3,1,MATCH(AKZ$175,入力フォーム!$N$5:$BEQ$5,0))","v":"大豆⑪"},{"$f":"INDEX(入力フォーム!$N3:$BEQ3,1,MATCH(ALA$175,入力フォーム!$N$5:$BEQ$5,0))","v":"鶏肉⑪"},{"$f":"INDEX(入力フォーム!$N3:$BEQ3,1,MATCH(ALB$175,入力フォーム!$N$5:$BEQ$5,0))","v":"バナナ⑪"},{"$f":"INDEX(入力フォーム!$N3:$BEQ3,1,MATCH(ALC$175,入力フォーム!$N$5:$BEQ$5,0))","v":"豚肉⑪"},{"$f":"INDEX(入力フォーム!$N3:$BEQ3,1,MATCH(ALD$175,入力フォーム!$N$5:$BEQ$5,0))","v":"まつたけ⑪"},{"$f":"INDEX(入力フォーム!$N3:$BEQ3,1,MATCH(ALE$175,入力フォーム!$N$5:$BEQ$5,0))","v":"もも⑪"},{"$f":"INDEX(入力フォーム!$N3:$BEQ3,1,MATCH(ALF$175,入力フォーム!$N$5:$BEQ$5,0))","v":"やまいも⑪"},{"$f":"INDEX(入力フォーム!$N3:$BEQ3,1,MATCH(ALG$175,入力フォーム!$N$5:$BEQ$5,0))","v":"りんご⑪"},{"$f":"INDEX(入力フォーム!$N3:$BEQ3,1,MATCH(ALH$175,入力フォーム!$N$5:$BEQ$5,0))","v":"ゼラチン⑪"},{"$f":"INDEX(入力フォーム!$N3:$BEQ3,1,MATCH(ALI$175,入力フォーム!$N$5:$BEQ$5,0))","v":"備考⑪"},{"$f":"INDEX(入力フォーム!$N3:$BEQ3,1,MATCH(ALJ$175,入力フォーム!$N$5:$BEQ$5,0))","v":0},{"$f":"INDEX(入力フォーム!$N3:$BEQ3,1,MATCH(ALK$175,入力フォーム!$N$5:$BEQ$5,0))","v":"商品名⑫"},{"$f":"INDEX(入力フォーム!$N3:$BEQ3,1,MATCH(ALL$175,入力フォーム!$N$5:$BEQ$5,0))","v":"提供可能時期⑫"},{"$f":"INDEX(入力フォーム!$N3:$BEQ3,1,MATCH(ALM$175,入力フォーム!$N$5:$BEQ$5,0))","v":"主原料産地⑫"},{"$f":"INDEX(入力フォーム!$N3:$BEQ3,1,MATCH(ALN$175,入力フォーム!$N$5:$BEQ$5,0))","v":"内容量⑫"},{"$f":"INDEX(入力フォーム!$N3:$BEQ3,1,MATCH(ALO$175,入力フォーム!$N$5:$BEQ$5,0))","v":"1ケースあたり⑫"},{"$f":"INDEX(入力フォーム!$N3:$BEQ3,1,MATCH(ALP$175,入力フォーム!$N$5:$BEQ$5,0))","v":"発注リードタイム⑫"},{"$f":"INDEX(入力フォーム!$N3:$BEQ3,1,MATCH(ALQ$175,入力フォーム!$N$5:$BEQ$5,0))","v":"最大ケース⑫"},{"$f":"INDEX(入力フォーム!$N3:$BEQ3,1,MATCH(ALR$175,入力フォーム!$N$5:$BEQ$5,0))","v":"最小ケース⑫"},{"$f":"INDEX(入力フォーム!$N3:$BEQ3,1,MATCH(ALS$175,入力フォーム!$N$5:$BEQ$5,0))","v":"縦⑫"},{"$f":"INDEX(入力フォーム!$N3:$BEQ3,1,MATCH(ALT$175,入力フォーム!$N$5:$BEQ$5,0))","v":"横⑫"},{"$f":"INDEX(入力フォーム!$N3:$BEQ3,1,MATCH(ALU$175,入力フォーム!$N$5:$BEQ$5,0))","v":"高さ⑫"},{"$f":"INDEX(入力フォーム!$N3:$BEQ3,1,MATCH(ALV$175,入力フォーム!$N$5:$BEQ$5,0))","v":"重量⑫"},{"$f":"INDEX(入力フォーム!$N3:$BEQ3,1,MATCH(ALW$175,入力フォーム!$N$5:$BEQ$5,0))","v":"賞味期限⑫"},{"$f":"INDEX(入力フォーム!$N3:$BEQ3,1,MATCH(ALX$175,入力フォーム!$N$5:$BEQ$5,0))","v":"消費期限⑫"},{"$f":"INDEX(入力フォーム!$N3:$BEQ3,1,MATCH(ALY$175,入力フォーム!$N$5:$BEQ$5,0))","v":"JANコード⑫"},{"$f":"INDEX(入力フォーム!$N3:$BEQ3,1,MATCH(ALZ$175,入力フォーム!$N$5:$BEQ$5,0))","v":"希望小売⑫"},{"$f":"INDEX(入力フォーム!$N3:$BEQ3,1,MATCH(AMA$175,入力フォーム!$N$5:$BEQ$5,0))","v":"仕切単価⑫"},{"$f":"INDEX(入力フォーム!$N3:$BEQ3,1,MATCH(AMB$175,入力フォーム!$N$5:$BEQ$5,0))","v":"工場出し⑫"},{"$f":"INDEX(入力フォーム!$N3:$BEQ3,1,MATCH(AMC$175,入力フォーム!$N$5:$BEQ$5,0))","v":"関東向け⑫"},{"$f":"INDEX(入力フォーム!$N3:$BEQ3,1,MATCH(AMD$175,入力フォーム!$N$5:$BEQ$5,0))","v":"関西向け⑫"},{"$f":"INDEX(入力フォーム!$N3:$BEQ3,1,MATCH(AME$175,入力フォーム!$N$5:$BEQ$5,0))","v":"8%⑫"},{"$f":"INDEX(入力フォーム!$N3:$BEQ3,1,MATCH(AMF$175,入力フォーム!$N$5:$BEQ$5,0))","v":"10%⑫"},{"$f":"INDEX(入力フォーム!$N3:$BEQ3,1,MATCH(AMG$175,入力フォーム!$N$5:$BEQ$5,0))","v":"常温⑫"},{"$f":"INDEX(入力フォーム!$N3:$BEQ3,1,MATCH(AMH$175,入力フォーム!$N$5:$BEQ$5,0))","v":"冷蔵⑫"},{"$f":"INDEX(入力フォーム!$N3:$BEQ3,1,MATCH(AMI$175,入力フォーム!$N$5:$BEQ$5,0))","v":"冷凍⑫"},{"$f":"INDEX(入力フォーム!$N3:$BEQ3,1,MATCH(AMJ$175,入力フォーム!$N$5:$BEQ$5,0))","v":"外食⑫"},{"$f":"INDEX(入力フォーム!$N3:$BEQ3,1,MATCH(AMK$175,入力フォーム!$N$5:$BEQ$5,0))","v":"中食⑫"},{"$f":"INDEX(入力フォーム!$N3:$BEQ3,1,MATCH(AML$175,入力フォーム!$N$5:$BEQ$5,0))","v":"商社・卸売⑫"},{"$f":"INDEX(入力フォーム!$N3:$BEQ3,1,MATCH(AMM$175,入力フォーム!$N$5:$BEQ$5,0))","v":"メーカー⑫"},{"$f":"INDEX(入力フォーム!$N3:$BEQ3,1,MATCH(AMN$175,入力フォーム!$N$5:$BEQ$5,0))","v":"スーパーマーケット⑫"},{"$f":"INDEX(入力フォーム!$N3:$BEQ3,1,MATCH(AMO$175,入力フォーム!$N$5:$BEQ$5,0))","v":"百貨店⑫"},{"$f":"INDEX(入力フォーム!$N3:$BEQ3,1,MATCH(AMP$175,入力フォーム!$N$5:$BEQ$5,0))","v":"その他小売⑫"},{"$f":"INDEX(入力フォーム!$N3:$BEQ3,1,MATCH(AMQ$175,入力フォーム!$N$5:$BEQ$5,0))","v":"ホテル・宴会・レジャー⑫"},{"$f":"INDEX(入力フォーム!$N3:$BEQ3,1,MATCH(AMR$175,入力フォーム!$N$5:$BEQ$5,0))","v":"その他・ターゲット⑫"},{"$f":"INDEX(入力フォーム!$N3:$BEQ3,1,MATCH(AMS$175,入力フォーム!$N$5:$BEQ$5,0))","v":"その他・ターゲット・⑫"},{"$f":"INDEX(入力フォーム!$N3:$BEQ3,1,MATCH(AMT$175,入力フォーム!$N$5:$BEQ$5,0))","v":"業務用対応可能⑫"},{"$f":"INDEX(入力フォーム!$N3:$BEQ3,1,MATCH(AMU$175,入力フォーム!$N$5:$BEQ$5,0))","v":"ギフト対応可能⑫"},{"$f":"INDEX(入力フォーム!$N3:$BEQ3,1,MATCH(AMV$175,入力フォーム!$N$5:$BEQ$5,0))","v":"ターゲット⑫"},{"$f":"INDEX(入力フォーム!$N3:$BEQ3,1,MATCH(AMW$175,入力フォーム!$N$5:$BEQ$5,0))","v":"利用シーン⑫"},{"$f":"INDEX(入力フォーム!$N3:$BEQ3,1,MATCH(AMX$175,入力フォーム!$N$5:$BEQ$5,0))","v":"商品特徴⑫"},{"$f":"INDEX(入力フォーム!$N3:$BEQ3,1,MATCH(AMY$175,入力フォーム!$N$5:$BEQ$5,0))","v":"えび⑫"},{"$f":"INDEX(入力フォーム!$N3:$BEQ3,1,MATCH(AMZ$175,入力フォーム!$N$5:$BEQ$5,0))","v":"かに⑫"},{"$f":"INDEX(入力フォーム!$N3:$BEQ3,1,MATCH(ANA$175,入力フォーム!$N$5:$BEQ$5,0))","v":"小麦⑫"},{"$f":"INDEX(入力フォーム!$N3:$BEQ3,1,MATCH(ANB$175,入力フォーム!$N$5:$BEQ$5,0))","v":"そば⑫"},{"$f":"INDEX(入力フォーム!$N3:$BEQ3,1,MATCH(ANC$175,入力フォーム!$N$5:$BEQ$5,0))","v":"卵⑫"},{"$f":"INDEX(入力フォーム!$N3:$BEQ3,1,MATCH(AND$175,入力フォーム!$N$5:$BEQ$5,0))","v":"乳⑫"},{"$f":"INDEX(入力フォーム!$N3:$BEQ3,1,MATCH(ANE$175,入力フォーム!$N$5:$BEQ$5,0))","v":"落花生⑫"},{"$f":"INDEX(入力フォーム!$N3:$BEQ3,1,MATCH(ANF$175,入力フォーム!$N$5:$BEQ$5,0))","v":"あわび⑫"},{"$f":"INDEX(入力フォーム!$N3:$BEQ3,1,MATCH(ANG$175,入力フォーム!$N$5:$BEQ$5,0))","v":"いか⑫"},{"$f":"INDEX(入力フォーム!$N3:$BEQ3,1,MATCH(ANH$175,入力フォーム!$N$5:$BEQ$5,0))","v":"いくら⑫"},{"$f":"INDEX(入力フォーム!$N3:$BEQ3,1,MATCH(ANI$175,入力フォーム!$N$5:$BEQ$5,0))","v":"オレンジ⑫"},{"$f":"INDEX(入力フォーム!$N3:$BEQ3,1,MATCH(ANJ$175,入力フォーム!$N$5:$BEQ$5,0))","v":"カシューナッツ⑫"},{"$f":"INDEX(入力フォーム!$N3:$BEQ3,1,MATCH(ANK$175,入力フォーム!$N$5:$BEQ$5,0))","v":"キウイフルーツ⑫"},{"$f":"INDEX(入力フォーム!$N3:$BEQ3,1,MATCH(ANL$175,入力フォーム!$N$5:$BEQ$5,0))","v":"牛肉⑫"},{"$f":"INDEX(入力フォーム!$N3:$BEQ3,1,MATCH(ANM$175,入力フォーム!$N$5:$BEQ$5,0))","v":"くるみ⑫"},{"$f":"INDEX(入力フォーム!$N3:$BEQ3,1,MATCH(ANN$175,入力フォーム!$N$5:$BEQ$5,0))","v":"ごま⑫"},{"$f":"INDEX(入力フォーム!$N3:$BEQ3,1,MATCH(ANO$175,入力フォーム!$N$5:$BEQ$5,0))","v":"さけ⑫"},{"$f":"INDEX(入力フォーム!$N3:$BEQ3,1,MATCH(ANP$175,入力フォーム!$N$5:$BEQ$5,0))","v":"さば⑫"},{"$f":"INDEX(入力フォーム!$N3:$BEQ3,1,MATCH(ANQ$175,入力フォーム!$N$5:$BEQ$5,0))","v":"大豆⑫"},{"$f":"INDEX(入力フォーム!$N3:$BEQ3,1,MATCH(ANR$175,入力フォーム!$N$5:$BEQ$5,0))","v":"鶏肉⑫"},{"$f":"INDEX(入力フォーム!$N3:$BEQ3,1,MATCH(ANS$175,入力フォーム!$N$5:$BEQ$5,0))","v":"バナナ⑫"},{"$f":"INDEX(入力フォーム!$N3:$BEQ3,1,MATCH(ANT$175,入力フォーム!$N$5:$BEQ$5,0))","v":"豚肉⑫"},{"$f":"INDEX(入力フォーム!$N3:$BEQ3,1,MATCH(ANU$175,入力フォーム!$N$5:$BEQ$5,0))","v":"まつたけ⑫"},{"$f":"INDEX(入力フォーム!$N3:$BEQ3,1,MATCH(ANV$175,入力フォーム!$N$5:$BEQ$5,0))","v":"もも⑫"},{"$f":"INDEX(入力フォーム!$N3:$BEQ3,1,MATCH(ANW$175,入力フォーム!$N$5:$BEQ$5,0))","v":"やまいも⑫"},{"$f":"INDEX(入力フォーム!$N3:$BEQ3,1,MATCH(ANX$175,入力フォーム!$N$5:$BEQ$5,0))","v":"りんご⑫"},{"$f":"INDEX(入力フォーム!$N3:$BEQ3,1,MATCH(ANY$175,入力フォーム!$N$5:$BEQ$5,0))","v":"ゼラチン⑫"},{"$f":"INDEX(入力フォーム!$N3:$BEQ3,1,MATCH(ANZ$175,入力フォーム!$N$5:$BEQ$5,0))","v":"備考⑫"},{"$f":"INDEX(入力フォーム!$N3:$BEQ3,1,MATCH(AOA$175,入力フォーム!$N$5:$BEQ$5,0))","v":0},{"$f":"INDEX(入力フォーム!$N3:$BEQ3,1,MATCH(AOB$175,入力フォーム!$N$5:$BEQ$5,0))","v":"商品名⑬"},{"$f":"INDEX(入力フォーム!$N3:$BEQ3,1,MATCH(AOC$175,入力フォーム!$N$5:$BEQ$5,0))","v":"提供可能時期⑬"},{"$f":"INDEX(入力フォーム!$N3:$BEQ3,1,MATCH(AOD$175,入力フォーム!$N$5:$BEQ$5,0))","v":"主原料産地⑬"},{"$f":"INDEX(入力フォーム!$N3:$BEQ3,1,MATCH(AOE$175,入力フォーム!$N$5:$BEQ$5,0))","v":"内容量⑬"},{"$f":"INDEX(入力フォーム!$N3:$BEQ3,1,MATCH(AOF$175,入力フォーム!$N$5:$BEQ$5,0))","v":"1ケースあたり⑬"},{"$f":"INDEX(入力フォーム!$N3:$BEQ3,1,MATCH(AOG$175,入力フォーム!$N$5:$BEQ$5,0))","v":"発注リードタイム⑬"},{"$f":"INDEX(入力フォーム!$N3:$BEQ3,1,MATCH(AOH$175,入力フォーム!$N$5:$BEQ$5,0))","v":"最大ケース⑬"},{"$f":"INDEX(入力フォーム!$N3:$BEQ3,1,MATCH(AOI$175,入力フォーム!$N$5:$BEQ$5,0))","v":"最小ケース⑬"},{"$f":"INDEX(入力フォーム!$N3:$BEQ3,1,MATCH(AOJ$175,入力フォーム!$N$5:$BEQ$5,0))","v":"縦⑬"},{"$f":"INDEX(入力フォーム!$N3:$BEQ3,1,MATCH(AOK$175,入力フォーム!$N$5:$BEQ$5,0))","v":"横⑬"},{"$f":"INDEX(入力フォーム!$N3:$BEQ3,1,MATCH(AOL$175,入力フォーム!$N$5:$BEQ$5,0))","v":"高さ⑬"},{"$f":"INDEX(入力フォーム!$N3:$BEQ3,1,MATCH(AOM$175,入力フォーム!$N$5:$BEQ$5,0))","v":"重量⑬"},{"$f":"INDEX(入力フォーム!$N3:$BEQ3,1,MATCH(AON$175,入力フォーム!$N$5:$BEQ$5,0))","v":"賞味期限⑬"},{"$f":"INDEX(入力フォーム!$N3:$BEQ3,1,MATCH(AOO$175,入力フォーム!$N$5:$BEQ$5,0))","v":"消費期限⑬"},{"$f":"INDEX(入力フォーム!$N3:$BEQ3,1,MATCH(AOP$175,入力フォーム!$N$5:$BEQ$5,0))","v":"JANコード⑬"},{"$f":"INDEX(入力フォーム!$N3:$BEQ3,1,MATCH(AOQ$175,入力フォーム!$N$5:$BEQ$5,0))","v":"希望小売⑬"},{"$f":"INDEX(入力フォーム!$N3:$BEQ3,1,MATCH(AOR$175,入力フォーム!$N$5:$BEQ$5,0))","v":"仕切単価⑬"},{"$f":"INDEX(入力フォーム!$N3:$BEQ3,1,MATCH(AOS$175,入力フォーム!$N$5:$BEQ$5,0))","v":"工場出し⑬"},{"$f":"INDEX(入力フォーム!$N3:$BEQ3,1,MATCH(AOT$175,入力フォーム!$N$5:$BEQ$5,0))","v":"関東向け⑬"},{"$f":"INDEX(入力フォーム!$N3:$BEQ3,1,MATCH(AOU$175,入力フォーム!$N$5:$BEQ$5,0))","v":"関西向け⑬"},{"$f":"INDEX(入力フォーム!$N3:$BEQ3,1,MATCH(AOV$175,入力フォーム!$N$5:$BEQ$5,0))","v":"8%⑬"},{"$f":"INDEX(入力フォーム!$N3:$BEQ3,1,MATCH(AOW$175,入力フォーム!$N$5:$BEQ$5,0))","v":"10%⑬"},{"$f":"INDEX(入力フォーム!$N3:$BEQ3,1,MATCH(AOX$175,入力フォーム!$N$5:$BEQ$5,0))","v":"常温⑬"},{"$f":"INDEX(入力フォーム!$N3:$BEQ3,1,MATCH(AOY$175,入力フォーム!$N$5:$BEQ$5,0))","v":"冷蔵⑬"},{"$f":"INDEX(入力フォーム!$N3:$BEQ3,1,MATCH(AOZ$175,入力フォーム!$N$5:$BEQ$5,0))","v":"冷凍⑬"},{"$f":"INDEX(入力フォーム!$N3:$BEQ3,1,MATCH(APA$175,入力フォーム!$N$5:$BEQ$5,0))","v":"外食⑬"},{"$f":"INDEX(入力フォーム!$N3:$BEQ3,1,MATCH(APB$175,入力フォーム!$N$5:$BEQ$5,0))","v":"中食⑬"},{"$f":"INDEX(入力フォーム!$N3:$BEQ3,1,MATCH(APC$175,入力フォーム!$N$5:$BEQ$5,0))","v":"商社・卸売⑬"},{"$f":"INDEX(入力フォーム!$N3:$BEQ3,1,MATCH(APD$175,入力フォーム!$N$5:$BEQ$5,0))","v":"メーカー⑬"},{"$f":"INDEX(入力フォーム!$N3:$BEQ3,1,MATCH(APE$175,入力フォーム!$N$5:$BEQ$5,0))","v":"スーパーマーケット⑬"},{"$f":"INDEX(入力フォーム!$N3:$BEQ3,1,MATCH(APF$175,入力フォーム!$N$5:$BEQ$5,0))","v":"百貨店⑬"},{"$f":"INDEX(入力フォーム!$N3:$BEQ3,1,MATCH(APG$175,入力フォーム!$N$5:$BEQ$5,0))","v":"その他小売⑬"},{"$f":"INDEX(入力フォーム!$N3:$BEQ3,1,MATCH(APH$175,入力フォーム!$N$5:$BEQ$5,0))","v":"ホテル・宴会・レジャー⑬"},{"$f":"INDEX(入力フォーム!$N3:$BEQ3,1,MATCH(API$175,入力フォーム!$N$5:$BEQ$5,0))","v":"その他・ターゲット⑬"},{"$f":"INDEX(入力フォーム!$N3:$BEQ3,1,MATCH(APJ$175,入力フォーム!$N$5:$BEQ$5,0))","v":"その他・ターゲット・⑬"},{"$f":"INDEX(入力フォーム!$N3:$BEQ3,1,MATCH(APK$175,入力フォーム!$N$5:$BEQ$5,0))","v":"業務用対応可能⑬"},{"$f":"INDEX(入力フォーム!$N3:$BEQ3,1,MATCH(APL$175,入力フォーム!$N$5:$BEQ$5,0))","v":"ギフト対応可能⑬"},{"$f":"INDEX(入力フォーム!$N3:$BEQ3,1,MATCH(APM$175,入力フォーム!$N$5:$BEQ$5,0))","v":"ターゲット⑬"},{"$f":"INDEX(入力フォーム!$N3:$BEQ3,1,MATCH(APN$175,入力フォーム!$N$5:$BEQ$5,0))","v":"利用シーン⑬"},{"$f":"INDEX(入力フォーム!$N3:$BEQ3,1,MATCH(APO$175,入力フォーム!$N$5:$BEQ$5,0))","v":"商品特徴⑬"},{"$f":"INDEX(入力フォーム!$N3:$BEQ3,1,MATCH(APP$175,入力フォーム!$N$5:$BEQ$5,0))","v":"えび⑬"},{"$f":"INDEX(入力フォーム!$N3:$BEQ3,1,MATCH(APQ$175,入力フォーム!$N$5:$BEQ$5,0))","v":"かに⑬"},{"$f":"INDEX(入力フォーム!$N3:$BEQ3,1,MATCH(APR$175,入力フォーム!$N$5:$BEQ$5,0))","v":"小麦⑬"},{"$f":"INDEX(入力フォーム!$N3:$BEQ3,1,MATCH(APS$175,入力フォーム!$N$5:$BEQ$5,0))","v":"そば⑬"},{"$f":"INDEX(入力フォーム!$N3:$BEQ3,1,MATCH(APT$175,入力フォーム!$N$5:$BEQ$5,0))","v":"卵⑬"},{"$f":"INDEX(入力フォーム!$N3:$BEQ3,1,MATCH(APU$175,入力フォーム!$N$5:$BEQ$5,0))","v":"乳⑬"},{"$f":"INDEX(入力フォーム!$N3:$BEQ3,1,MATCH(APV$175,入力フォーム!$N$5:$BEQ$5,0))","v":"落花生⑬"},{"$f":"INDEX(入力フォーム!$N3:$BEQ3,1,MATCH(APW$175,入力フォーム!$N$5:$BEQ$5,0))","v":"あわび⑬"},{"$f":"INDEX(入力フォーム!$N3:$BEQ3,1,MATCH(APX$175,入力フォーム!$N$5:$BEQ$5,0))","v":"いか⑬"},{"$f":"INDEX(入力フォーム!$N3:$BEQ3,1,MATCH(APY$175,入力フォーム!$N$5:$BEQ$5,0))","v":"いくら⑬"},{"$f":"INDEX(入力フォーム!$N3:$BEQ3,1,MATCH(APZ$175,入力フォーム!$N$5:$BEQ$5,0))","v":"オレンジ⑬"},{"$f":"INDEX(入力フォーム!$N3:$BEQ3,1,MATCH(AQA$175,入力フォーム!$N$5:$BEQ$5,0))","v":"カシューナッツ⑬"},{"$f":"INDEX(入力フォーム!$N3:$BEQ3,1,MATCH(AQB$175,入力フォーム!$N$5:$BEQ$5,0))","v":"キウイフルーツ⑬"},{"$f":"INDEX(入力フォーム!$N3:$BEQ3,1,MATCH(AQC$175,入力フォーム!$N$5:$BEQ$5,0))","v":"牛肉⑬"},{"$f":"INDEX(入力フォーム!$N3:$BEQ3,1,MATCH(AQD$175,入力フォーム!$N$5:$BEQ$5,0))","v":"くるみ⑬"},{"$f":"INDEX(入力フォーム!$N3:$BEQ3,1,MATCH(AQE$175,入力フォーム!$N$5:$BEQ$5,0))","v":"ごま⑬"},{"$f":"INDEX(入力フォーム!$N3:$BEQ3,1,MATCH(AQF$175,入力フォーム!$N$5:$BEQ$5,0))","v":"さけ⑬"},{"$f":"INDEX(入力フォーム!$N3:$BEQ3,1,MATCH(AQG$175,入力フォーム!$N$5:$BEQ$5,0))","v":"さば⑬"},{"$f":"INDEX(入力フォーム!$N3:$BEQ3,1,MATCH(AQH$175,入力フォーム!$N$5:$BEQ$5,0))","v":"大豆⑬"},{"$f":"INDEX(入力フォーム!$N3:$BEQ3,1,MATCH(AQI$175,入力フォーム!$N$5:$BEQ$5,0))","v":"鶏肉⑬"},{"$f":"INDEX(入力フォーム!$N3:$BEQ3,1,MATCH(AQJ$175,入力フォーム!$N$5:$BEQ$5,0))","v":"バナナ⑬"},{"$f":"INDEX(入力フォーム!$N3:$BEQ3,1,MATCH(AQK$175,入力フォーム!$N$5:$BEQ$5,0))","v":"豚肉⑬"},{"$f":"INDEX(入力フォーム!$N3:$BEQ3,1,MATCH(AQL$175,入力フォーム!$N$5:$BEQ$5,0))","v":"まつたけ⑬"},{"$f":"INDEX(入力フォーム!$N3:$BEQ3,1,MATCH(AQM$175,入力フォーム!$N$5:$BEQ$5,0))","v":"もも⑬"},{"$f":"INDEX(入力フォーム!$N3:$BEQ3,1,MATCH(AQN$175,入力フォーム!$N$5:$BEQ$5,0))","v":"やまいも⑬"},{"$f":"INDEX(入力フォーム!$N3:$BEQ3,1,MATCH(AQO$175,入力フォーム!$N$5:$BEQ$5,0))","v":"りんご⑬"},{"$f":"INDEX(入力フォーム!$N3:$BEQ3,1,MATCH(AQP$175,入力フォーム!$N$5:$BEQ$5,0))","v":"ゼラチン⑬"},{"$f":"INDEX(入力フォーム!$N3:$BEQ3,1,MATCH(AQQ$175,入力フォーム!$N$5:$BEQ$5,0))","v":"備考⑬"},{"$f":"INDEX(入力フォーム!$N3:$BEQ3,1,MATCH(AQR$175,入力フォーム!$N$5:$BEQ$5,0))","v":0},{"$f":"INDEX(入力フォーム!$N3:$BEQ3,1,MATCH(AQS$175,入力フォーム!$N$5:$BEQ$5,0))","v":"商品名⑭"},{"$f":"INDEX(入力フォーム!$N3:$BEQ3,1,MATCH(AQT$175,入力フォーム!$N$5:$BEQ$5,0))","v":"提供可能時期⑭"},{"$f":"INDEX(入力フォーム!$N3:$BEQ3,1,MATCH(AQU$175,入力フォーム!$N$5:$BEQ$5,0))","v":"主原料産地⑭"},{"$f":"INDEX(入力フォーム!$N3:$BEQ3,1,MATCH(AQV$175,入力フォーム!$N$5:$BEQ$5,0))","v":"内容量⑭"},{"$f":"INDEX(入力フォーム!$N3:$BEQ3,1,MATCH(AQW$175,入力フォーム!$N$5:$BEQ$5,0))","v":"1ケースあたり⑭"},{"$f":"INDEX(入力フォーム!$N3:$BEQ3,1,MATCH(AQX$175,入力フォーム!$N$5:$BEQ$5,0))","v":"発注リードタイム⑭"},{"$f":"INDEX(入力フォーム!$N3:$BEQ3,1,MATCH(AQY$175,入力フォーム!$N$5:$BEQ$5,0))","v":"最大ケース⑭"},{"$f":"INDEX(入力フォーム!$N3:$BEQ3,1,MATCH(AQZ$175,入力フォーム!$N$5:$BEQ$5,0))","v":"最小ケース⑭"},{"$f":"INDEX(入力フォーム!$N3:$BEQ3,1,MATCH(ARA$175,入力フォーム!$N$5:$BEQ$5,0))","v":"縦⑭"},{"$f":"INDEX(入力フォーム!$N3:$BEQ3,1,MATCH(ARB$175,入力フォーム!$N$5:$BEQ$5,0))","v":"横⑭"},{"$f":"INDEX(入力フォーム!$N3:$BEQ3,1,MATCH(ARC$175,入力フォーム!$N$5:$BEQ$5,0))","v":"高さ⑭"},{"$f":"INDEX(入力フォーム!$N3:$BEQ3,1,MATCH(ARD$175,入力フォーム!$N$5:$BEQ$5,0))","v":"重量⑭"},{"$f":"INDEX(入力フォーム!$N3:$BEQ3,1,MATCH(ARE$175,入力フォーム!$N$5:$BEQ$5,0))","v":"賞味期限⑭"},{"$f":"INDEX(入力フォーム!$N3:$BEQ3,1,MATCH(ARF$175,入力フォーム!$N$5:$BEQ$5,0))","v":"消費期限⑭"},{"$f":"INDEX(入力フォーム!$N3:$BEQ3,1,MATCH(ARG$175,入力フォーム!$N$5:$BEQ$5,0))","v":"JANコード⑭"},{"$f":"INDEX(入力フォーム!$N3:$BEQ3,1,MATCH(ARH$175,入力フォーム!$N$5:$BEQ$5,0))","v":"希望小売⑭"},{"$f":"INDEX(入力フォーム!$N3:$BEQ3,1,MATCH(ARI$175,入力フォーム!$N$5:$BEQ$5,0))","v":"仕切単価⑭"},{"$f":"INDEX(入力フォーム!$N3:$BEQ3,1,MATCH(ARJ$175,入力フォーム!$N$5:$BEQ$5,0))","v":"工場出し⑭"},{"$f":"INDEX(入力フォーム!$N3:$BEQ3,1,MATCH(ARK$175,入力フォーム!$N$5:$BEQ$5,0))","v":"関東向け⑭"},{"$f":"INDEX(入力フォーム!$N3:$BEQ3,1,MATCH(ARL$175,入力フォーム!$N$5:$BEQ$5,0))","v":"関西向け⑭"},{"$f":"INDEX(入力フォーム!$N3:$BEQ3,1,MATCH(ARM$175,入力フォーム!$N$5:$BEQ$5,0))","v":"8%⑭"},{"$f":"INDEX(入力フォーム!$N3:$BEQ3,1,MATCH(ARN$175,入力フォーム!$N$5:$BEQ$5,0))","v":"10%⑭"},{"$f":"INDEX(入力フォーム!$N3:$BEQ3,1,MATCH(ARO$175,入力フォーム!$N$5:$BEQ$5,0))","v":"常温⑭"},{"$f":"INDEX(入力フォーム!$N3:$BEQ3,1,MATCH(ARP$175,入力フォーム!$N$5:$BEQ$5,0))","v":"冷蔵⑭"},{"$f":"INDEX(入力フォーム!$N3:$BEQ3,1,MATCH(ARQ$175,入力フォーム!$N$5:$BEQ$5,0))","v":"冷凍⑭"},{"$f":"INDEX(入力フォーム!$N3:$BEQ3,1,MATCH(ARR$175,入力フォーム!$N$5:$BEQ$5,0))","v":"外食⑭"},{"$f":"INDEX(入力フォーム!$N3:$BEQ3,1,MATCH(ARS$175,入力フォーム!$N$5:$BEQ$5,0))","v":"中食⑭"},{"$f":"INDEX(入力フォーム!$N3:$BEQ3,1,MATCH(ART$175,入力フォーム!$N$5:$BEQ$5,0))","v":"商社・卸売⑭"},{"$f":"INDEX(入力フォーム!$N3:$BEQ3,1,MATCH(ARU$175,入力フォーム!$N$5:$BEQ$5,0))","v":"メーカー⑭"},{"$f":"INDEX(入力フォーム!$N3:$BEQ3,1,MATCH(ARV$175,入力フォーム!$N$5:$BEQ$5,0))","v":"スーパーマーケット⑭"},{"$f":"INDEX(入力フォーム!$N3:$BEQ3,1,MATCH(ARW$175,入力フォーム!$N$5:$BEQ$5,0))","v":"百貨店⑭"},{"$f":"INDEX(入力フォーム!$N3:$BEQ3,1,MATCH(ARX$175,入力フォーム!$N$5:$BEQ$5,0))","v":"その他小売⑭"},{"$f":"INDEX(入力フォーム!$N3:$BEQ3,1,MATCH(ARY$175,入力フォーム!$N$5:$BEQ$5,0))","v":"ホテル・宴会・レジャー⑭"},{"$f":"INDEX(入力フォーム!$N3:$BEQ3,1,MATCH(ARZ$175,入力フォーム!$N$5:$BEQ$5,0))","v":"その他・ターゲット⑭"},{"$f":"INDEX(入力フォーム!$N3:$BEQ3,1,MATCH(ASA$175,入力フォーム!$N$5:$BEQ$5,0))","v":"その他・ターゲット・⑭"},{"$f":"INDEX(入力フォーム!$N3:$BEQ3,1,MATCH(ASB$175,入力フォーム!$N$5:$BEQ$5,0))","v":"業務用対応可能⑭"},{"$f":"INDEX(入力フォーム!$N3:$BEQ3,1,MATCH(ASC$175,入力フォーム!$N$5:$BEQ$5,0))","v":"ギフト対応可能⑭"},{"$f":"INDEX(入力フォーム!$N3:$BEQ3,1,MATCH(ASD$175,入力フォーム!$N$5:$BEQ$5,0))","v":"ターゲット⑭"},{"$f":"INDEX(入力フォーム!$N3:$BEQ3,1,MATCH(ASE$175,入力フォーム!$N$5:$BEQ$5,0))","v":"利用シーン⑭"},{"$f":"INDEX(入力フォーム!$N3:$BEQ3,1,MATCH(ASF$175,入力フォーム!$N$5:$BEQ$5,0))","v":"商品特徴⑭"},{"$f":"INDEX(入力フォーム!$N3:$BEQ3,1,MATCH(ASG$175,入力フォーム!$N$5:$BEQ$5,0))","v":"えび⑭"},{"$f":"INDEX(入力フォーム!$N3:$BEQ3,1,MATCH(ASH$175,入力フォーム!$N$5:$BEQ$5,0))","v":"かに⑭"},{"$f":"INDEX(入力フォーム!$N3:$BEQ3,1,MATCH(ASI$175,入力フォーム!$N$5:$BEQ$5,0))","v":"小麦⑭"},{"$f":"INDEX(入力フォーム!$N3:$BEQ3,1,MATCH(ASJ$175,入力フォーム!$N$5:$BEQ$5,0))","v":"そば⑭"},{"$f":"INDEX(入力フォーム!$N3:$BEQ3,1,MATCH(ASK$175,入力フォーム!$N$5:$BEQ$5,0))","v":"卵⑭"},{"$f":"INDEX(入力フォーム!$N3:$BEQ3,1,MATCH(ASL$175,入力フォーム!$N$5:$BEQ$5,0))","v":"乳⑭"},{"$f":"INDEX(入力フォーム!$N3:$BEQ3,1,MATCH(ASM$175,入力フォーム!$N$5:$BEQ$5,0))","v":"落花生⑭"},{"$f":"INDEX(入力フォーム!$N3:$BEQ3,1,MATCH(ASN$175,入力フォーム!$N$5:$BEQ$5,0))","v":"あわび⑭"},{"$f":"INDEX(入力フォーム!$N3:$BEQ3,1,MATCH(ASO$175,入力フォーム!$N$5:$BEQ$5,0))","v":"いか⑭"},{"$f":"INDEX(入力フォーム!$N3:$BEQ3,1,MATCH(ASP$175,入力フォーム!$N$5:$BEQ$5,0))","v":"いくら⑭"},{"$f":"INDEX(入力フォーム!$N3:$BEQ3,1,MATCH(ASQ$175,入力フォーム!$N$5:$BEQ$5,0))","v":"オレンジ⑭"},{"$f":"INDEX(入力フォーム!$N3:$BEQ3,1,MATCH(ASR$175,入力フォーム!$N$5:$BEQ$5,0))","v":"カシューナッツ⑭"},{"$f":"INDEX(入力フォーム!$N3:$BEQ3,1,MATCH(ASS$175,入力フォーム!$N$5:$BEQ$5,0))","v":"キウイフルーツ⑭"},{"$f":"INDEX(入力フォーム!$N3:$BEQ3,1,MATCH(AST$175,入力フォーム!$N$5:$BEQ$5,0))","v":"牛肉⑭"},{"$f":"INDEX(入力フォーム!$N3:$BEQ3,1,MATCH(ASU$175,入力フォーム!$N$5:$BEQ$5,0))","v":"くるみ⑭"},{"$f":"INDEX(入力フォーム!$N3:$BEQ3,1,MATCH(ASV$175,入力フォーム!$N$5:$BEQ$5,0))","v":"ごま⑭"},{"$f":"INDEX(入力フォーム!$N3:$BEQ3,1,MATCH(ASW$175,入力フォーム!$N$5:$BEQ$5,0))","v":"さけ⑭"},{"$f":"INDEX(入力フォーム!$N3:$BEQ3,1,MATCH(ASX$175,入力フォーム!$N$5:$BEQ$5,0))","v":"さば⑭"},{"$f":"INDEX(入力フォーム!$N3:$BEQ3,1,MATCH(ASY$175,入力フォーム!$N$5:$BEQ$5,0))","v":"大豆⑭"},{"$f":"INDEX(入力フォーム!$N3:$BEQ3,1,MATCH(ASZ$175,入力フォーム!$N$5:$BEQ$5,0))","v":"鶏肉⑭"},{"$f":"INDEX(入力フォーム!$N3:$BEQ3,1,MATCH(ATA$175,入力フォーム!$N$5:$BEQ$5,0))","v":"バナナ⑭"},{"$f":"INDEX(入力フォーム!$N3:$BEQ3,1,MATCH(ATB$175,入力フォーム!$N$5:$BEQ$5,0))","v":"豚肉⑭"},{"$f":"INDEX(入力フォーム!$N3:$BEQ3,1,MATCH(ATC$175,入力フォーム!$N$5:$BEQ$5,0))","v":"まつたけ⑭"},{"$f":"INDEX(入力フォーム!$N3:$BEQ3,1,MATCH(ATD$175,入力フォーム!$N$5:$BEQ$5,0))","v":"もも⑭"},{"$f":"INDEX(入力フォーム!$N3:$BEQ3,1,MATCH(ATE$175,入力フォーム!$N$5:$BEQ$5,0))","v":"やまいも⑭"},{"$f":"INDEX(入力フォーム!$N3:$BEQ3,1,MATCH(ATF$175,入力フォーム!$N$5:$BEQ$5,0))","v":"りんご⑭"},{"$f":"INDEX(入力フォーム!$N3:$BEQ3,1,MATCH(ATG$175,入力フォーム!$N$5:$BEQ$5,0))","v":"ゼラチン⑭"},{"$f":"INDEX(入力フォーム!$N3:$BEQ3,1,MATCH(ATH$175,入力フォーム!$N$5:$BEQ$5,0))","v":"備考⑭"},{"$f":"INDEX(入力フォーム!$N3:$BEQ3,1,MATCH(ATI$175,入力フォーム!$N$5:$BEQ$5,0))","v":0},{"$f":"INDEX(入力フォーム!$N3:$BEQ3,1,MATCH(ATJ$175,入力フォーム!$N$5:$BEQ$5,0))","v":"商品名⑮"},{"$f":"INDEX(入力フォーム!$N3:$BEQ3,1,MATCH(ATK$175,入力フォーム!$N$5:$BEQ$5,0))","v":"提供可能時期⑮"},{"$f":"INDEX(入力フォーム!$N3:$BEQ3,1,MATCH(ATL$175,入力フォーム!$N$5:$BEQ$5,0))","v":"主原料産地⑮"},{"$f":"INDEX(入力フォーム!$N3:$BEQ3,1,MATCH(ATM$175,入力フォーム!$N$5:$BEQ$5,0))","v":"内容量⑮"},{"$f":"INDEX(入力フォーム!$N3:$BEQ3,1,MATCH(ATN$175,入力フォーム!$N$5:$BEQ$5,0))","v":"1ケースあたり⑮"},{"$f":"INDEX(入力フォーム!$N3:$BEQ3,1,MATCH(ATO$175,入力フォーム!$N$5:$BEQ$5,0))","v":"発注リードタイム⑮"},{"$f":"INDEX(入力フォーム!$N3:$BEQ3,1,MATCH(ATP$175,入力フォーム!$N$5:$BEQ$5,0))","v":"最大ケース⑮"},{"$f":"INDEX(入力フォーム!$N3:$BEQ3,1,MATCH(ATQ$175,入力フォーム!$N$5:$BEQ$5,0))","v":"最小ケース⑮"},{"$f":"INDEX(入力フォーム!$N3:$BEQ3,1,MATCH(ATR$175,入力フォーム!$N$5:$BEQ$5,0))","v":"縦⑮"},{"$f":"INDEX(入力フォーム!$N3:$BEQ3,1,MATCH(ATS$175,入力フォーム!$N$5:$BEQ$5,0))","v":"横⑮"},{"$f":"INDEX(入力フォーム!$N3:$BEQ3,1,MATCH(ATT$175,入力フォーム!$N$5:$BEQ$5,0))","v":"高さ⑮"},{"$f":"INDEX(入力フォーム!$N3:$BEQ3,1,MATCH(ATU$175,入力フォーム!$N$5:$BEQ$5,0))","v":"重量⑮"},{"$f":"INDEX(入力フォーム!$N3:$BEQ3,1,MATCH(ATV$175,入力フォーム!$N$5:$BEQ$5,0))","v":"賞味期限⑮"},{"$f":"INDEX(入力フォーム!$N3:$BEQ3,1,MATCH(ATW$175,入力フォーム!$N$5:$BEQ$5,0))","v":"消費期限⑮"},{"$f":"INDEX(入力フォーム!$N3:$BEQ3,1,MATCH(ATX$175,入力フォーム!$N$5:$BEQ$5,0))","v":"JANコード⑮"},{"$f":"INDEX(入力フォーム!$N3:$BEQ3,1,MATCH(ATY$175,入力フォーム!$N$5:$BEQ$5,0))","v":"希望小売⑮"},{"$f":"INDEX(入力フォーム!$N3:$BEQ3,1,MATCH(ATZ$175,入力フォーム!$N$5:$BEQ$5,0))","v":"仕切単価⑮"},{"$f":"INDEX(入力フォーム!$N3:$BEQ3,1,MATCH(AUA$175,入力フォーム!$N$5:$BEQ$5,0))","v":"工場出し⑮"},{"$f":"INDEX(入力フォーム!$N3:$BEQ3,1,MATCH(AUB$175,入力フォーム!$N$5:$BEQ$5,0))","v":"関東向け⑮"},{"$f":"INDEX(入力フォーム!$N3:$BEQ3,1,MATCH(AUC$175,入力フォーム!$N$5:$BEQ$5,0))","v":"関西向け⑮"},{"$f":"INDEX(入力フォーム!$N3:$BEQ3,1,MATCH(AUD$175,入力フォーム!$N$5:$BEQ$5,0))","v":"8%⑮"},{"$f":"INDEX(入力フォーム!$N3:$BEQ3,1,MATCH(AUE$175,入力フォーム!$N$5:$BEQ$5,0))","v":"10%⑮"},{"$f":"INDEX(入力フォーム!$N3:$BEQ3,1,MATCH(AUF$175,入力フォーム!$N$5:$BEQ$5,0))","v":"常温⑮"},{"$f":"INDEX(入力フォーム!$N3:$BEQ3,1,MATCH(AUG$175,入力フォーム!$N$5:$BEQ$5,0))","v":"冷蔵⑮"},{"$f":"INDEX(入力フォーム!$N3:$BEQ3,1,MATCH(AUH$175,入力フォーム!$N$5:$BEQ$5,0))","v":"冷凍⑮"},{"$f":"INDEX(入力フォーム!$N3:$BEQ3,1,MATCH(AUI$175,入力フォーム!$N$5:$BEQ$5,0))","v":"外食⑮"},{"$f":"INDEX(入力フォーム!$N3:$BEQ3,1,MATCH(AUJ$175,入力フォーム!$N$5:$BEQ$5,0))","v":"中食⑮"},{"$f":"INDEX(入力フォーム!$N3:$BEQ3,1,MATCH(AUK$175,入力フォーム!$N$5:$BEQ$5,0))","v":"商社・卸売⑮"},{"$f":"INDEX(入力フォーム!$N3:$BEQ3,1,MATCH(AUL$175,入力フォーム!$N$5:$BEQ$5,0))","v":"メーカー⑮"},{"$f":"INDEX(入力フォーム!$N3:$BEQ3,1,MATCH(AUM$175,入力フォーム!$N$5:$BEQ$5,0))","v":"スーパーマーケット⑮"},{"$f":"INDEX(入力フォーム!$N3:$BEQ3,1,MATCH(AUN$175,入力フォーム!$N$5:$BEQ$5,0))","v":"百貨店⑮"},{"$f":"INDEX(入力フォーム!$N3:$BEQ3,1,MATCH(AUO$175,入力フォーム!$N$5:$BEQ$5,0))","v":"その他小売⑮"},{"$f":"INDEX(入力フォーム!$N3:$BEQ3,1,MATCH(AUP$175,入力フォーム!$N$5:$BEQ$5,0))","v":"ホテル・宴会・レジャー⑮"},{"$f":"INDEX(入力フォーム!$N3:$BEQ3,1,MATCH(AUQ$175,入力フォーム!$N$5:$BEQ$5,0))","v":"その他・ターゲット⑮"},{"$f":"INDEX(入力フォーム!$N3:$BEQ3,1,MATCH(AUR$175,入力フォーム!$N$5:$BEQ$5,0))","v":"その他・ターゲット・⑮"},{"$f":"INDEX(入力フォーム!$N3:$BEQ3,1,MATCH(AUS$175,入力フォーム!$N$5:$BEQ$5,0))","v":"業務用対応可能⑮"},{"$f":"INDEX(入力フォーム!$N3:$BEQ3,1,MATCH(AUT$175,入力フォーム!$N$5:$BEQ$5,0))","v":"ギフト対応可能⑮"},{"$f":"INDEX(入力フォーム!$N3:$BEQ3,1,MATCH(AUU$175,入力フォーム!$N$5:$BEQ$5,0))","v":"ターゲット⑮"},{"$f":"INDEX(入力フォーム!$N3:$BEQ3,1,MATCH(AUV$175,入力フォーム!$N$5:$BEQ$5,0))","v":"利用シーン⑮"},{"$f":"INDEX(入力フォーム!$N3:$BEQ3,1,MATCH(AUW$175,入力フォーム!$N$5:$BEQ$5,0))","v":"商品特徴⑮"},{"$f":"INDEX(入力フォーム!$N3:$BEQ3,1,MATCH(AUX$175,入力フォーム!$N$5:$BEQ$5,0))","v":"えび⑮"},{"$f":"INDEX(入力フォーム!$N3:$BEQ3,1,MATCH(AUY$175,入力フォーム!$N$5:$BEQ$5,0))","v":"かに⑮"},{"$f":"INDEX(入力フォーム!$N3:$BEQ3,1,MATCH(AUZ$175,入力フォーム!$N$5:$BEQ$5,0))","v":"小麦⑮"},{"$f":"INDEX(入力フォーム!$N3:$BEQ3,1,MATCH(AVA$175,入力フォーム!$N$5:$BEQ$5,0))","v":"そば⑮"},{"$f":"INDEX(入力フォーム!$N3:$BEQ3,1,MATCH(AVB$175,入力フォーム!$N$5:$BEQ$5,0))","v":"卵⑮"},{"$f":"INDEX(入力フォーム!$N3:$BEQ3,1,MATCH(AVC$175,入力フォーム!$N$5:$BEQ$5,0))","v":"乳⑮"},{"$f":"INDEX(入力フォーム!$N3:$BEQ3,1,MATCH(AVD$175,入力フォーム!$N$5:$BEQ$5,0))","v":"落花生⑮"},{"$f":"INDEX(入力フォーム!$N3:$BEQ3,1,MATCH(AVE$175,入力フォーム!$N$5:$BEQ$5,0))","v":"あわび⑮"},{"$f":"INDEX(入力フォーム!$N3:$BEQ3,1,MATCH(AVF$175,入力フォーム!$N$5:$BEQ$5,0))","v":"いか⑮"},{"$f":"INDEX(入力フォーム!$N3:$BEQ3,1,MATCH(AVG$175,入力フォーム!$N$5:$BEQ$5,0))","v":"いくら⑮"},{"$f":"INDEX(入力フォーム!$N3:$BEQ3,1,MATCH(AVH$175,入力フォーム!$N$5:$BEQ$5,0))","v":"オレンジ⑮"},{"$f":"INDEX(入力フォーム!$N3:$BEQ3,1,MATCH(AVI$175,入力フォーム!$N$5:$BEQ$5,0))","v":"カシューナッツ⑮"},{"$f":"INDEX(入力フォーム!$N3:$BEQ3,1,MATCH(AVJ$175,入力フォーム!$N$5:$BEQ$5,0))","v":"キウイフルーツ⑮"},{"$f":"INDEX(入力フォーム!$N3:$BEQ3,1,MATCH(AVK$175,入力フォーム!$N$5:$BEQ$5,0))","v":"牛肉⑮"},{"$f":"INDEX(入力フォーム!$N3:$BEQ3,1,MATCH(AVL$175,入力フォーム!$N$5:$BEQ$5,0))","v":"くるみ⑮"},{"$f":"INDEX(入力フォーム!$N3:$BEQ3,1,MATCH(AVM$175,入力フォーム!$N$5:$BEQ$5,0))","v":"ごま⑮"},{"$f":"INDEX(入力フォーム!$N3:$BEQ3,1,MATCH(AVN$175,入力フォーム!$N$5:$BEQ$5,0))","v":"さけ⑮"},{"$f":"INDEX(入力フォーム!$N3:$BEQ3,1,MATCH(AVO$175,入力フォーム!$N$5:$BEQ$5,0))","v":"さば⑮"},{"$f":"INDEX(入力フォーム!$N3:$BEQ3,1,MATCH(AVP$175,入力フォーム!$N$5:$BEQ$5,0))","v":"大豆⑮"},{"$f":"INDEX(入力フォーム!$N3:$BEQ3,1,MATCH(AVQ$175,入力フォーム!$N$5:$BEQ$5,0))","v":"鶏肉⑮"},{"$f":"INDEX(入力フォーム!$N3:$BEQ3,1,MATCH(AVR$175,入力フォーム!$N$5:$BEQ$5,0))","v":"バナナ⑮"},{"$f":"INDEX(入力フォーム!$N3:$BEQ3,1,MATCH(AVS$175,入力フォーム!$N$5:$BEQ$5,0))","v":"豚肉⑮"},{"$f":"INDEX(入力フォーム!$N3:$BEQ3,1,MATCH(AVT$175,入力フォーム!$N$5:$BEQ$5,0))","v":"まつたけ⑮"},{"$f":"INDEX(入力フォーム!$N3:$BEQ3,1,MATCH(AVU$175,入力フォーム!$N$5:$BEQ$5,0))","v":"もも⑮"},{"$f":"INDEX(入力フォーム!$N3:$BEQ3,1,MATCH(AVV$175,入力フォーム!$N$5:$BEQ$5,0))","v":"やまいも⑮"},{"$f":"INDEX(入力フォーム!$N3:$BEQ3,1,MATCH(AVW$175,入力フォーム!$N$5:$BEQ$5,0))","v":"りんご⑮"},{"$f":"INDEX(入力フォーム!$N3:$BEQ3,1,MATCH(AVX$175,入力フォーム!$N$5:$BEQ$5,0))","v":"ゼラチン⑮"},{"$f":"INDEX(入力フォーム!$N3:$BEQ3,1,MATCH(AVY$175,入力フォーム!$N$5:$BEQ$5,0))","v":"備考⑮"},{"$f":"INDEX(入力フォーム!$N3:$BEQ3,1,MATCH(AVZ$175,入力フォーム!$N$5:$BEQ$5,0))","v":0},{"$f":"INDEX(入力フォーム!$N3:$BEQ3,1,MATCH(AWA$175,入力フォーム!$N$5:$BEQ$5,0))","v":"商品名⑯"},{"$f":"INDEX(入力フォーム!$N3:$BEQ3,1,MATCH(AWB$175,入力フォーム!$N$5:$BEQ$5,0))","v":"提供可能時期⑯"},{"$f":"INDEX(入力フォーム!$N3:$BEQ3,1,MATCH(AWC$175,入力フォーム!$N$5:$BEQ$5,0))","v":"主原料産地⑯"},{"$f":"INDEX(入力フォーム!$N3:$BEQ3,1,MATCH(AWD$175,入力フォーム!$N$5:$BEQ$5,0))","v":"内容量⑯"},{"$f":"INDEX(入力フォーム!$N3:$BEQ3,1,MATCH(AWE$175,入力フォーム!$N$5:$BEQ$5,0))","v":"1ケースあたり⑯"},{"$f":"INDEX(入力フォーム!$N3:$BEQ3,1,MATCH(AWF$175,入力フォーム!$N$5:$BEQ$5,0))","v":"発注リードタイム⑯"},{"$f":"INDEX(入力フォーム!$N3:$BEQ3,1,MATCH(AWG$175,入力フォーム!$N$5:$BEQ$5,0))","v":"最大ケース⑯"},{"$f":"INDEX(入力フォーム!$N3:$BEQ3,1,MATCH(AWH$175,入力フォーム!$N$5:$BEQ$5,0))","v":"最小ケース⑯"},{"$f":"INDEX(入力フォーム!$N3:$BEQ3,1,MATCH(AWI$175,入力フォーム!$N$5:$BEQ$5,0))","v":"縦⑯"},{"$f":"INDEX(入力フォーム!$N3:$BEQ3,1,MATCH(AWJ$175,入力フォーム!$N$5:$BEQ$5,0))","v":"横⑯"},{"$f":"INDEX(入力フォーム!$N3:$BEQ3,1,MATCH(AWK$175,入力フォーム!$N$5:$BEQ$5,0))","v":"高さ⑯"},{"$f":"INDEX(入力フォーム!$N3:$BEQ3,1,MATCH(AWL$175,入力フォーム!$N$5:$BEQ$5,0))","v":"重量⑯"},{"$f":"INDEX(入力フォーム!$N3:$BEQ3,1,MATCH(AWM$175,入力フォーム!$N$5:$BEQ$5,0))","v":"賞味期限⑯"},{"$f":"INDEX(入力フォーム!$N3:$BEQ3,1,MATCH(AWN$175,入力フォーム!$N$5:$BEQ$5,0))","v":"消費期限⑯"},{"$f":"INDEX(入力フォーム!$N3:$BEQ3,1,MATCH(AWO$175,入力フォーム!$N$5:$BEQ$5,0))","v":"JANコード⑯"},{"$f":"INDEX(入力フォーム!$N3:$BEQ3,1,MATCH(AWP$175,入力フォーム!$N$5:$BEQ$5,0))","v":"希望小売⑯"},{"$f":"INDEX(入力フォーム!$N3:$BEQ3,1,MATCH(AWQ$175,入力フォーム!$N$5:$BEQ$5,0))","v":"仕切単価⑯"},{"$f":"INDEX(入力フォーム!$N3:$BEQ3,1,MATCH(AWR$175,入力フォーム!$N$5:$BEQ$5,0))","v":"工場出し⑯"},{"$f":"INDEX(入力フォーム!$N3:$BEQ3,1,MATCH(AWS$175,入力フォーム!$N$5:$BEQ$5,0))","v":"関東向け⑯"},{"$f":"INDEX(入力フォーム!$N3:$BEQ3,1,MATCH(AWT$175,入力フォーム!$N$5:$BEQ$5,0))","v":"関西向け⑯"},{"$f":"INDEX(入力フォーム!$N3:$BEQ3,1,MATCH(AWU$175,入力フォーム!$N$5:$BEQ$5,0))","v":"8%⑯"},{"$f":"INDEX(入力フォーム!$N3:$BEQ3,1,MATCH(AWV$175,入力フォーム!$N$5:$BEQ$5,0))","v":"10%⑯"},{"$f":"INDEX(入力フォーム!$N3:$BEQ3,1,MATCH(AWW$175,入力フォーム!$N$5:$BEQ$5,0))","v":"常温⑯"},{"$f":"INDEX(入力フォーム!$N3:$BEQ3,1,MATCH(AWX$175,入力フォーム!$N$5:$BEQ$5,0))","v":"冷蔵⑯"},{"$f":"INDEX(入力フォーム!$N3:$BEQ3,1,MATCH(AWY$175,入力フォーム!$N$5:$BEQ$5,0))","v":"冷凍⑯"},{"$f":"INDEX(入力フォーム!$N3:$BEQ3,1,MATCH(AWZ$175,入力フォーム!$N$5:$BEQ$5,0))","v":"外食⑯"},{"$f":"INDEX(入力フォーム!$N3:$BEQ3,1,MATCH(AXA$175,入力フォーム!$N$5:$BEQ$5,0))","v":"中食⑯"},{"$f":"INDEX(入力フォーム!$N3:$BEQ3,1,MATCH(AXB$175,入力フォーム!$N$5:$BEQ$5,0))","v":"商社・卸売⑯"},{"$f":"INDEX(入力フォーム!$N3:$BEQ3,1,MATCH(AXC$175,入力フォーム!$N$5:$BEQ$5,0))","v":"メーカー⑯"},{"$f":"INDEX(入力フォーム!$N3:$BEQ3,1,MATCH(AXD$175,入力フォーム!$N$5:$BEQ$5,0))","v":"スーパーマーケット⑯"},{"$f":"INDEX(入力フォーム!$N3:$BEQ3,1,MATCH(AXE$175,入力フォーム!$N$5:$BEQ$5,0))","v":"百貨店⑯"},{"$f":"INDEX(入力フォーム!$N3:$BEQ3,1,MATCH(AXF$175,入力フォーム!$N$5:$BEQ$5,0))","v":"その他小売⑯"},{"$f":"INDEX(入力フォーム!$N3:$BEQ3,1,MATCH(AXG$175,入力フォーム!$N$5:$BEQ$5,0))","v":"ホテル・宴会・レジャー⑯"},{"$f":"INDEX(入力フォーム!$N3:$BEQ3,1,MATCH(AXH$175,入力フォーム!$N$5:$BEQ$5,0))","v":"その他・ターゲット⑯"},{"$f":"INDEX(入力フォーム!$N3:$BEQ3,1,MATCH(AXI$175,入力フォーム!$N$5:$BEQ$5,0))","v":"その他・ターゲット・⑯"},{"$f":"INDEX(入力フォーム!$N3:$BEQ3,1,MATCH(AXJ$175,入力フォーム!$N$5:$BEQ$5,0))","v":"業務用対応可能⑯"},{"$f":"INDEX(入力フォーム!$N3:$BEQ3,1,MATCH(AXK$175,入力フォーム!$N$5:$BEQ$5,0))","v":"ギフト対応可能⑯"},{"$f":"INDEX(入力フォーム!$N3:$BEQ3,1,MATCH(AXL$175,入力フォーム!$N$5:$BEQ$5,0))","v":"ターゲット⑯"},{"$f":"INDEX(入力フォーム!$N3:$BEQ3,1,MATCH(AXM$175,入力フォーム!$N$5:$BEQ$5,0))","v":"利用シーン⑯"},{"$f":"INDEX(入力フォーム!$N3:$BEQ3,1,MATCH(AXN$175,入力フォーム!$N$5:$BEQ$5,0))","v":"商品特徴⑯"},{"$f":"INDEX(入力フォーム!$N3:$BEQ3,1,MATCH(AXO$175,入力フォーム!$N$5:$BEQ$5,0))","v":"えび⑯"},{"$f":"INDEX(入力フォーム!$N3:$BEQ3,1,MATCH(AXP$175,入力フォーム!$N$5:$BEQ$5,0))","v":"かに⑯"},{"$f":"INDEX(入力フォーム!$N3:$BEQ3,1,MATCH(AXQ$175,入力フォーム!$N$5:$BEQ$5,0))","v":"小麦⑯"},{"$f":"INDEX(入力フォーム!$N3:$BEQ3,1,MATCH(AXR$175,入力フォーム!$N$5:$BEQ$5,0))","v":"そば⑯"},{"$f":"INDEX(入力フォーム!$N3:$BEQ3,1,MATCH(AXS$175,入力フォーム!$N$5:$BEQ$5,0))","v":"卵⑯"},{"$f":"INDEX(入力フォーム!$N3:$BEQ3,1,MATCH(AXT$175,入力フォーム!$N$5:$BEQ$5,0))","v":"乳⑯"},{"$f":"INDEX(入力フォーム!$N3:$BEQ3,1,MATCH(AXU$175,入力フォーム!$N$5:$BEQ$5,0))","v":"落花生⑯"},{"$f":"INDEX(入力フォーム!$N3:$BEQ3,1,MATCH(AXV$175,入力フォーム!$N$5:$BEQ$5,0))","v":"あわび⑯"},{"$f":"INDEX(入力フォーム!$N3:$BEQ3,1,MATCH(AXW$175,入力フォーム!$N$5:$BEQ$5,0))","v":"いか⑯"},{"$f":"INDEX(入力フォーム!$N3:$BEQ3,1,MATCH(AXX$175,入力フォーム!$N$5:$BEQ$5,0))","v":"いくら⑯"},{"$f":"INDEX(入力フォーム!$N3:$BEQ3,1,MATCH(AXY$175,入力フォーム!$N$5:$BEQ$5,0))","v":"オレンジ⑯"},{"$f":"INDEX(入力フォーム!$N3:$BEQ3,1,MATCH(AXZ$175,入力フォーム!$N$5:$BEQ$5,0))","v":"カシューナッツ⑯"},{"$f":"INDEX(入力フォーム!$N3:$BEQ3,1,MATCH(AYA$175,入力フォーム!$N$5:$BEQ$5,0))","v":"キウイフルーツ⑯"},{"$f":"INDEX(入力フォーム!$N3:$BEQ3,1,MATCH(AYB$175,入力フォーム!$N$5:$BEQ$5,0))","v":"牛肉⑯"},{"$f":"INDEX(入力フォーム!$N3:$BEQ3,1,MATCH(AYC$175,入力フォーム!$N$5:$BEQ$5,0))","v":"くるみ⑯"},{"$f":"INDEX(入力フォーム!$N3:$BEQ3,1,MATCH(AYD$175,入力フォーム!$N$5:$BEQ$5,0))","v":"ごま⑯"},{"$f":"INDEX(入力フォーム!$N3:$BEQ3,1,MATCH(AYE$175,入力フォーム!$N$5:$BEQ$5,0))","v":"さけ⑯"},{"$f":"INDEX(入力フォーム!$N3:$BEQ3,1,MATCH(AYF$175,入力フォーム!$N$5:$BEQ$5,0))","v":"さば⑯"},{"$f":"INDEX(入力フォーム!$N3:$BEQ3,1,MATCH(AYG$175,入力フォーム!$N$5:$BEQ$5,0))","v":"大豆⑯"},{"$f":"INDEX(入力フォーム!$N3:$BEQ3,1,MATCH(AYH$175,入力フォーム!$N$5:$BEQ$5,0))","v":"鶏肉⑯"},{"$f":"INDEX(入力フォーム!$N3:$BEQ3,1,MATCH(AYI$175,入力フォーム!$N$5:$BEQ$5,0))","v":"バナナ⑯"},{"$f":"INDEX(入力フォーム!$N3:$BEQ3,1,MATCH(AYJ$175,入力フォーム!$N$5:$BEQ$5,0))","v":"豚肉⑯"},{"$f":"INDEX(入力フォーム!$N3:$BEQ3,1,MATCH(AYK$175,入力フォーム!$N$5:$BEQ$5,0))","v":"まつたけ⑯"},{"$f":"INDEX(入力フォーム!$N3:$BEQ3,1,MATCH(AYL$175,入力フォーム!$N$5:$BEQ$5,0))","v":"もも⑯"},{"$f":"INDEX(入力フォーム!$N3:$BEQ3,1,MATCH(AYM$175,入力フォーム!$N$5:$BEQ$5,0))","v":"やまいも⑯"},{"$f":"INDEX(入力フォーム!$N3:$BEQ3,1,MATCH(AYN$175,入力フォーム!$N$5:$BEQ$5,0))","v":"りんご⑯"},{"$f":"INDEX(入力フォーム!$N3:$BEQ3,1,MATCH(AYO$175,入力フォーム!$N$5:$BEQ$5,0))","v":"ゼラチン⑯"},{"$f":"INDEX(入力フォーム!$N3:$BEQ3,1,MATCH(AYP$175,入力フォーム!$N$5:$BEQ$5,0))","v":"備考⑯"},{"$f":"INDEX(入力フォーム!$N3:$BEQ3,1,MATCH(AYQ$175,入力フォーム!$N$5:$BEQ$5,0))","v":0},{"$f":"INDEX(入力フォーム!$N3:$BEQ3,1,MATCH(AYR$175,入力フォーム!$N$5:$BEQ$5,0))","v":"商品名⑰"},{"$f":"INDEX(入力フォーム!$N3:$BEQ3,1,MATCH(AYS$175,入力フォーム!$N$5:$BEQ$5,0))","v":"提供可能時期⑰"},{"$f":"INDEX(入力フォーム!$N3:$BEQ3,1,MATCH(AYT$175,入力フォーム!$N$5:$BEQ$5,0))","v":"主原料産地⑰"},{"$f":"INDEX(入力フォーム!$N3:$BEQ3,1,MATCH(AYU$175,入力フォーム!$N$5:$BEQ$5,0))","v":"内容量⑰"},{"$f":"INDEX(入力フォーム!$N3:$BEQ3,1,MATCH(AYV$175,入力フォーム!$N$5:$BEQ$5,0))","v":"1ケースあたり⑰"},{"$f":"INDEX(入力フォーム!$N3:$BEQ3,1,MATCH(AYW$175,入力フォーム!$N$5:$BEQ$5,0))","v":"発注リードタイム⑰"},{"$f":"INDEX(入力フォーム!$N3:$BEQ3,1,MATCH(AYX$175,入力フォーム!$N$5:$BEQ$5,0))","v":"最大ケース⑰"},{"$f":"INDEX(入力フォーム!$N3:$BEQ3,1,MATCH(AYY$175,入力フォーム!$N$5:$BEQ$5,0))","v":"最小ケース⑰"},{"$f":"INDEX(入力フォーム!$N3:$BEQ3,1,MATCH(AYZ$175,入力フォーム!$N$5:$BEQ$5,0))","v":"縦⑰"},{"$f":"INDEX(入力フォーム!$N3:$BEQ3,1,MATCH(AZA$175,入力フォーム!$N$5:$BEQ$5,0))","v":"横⑰"},{"$f":"INDEX(入力フォーム!$N3:$BEQ3,1,MATCH(AZB$175,入力フォーム!$N$5:$BEQ$5,0))","v":"高さ⑰"},{"$f":"INDEX(入力フォーム!$N3:$BEQ3,1,MATCH(AZC$175,入力フォーム!$N$5:$BEQ$5,0))","v":"重量⑰"},{"$f":"INDEX(入力フォーム!$N3:$BEQ3,1,MATCH(AZD$175,入力フォーム!$N$5:$BEQ$5,0))","v":"賞味期限⑰"},{"$f":"INDEX(入力フォーム!$N3:$BEQ3,1,MATCH(AZE$175,入力フォーム!$N$5:$BEQ$5,0))","v":"消費期限⑰"},{"$f":"INDEX(入力フォーム!$N3:$BEQ3,1,MATCH(AZF$175,入力フォーム!$N$5:$BEQ$5,0))","v":"JANコード⑰"},{"$f":"INDEX(入力フォーム!$N3:$BEQ3,1,MATCH(AZG$175,入力フォーム!$N$5:$BEQ$5,0))","v":"希望小売⑰"},{"$f":"INDEX(入力フォーム!$N3:$BEQ3,1,MATCH(AZH$175,入力フォーム!$N$5:$BEQ$5,0))","v":"仕切単価⑰"},{"$f":"INDEX(入力フォーム!$N3:$BEQ3,1,MATCH(AZI$175,入力フォーム!$N$5:$BEQ$5,0))","v":"工場出し⑰"},{"$f":"INDEX(入力フォーム!$N3:$BEQ3,1,MATCH(AZJ$175,入力フォーム!$N$5:$BEQ$5,0))","v":"関東向け⑰"},{"$f":"INDEX(入力フォーム!$N3:$BEQ3,1,MATCH(AZK$175,入力フォーム!$N$5:$BEQ$5,0))","v":"関西向け⑰"},{"$f":"INDEX(入力フォーム!$N3:$BEQ3,1,MATCH(AZL$175,入力フォーム!$N$5:$BEQ$5,0))","v":"8%⑰"},{"$f":"INDEX(入力フォーム!$N3:$BEQ3,1,MATCH(AZM$175,入力フォーム!$N$5:$BEQ$5,0))","v":"10%⑰"},{"$f":"INDEX(入力フォーム!$N3:$BEQ3,1,MATCH(AZN$175,入力フォーム!$N$5:$BEQ$5,0))","v":"常温⑰"},{"$f":"INDEX(入力フォーム!$N3:$BEQ3,1,MATCH(AZO$175,入力フォーム!$N$5:$BEQ$5,0))","v":"冷蔵⑰"},{"$f":"INDEX(入力フォーム!$N3:$BEQ3,1,MATCH(AZP$175,入力フォーム!$N$5:$BEQ$5,0))","v":"冷凍⑰"},{"$f":"INDEX(入力フォーム!$N3:$BEQ3,1,MATCH(AZQ$175,入力フォーム!$N$5:$BEQ$5,0))","v":"外食⑰"},{"$f":"INDEX(入力フォーム!$N3:$BEQ3,1,MATCH(AZR$175,入力フォーム!$N$5:$BEQ$5,0))","v":"中食⑰"},{"$f":"INDEX(入力フォーム!$N3:$BEQ3,1,MATCH(AZS$175,入力フォーム!$N$5:$BEQ$5,0))","v":"商社・卸売⑰"},{"$f":"INDEX(入力フォーム!$N3:$BEQ3,1,MATCH(AZT$175,入力フォーム!$N$5:$BEQ$5,0))","v":"メーカー⑰"},{"$f":"INDEX(入力フォーム!$N3:$BEQ3,1,MATCH(AZU$175,入力フォーム!$N$5:$BEQ$5,0))","v":"スーパーマーケット⑰"},{"$f":"INDEX(入力フォーム!$N3:$BEQ3,1,MATCH(AZV$175,入力フォーム!$N$5:$BEQ$5,0))","v":"百貨店⑰"},{"$f":"INDEX(入力フォーム!$N3:$BEQ3,1,MATCH(AZW$175,入力フォーム!$N$5:$BEQ$5,0))","v":"その他小売⑰"},{"$f":"INDEX(入力フォーム!$N3:$BEQ3,1,MATCH(AZX$175,入力フォーム!$N$5:$BEQ$5,0))","v":"ホテル・宴会・レジャー⑰"},{"$f":"INDEX(入力フォーム!$N3:$BEQ3,1,MATCH(AZY$175,入力フォーム!$N$5:$BEQ$5,0))","v":"その他・ターゲット⑰"},{"$f":"INDEX(入力フォーム!$N3:$BEQ3,1,MATCH(AZZ$175,入力フォーム!$N$5:$BEQ$5,0))","v":"その他・ターゲット・⑰"},{"$f":"INDEX(入力フォーム!$N3:$BEQ3,1,MATCH(BAA$175,入力フォーム!$N$5:$BEQ$5,0))","v":"業務用対応可能⑰"},{"$f":"INDEX(入力フォーム!$N3:$BEQ3,1,MATCH(BAB$175,入力フォーム!$N$5:$BEQ$5,0))","v":"ギフト対応可能⑰"},{"$f":"INDEX(入力フォーム!$N3:$BEQ3,1,MATCH(BAC$175,入力フォーム!$N$5:$BEQ$5,0))","v":"ターゲット⑰"},{"$f":"INDEX(入力フォーム!$N3:$BEQ3,1,MATCH(BAD$175,入力フォーム!$N$5:$BEQ$5,0))","v":"利用シーン⑰"},{"$f":"INDEX(入力フォーム!$N3:$BEQ3,1,MATCH(BAE$175,入力フォーム!$N$5:$BEQ$5,0))","v":"商品特徴⑰"},{"$f":"INDEX(入力フォーム!$N3:$BEQ3,1,MATCH(BAF$175,入力フォーム!$N$5:$BEQ$5,0))","v":"えび⑰"},{"$f":"INDEX(入力フォーム!$N3:$BEQ3,1,MATCH(BAG$175,入力フォーム!$N$5:$BEQ$5,0))","v":"かに⑰"},{"$f":"INDEX(入力フォーム!$N3:$BEQ3,1,MATCH(BAH$175,入力フォーム!$N$5:$BEQ$5,0))","v":"小麦⑰"},{"$f":"INDEX(入力フォーム!$N3:$BEQ3,1,MATCH(BAI$175,入力フォーム!$N$5:$BEQ$5,0))","v":"そば⑰"},{"$f":"INDEX(入力フォーム!$N3:$BEQ3,1,MATCH(BAJ$175,入力フォーム!$N$5:$BEQ$5,0))","v":"卵⑰"},{"$f":"INDEX(入力フォーム!$N3:$BEQ3,1,MATCH(BAK$175,入力フォーム!$N$5:$BEQ$5,0))","v":"乳⑰"},{"$f":"INDEX(入力フォーム!$N3:$BEQ3,1,MATCH(BAL$175,入力フォーム!$N$5:$BEQ$5,0))","v":"落花生⑰"},{"$f":"INDEX(入力フォーム!$N3:$BEQ3,1,MATCH(BAM$175,入力フォーム!$N$5:$BEQ$5,0))","v":"あわび⑰"},{"$f":"INDEX(入力フォーム!$N3:$BEQ3,1,MATCH(BAN$175,入力フォーム!$N$5:$BEQ$5,0))","v":"いか⑰"},{"$f":"INDEX(入力フォーム!$N3:$BEQ3,1,MATCH(BAO$175,入力フォーム!$N$5:$BEQ$5,0))","v":"いくら⑰"},{"$f":"INDEX(入力フォーム!$N3:$BEQ3,1,MATCH(BAP$175,入力フォーム!$N$5:$BEQ$5,0))","v":"オレンジ⑰"},{"$f":"INDEX(入力フォーム!$N3:$BEQ3,1,MATCH(BAQ$175,入力フォーム!$N$5:$BEQ$5,0))","v":"カシューナッツ⑰"},{"$f":"INDEX(入力フォーム!$N3:$BEQ3,1,MATCH(BAR$175,入力フォーム!$N$5:$BEQ$5,0))","v":"キウイフルーツ⑰"},{"$f":"INDEX(入力フォーム!$N3:$BEQ3,1,MATCH(BAS$175,入力フォーム!$N$5:$BEQ$5,0))","v":"牛肉⑰"},{"$f":"INDEX(入力フォーム!$N3:$BEQ3,1,MATCH(BAT$175,入力フォーム!$N$5:$BEQ$5,0))","v":"くるみ⑰"},{"$f":"INDEX(入力フォーム!$N3:$BEQ3,1,MATCH(BAU$175,入力フォーム!$N$5:$BEQ$5,0))","v":"ごま⑰"},{"$f":"INDEX(入力フォーム!$N3:$BEQ3,1,MATCH(BAV$175,入力フォーム!$N$5:$BEQ$5,0))","v":"さけ⑰"},{"$f":"INDEX(入力フォーム!$N3:$BEQ3,1,MATCH(BAW$175,入力フォーム!$N$5:$BEQ$5,0))","v":"さば⑰"},{"$f":"INDEX(入力フォーム!$N3:$BEQ3,1,MATCH(BAX$175,入力フォーム!$N$5:$BEQ$5,0))","v":"大豆⑰"},{"$f":"INDEX(入力フォーム!$N3:$BEQ3,1,MATCH(BAY$175,入力フォーム!$N$5:$BEQ$5,0))","v":"鶏肉⑰"},{"$f":"INDEX(入力フォーム!$N3:$BEQ3,1,MATCH(BAZ$175,入力フォーム!$N$5:$BEQ$5,0))","v":"バナナ⑰"},{"$f":"INDEX(入力フォーム!$N3:$BEQ3,1,MATCH(BBA$175,入力フォーム!$N$5:$BEQ$5,0))","v":"豚肉⑰"},{"$f":"INDEX(入力フォーム!$N3:$BEQ3,1,MATCH(BBB$175,入力フォーム!$N$5:$BEQ$5,0))","v":"まつたけ⑰"},{"$f":"INDEX(入力フォーム!$N3:$BEQ3,1,MATCH(BBC$175,入力フォーム!$N$5:$BEQ$5,0))","v":"もも⑰"},{"$f":"INDEX(入力フォーム!$N3:$BEQ3,1,MATCH(BBD$175,入力フォーム!$N$5:$BEQ$5,0))","v":"やまいも⑰"},{"$f":"INDEX(入力フォーム!$N3:$BEQ3,1,MATCH(BBE$175,入力フォーム!$N$5:$BEQ$5,0))","v":"りんご⑰"},{"$f":"INDEX(入力フォーム!$N3:$BEQ3,1,MATCH(BBF$175,入力フォーム!$N$5:$BEQ$5,0))","v":"ゼラチン⑰"},{"$f":"INDEX(入力フォーム!$N3:$BEQ3,1,MATCH(BBG$175,入力フォーム!$N$5:$BEQ$5,0))","v":"備考⑰"},{"$f":"INDEX(入力フォーム!$N3:$BEQ3,1,MATCH(BBH$175,入力フォーム!$N$5:$BEQ$5,0))","v":0},{"$f":"INDEX(入力フォーム!$N3:$BEQ3,1,MATCH(BBI$175,入力フォーム!$N$5:$BEQ$5,0))","v":"商品名⑱"},{"$f":"INDEX(入力フォーム!$N3:$BEQ3,1,MATCH(BBJ$175,入力フォーム!$N$5:$BEQ$5,0))","v":"提供可能時期⑱"},{"$f":"INDEX(入力フォーム!$N3:$BEQ3,1,MATCH(BBK$175,入力フォーム!$N$5:$BEQ$5,0))","v":"主原料産地⑱"},{"$f":"INDEX(入力フォーム!$N3:$BEQ3,1,MATCH(BBL$175,入力フォーム!$N$5:$BEQ$5,0))","v":"内容量⑱"},{"$f":"INDEX(入力フォーム!$N3:$BEQ3,1,MATCH(BBM$175,入力フォーム!$N$5:$BEQ$5,0))","v":"1ケースあたり⑱"},{"$f":"INDEX(入力フォーム!$N3:$BEQ3,1,MATCH(BBN$175,入力フォーム!$N$5:$BEQ$5,0))","v":"発注リードタイム⑱"},{"$f":"INDEX(入力フォーム!$N3:$BEQ3,1,MATCH(BBO$175,入力フォーム!$N$5:$BEQ$5,0))","v":"最大ケース⑱"},{"$f":"INDEX(入力フォーム!$N3:$BEQ3,1,MATCH(BBP$175,入力フォーム!$N$5:$BEQ$5,0))","v":"最小ケース⑱"},{"$f":"INDEX(入力フォーム!$N3:$BEQ3,1,MATCH(BBQ$175,入力フォーム!$N$5:$BEQ$5,0))","v":"縦⑱"},{"$f":"INDEX(入力フォーム!$N3:$BEQ3,1,MATCH(BBR$175,入力フォーム!$N$5:$BEQ$5,0))","v":"横⑱"},{"$f":"INDEX(入力フォーム!$N3:$BEQ3,1,MATCH(BBS$175,入力フォーム!$N$5:$BEQ$5,0))","v":"高さ⑱"},{"$f":"INDEX(入力フォーム!$N3:$BEQ3,1,MATCH(BBT$175,入力フォーム!$N$5:$BEQ$5,0))","v":"重量⑱"},{"$f":"INDEX(入力フォーム!$N3:$BEQ3,1,MATCH(BBU$175,入力フォーム!$N$5:$BEQ$5,0))","v":"賞味期限⑱"},{"$f":"INDEX(入力フォーム!$N3:$BEQ3,1,MATCH(BBV$175,入力フォーム!$N$5:$BEQ$5,0))","v":"消費期限⑱"},{"$f":"INDEX(入力フォーム!$N3:$BEQ3,1,MATCH(BBW$175,入力フォーム!$N$5:$BEQ$5,0))","v":"JANコード⑱"},{"$f":"INDEX(入力フォーム!$N3:$BEQ3,1,MATCH(BBX$175,入力フォーム!$N$5:$BEQ$5,0))","v":"希望小売⑱"},{"$f":"INDEX(入力フォーム!$N3:$BEQ3,1,MATCH(BBY$175,入力フォーム!$N$5:$BEQ$5,0))","v":"仕切単価⑱"},{"$f":"INDEX(入力フォーム!$N3:$BEQ3,1,MATCH(BBZ$175,入力フォーム!$N$5:$BEQ$5,0))","v":"工場出し⑱"},{"$f":"INDEX(入力フォーム!$N3:$BEQ3,1,MATCH(BCA$175,入力フォーム!$N$5:$BEQ$5,0))","v":"関東向け⑱"},{"$f":"INDEX(入力フォーム!$N3:$BEQ3,1,MATCH(BCB$175,入力フォーム!$N$5:$BEQ$5,0))","v":"関西向け⑱"},{"$f":"INDEX(入力フォーム!$N3:$BEQ3,1,MATCH(BCC$175,入力フォーム!$N$5:$BEQ$5,0))","v":"8%⑱"},{"$f":"INDEX(入力フォーム!$N3:$BEQ3,1,MATCH(BCD$175,入力フォーム!$N$5:$BEQ$5,0))","v":"10%⑱"},{"$f":"INDEX(入力フォーム!$N3:$BEQ3,1,MATCH(BCE$175,入力フォーム!$N$5:$BEQ$5,0))","v":"常温⑱"},{"$f":"INDEX(入力フォーム!$N3:$BEQ3,1,MATCH(BCF$175,入力フォーム!$N$5:$BEQ$5,0))","v":"冷蔵⑱"},{"$f":"INDEX(入力フォーム!$N3:$BEQ3,1,MATCH(BCG$175,入力フォーム!$N$5:$BEQ$5,0))","v":"冷凍⑱"},{"$f":"INDEX(入力フォーム!$N3:$BEQ3,1,MATCH(BCH$175,入力フォーム!$N$5:$BEQ$5,0))","v":"外食⑱"},{"$f":"INDEX(入力フォーム!$N3:$BEQ3,1,MATCH(BCI$175,入力フォーム!$N$5:$BEQ$5,0))","v":"中食⑱"},{"$f":"INDEX(入力フォーム!$N3:$BEQ3,1,MATCH(BCJ$175,入力フォーム!$N$5:$BEQ$5,0))","v":"商社・卸売⑱"},{"$f":"INDEX(入力フォーム!$N3:$BEQ3,1,MATCH(BCK$175,入力フォーム!$N$5:$BEQ$5,0))","v":"メーカー⑱"},{"$f":"INDEX(入力フォーム!$N3:$BEQ3,1,MATCH(BCL$175,入力フォーム!$N$5:$BEQ$5,0))","v":"スーパーマーケット⑱"},{"$f":"INDEX(入力フォーム!$N3:$BEQ3,1,MATCH(BCM$175,入力フォーム!$N$5:$BEQ$5,0))","v":"百貨店⑱"},{"$f":"INDEX(入力フォーム!$N3:$BEQ3,1,MATCH(BCN$175,入力フォーム!$N$5:$BEQ$5,0))","v":"その他小売⑱"},{"$f":"INDEX(入力フォーム!$N3:$BEQ3,1,MATCH(BCO$175,入力フォーム!$N$5:$BEQ$5,0))","v":"ホテル・宴会・レジャー⑱"},{"$f":"INDEX(入力フォーム!$N3:$BEQ3,1,MATCH(BCP$175,入力フォーム!$N$5:$BEQ$5,0))","v":"その他・ターゲット⑱"},{"$f":"INDEX(入力フォーム!$N3:$BEQ3,1,MATCH(BCQ$175,入力フォーム!$N$5:$BEQ$5,0))","v":"その他・ターゲット・⑱"},{"$f":"INDEX(入力フォーム!$N3:$BEQ3,1,MATCH(BCR$175,入力フォーム!$N$5:$BEQ$5,0))","v":"業務用対応可能⑱"},{"$f":"INDEX(入力フォーム!$N3:$BEQ3,1,MATCH(BCS$175,入力フォーム!$N$5:$BEQ$5,0))","v":"ギフト対応可能⑱"},{"$f":"INDEX(入力フォーム!$N3:$BEQ3,1,MATCH(BCT$175,入力フォーム!$N$5:$BEQ$5,0))","v":"ターゲット⑱"},{"$f":"INDEX(入力フォーム!$N3:$BEQ3,1,MATCH(BCU$175,入力フォーム!$N$5:$BEQ$5,0))","v":"利用シーン⑱"},{"$f":"INDEX(入力フォーム!$N3:$BEQ3,1,MATCH(BCV$175,入力フォーム!$N$5:$BEQ$5,0))","v":"商品特徴⑱"},{"$f":"INDEX(入力フォーム!$N3:$BEQ3,1,MATCH(BCW$175,入力フォーム!$N$5:$BEQ$5,0))","v":"えび⑱"},{"$f":"INDEX(入力フォーム!$N3:$BEQ3,1,MATCH(BCX$175,入力フォーム!$N$5:$BEQ$5,0))","v":"かに⑱"},{"$f":"INDEX(入力フォーム!$N3:$BEQ3,1,MATCH(BCY$175,入力フォーム!$N$5:$BEQ$5,0))","v":"小麦⑱"},{"$f":"INDEX(入力フォーム!$N3:$BEQ3,1,MATCH(BCZ$175,入力フォーム!$N$5:$BEQ$5,0))","v":"そば⑱"},{"$f":"INDEX(入力フォーム!$N3:$BEQ3,1,MATCH(BDA$175,入力フォーム!$N$5:$BEQ$5,0))","v":"卵⑱"},{"$f":"INDEX(入力フォーム!$N3:$BEQ3,1,MATCH(BDB$175,入力フォーム!$N$5:$BEQ$5,0))","v":"乳⑱"},{"$f":"INDEX(入力フォーム!$N3:$BEQ3,1,MATCH(BDC$175,入力フォーム!$N$5:$BEQ$5,0))","v":"落花生⑱"},{"$f":"INDEX(入力フォーム!$N3:$BEQ3,1,MATCH(BDD$175,入力フォーム!$N$5:$BEQ$5,0))","v":"あわび⑱"},{"$f":"INDEX(入力フォーム!$N3:$BEQ3,1,MATCH(BDE$175,入力フォーム!$N$5:$BEQ$5,0))","v":"いか⑱"},{"$f":"INDEX(入力フォーム!$N3:$BEQ3,1,MATCH(BDF$175,入力フォーム!$N$5:$BEQ$5,0))","v":"いくら⑱"},{"$f":"INDEX(入力フォーム!$N3:$BEQ3,1,MATCH(BDG$175,入力フォーム!$N$5:$BEQ$5,0))","v":"オレンジ⑱"},{"$f":"INDEX(入力フォーム!$N3:$BEQ3,1,MATCH(BDH$175,入力フォーム!$N$5:$BEQ$5,0))","v":"カシューナッツ⑱"},{"$f":"INDEX(入力フォーム!$N3:$BEQ3,1,MATCH(BDI$175,入力フォーム!$N$5:$BEQ$5,0))","v":"キウイフルーツ⑱"},{"$f":"INDEX(入力フォーム!$N3:$BEQ3,1,MATCH(BDJ$175,入力フォーム!$N$5:$BEQ$5,0))","v":"牛肉⑱"},{"$f":"INDEX(入力フォーム!$N3:$BEQ3,1,MATCH(BDK$175,入力フォーム!$N$5:$BEQ$5,0))","v":"くるみ⑱"},{"$f":"INDEX(入力フォーム!$N3:$BEQ3,1,MATCH(BDL$175,入力フォーム!$N$5:$BEQ$5,0))","v":"ごま⑱"},{"$f":"INDEX(入力フォーム!$N3:$BEQ3,1,MATCH(BDM$175,入力フォーム!$N$5:$BEQ$5,0))","v":"さけ⑱"},{"$f":"INDEX(入力フォーム!$N3:$BEQ3,1,MATCH(BDN$175,入力フォーム!$N$5:$BEQ$5,0))","v":"さば⑱"},{"$f":"INDEX(入力フォーム!$N3:$BEQ3,1,MATCH(BDO$175,入力フォーム!$N$5:$BEQ$5,0))","v":"大豆⑱"},{"$f":"INDEX(入力フォーム!$N3:$BEQ3,1,MATCH(BDP$175,入力フォーム!$N$5:$BEQ$5,0))","v":"鶏肉⑱"},{"$f":"INDEX(入力フォーム!$N3:$BEQ3,1,MATCH(BDQ$175,入力フォーム!$N$5:$BEQ$5,0))","v":"バナナ⑱"},{"$f":"INDEX(入力フォーム!$N3:$BEQ3,1,MATCH(BDR$175,入力フォーム!$N$5:$BEQ$5,0))","v":"豚肉⑱"},{"$f":"INDEX(入力フォーム!$N3:$BEQ3,1,MATCH(BDS$175,入力フォーム!$N$5:$BEQ$5,0))","v":"まつたけ⑱"},{"$f":"INDEX(入力フォーム!$N3:$BEQ3,1,MATCH(BDT$175,入力フォーム!$N$5:$BEQ$5,0))","v":"もも⑱"},{"$f":"INDEX(入力フォーム!$N3:$BEQ3,1,MATCH(BDU$175,入力フォーム!$N$5:$BEQ$5,0))","v":"やまいも⑱"},{"$f":"INDEX(入力フォーム!$N3:$BEQ3,1,MATCH(BDV$175,入力フォーム!$N$5:$BEQ$5,0))","v":"りんご⑱"},{"$f":"INDEX(入力フォーム!$N3:$BEQ3,1,MATCH(BDW$175,入力フォーム!$N$5:$BEQ$5,0))","v":"ゼラチン⑱"},{"$f":"INDEX(入力フォーム!$N3:$BEQ3,1,MATCH(BDX$175,入力フォーム!$N$5:$BEQ$5,0))","v":"備考⑱"},{"$f":"INDEX(入力フォーム!$N3:$BEQ3,1,MATCH(BDY$175,入力フォーム!$N$5:$BEQ$5,0))","v":0},{"$f":"INDEX(入力フォーム!$N3:$BEQ3,1,MATCH(BDZ$175,入力フォーム!$N$5:$BEQ$5,0))","v":"商品名⑲"},{"$f":"INDEX(入力フォーム!$N3:$BEQ3,1,MATCH(BEA$175,入力フォーム!$N$5:$BEQ$5,0))","v":"提供可能時期⑲"},{"$f":"INDEX(入力フォーム!$N3:$BEQ3,1,MATCH(BEB$175,入力フォーム!$N$5:$BEQ$5,0))","v":"主原料産地⑲"},{"$f":"INDEX(入力フォーム!$N3:$BEQ3,1,MATCH(BEC$175,入力フォーム!$N$5:$BEQ$5,0))","v":"内容量⑲"},{"$f":"INDEX(入力フォーム!$N3:$BEQ3,1,MATCH(BED$175,入力フォーム!$N$5:$BEQ$5,0))","v":"1ケースあたり⑲"},{"$f":"INDEX(入力フォーム!$N3:$BEQ3,1,MATCH(BEE$175,入力フォーム!$N$5:$BEQ$5,0))","v":"発注リードタイム⑲"},{"$f":"INDEX(入力フォーム!$N3:$BEQ3,1,MATCH(BEF$175,入力フォーム!$N$5:$BEQ$5,0))","v":"最大ケース⑲"},{"$f":"INDEX(入力フォーム!$N3:$BEQ3,1,MATCH(BEG$175,入力フォーム!$N$5:$BEQ$5,0))","v":"最小ケース⑲"},{"$f":"INDEX(入力フォーム!$N3:$BEQ3,1,MATCH(BEH$175,入力フォーム!$N$5:$BEQ$5,0))","v":"縦⑲"},{"$f":"INDEX(入力フォーム!$N3:$BEQ3,1,MATCH(BEI$175,入力フォーム!$N$5:$BEQ$5,0))","v":"横⑲"},{"$f":"INDEX(入力フォーム!$N3:$BEQ3,1,MATCH(BEJ$175,入力フォーム!$N$5:$BEQ$5,0))","v":"高さ⑲"},{"$f":"INDEX(入力フォーム!$N3:$BEQ3,1,MATCH(BEK$175,入力フォーム!$N$5:$BEQ$5,0))","v":"重量⑲"},{"$f":"INDEX(入力フォーム!$N3:$BEQ3,1,MATCH(BEL$175,入力フォーム!$N$5:$BEQ$5,0))","v":"賞味期限⑲"},{"$f":"INDEX(入力フォーム!$N3:$BEQ3,1,MATCH(BEM$175,入力フォーム!$N$5:$BEQ$5,0))","v":"消費期限⑲"},{"$f":"INDEX(入力フォーム!$N3:$BEQ3,1,MATCH(BEN$175,入力フォーム!$N$5:$BEQ$5,0))","v":"JANコード⑲"},{"$f":"INDEX(入力フォーム!$N3:$BEQ3,1,MATCH(BEO$175,入力フォーム!$N$5:$BEQ$5,0))","v":"希望小売⑲"},{"$f":"INDEX(入力フォーム!$N3:$BEQ3,1,MATCH(BEP$175,入力フォーム!$N$5:$BEQ$5,0))","v":"仕切単価⑲"},{"$f":"INDEX(入力フォーム!$N3:$BEQ3,1,MATCH(BEQ$175,入力フォーム!$N$5:$BEQ$5,0))","v":"工場出し⑲"},{"$f":"INDEX(入力フォーム!$N3:$BEQ3,1,MATCH(BER$175,入力フォーム!$N$5:$BEQ$5,0))","v":"関東向け⑲"},{"$f":"INDEX(入力フォーム!$N3:$BEQ3,1,MATCH(BES$175,入力フォーム!$N$5:$BEQ$5,0))","v":"関西向け⑲"},{"$f":"INDEX(入力フォーム!$N3:$BEQ3,1,MATCH(BET$175,入力フォーム!$N$5:$BEQ$5,0))","v":"8%⑲"},{"$f":"INDEX(入力フォーム!$N3:$BEQ3,1,MATCH(BEU$175,入力フォーム!$N$5:$BEQ$5,0))","v":"10%⑲"},{"$f":"INDEX(入力フォーム!$N3:$BEQ3,1,MATCH(BEV$175,入力フォーム!$N$5:$BEQ$5,0))","v":"常温⑲"},{"$f":"INDEX(入力フォーム!$N3:$BEQ3,1,MATCH(BEW$175,入力フォーム!$N$5:$BEQ$5,0))","v":"冷蔵⑲"},{"$f":"INDEX(入力フォーム!$N3:$BEQ3,1,MATCH(BEX$175,入力フォーム!$N$5:$BEQ$5,0))","v":"冷凍⑲"},{"$f":"INDEX(入力フォーム!$N3:$BEQ3,1,MATCH(BEY$175,入力フォーム!$N$5:$BEQ$5,0))","v":"外食⑲"},{"$f":"INDEX(入力フォーム!$N3:$BEQ3,1,MATCH(BEZ$175,入力フォーム!$N$5:$BEQ$5,0))","v":"中食⑲"},{"$f":"INDEX(入力フォーム!$N3:$BEQ3,1,MATCH(BFA$175,入力フォーム!$N$5:$BEQ$5,0))","v":"商社・卸売⑲"},{"$f":"INDEX(入力フォーム!$N3:$BEQ3,1,MATCH(BFB$175,入力フォーム!$N$5:$BEQ$5,0))","v":"メーカー⑲"},{"$f":"INDEX(入力フォーム!$N3:$BEQ3,1,MATCH(BFC$175,入力フォーム!$N$5:$BEQ$5,0))","v":"スーパーマーケット⑲"},{"$f":"INDEX(入力フォーム!$N3:$BEQ3,1,MATCH(BFD$175,入力フォーム!$N$5:$BEQ$5,0))","v":"百貨店⑲"},{"$f":"INDEX(入力フォーム!$N3:$BEQ3,1,MATCH(BFE$175,入力フォーム!$N$5:$BEQ$5,0))","v":"その他小売⑲"},{"$f":"INDEX(入力フォーム!$N3:$BEQ3,1,MATCH(BFF$175,入力フォーム!$N$5:$BEQ$5,0))","v":"ホテル・宴会・レジャー⑲"},{"$f":"INDEX(入力フォーム!$N3:$BEQ3,1,MATCH(BFG$175,入力フォーム!$N$5:$BEQ$5,0))","v":"その他・ターゲット⑲"},{"$f":"INDEX(入力フォーム!$N3:$BEQ3,1,MATCH(BFH$175,入力フォーム!$N$5:$BEQ$5,0))","v":"その他・ターゲット・⑲"},{"$f":"INDEX(入力フォーム!$N3:$BEQ3,1,MATCH(BFI$175,入力フォーム!$N$5:$BEQ$5,0))","v":"業務用対応可能⑲"},{"$f":"INDEX(入力フォーム!$N3:$BEQ3,1,MATCH(BFJ$175,入力フォーム!$N$5:$BEQ$5,0))","v":"ギフト対応可能⑲"},{"$f":"INDEX(入力フォーム!$N3:$BEQ3,1,MATCH(BFK$175,入力フォーム!$N$5:$BEQ$5,0))","v":"ターゲット⑲"},{"$f":"INDEX(入力フォーム!$N3:$BEQ3,1,MATCH(BFL$175,入力フォーム!$N$5:$BEQ$5,0))","v":"利用シーン⑲"},{"$f":"INDEX(入力フォーム!$N3:$BEQ3,1,MATCH(BFM$175,入力フォーム!$N$5:$BEQ$5,0))","v":"商品特徴⑲"},{"$f":"INDEX(入力フォーム!$N3:$BEQ3,1,MATCH(BFN$175,入力フォーム!$N$5:$BEQ$5,0))","v":"えび⑲"},{"$f":"INDEX(入力フォーム!$N3:$BEQ3,1,MATCH(BFO$175,入力フォーム!$N$5:$BEQ$5,0))","v":"かに⑲"},{"$f":"INDEX(入力フォーム!$N3:$BEQ3,1,MATCH(BFP$175,入力フォーム!$N$5:$BEQ$5,0))","v":"小麦⑲"},{"$f":"INDEX(入力フォーム!$N3:$BEQ3,1,MATCH(BFQ$175,入力フォーム!$N$5:$BEQ$5,0))","v":"そば⑲"},{"$f":"INDEX(入力フォーム!$N3:$BEQ3,1,MATCH(BFR$175,入力フォーム!$N$5:$BEQ$5,0))","v":"卵⑲"},{"$f":"INDEX(入力フォーム!$N3:$BEQ3,1,MATCH(BFS$175,入力フォーム!$N$5:$BEQ$5,0))","v":"乳⑲"},{"$f":"INDEX(入力フォーム!$N3:$BEQ3,1,MATCH(BFT$175,入力フォーム!$N$5:$BEQ$5,0))","v":"落花生⑲"},{"$f":"INDEX(入力フォーム!$N3:$BEQ3,1,MATCH(BFU$175,入力フォーム!$N$5:$BEQ$5,0))","v":"あわび⑲"},{"$f":"INDEX(入力フォーム!$N3:$BEQ3,1,MATCH(BFV$175,入力フォーム!$N$5:$BEQ$5,0))","v":"いか⑲"},{"$f":"INDEX(入力フォーム!$N3:$BEQ3,1,MATCH(BFW$175,入力フォーム!$N$5:$BEQ$5,0))","v":"いくら⑲"},{"$f":"INDEX(入力フォーム!$N3:$BEQ3,1,MATCH(BFX$175,入力フォーム!$N$5:$BEQ$5,0))","v":"オレンジ⑲"},{"$f":"INDEX(入力フォーム!$N3:$BEQ3,1,MATCH(BFY$175,入力フォーム!$N$5:$BEQ$5,0))","v":"カシューナッツ⑲"},{"$f":"INDEX(入力フォーム!$N3:$BEQ3,1,MATCH(BFZ$175,入力フォーム!$N$5:$BEQ$5,0))","v":"キウイフルーツ⑲"},{"$f":"INDEX(入力フォーム!$N3:$BEQ3,1,MATCH(BGA$175,入力フォーム!$N$5:$BEQ$5,0))","v":"牛肉⑲"},{"$f":"INDEX(入力フォーム!$N3:$BEQ3,1,MATCH(BGB$175,入力フォーム!$N$5:$BEQ$5,0))","v":"くるみ⑲"},{"$f":"INDEX(入力フォーム!$N3:$BEQ3,1,MATCH(BGC$175,入力フォーム!$N$5:$BEQ$5,0))","v":"ごま⑲"},{"$f":"INDEX(入力フォーム!$N3:$BEQ3,1,MATCH(BGD$175,入力フォーム!$N$5:$BEQ$5,0))","v":"さけ⑲"},{"$f":"INDEX(入力フォーム!$N3:$BEQ3,1,MATCH(BGE$175,入力フォーム!$N$5:$BEQ$5,0))","v":"さば⑲"},{"$f":"INDEX(入力フォーム!$N3:$BEQ3,1,MATCH(BGF$175,入力フォーム!$N$5:$BEQ$5,0))","v":"大豆⑲"},{"$f":"INDEX(入力フォーム!$N3:$BEQ3,1,MATCH(BGG$175,入力フォーム!$N$5:$BEQ$5,0))","v":"鶏肉⑲"},{"$f":"INDEX(入力フォーム!$N3:$BEQ3,1,MATCH(BGH$175,入力フォーム!$N$5:$BEQ$5,0))","v":"バナナ⑲"},{"$f":"INDEX(入力フォーム!$N3:$BEQ3,1,MATCH(BGI$175,入力フォーム!$N$5:$BEQ$5,0))","v":"豚肉⑲"},{"$f":"INDEX(入力フォーム!$N3:$BEQ3,1,MATCH(BGJ$175,入力フォーム!$N$5:$BEQ$5,0))","v":"まつたけ⑲"},{"$f":"INDEX(入力フォーム!$N3:$BEQ3,1,MATCH(BGK$175,入力フォーム!$N$5:$BEQ$5,0))","v":"もも⑲"},{"$f":"INDEX(入力フォーム!$N3:$BEQ3,1,MATCH(BGL$175,入力フォーム!$N$5:$BEQ$5,0))","v":"やまいも⑲"},{"$f":"INDEX(入力フォーム!$N3:$BEQ3,1,MATCH(BGM$175,入力フォーム!$N$5:$BEQ$5,0))","v":"りんご⑲"},{"$f":"INDEX(入力フォーム!$N3:$BEQ3,1,MATCH(BGN$175,入力フォーム!$N$5:$BEQ$5,0))","v":"ゼラチン⑲"},{"$f":"INDEX(入力フォーム!$N3:$BEQ3,1,MATCH(BGO$175,入力フォーム!$N$5:$BEQ$5,0))","v":"備考⑲"},{"$f":"INDEX(入力フォーム!$N3:$BEQ3,1,MATCH(BGP$175,入力フォーム!$N$5:$BEQ$5,0))","v":0},{"$f":"INDEX(入力フォーム!$N3:$BEQ3,1,MATCH(BGQ$175,入力フォーム!$N$5:$BEQ$5,0))","v":"商品名⑳"},{"$f":"INDEX(入力フォーム!$N3:$BEQ3,1,MATCH(BGR$175,入力フォーム!$N$5:$BEQ$5,0))","v":"提供可能時期⑳"},{"$f":"INDEX(入力フォーム!$N3:$BEQ3,1,MATCH(BGS$175,入力フォーム!$N$5:$BEQ$5,0))","v":"主原料産地⑳"},{"$f":"INDEX(入力フォーム!$N3:$BEQ3,1,MATCH(BGT$175,入力フォーム!$N$5:$BEQ$5,0))","v":"内容量⑳"},{"$f":"INDEX(入力フォーム!$N3:$BEQ3,1,MATCH(BGU$175,入力フォーム!$N$5:$BEQ$5,0))","v":"1ケースあたり⑳"},{"$f":"INDEX(入力フォーム!$N3:$BEQ3,1,MATCH(BGV$175,入力フォーム!$N$5:$BEQ$5,0))","v":"発注リードタイム⑳"},{"$f":"INDEX(入力フォーム!$N3:$BEQ3,1,MATCH(BGW$175,入力フォーム!$N$5:$BEQ$5,0))","v":"最大ケース⑳"},{"$f":"INDEX(入力フォーム!$N3:$BEQ3,1,MATCH(BGX$175,入力フォーム!$N$5:$BEQ$5,0))","v":"最小ケース⑳"},{"$f":"INDEX(入力フォーム!$N3:$BEQ3,1,MATCH(BGY$175,入力フォーム!$N$5:$BEQ$5,0))","v":"縦⑳"},{"$f":"INDEX(入力フォーム!$N3:$BEQ3,1,MATCH(BGZ$175,入力フォーム!$N$5:$BEQ$5,0))","v":"横⑳"},{"$f":"INDEX(入力フォーム!$N3:$BEQ3,1,MATCH(BHA$175,入力フォーム!$N$5:$BEQ$5,0))","v":"高さ⑳"},{"$f":"INDEX(入力フォーム!$N3:$BEQ3,1,MATCH(BHB$175,入力フォーム!$N$5:$BEQ$5,0))","v":"重量⑳"},{"$f":"INDEX(入力フォーム!$N3:$BEQ3,1,MATCH(BHC$175,入力フォーム!$N$5:$BEQ$5,0))","v":"賞味期限⑳"},{"$f":"INDEX(入力フォーム!$N3:$BEQ3,1,MATCH(BHD$175,入力フォーム!$N$5:$BEQ$5,0))","v":"消費期限⑳"},{"$f":"INDEX(入力フォーム!$N3:$BEQ3,1,MATCH(BHE$175,入力フォーム!$N$5:$BEQ$5,0))","v":"JANコード⑳"},{"$f":"INDEX(入力フォーム!$N3:$BEQ3,1,MATCH(BHF$175,入力フォーム!$N$5:$BEQ$5,0))","v":"希望小売⑳"},{"$f":"INDEX(入力フォーム!$N3:$BEQ3,1,MATCH(BHG$175,入力フォーム!$N$5:$BEQ$5,0))","v":"仕切単価⑳"},{"$f":"INDEX(入力フォーム!$N3:$BEQ3,1,MATCH(BHH$175,入力フォーム!$N$5:$BEQ$5,0))","v":"工場出し⑳"},{"$f":"INDEX(入力フォーム!$N3:$BEQ3,1,MATCH(BHI$175,入力フォーム!$N$5:$BEQ$5,0))","v":"関東向け⑳"},{"$f":"INDEX(入力フォーム!$N3:$BEQ3,1,MATCH(BHJ$175,入力フォーム!$N$5:$BEQ$5,0))","v":"関西向け⑳"},{"$f":"INDEX(入力フォーム!$N3:$BEQ3,1,MATCH(BHK$175,入力フォーム!$N$5:$BEQ$5,0))","v":"8%⑳"},{"$f":"INDEX(入力フォーム!$N3:$BEQ3,1,MATCH(BHL$175,入力フォーム!$N$5:$BEQ$5,0))","v":"10%⑳"},{"$f":"INDEX(入力フォーム!$N3:$BEQ3,1,MATCH(BHM$175,入力フォーム!$N$5:$BEQ$5,0))","v":"常温⑳"},{"$f":"INDEX(入力フォーム!$N3:$BEQ3,1,MATCH(BHN$175,入力フォーム!$N$5:$BEQ$5,0))","v":"冷蔵⑳"},{"$f":"INDEX(入力フォーム!$N3:$BEQ3,1,MATCH(BHO$175,入力フォーム!$N$5:$BEQ$5,0))","v":"冷凍⑳"},{"$f":"INDEX(入力フォーム!$N3:$BEQ3,1,MATCH(BHP$175,入力フォーム!$N$5:$BEQ$5,0))","v":"外食⑳"},{"$f":"INDEX(入力フォーム!$N3:$BEQ3,1,MATCH(BHQ$175,入力フォーム!$N$5:$BEQ$5,0))","v":"中食⑳"},{"$f":"INDEX(入力フォーム!$N3:$BEQ3,1,MATCH(BHR$175,入力フォーム!$N$5:$BEQ$5,0))","v":"商社・卸売⑳"},{"$f":"INDEX(入力フォーム!$N3:$BEQ3,1,MATCH(BHS$175,入力フォーム!$N$5:$BEQ$5,0))","v":"メーカー⑳"},{"$f":"INDEX(入力フォーム!$N3:$BEQ3,1,MATCH(BHT$175,入力フォーム!$N$5:$BEQ$5,0))","v":"スーパーマーケット⑳"},{"$f":"INDEX(入力フォーム!$N3:$BEQ3,1,MATCH(BHU$175,入力フォーム!$N$5:$BEQ$5,0))","v":"百貨店⑳"},{"$f":"INDEX(入力フォーム!$N3:$BEQ3,1,MATCH(BHV$175,入力フォーム!$N$5:$BEQ$5,0))","v":"その他小売⑳"},{"$f":"INDEX(入力フォーム!$N3:$BEQ3,1,MATCH(BHW$175,入力フォーム!$N$5:$BEQ$5,0))","v":"ホテル・宴会・レジャー⑳"},{"$f":"INDEX(入力フォーム!$N3:$BEQ3,1,MATCH(BHX$175,入力フォーム!$N$5:$BEQ$5,0))","v":"その他・ターゲット⑳"},{"$f":"INDEX(入力フォーム!$N3:$BEQ3,1,MATCH(BHY$175,入力フォーム!$N$5:$BEQ$5,0))","v":"その他・ターゲット・⑳"},{"$f":"INDEX(入力フォーム!$N3:$BEQ3,1,MATCH(BHZ$175,入力フォーム!$N$5:$BEQ$5,0))","v":"業務用対応可能⑳"},{"$f":"INDEX(入力フォーム!$N3:$BEQ3,1,MATCH(BIA$175,入力フォーム!$N$5:$BEQ$5,0))","v":"ギフト対応可能⑳"},{"$f":"INDEX(入力フォーム!$N3:$BEQ3,1,MATCH(BIB$175,入力フォーム!$N$5:$BEQ$5,0))","v":"ターゲット⑳"},{"$f":"INDEX(入力フォーム!$N3:$BEQ3,1,MATCH(BIC$175,入力フォーム!$N$5:$BEQ$5,0))","v":"利用シーン⑳"},{"$f":"INDEX(入力フォーム!$N3:$BEQ3,1,MATCH(BID$175,入力フォーム!$N$5:$BEQ$5,0))","v":"商品特徴⑳"},{"$f":"INDEX(入力フォーム!$N3:$BEQ3,1,MATCH(BIE$175,入力フォーム!$N$5:$BEQ$5,0))","v":"えび⑳"},{"$f":"INDEX(入力フォーム!$N3:$BEQ3,1,MATCH(BIF$175,入力フォーム!$N$5:$BEQ$5,0))","v":"かに⑳"},{"$f":"INDEX(入力フォーム!$N3:$BEQ3,1,MATCH(BIG$175,入力フォーム!$N$5:$BEQ$5,0))","v":"小麦⑳"},{"$f":"INDEX(入力フォーム!$N3:$BEQ3,1,MATCH(BIH$175,入力フォーム!$N$5:$BEQ$5,0))","v":"そば⑳"},{"$f":"INDEX(入力フォーム!$N3:$BEQ3,1,MATCH(BII$175,入力フォーム!$N$5:$BEQ$5,0))","v":"卵⑳"},{"$f":"INDEX(入力フォーム!$N3:$BEQ3,1,MATCH(BIJ$175,入力フォーム!$N$5:$BEQ$5,0))","v":"乳⑳"},{"$f":"INDEX(入力フォーム!$N3:$BEQ3,1,MATCH(BIK$175,入力フォーム!$N$5:$BEQ$5,0))","v":"落花生⑳"},{"$f":"INDEX(入力フォーム!$N3:$BEQ3,1,MATCH(BIL$175,入力フォーム!$N$5:$BEQ$5,0))","v":"あわび⑳"},{"$f":"INDEX(入力フォーム!$N3:$BEQ3,1,MATCH(BIM$175,入力フォーム!$N$5:$BEQ$5,0))","v":"いか⑳"},{"$f":"INDEX(入力フォーム!$N3:$BEQ3,1,MATCH(BIN$175,入力フォーム!$N$5:$BEQ$5,0))","v":"いくら⑳"},{"$f":"INDEX(入力フォーム!$N3:$BEQ3,1,MATCH(BIO$175,入力フォーム!$N$5:$BEQ$5,0))","v":"オレンジ⑳"},{"$f":"INDEX(入力フォーム!$N3:$BEQ3,1,MATCH(BIP$175,入力フォーム!$N$5:$BEQ$5,0))","v":"カシューナッツ⑳"},{"$f":"INDEX(入力フォーム!$N3:$BEQ3,1,MATCH(BIQ$175,入力フォーム!$N$5:$BEQ$5,0))","v":"キウイフルーツ⑳"},{"$f":"INDEX(入力フォーム!$N3:$BEQ3,1,MATCH(BIR$175,入力フォーム!$N$5:$BEQ$5,0))","v":"牛肉⑳"},{"$f":"INDEX(入力フォーム!$N3:$BEQ3,1,MATCH(BIS$175,入力フォーム!$N$5:$BEQ$5,0))","v":"くるみ⑳"},{"$f":"INDEX(入力フォーム!$N3:$BEQ3,1,MATCH(BIT$175,入力フォーム!$N$5:$BEQ$5,0))","v":"ごま⑳"},{"$f":"INDEX(入力フォーム!$N3:$BEQ3,1,MATCH(BIU$175,入力フォーム!$N$5:$BEQ$5,0))","v":"さけ⑳"},{"$f":"INDEX(入力フォーム!$N3:$BEQ3,1,MATCH(BIV$175,入力フォーム!$N$5:$BEQ$5,0))","v":"さば⑳"},{"$f":"INDEX(入力フォーム!$N3:$BEQ3,1,MATCH(BIW$175,入力フォーム!$N$5:$BEQ$5,0))","v":"大豆⑳"},{"$f":"INDEX(入力フォーム!$N3:$BEQ3,1,MATCH(BIX$175,入力フォーム!$N$5:$BEQ$5,0))","v":"鶏肉⑳"},{"$f":"INDEX(入力フォーム!$N3:$BEQ3,1,MATCH(BIY$175,入力フォーム!$N$5:$BEQ$5,0))","v":"バナナ⑳"},{"$f":"INDEX(入力フォーム!$N3:$BEQ3,1,MATCH(BIZ$175,入力フォーム!$N$5:$BEQ$5,0))","v":"豚肉⑳"},{"$f":"INDEX(入力フォーム!$N3:$BEQ3,1,MATCH(BJA$175,入力フォーム!$N$5:$BEQ$5,0))","v":"まつたけ⑳"},{"$f":"INDEX(入力フォーム!$N3:$BEQ3,1,MATCH(BJB$175,入力フォーム!$N$5:$BEQ$5,0))","v":"もも⑳"},{"$f":"INDEX(入力フォーム!$N3:$BEQ3,1,MATCH(BJC$175,入力フォーム!$N$5:$BEQ$5,0))","v":"やまいも⑳"},{"$f":"INDEX(入力フォーム!$N3:$BEQ3,1,MATCH(BJD$175,入力フォーム!$N$5:$BEQ$5,0))","v":"りんご⑳"},{"$f":"INDEX(入力フォーム!$N3:$BEQ3,1,MATCH(BJE$175,入力フォーム!$N$5:$BEQ$5,0))","v":"ゼラチン⑳"},{"$f":"INDEX(入力フォーム!$N3:$BEQ3,1,MATCH(BJF$175,入力フォーム!$N$5:$BEQ$5,0))","v":"備考⑳"},{"$f":"INDEX(入力フォーム!$N3:$BEQ3,1,MATCH(BJG$175,入力フォーム!$N$5:$BEQ$5,0))","v":0},{"$f":"INDEX(入力フォーム!$N3:$BEQ3,1,MATCH(BJH$175,入力フォーム!$N$5:$BEQ$5,0))","v":0},{"$f":"INDEX(入力フォーム!$N3:$BEQ3,1,MATCH(BJI$175,入力フォーム!$N$5:$BEQ$5,0))","v":0},{"$f":"INDEX(入力フォーム!$N3:$BEQ3,1,MATCH(BJJ$175,入力フォーム!$N$5:$BEQ$5,0))","v":0},{"$f":"INDEX(入力フォーム!$N3:$BEQ3,1,MATCH(BJK$175,入力フォーム!$N$5:$BEQ$5,0))","v":0},{"$f":"INDEX(入力フォーム!$N3:$BEQ3,1,MATCH(BJL$175,入力フォーム!$N$5:$BEQ$5,0))","v":0},{"$f":"INDEX(入力フォーム!$N3:$BEQ3,1,MATCH(BJM$175,入力フォーム!$N$5:$BEQ$5,0))","v":0},{"$f":"INDEX(入力フォーム!$N3:$BEQ3,1,MATCH(BJN$175,入力フォーム!$N$5:$BEQ$5,0))","v":0},{"$f":"INDEX(入力フォーム!$N3:$BEQ3,1,MATCH(BJO$175,入力フォーム!$N$5:$BEQ$5,0))","v":0},{"$f":"INDEX(入力フォーム!$N3:$BEQ3,1,MATCH(BJP$175,入力フォーム!$N$5:$BEQ$5,0))","v":0}]
[{"$nulls":145},{"$f":"INDEX(入力フォーム!$N4:$BEQ4,1,MATCH(EP$175,入力フォーム!$N$5:$BEQ$5,0))","v":"★"},{"$f":"INDEX(入力フォーム!$N4:$BEQ4,1,MATCH(EQ$175,入力フォーム!$N$5:$BEQ$5,0))","v":"★"},{"$f":"INDEX(入力フォーム!$N4:$BEQ4,1,MATCH(ER$175,入力フォーム!$N$5:$BEQ$5,0))","v":"★"},{"$f":"INDEX(入力フォーム!$N4:$BEQ4,1,MATCH(ES$175,入力フォーム!$N$5:$BEQ$5,0))","v":"★"},{"$f":"INDEX(入力フォーム!$N4:$BEQ4,1,MATCH(ET$175,入力フォーム!$N$5:$BEQ$5,0))","v":"★"},{"$f":"INDEX(入力フォーム!$N4:$BEQ4,1,MATCH(EU$175,入力フォーム!$N$5:$BEQ$5,0))","v":"★"},{"$f":"INDEX(入力フォーム!$N4:$BEQ4,1,MATCH(EV$175,入力フォーム!$N$5:$BEQ$5,0))","v":"★"},{"$f":"INDEX(入力フォーム!$N4:$BEQ4,1,MATCH(EW$175,入力フォーム!$N$5:$BEQ$5,0))","v":"★"},{"$f":"INDEX(入力フォーム!$N4:$BEQ4,1,MATCH(EX$175,入力フォーム!$N$5:$BEQ$5,0))","v":"★"},{"$f":"INDEX(入力フォーム!$N4:$BEQ4,1,MATCH(EY$175,入力フォーム!$N$5:$BEQ$5,0))","v":"★"},{"$f":"INDEX(入力フォーム!$N4:$BEQ4,1,MATCH(EZ$175,入力フォーム!$N$5:$BEQ$5,0))","v":"★"},{"$f":"INDEX(入力フォーム!$N4:$BEQ4,1,MATCH(FA$175,入力フォーム!$N$5:$BEQ$5,0))","v":"★"},{"$f":"INDEX(入力フォーム!$N4:$BEQ4,1,MATCH(FB$175,入力フォーム!$N$5:$BEQ$5,0))","v":"★"},{"$f":"INDEX(入力フォーム!$N4:$BEQ4,1,MATCH(FC$175,入力フォーム!$N$5:$BEQ$5,0))","v":"★"},{"$f":"INDEX(入力フォーム!$N4:$BEQ4,1,MATCH(FD$175,入力フォーム!$N$5:$BEQ$5,0))","v":"★"},{"$f":"INDEX(入力フォーム!$N4:$BEQ4,1,MATCH(FE$175,入力フォーム!$N$5:$BEQ$5,0))","v":"★"},{"$f":"INDEX(入力フォーム!$N4:$BEQ4,1,MATCH(FF$175,入力フォーム!$N$5:$BEQ$5,0))","v":"★"},{"$f":"INDEX(入力フォーム!$N4:$BEQ4,1,MATCH(FG$175,入力フォーム!$N$5:$BEQ$5,0))","v":"★"},{"$f":"INDEX(入力フォーム!$N4:$BEQ4,1,MATCH(FH$175,入力フォーム!$N$5:$BEQ$5,0))","v":"★"},{"$f":"INDEX(入力フォーム!$N4:$BEQ4,1,MATCH(FI$175,入力フォーム!$N$5:$BEQ$5,0))","v":"★"},{"$f":"INDEX(入力フォーム!$N4:$BEQ4,1,MATCH(FJ$175,入力フォーム!$N$5:$BEQ$5,0))","v":"★"},{"$f":"INDEX(入力フォーム!$N4:$BEQ4,1,MATCH(FK$175,入力フォーム!$N$5:$BEQ$5,0))","v":"★"},{"$f":"INDEX(入力フォーム!$N4:$BEQ4,1,MATCH(FL$175,入力フォーム!$N$5:$BEQ$5,0))","v":"★"},{"$f":"INDEX(入力フォーム!$N4:$BEQ4,1,MATCH(FM$175,入力フォーム!$N$5:$BEQ$5,0))","v":"★"},{"$f":"INDEX(入力フォーム!$N4:$BEQ4,1,MATCH(FN$175,入力フォーム!$N$5:$BEQ$5,0))","v":"★"},{"$f":"INDEX(入力フォーム!$N4:$BEQ4,1,MATCH(FO$175,入力フォーム!$N$5:$BEQ$5,0))","v":"★"},{"$f":"INDEX(入力フォーム!$N4:$BEQ4,1,MATCH(FP$175,入力フォーム!$N$5:$BEQ$5,0))","v":"★"},{"$f":"INDEX(入力フォーム!$N4:$BEQ4,1,MATCH(FQ$175,入力フォーム!$N$5:$BEQ$5,0))","v":"★"},{"$f":"INDEX(入力フォーム!$N4:$BEQ4,1,MATCH(FR$175,入力フォーム!$N$5:$BEQ$5,0))","v":"★"},{"$f":"INDEX(入力フォーム!$N4:$BEQ4,1,MATCH(FS$175,入力フォーム!$N$5:$BEQ$5,0))","v":"★"},{"$f":"INDEX(入力フォーム!$N4:$BEQ4,1,MATCH(FT$175,入力フォーム!$N$5:$BEQ$5,0))","v":"★"},{"$f":"INDEX(入力フォーム!$N4:$BEQ4,1,MATCH(FU$175,入力フォーム!$N$5:$BEQ$5,0))","v":"★"},{"$f":"INDEX(入力フォーム!$N4:$BEQ4,1,MATCH(FV$175,入力フォーム!$N$5:$BEQ$5,0))","v":"★"},{"$f":"INDEX(入力フォーム!$N4:$BEQ4,1,MATCH(FW$175,入力フォーム!$N$5:$BEQ$5,0))","v":"★"},{"$f":"INDEX(入力フォーム!$N4:$BEQ4,1,MATCH(FX$175,入力フォーム!$N$5:$BEQ$5,0))","v":"★"},{"$f":"INDEX(入力フォーム!$N4:$BEQ4,1,MATCH(FY$175,入力フォーム!$N$5:$BEQ$5,0))","v":"★"},{"$f":"INDEX(入力フォーム!$N4:$BEQ4,1,MATCH(FZ$175,入力フォーム!$N$5:$BEQ$5,0))","v":"★"},{"$f":"INDEX(入力フォーム!$N4:$BEQ4,1,MATCH(GA$175,入力フォーム!$N$5:$BEQ$5,0))","v":"★"},{"$f":"INDEX(入力フォーム!$N4:$BEQ4,1,MATCH(GB$175,入力フォーム!$N$5:$BEQ$5,0))","v":"★"},{"$f":"INDEX(入力フォーム!$N4:$BEQ4,1,MATCH(GC$175,入力フォーム!$N$5:$BEQ$5,0))","v":"★"},{"$f":"INDEX(入力フォーム!$N4:$BEQ4,1,MATCH(GD$175,入力フォーム!$N$5:$BEQ$5,0))","v":"★"},{"$f":"INDEX(入力フォーム!$N4:$BEQ4,1,MATCH(GE$175,入力フォーム!$N$5:$BEQ$5,0))","v":"★"},{"$f":"INDEX(入力フォーム!$N4:$BEQ4,1,MATCH(GF$175,入力フォーム!$N$5:$BEQ$5,0))","v":"★"},{"$f":"INDEX(入力フォーム!$N4:$BEQ4,1,MATCH(GG$175,入力フォーム!$N$5:$BEQ$5,0))","v":"★"},{"$f":"INDEX(入力フォーム!$N4:$BEQ4,1,MATCH(GH$175,入力フォーム!$N$5:$BEQ$5,0))","v":"★"},{"$f":"INDEX(入力フォーム!$N4:$BEQ4,1,MATCH(GI$175,入力フォーム!$N$5:$BEQ$5,0))","v":"★"},{"$f":"INDEX(入力フォーム!$N4:$BEQ4,1,MATCH(GJ$175,入力フォーム!$N$5:$BEQ$5,0))","v":"★"},{"$f":"INDEX(入力フォーム!$N4:$BEQ4,1,MATCH(GK$175,入力フォーム!$N$5:$BEQ$5,0))","v":"★"},{"$f":"INDEX(入力フォーム!$N4:$BEQ4,1,MATCH(GL$175,入力フォーム!$N$5:$BEQ$5,0))","v":"★"},{"$f":"INDEX(入力フォーム!$N4:$BEQ4,1,MATCH(GM$175,入力フォーム!$N$5:$BEQ$5,0))","v":"★"},{"$f":"INDEX(入力フォーム!$N4:$BEQ4,1,MATCH(GN$175,入力フォーム!$N$5:$BEQ$5,0))","v":"★"},{"$f":"INDEX(入力フォーム!$N4:$BEQ4,1,MATCH(GO$175,入力フォーム!$N$5:$BEQ$5,0))","v":"★"},{"$f":"INDEX(入力フォーム!$N4:$BEQ4,1,MATCH(GP$175,入力フォーム!$N$5:$BEQ$5,0))","v":"★"},{"$f":"INDEX(入力フォーム!$N4:$BEQ4,1,MATCH(GQ$175,入力フォーム!$N$5:$BEQ$5,0))","v":"★"},{"$f":"INDEX(入力フォーム!$N4:$BEQ4,1,MATCH(GR$175,入力フォーム!$N$5:$BEQ$5,0))","v":"★"},{"$f":"INDEX(入力フォーム!$N4:$BEQ4,1,MATCH(GS$175,入力フォーム!$N$5:$BEQ$5,0))","v":"★"},{"$f":"INDEX(入力フォーム!$N4:$BEQ4,1,MATCH(GT$175,入力フォーム!$N$5:$BEQ$5,0))","v":"★"},{"$f":"INDEX(入力フォーム!$N4:$BEQ4,1,MATCH(GU$175,入力フォーム!$N$5:$BEQ$5,0))","v":"★"},{"$f":"INDEX(入力フォーム!$N4:$BEQ4,1,MATCH(GV$175,入力フォーム!$N$5:$BEQ$5,0))","v":"★"},{"$f":"INDEX(入力フォーム!$N4:$BEQ4,1,MATCH(GW$175,入力フォーム!$N$5:$BEQ$5,0))","v":"★"},{"$f":"INDEX(入力フォーム!$N4:$BEQ4,1,MATCH(GX$175,入力フォーム!$N$5:$BEQ$5,0))","v":"★"},{"$f":"INDEX(入力フォーム!$N4:$BEQ4,1,MATCH(GY$175,入力フォーム!$N$5:$BEQ$5,0))","v":"★"},{"$f":"INDEX(入力フォーム!$N4:$BEQ4,1,MATCH(GZ$175,入力フォーム!$N$5:$BEQ$5,0))","v":"★"},{"$f":"INDEX(入力フォーム!$N4:$BEQ4,1,MATCH(HA$175,入力フォーム!$N$5:$BEQ$5,0))","v":"★"},{"$f":"INDEX(入力フォーム!$N4:$BEQ4,1,MATCH(HB$175,入力フォーム!$N$5:$BEQ$5,0))","v":"★"},{"$f":"INDEX(入力フォーム!$N4:$BEQ4,1,MATCH(HC$175,入力フォーム!$N$5:$BEQ$5,0))","v":"★"},{"$f":"INDEX(入力フォーム!$N4:$BEQ4,1,MATCH(HD$175,入力フォーム!$N$5:$BEQ$5,0))","v":"★"},{"$f":"INDEX(入力フォーム!$N4:$BEQ4,1,MATCH(HE$175,入力フォーム!$N$5:$BEQ$5,0))","v":"★"},{"$f":"INDEX(入力フォーム!$N4:$BEQ4,1,MATCH(HF$175,入力フォーム!$N$5:$BEQ$5,0))","v":"★"},{"$f":"INDEX(入力フォーム!$N4:$BEQ4,1,MATCH(HG$175,入力フォーム!$N$5:$BEQ$5,0))","v":"★"},{"$f":"INDEX(入力フォーム!$N4:$BEQ4,1,MATCH(HH$175,入力フォーム!$N$5:$BEQ$5,0))","v":"★"},{"$f":"INDEX(入力フォーム!$N4:$BEQ4,1,MATCH(HI$175,入力フォーム!$N$5:$BEQ$5,0))","v":"★"},{"$f":"INDEX(入力フォーム!$N4:$BEQ4,1,MATCH(HJ$175,入力フォーム!$N$5:$BEQ$5,0))","v":"★"},{"$f":"INDEX(入力フォーム!$N4:$BEQ4,1,MATCH(HK$175,入力フォーム!$N$5:$BEQ$5,0))","v":"★"},{"$f":"INDEX(入力フォーム!$N4:$BEQ4,1,MATCH(HL$175,入力フォーム!$N$5:$BEQ$5,0))","v":""},{"$f":"INDEX(入力フォーム!$N4:$BEQ4,1,MATCH(HM$175,入力フォーム!$N$5:$BEQ$5,0))","v":"★"},{"$f":"INDEX(入力フォーム!$N4:$BEQ4,1,MATCH(HN$175,入力フォーム!$N$5:$BEQ$5,0))","v":"★"},{"$f":"INDEX(入力フォーム!$N4:$BEQ4,1,MATCH(HO$175,入力フォーム!$N$5:$BEQ$5,0))","v":"★"},{"$f":"INDEX(入力フォーム!$N4:$BEQ4,1,MATCH(HP$175,入力フォーム!$N$5:$BEQ$5,0))","v":"★"},{"$f":"INDEX(入力フォーム!$N4:$BEQ4,1,MATCH(HQ$175,入力フォーム!$N$5:$BEQ$5,0))","v":"★"},{"$f":"INDEX(入力フォーム!$N4:$BEQ4,1,MATCH(HR$175,入力フォーム!$N$5:$BEQ$5,0))","v":"★"},{"$f":"INDEX(入力フォーム!$N4:$BEQ4,1,MATCH(HS$175,入力フォーム!$N$5:$BEQ$5,0))","v":"★"},{"$f":"INDEX(入力フォーム!$N4:$BEQ4,1,MATCH(HT$175,入力フォーム!$N$5:$BEQ$5,0))","v":"★"},{"$f":"INDEX(入力フォーム!$N4:$BEQ4,1,MATCH(HU$175,入力フォーム!$N$5:$BEQ$5,0))","v":"★"},{"$f":"INDEX(入力フォーム!$N4:$BEQ4,1,MATCH(HV$175,入力フォーム!$N$5:$BEQ$5,0))","v":"★"},{"$f":"INDEX(入力フォーム!$N4:$BEQ4,1,MATCH(HW$175,入力フォーム!$N$5:$BEQ$5,0))","v":"★"},{"$f":"INDEX(入力フォーム!$N4:$BEQ4,1,MATCH(HX$175,入力フォーム!$N$5:$BEQ$5,0))","v":"★"},{"$f":"INDEX(入力フォーム!$N4:$BEQ4,1,MATCH(HY$175,入力フォーム!$N$5:$BEQ$5,0))","v":"★"},{"$f":"INDEX(入力フォーム!$N4:$BEQ4,1,MATCH(HZ$175,入力フォーム!$N$5:$BEQ$5,0))","v":"★"},{"$f":"INDEX(入力フォーム!$N4:$BEQ4,1,MATCH(IA$175,入力フォーム!$N$5:$BEQ$5,0))","v":"★"},{"$f":"INDEX(入力フォーム!$N4:$BEQ4,1,MATCH(IB$175,入力フォーム!$N$5:$BEQ$5,0))","v":"★"},{"$f":"INDEX(入力フォーム!$N4:$BEQ4,1,MATCH(IC$175,入力フォーム!$N$5:$BEQ$5,0))","v":"★"},{"$f":"INDEX(入力フォーム!$N4:$BEQ4,1,MATCH(ID$175,入力フォーム!$N$5:$BEQ$5,0))","v":"★"},{"$f":"INDEX(入力フォーム!$N4:$BEQ4,1,MATCH(IE$175,入力フォーム!$N$5:$BEQ$5,0))","v":"★"},{"$f":"INDEX(入力フォーム!$N4:$BEQ4,1,MATCH(IF$175,入力フォーム!$N$5:$BEQ$5,0))","v":"★"},{"$f":"INDEX(入力フォーム!$N4:$BEQ4,1,MATCH(IG$175,入力フォーム!$N$5:$BEQ$5,0))","v":"★"},{"$f":"INDEX(入力フォーム!$N4:$BEQ4,1,MATCH(IH$175,入力フォーム!$N$5:$BEQ$5,0))","v":"★"},{"$f":"INDEX(入力フォーム!$N4:$BEQ4,1,MATCH(II$175,入力フォーム!$N$5:$BEQ$5,0))","v":"★"},{"$f":"INDEX(入力フォーム!$N4:$BEQ4,1,MATCH(IJ$175,入力フォーム!$N$5:$BEQ$5,0))","v":"★"},{"$f":"INDEX(入力フォーム!$N4:$BEQ4,1,MATCH(IK$175,入力フォーム!$N$5:$BEQ$5,0))","v":"★"},{"$f":"INDEX(入力フォーム!$N4:$BEQ4,1,MATCH(IL$175,入力フォーム!$N$5:$BEQ$5,0))","v":"★"},{"$f":"INDEX(入力フォーム!$N4:$BEQ4,1,MATCH(IM$175,入力フォーム!$N$5:$BEQ$5,0))","v":"★"},{"$f":"INDEX(入力フォーム!$N4:$BEQ4,1,MATCH(IN$175,入力フォーム!$N$5:$BEQ$5,0))","v":"★"},{"$f":"INDEX(入力フォーム!$N4:$BEQ4,1,MATCH(IO$175,入力フォーム!$N$5:$BEQ$5,0))","v":"★"},{"$f":"INDEX(入力フォーム!$N4:$BEQ4,1,MATCH(IP$175,入力フォーム!$N$5:$BEQ$5,0))","v":"★"},{"$f":"INDEX(入力フォーム!$N4:$BEQ4,1,MATCH(IQ$175,入力フォーム!$N$5:$BEQ$5,0))","v":"★"},{"$f":"INDEX(入力フォーム!$N4:$BEQ4,1,MATCH(IR$175,入力フォーム!$N$5:$BEQ$5,0))","v":"★"},{"$f":"INDEX(入力フォーム!$N4:$BEQ4,1,MATCH(IS$175,入力フォーム!$N$5:$BEQ$5,0))","v":"★"},{"$f":"INDEX(入力フォーム!$N4:$BEQ4,1,MATCH(IT$175,入力フォーム!$N$5:$BEQ$5,0))","v":"★"},{"$f":"INDEX(入力フォーム!$N4:$BEQ4,1,MATCH(IU$175,入力フォーム!$N$5:$BEQ$5,0))","v":"★"},{"$f":"INDEX(入力フォーム!$N4:$BEQ4,1,MATCH(IV$175,入力フォーム!$N$5:$BEQ$5,0))","v":"★"},{"$f":"INDEX(入力フォーム!$N4:$BEQ4,1,MATCH(IW$175,入力フォーム!$N$5:$BEQ$5,0))","v":"★"},{"$f":"INDEX(入力フォーム!$N4:$BEQ4,1,MATCH(IX$175,入力フォーム!$N$5:$BEQ$5,0))","v":"★"},{"$f":"INDEX(入力フォーム!$N4:$BEQ4,1,MATCH(IY$175,入力フォーム!$N$5:$BEQ$5,0))","v":"★"},{"$f":"INDEX(入力フォーム!$N4:$BEQ4,1,MATCH(IZ$175,入力フォーム!$N$5:$BEQ$5,0))","v":"★"},{"$f":"INDEX(入力フォーム!$N4:$BEQ4,1,MATCH(JA$175,入力フォーム!$N$5:$BEQ$5,0))","v":"★"},{"$f":"INDEX(入力フォーム!$N4:$BEQ4,1,MATCH(JB$175,入力フォーム!$N$5:$BEQ$5,0))","v":"★"},{"$f":"INDEX(入力フォーム!$N4:$BEQ4,1,MATCH(JC$175,入力フォーム!$N$5:$BEQ$5,0))","v":"★"},{"$f":"INDEX(入力フォーム!$N4:$BEQ4,1,MATCH(JD$175,入力フォーム!$N$5:$BEQ$5,0))","v":"★"},{"$f":"INDEX(入力フォーム!$N4:$BEQ4,1,MATCH(JE$175,入力フォーム!$N$5:$BEQ$5,0))","v":"★"},{"$f":"INDEX(入力フォーム!$N4:$BEQ4,1,MATCH(JF$175,入力フォーム!$N$5:$BEQ$5,0))","v":"★"},{"$f":"INDEX(入力フォーム!$N4:$BEQ4,1,MATCH(JG$175,入力フォーム!$N$5:$BEQ$5,0))","v":"★"},{"$f":"INDEX(入力フォーム!$N4:$BEQ4,1,MATCH(JH$175,入力フォーム!$N$5:$BEQ$5,0))","v":"★"},{"$f":"INDEX(入力フォーム!$N4:$BEQ4,1,MATCH(JI$175,入力フォーム!$N$5:$BEQ$5,0))","v":"★"},{"$f":"INDEX(入力フォーム!$N4:$BEQ4,1,MATCH(JJ$175,入力フォーム!$N$5:$BEQ$5,0))","v":"★"},{"$f":"INDEX(入力フォーム!$N4:$BEQ4,1,MATCH(JK$175,入力フォーム!$N$5:$BEQ$5,0))","v":"★"},{"$f":"INDEX(入力フォーム!$N4:$BEQ4,1,MATCH(JL$175,入力フォーム!$N$5:$BEQ$5,0))","v":"★"},{"$f":"INDEX(入力フォーム!$N4:$BEQ4,1,MATCH(JM$175,入力フォーム!$N$5:$BEQ$5,0))","v":"★"},{"$f":"INDEX(入力フォーム!$N4:$BEQ4,1,MATCH(JN$175,入力フォーム!$N$5:$BEQ$5,0))","v":"★"},{"$f":"INDEX(入力フォーム!$N4:$BEQ4,1,MATCH(JO$175,入力フォーム!$N$5:$BEQ$5,0))","v":"★"},{"$f":"INDEX(入力フォーム!$N4:$BEQ4,1,MATCH(JP$175,入力フォーム!$N$5:$BEQ$5,0))","v":"★"},{"$f":"INDEX(入力フォーム!$N4:$BEQ4,1,MATCH(JQ$175,入力フォーム!$N$5:$BEQ$5,0))","v":"★"},{"$f":"INDEX(入力フォーム!$N4:$BEQ4,1,MATCH(JR$175,入力フォーム!$N$5:$BEQ$5,0))","v":"★"},{"$f":"INDEX(入力フォーム!$N4:$BEQ4,1,MATCH(JS$175,入力フォーム!$N$5:$BEQ$5,0))","v":"★"},{"$f":"INDEX(入力フォーム!$N4:$BEQ4,1,MATCH(JT$175,入力フォーム!$N$5:$BEQ$5,0))","v":"★"},{"$f":"INDEX(入力フォーム!$N4:$BEQ4,1,MATCH(JU$175,入力フォーム!$N$5:$BEQ$5,0))","v":"★"},{"$f":"INDEX(入力フォーム!$N4:$BEQ4,1,MATCH(JV$175,入力フォーム!$N$5:$BEQ$5,0))","v":"★"},{"$f":"INDEX(入力フォーム!$N4:$BEQ4,1,MATCH(JW$175,入力フォーム!$N$5:$BEQ$5,0))","v":"★"},{"$f":"INDEX(入力フォーム!$N4:$BEQ4,1,MATCH(JX$175,入力フォーム!$N$5:$BEQ$5,0))","v":"★"},{"$f":"INDEX(入力フォーム!$N4:$BEQ4,1,MATCH(JY$175,入力フォーム!$N$5:$BEQ$5,0))","v":"★"},{"$f":"INDEX(入力フォーム!$N4:$BEQ4,1,MATCH(JZ$175,入力フォーム!$N$5:$BEQ$5,0))","v":"★"},{"$f":"INDEX(入力フォーム!$N4:$BEQ4,1,MATCH(KA$175,入力フォーム!$N$5:$BEQ$5,0))","v":"★"},{"$f":"INDEX(入力フォーム!$N4:$BEQ4,1,MATCH(KB$175,入力フォーム!$N$5:$BEQ$5,0))","v":"★"},{"$f":"INDEX(入力フォーム!$N4:$BEQ4,1,MATCH(KC$175,入力フォーム!$N$5:$BEQ$5,0))","v":"★"},{"$f":"INDEX(入力フォーム!$N4:$BEQ4,1,MATCH(KD$175,入力フォーム!$N$5:$BEQ$5,0))","v":"★"},{"$f":"INDEX(入力フォーム!$N4:$BEQ4,1,MATCH(KE$175,入力フォーム!$N$5:$BEQ$5,0))","v":"★"},{"$f":"INDEX(入力フォーム!$N4:$BEQ4,1,MATCH(KF$175,入力フォーム!$N$5:$BEQ$5,0))","v":"★"},{"$f":"INDEX(入力フォーム!$N4:$BEQ4,1,MATCH(KG$175,入力フォーム!$N$5:$BEQ$5,0))","v":"★"},{"$f":"INDEX(入力フォーム!$N4:$BEQ4,1,MATCH(KH$175,入力フォーム!$N$5:$BEQ$5,0))","v":"★"},{"$f":"INDEX(入力フォーム!$N4:$BEQ4,1,MATCH(KI$175,入力フォーム!$N$5:$BEQ$5,0))","v":"★"},{"$f":"INDEX(入力フォーム!$N4:$BEQ4,1,MATCH(KJ$175,入力フォーム!$N$5:$BEQ$5,0))","v":"★"},{"$f":"INDEX(入力フォーム!$N4:$BEQ4,1,MATCH(KK$175,入力フォーム!$N$5:$BEQ$5,0))","v":"★"},{"$f":"INDEX(入力フォーム!$N4:$BEQ4,1,MATCH(KL$175,入力フォーム!$N$5:$BEQ$5,0))","v":"★"},{"$f":"INDEX(入力フォーム!$N4:$BEQ4,1,MATCH(KM$175,入力フォーム!$N$5:$BEQ$5,0))","v":"★"},{"$f":"INDEX(入力フォーム!$N4:$BEQ4,1,MATCH(KN$175,入力フォーム!$N$5:$BEQ$5,0))","v":"★"},{"$f":"INDEX(入力フォーム!$N4:$BEQ4,1,MATCH(KO$175,入力フォーム!$N$5:$BEQ$5,0))","v":"★"},{"$f":"INDEX(入力フォーム!$N4:$BEQ4,1,MATCH(KP$175,入力フォーム!$N$5:$BEQ$5,0))","v":"★"},{"$f":"INDEX(入力フォーム!$N4:$BEQ4,1,MATCH(KQ$175,入力フォーム!$N$5:$BEQ$5,0))","v":"★"},{"$f":"INDEX(入力フォーム!$N4:$BEQ4,1,MATCH(KR$175,入力フォーム!$N$5:$BEQ$5,0))","v":"★"},{"$f":"INDEX(入力フォーム!$N4:$BEQ4,1,MATCH(KS$175,入力フォーム!$N$5:$BEQ$5,0))","v":"★"},{"$f":"INDEX(入力フォーム!$N4:$BEQ4,1,MATCH(KT$175,入力フォーム!$N$5:$BEQ$5,0))","v":"★"},{"$f":"INDEX(入力フォーム!$N4:$BEQ4,1,MATCH(KU$175,入力フォーム!$N$5:$BEQ$5,0))","v":"★"},{"$f":"INDEX(入力フォーム!$N4:$BEQ4,1,MATCH(KV$175,入力フォーム!$N$5:$BEQ$5,0))","v":"★"},{"$f":"INDEX(入力フォーム!$N4:$BEQ4,1,MATCH(KW$175,入力フォーム!$N$5:$BEQ$5,0))","v":"★"},{"$f":"INDEX(入力フォーム!$N4:$BEQ4,1,MATCH(KX$175,入力フォーム!$N$5:$BEQ$5,0))","v":"★"},{"$f":"INDEX(入力フォーム!$N4:$BEQ4,1,MATCH(KY$175,入力フォーム!$N$5:$BEQ$5,0))","v":"★"},{"$f":"INDEX(入力フォーム!$N4:$BEQ4,1,MATCH(KZ$175,入力フォーム!$N$5:$BEQ$5,0))","v":"★"},{"$f":"INDEX(入力フォーム!$N4:$BEQ4,1,MATCH(LA$175,入力フォーム!$N$5:$BEQ$5,0))","v":"★"},{"$f":"INDEX(入力フォーム!$N4:$BEQ4,1,MATCH(LB$175,入力フォーム!$N$5:$BEQ$5,0))","v":"★"},{"$f":"INDEX(入力フォーム!$N4:$BEQ4,1,MATCH(LC$175,入力フォーム!$N$5:$BEQ$5,0))","v":"★"},{"$f":"INDEX(入力フォーム!$N4:$BEQ4,1,MATCH(LD$175,入力フォーム!$N$5:$BEQ$5,0))","v":"★"},{"$f":"INDEX(入力フォーム!$N4:$BEQ4,1,MATCH(LE$175,入力フォーム!$N$5:$BEQ$5,0))","v":"★"},{"$f":"INDEX(入力フォーム!$N4:$BEQ4,1,MATCH(LF$175,入力フォーム!$N$5:$BEQ$5,0))","v":"★"},{"$f":"INDEX(入力フォーム!$N4:$BEQ4,1,MATCH(LG$175,入力フォーム!$N$5:$BEQ$5,0))","v":"★"},{"$f":"INDEX(入力フォーム!$N4:$BEQ4,1,MATCH(LH$175,入力フォーム!$N$5:$BEQ$5,0))","v":"★"},{"$f":"INDEX(入力フォーム!$N4:$BEQ4,1,MATCH(LI$175,入力フォーム!$N$5:$BEQ$5,0))","v":"★"},{"$f":"INDEX(入力フォーム!$N4:$BEQ4,1,MATCH(LJ$175,入力フォーム!$N$5:$BEQ$5,0))","v":"★"},{"$f":"INDEX(入力フォーム!$N4:$BEQ4,1,MATCH(LK$175,入力フォーム!$N$5:$BEQ$5,0))","v":"★"},{"$f":"INDEX(入力フォーム!$N4:$BEQ4,1,MATCH(LL$175,入力フォーム!$N$5:$BEQ$5,0))","v":"★"},{"$f":"INDEX(入力フォーム!$N4:$BEQ4,1,MATCH(LM$175,入力フォーム!$N$5:$BEQ$5,0))","v":"★"},{"$f":"INDEX(入力フォーム!$N4:$BEQ4,1,MATCH(LN$175,入力フォーム!$N$5:$BEQ$5,0))","v":"★"},{"$f":"INDEX(入力フォーム!$N4:$BEQ4,1,MATCH(LO$175,入力フォーム!$N$5:$BEQ$5,0))","v":"★"},{"$f":"INDEX(入力フォーム!$N4:$BEQ4,1,MATCH(LP$175,入力フォーム!$N$5:$BEQ$5,0))","v":"★"},{"$f":"INDEX(入力フォーム!$N4:$BEQ4,1,MATCH(LQ$175,入力フォーム!$N$5:$BEQ$5,0))","v":"★"},{"$f":"INDEX(入力フォーム!$N4:$BEQ4,1,MATCH(LR$175,入力フォーム!$N$5:$BEQ$5,0))","v":"★"},{"$f":"INDEX(入力フォーム!$N4:$BEQ4,1,MATCH(LS$175,入力フォーム!$N$5:$BEQ$5,0))","v":"★"},{"$f":"INDEX(入力フォーム!$N4:$BEQ4,1,MATCH(LT$175,入力フォーム!$N$5:$BEQ$5,0))","v":"★"},{"$f":"INDEX(入力フォーム!$N4:$BEQ4,1,MATCH(LU$175,入力フォーム!$N$5:$BEQ$5,0))","v":"★"},{"$f":"INDEX(入力フォーム!$N4:$BEQ4,1,MATCH(LV$175,入力フォーム!$N$5:$BEQ$5,0))","v":"★"},{"$f":"INDEX(入力フォーム!$N4:$BEQ4,1,MATCH(LW$175,入力フォーム!$N$5:$BEQ$5,0))","v":"★"},{"$f":"INDEX(入力フォーム!$N4:$BEQ4,1,MATCH(LX$175,入力フォーム!$N$5:$BEQ$5,0))","v":"★"},{"$f":"INDEX(入力フォーム!$N4:$BEQ4,1,MATCH(LY$175,入力フォーム!$N$5:$BEQ$5,0))","v":"★"},{"$f":"INDEX(入力フォーム!$N4:$BEQ4,1,MATCH(LZ$175,入力フォーム!$N$5:$BEQ$5,0))","v":"★"},{"$f":"INDEX(入力フォーム!$N4:$BEQ4,1,MATCH(MA$175,入力フォーム!$N$5:$BEQ$5,0))","v":"★"},{"$f":"INDEX(入力フォーム!$N4:$BEQ4,1,MATCH(MB$175,入力フォーム!$N$5:$BEQ$5,0))","v":"★"},{"$f":"INDEX(入力フォーム!$N4:$BEQ4,1,MATCH(MC$175,入力フォーム!$N$5:$BEQ$5,0))","v":"★"},{"$f":"INDEX(入力フォーム!$N4:$BEQ4,1,MATCH(MD$175,入力フォーム!$N$5:$BEQ$5,0))","v":"★"},{"$f":"INDEX(入力フォーム!$N4:$BEQ4,1,MATCH(ME$175,入力フォーム!$N$5:$BEQ$5,0))","v":"★"},{"$f":"INDEX(入力フォーム!$N4:$BEQ4,1,MATCH(MF$175,入力フォーム!$N$5:$BEQ$5,0))","v":"★"},{"$f":"INDEX(入力フォーム!$N4:$BEQ4,1,MATCH(MG$175,入力フォーム!$N$5:$BEQ$5,0))","v":"★"},{"$f":"INDEX(入力フォーム!$N4:$BEQ4,1,MATCH(MH$175,入力フォーム!$N$5:$BEQ$5,0))","v":"★"},{"$f":"INDEX(入力フォーム!$N4:$BEQ4,1,MATCH(MI$175,入力フォーム!$N$5:$BEQ$5,0))","v":"★"},{"$f":"INDEX(入力フォーム!$N4:$BEQ4,1,MATCH(MJ$175,入力フォーム!$N$5:$BEQ$5,0))","v":"★"},{"$f":"INDEX(入力フォーム!$N4:$BEQ4,1,MATCH(MK$175,入力フォーム!$N$5:$BEQ$5,0))","v":"★"},{"$f":"INDEX(入力フォーム!$N4:$BEQ4,1,MATCH(ML$175,入力フォーム!$N$5:$BEQ$5,0))","v":"★"},{"$f":"INDEX(入力フォーム!$N4:$BEQ4,1,MATCH(MM$175,入力フォーム!$N$5:$BEQ$5,0))","v":"★"},{"$f":"INDEX(入力フォーム!$N4:$BEQ4,1,MATCH(MN$175,入力フォーム!$N$5:$BEQ$5,0))","v":"★"},{"$f":"INDEX(入力フォーム!$N4:$BEQ4,1,MATCH(MO$175,入力フォーム!$N$5:$BEQ$5,0))","v":"★"},{"$f":"INDEX(入力フォーム!$N4:$BEQ4,1,MATCH(MP$175,入力フォーム!$N$5:$BEQ$5,0))","v":"★"},{"$f":"INDEX(入力フォーム!$N4:$BEQ4,1,MATCH(MQ$175,入力フォーム!$N$5:$BEQ$5,0))","v":"★"},{"$f":"INDEX(入力フォーム!$N4:$BEQ4,1,MATCH(MR$175,入力フォーム!$N$5:$BEQ$5,0))","v":"★"},{"$f":"INDEX(入力フォーム!$N4:$BEQ4,1,MATCH(MS$175,入力フォーム!$N$5:$BEQ$5,0))","v":"★"},{"$f":"INDEX(入力フォーム!$N4:$BEQ4,1,MATCH(MT$175,入力フォーム!$N$5:$BEQ$5,0))","v":"★"},{"$f":"INDEX(入力フォーム!$N4:$BEQ4,1,MATCH(MU$175,入力フォーム!$N$5:$BEQ$5,0))","v":"★"},{"$f":"INDEX(入力フォーム!$N4:$BEQ4,1,MATCH(MV$175,入力フォーム!$N$5:$BEQ$5,0))","v":"★"},{"$f":"INDEX(入力フォーム!$N4:$BEQ4,1,MATCH(MW$175,入力フォーム!$N$5:$BEQ$5,0))","v":"★"},{"$f":"INDEX(入力フォーム!$N4:$BEQ4,1,MATCH(MX$175,入力フォーム!$N$5:$BEQ$5,0))","v":"★"},{"$f":"INDEX(入力フォーム!$N4:$BEQ4,1,MATCH(MY$175,入力フォーム!$N$5:$BEQ$5,0))","v":"★"},{"$f":"INDEX(入力フォーム!$N4:$BEQ4,1,MATCH(MZ$175,入力フォーム!$N$5:$BEQ$5,0))","v":"★"},{"$f":"INDEX(入力フォーム!$N4:$BEQ4,1,MATCH(NA$175,入力フォーム!$N$5:$BEQ$5,0))","v":"★"},{"$f":"INDEX(入力フォーム!$N4:$BEQ4,1,MATCH(NB$175,入力フォーム!$N$5:$BEQ$5,0))","v":"★"},{"$f":"INDEX(入力フォーム!$N4:$BEQ4,1,MATCH(NC$175,入力フォーム!$N$5:$BEQ$5,0))","v":"★"},{"$f":"INDEX(入力フォーム!$N4:$BEQ4,1,MATCH(ND$175,入力フォーム!$N$5:$BEQ$5,0))","v":"★"},{"$f":"INDEX(入力フォーム!$N4:$BEQ4,1,MATCH(NE$175,入力フォーム!$N$5:$BEQ$5,0))","v":"★"},{"$f":"INDEX(入力フォーム!$N4:$BEQ4,1,MATCH(NF$175,入力フォーム!$N$5:$BEQ$5,0))","v":"★"},{"$f":"INDEX(入力フォーム!$N4:$BEQ4,1,MATCH(NG$175,入力フォーム!$N$5:$BEQ$5,0))","v":"★"},{"$f":"INDEX(入力フォーム!$N4:$BEQ4,1,MATCH(NH$175,入力フォーム!$N$5:$BEQ$5,0))","v":"★"},{"$f":"INDEX(入力フォーム!$N4:$BEQ4,1,MATCH(NI$175,入力フォーム!$N$5:$BEQ$5,0))","v":"★"},{"$f":"INDEX(入力フォーム!$N4:$BEQ4,1,MATCH(NJ$175,入力フォーム!$N$5:$BEQ$5,0))","v":"★"},{"$f":"INDEX(入力フォーム!$N4:$BEQ4,1,MATCH(NK$175,入力フォーム!$N$5:$BEQ$5,0))","v":"★"},{"$f":"INDEX(入力フォーム!$N4:$BEQ4,1,MATCH(NL$175,入力フォーム!$N$5:$BEQ$5,0))","v":"★"},{"$f":"INDEX(入力フォーム!$N4:$BEQ4,1,MATCH(NM$175,入力フォーム!$N$5:$BEQ$5,0))","v":"★"},{"$f":"INDEX(入力フォーム!$N4:$BEQ4,1,MATCH(NN$175,入力フォーム!$N$5:$BEQ$5,0))","v":"★"},{"$f":"INDEX(入力フォーム!$N4:$BEQ4,1,MATCH(NO$175,入力フォーム!$N$5:$BEQ$5,0))","v":"★"},{"$f":"INDEX(入力フォーム!$N4:$BEQ4,1,MATCH(NP$175,入力フォーム!$N$5:$BEQ$5,0))","v":"★"},{"$f":"INDEX(入力フォーム!$N4:$BEQ4,1,MATCH(NQ$175,入力フォーム!$N$5:$BEQ$5,0))","v":"★"},{"$f":"INDEX(入力フォーム!$N4:$BEQ4,1,MATCH(NR$175,入力フォーム!$N$5:$BEQ$5,0))","v":"★"},{"$f":"INDEX(入力フォーム!$N4:$BEQ4,1,MATCH(NS$175,入力フォーム!$N$5:$BEQ$5,0))","v":"★"},{"$f":"INDEX(入力フォーム!$N4:$BEQ4,1,MATCH(NT$175,入力フォーム!$N$5:$BEQ$5,0))","v":"★"},{"$f":"INDEX(入力フォーム!$N4:$BEQ4,1,MATCH(NU$175,入力フォーム!$N$5:$BEQ$5,0))","v":"★"},{"$f":"INDEX(入力フォーム!$N4:$BEQ4,1,MATCH(NV$175,入力フォーム!$N$5:$BEQ$5,0))","v":"★"},{"$f":"INDEX(入力フォーム!$N4:$BEQ4,1,MATCH(NW$175,入力フォーム!$N$5:$BEQ$5,0))","v":"★"},{"$f":"INDEX(入力フォーム!$N4:$BEQ4,1,MATCH(NX$175,入力フォーム!$N$5:$BEQ$5,0))","v":"★"},{"$f":"INDEX(入力フォーム!$N4:$BEQ4,1,MATCH(NY$175,入力フォーム!$N$5:$BEQ$5,0))","v":"★"},{"$f":"INDEX(入力フォーム!$N4:$BEQ4,1,MATCH(NZ$175,入力フォーム!$N$5:$BEQ$5,0))","v":"★"},{"$f":"INDEX(入力フォーム!$N4:$BEQ4,1,MATCH(OA$175,入力フォーム!$N$5:$BEQ$5,0))","v":"★"},{"$f":"INDEX(入力フォーム!$N4:$BEQ4,1,MATCH(OB$175,入力フォーム!$N$5:$BEQ$5,0))","v":"★"},{"$f":"INDEX(入力フォーム!$N4:$BEQ4,1,MATCH(OC$175,入力フォーム!$N$5:$BEQ$5,0))","v":"★"},{"$f":"INDEX(入力フォーム!$N4:$BEQ4,1,MATCH(OD$175,入力フォーム!$N$5:$BEQ$5,0))","v":"★"},{"$f":"INDEX(入力フォーム!$N4:$BEQ4,1,MATCH(OE$175,入力フォーム!$N$5:$BEQ$5,0))","v":"★"},{"$f":"INDEX(入力フォーム!$N4:$BEQ4,1,MATCH(OF$175,入力フォーム!$N$5:$BEQ$5,0))","v":"★"},{"$f":"INDEX(入力フォーム!$N4:$BEQ4,1,MATCH(OG$175,入力フォーム!$N$5:$BEQ$5,0))","v":"★"},{"$f":"INDEX(入力フォーム!$N4:$BEQ4,1,MATCH(OH$175,入力フォーム!$N$5:$BEQ$5,0))","v":"★"},{"$f":"INDEX(入力フォーム!$N4:$BEQ4,1,MATCH(OI$175,入力フォーム!$N$5:$BEQ$5,0))","v":"★"},{"$f":"INDEX(入力フォーム!$N4:$BEQ4,1,MATCH(OJ$175,入力フォーム!$N$5:$BEQ$5,0))","v":"★"},{"$f":"INDEX(入力フォーム!$N4:$BEQ4,1,MATCH(OK$175,入力フォーム!$N$5:$BEQ$5,0))","v":"★"},{"$f":"INDEX(入力フォーム!$N4:$BEQ4,1,MATCH(OL$175,入力フォーム!$N$5:$BEQ$5,0))","v":"★"},{"$f":"INDEX(入力フォーム!$N4:$BEQ4,1,MATCH(OM$175,入力フォーム!$N$5:$BEQ$5,0))","v":"★"},{"$f":"INDEX(入力フォーム!$N4:$BEQ4,1,MATCH(ON$175,入力フォーム!$N$5:$BEQ$5,0))","v":"★"},{"$f":"INDEX(入力フォーム!$N4:$BEQ4,1,MATCH(OO$175,入力フォーム!$N$5:$BEQ$5,0))","v":"★"},{"$f":"INDEX(入力フォーム!$N4:$BEQ4,1,MATCH(OP$175,入力フォーム!$N$5:$BEQ$5,0))","v":"★"},{"$f":"INDEX(入力フォーム!$N4:$BEQ4,1,MATCH(OQ$175,入力フォーム!$N$5:$BEQ$5,0))","v":"★"},{"$f":"INDEX(入力フォーム!$N4:$BEQ4,1,MATCH(OR$175,入力フォーム!$N$5:$BEQ$5,0))","v":"★"},{"$f":"INDEX(入力フォーム!$N4:$BEQ4,1,MATCH(OS$175,入力フォーム!$N$5:$BEQ$5,0))","v":"★"},{"$f":"INDEX(入力フォーム!$N4:$BEQ4,1,MATCH(OT$175,入力フォーム!$N$5:$BEQ$5,0))","v":"★"},{"$f":"INDEX(入力フォーム!$N4:$BEQ4,1,MATCH(OU$175,入力フォーム!$N$5:$BEQ$5,0))","v":"★"},{"$f":"INDEX(入力フォーム!$N4:$BEQ4,1,MATCH(OV$175,入力フォーム!$N$5:$BEQ$5,0))","v":"★"},{"$f":"INDEX(入力フォーム!$N4:$BEQ4,1,MATCH(OW$175,入力フォーム!$N$5:$BEQ$5,0))","v":"★"},{"$f":"INDEX(入力フォーム!$N4:$BEQ4,1,MATCH(OX$175,入力フォーム!$N$5:$BEQ$5,0))","v":"★"},{"$f":"INDEX(入力フォーム!$N4:$BEQ4,1,MATCH(OY$175,入力フォーム!$N$5:$BEQ$5,0))","v":"★"},{"$f":"INDEX(入力フォーム!$N4:$BEQ4,1,MATCH(OZ$175,入力フォーム!$N$5:$BEQ$5,0))","v":"★"},{"$f":"INDEX(入力フォーム!$N4:$BEQ4,1,MATCH(PA$175,入力フォーム!$N$5:$BEQ$5,0))","v":"★"},{"$f":"INDEX(入力フォーム!$N4:$BEQ4,1,MATCH(PB$175,入力フォーム!$N$5:$BEQ$5,0))","v":"★"},{"$f":"INDEX(入力フォーム!$N4:$BEQ4,1,MATCH(PC$175,入力フォーム!$N$5:$BEQ$5,0))","v":"★"},{"$f":"INDEX(入力フォーム!$N4:$BEQ4,1,MATCH(PD$175,入力フォーム!$N$5:$BEQ$5,0))","v":"★"},{"$f":"INDEX(入力フォーム!$N4:$BEQ4,1,MATCH(PE$175,入力フォーム!$N$5:$BEQ$5,0))","v":"★"},{"$f":"INDEX(入力フォーム!$N4:$BEQ4,1,MATCH(PF$175,入力フォーム!$N$5:$BEQ$5,0))","v":"★"},{"$f":"INDEX(入力フォーム!$N4:$BEQ4,1,MATCH(PG$175,入力フォーム!$N$5:$BEQ$5,0))","v":"★"},{"$f":"INDEX(入力フォーム!$N4:$BEQ4,1,MATCH(PH$175,入力フォーム!$N$5:$BEQ$5,0))","v":"★"},{"$f":"INDEX(入力フォーム!$N4:$BEQ4,1,MATCH(PI$175,入力フォーム!$N$5:$BEQ$5,0))","v":"★"},{"$f":"INDEX(入力フォーム!$N4:$BEQ4,1,MATCH(PJ$175,入力フォーム!$N$5:$BEQ$5,0))","v":"★"},{"$f":"INDEX(入力フォーム!$N4:$BEQ4,1,MATCH(PK$175,入力フォーム!$N$5:$BEQ$5,0))","v":"★"},{"$f":"INDEX(入力フォーム!$N4:$BEQ4,1,MATCH(PL$175,入力フォーム!$N$5:$BEQ$5,0))","v":"★"},{"$f":"INDEX(入力フォーム!$N4:$BEQ4,1,MATCH(PM$175,入力フォーム!$N$5:$BEQ$5,0))","v":"★"},{"$f":"INDEX(入力フォーム!$N4:$BEQ4,1,MATCH(PN$175,入力フォーム!$N$5:$BEQ$5,0))","v":"★"},{"$f":"INDEX(入力フォーム!$N4:$BEQ4,1,MATCH(PO$175,入力フォーム!$N$5:$BEQ$5,0))","v":"★"},{"$f":"INDEX(入力フォーム!$N4:$BEQ4,1,MATCH(PP$175,入力フォーム!$N$5:$BEQ$5,0))","v":"★"},{"$f":"INDEX(入力フォーム!$N4:$BEQ4,1,MATCH(PQ$175,入力フォーム!$N$5:$BEQ$5,0))","v":"★"},{"$f":"INDEX(入力フォーム!$N4:$BEQ4,1,MATCH(PR$175,入力フォーム!$N$5:$BEQ$5,0))","v":"★"},{"$f":"INDEX(入力フォーム!$N4:$BEQ4,1,MATCH(PS$175,入力フォーム!$N$5:$BEQ$5,0))","v":"★"},{"$f":"INDEX(入力フォーム!$N4:$BEQ4,1,MATCH(PT$175,入力フォーム!$N$5:$BEQ$5,0))","v":"★"},{"$f":"INDEX(入力フォーム!$N4:$BEQ4,1,MATCH(PU$175,入力フォーム!$N$5:$BEQ$5,0))","v":"★"},{"$f":"INDEX(入力フォーム!$N4:$BEQ4,1,MATCH(PV$175,入力フォーム!$N$5:$BEQ$5,0))","v":"★"},{"$f":"INDEX(入力フォーム!$N4:$BEQ4,1,MATCH(PW$175,入力フォーム!$N$5:$BEQ$5,0))","v":"★"},{"$f":"INDEX(入力フォーム!$N4:$BEQ4,1,MATCH(PX$175,入力フォーム!$N$5:$BEQ$5,0))","v":"★"},{"$f":"INDEX(入力フォーム!$N4:$BEQ4,1,MATCH(PY$175,入力フォーム!$N$5:$BEQ$5,0))","v":"★"},{"$f":"INDEX(入力フォーム!$N4:$BEQ4,1,MATCH(PZ$175,入力フォーム!$N$5:$BEQ$5,0))","v":"★"},{"$f":"INDEX(入力フォーム!$N4:$BEQ4,1,MATCH(QA$175,入力フォーム!$N$5:$BEQ$5,0))","v":"★"},{"$f":"INDEX(入力フォーム!$N4:$BEQ4,1,MATCH(QB$175,入力フォーム!$N$5:$BEQ$5,0))","v":"★"},{"$f":"INDEX(入力フォーム!$N4:$BEQ4,1,MATCH(QC$175,入力フォーム!$N$5:$BEQ$5,0))","v":"★"},{"$f":"INDEX(入力フォーム!$N4:$BEQ4,1,MATCH(QD$175,入力フォーム!$N$5:$BEQ$5,0))","v":"★"},{"$f":"INDEX(入力フォーム!$N4:$BEQ4,1,MATCH(QE$175,入力フォーム!$N$5:$BEQ$5,0))","v":"★"},{"$f":"INDEX(入力フォーム!$N4:$BEQ4,1,MATCH(QF$175,入力フォーム!$N$5:$BEQ$5,0))","v":"★"},{"$f":"INDEX(入力フォーム!$N4:$BEQ4,1,MATCH(QG$175,入力フォーム!$N$5:$BEQ$5,0))","v":"★"},{"$f":"INDEX(入力フォーム!$N4:$BEQ4,1,MATCH(QH$175,入力フォーム!$N$5:$BEQ$5,0))","v":"★"},{"$f":"INDEX(入力フォーム!$N4:$BEQ4,1,MATCH(QI$175,入力フォーム!$N$5:$BEQ$5,0))","v":"★"},{"$f":"INDEX(入力フォーム!$N4:$BEQ4,1,MATCH(QJ$175,入力フォーム!$N$5:$BEQ$5,0))","v":"★"},{"$f":"INDEX(入力フォーム!$N4:$BEQ4,1,MATCH(QK$175,入力フォーム!$N$5:$BEQ$5,0))","v":"★"},{"$f":"INDEX(入力フォーム!$N4:$BEQ4,1,MATCH(QL$175,入力フォーム!$N$5:$BEQ$5,0))","v":"★"},{"$f":"INDEX(入力フォーム!$N4:$BEQ4,1,MATCH(QM$175,入力フォーム!$N$5:$BEQ$5,0))","v":"★"},{"$f":"INDEX(入力フォーム!$N4:$BEQ4,1,MATCH(QN$175,入力フォーム!$N$5:$BEQ$5,0))","v":"★"},{"$f":"INDEX(入力フォーム!$N4:$BEQ4,1,MATCH(QO$175,入力フォーム!$N$5:$BEQ$5,0))","v":"★"},{"$f":"INDEX(入力フォーム!$N4:$BEQ4,1,MATCH(QP$175,入力フォーム!$N$5:$BEQ$5,0))","v":"★"},{"$f":"INDEX(入力フォーム!$N4:$BEQ4,1,MATCH(QQ$175,入力フォーム!$N$5:$BEQ$5,0))","v":"★"},{"$f":"INDEX(入力フォーム!$N4:$BEQ4,1,MATCH(QR$175,入力フォーム!$N$5:$BEQ$5,0))","v":"★"},{"$f":"INDEX(入力フォーム!$N4:$BEQ4,1,MATCH(QS$175,入力フォーム!$N$5:$BEQ$5,0))","v":"★"},{"$f":"INDEX(入力フォーム!$N4:$BEQ4,1,MATCH(QT$175,入力フォーム!$N$5:$BEQ$5,0))","v":"★"},{"$f":"INDEX(入力フォーム!$N4:$BEQ4,1,MATCH(QU$175,入力フォーム!$N$5:$BEQ$5,0))","v":"★"},{"$f":"INDEX(入力フォーム!$N4:$BEQ4,1,MATCH(QV$175,入力フォーム!$N$5:$BEQ$5,0))","v":"★"},{"$f":"INDEX(入力フォーム!$N4:$BEQ4,1,MATCH(QW$175,入力フォーム!$N$5:$BEQ$5,0))","v":"★"},{"$f":"INDEX(入力フォーム!$N4:$BEQ4,1,MATCH(QX$175,入力フォーム!$N$5:$BEQ$5,0))","v":"★"},{"$f":"INDEX(入力フォーム!$N4:$BEQ4,1,MATCH(QY$175,入力フォーム!$N$5:$BEQ$5,0))","v":"★"},{"$f":"INDEX(入力フォーム!$N4:$BEQ4,1,MATCH(QZ$175,入力フォーム!$N$5:$BEQ$5,0))","v":"★"},{"$f":"INDEX(入力フォーム!$N4:$BEQ4,1,MATCH(RA$175,入力フォーム!$N$5:$BEQ$5,0))","v":"★"},{"$f":"INDEX(入力フォーム!$N4:$BEQ4,1,MATCH(RB$175,入力フォーム!$N$5:$BEQ$5,0))","v":"★"},{"$f":"INDEX(入力フォーム!$N4:$BEQ4,1,MATCH(RC$175,入力フォーム!$N$5:$BEQ$5,0))","v":"★"},{"$f":"INDEX(入力フォーム!$N4:$BEQ4,1,MATCH(RD$175,入力フォーム!$N$5:$BEQ$5,0))","v":"★"},{"$f":"INDEX(入力フォーム!$N4:$BEQ4,1,MATCH(RE$175,入力フォーム!$N$5:$BEQ$5,0))","v":"★"},{"$f":"INDEX(入力フォーム!$N4:$BEQ4,1,MATCH(RF$175,入力フォーム!$N$5:$BEQ$5,0))","v":"★"},{"$f":"INDEX(入力フォーム!$N4:$BEQ4,1,MATCH(RG$175,入力フォーム!$N$5:$BEQ$5,0))","v":"★"},{"$f":"INDEX(入力フォーム!$N4:$BEQ4,1,MATCH(RH$175,入力フォーム!$N$5:$BEQ$5,0))","v":"★"},{"$f":"INDEX(入力フォーム!$N4:$BEQ4,1,MATCH(RI$175,入力フォーム!$N$5:$BEQ$5,0))","v":"★"},{"$f":"INDEX(入力フォーム!$N4:$BEQ4,1,MATCH(RJ$175,入力フォーム!$N$5:$BEQ$5,0))","v":"★"},{"$f":"INDEX(入力フォーム!$N4:$BEQ4,1,MATCH(RK$175,入力フォーム!$N$5:$BEQ$5,0))","v":"★"},{"$f":"INDEX(入力フォーム!$N4:$BEQ4,1,MATCH(RL$175,入力フォーム!$N$5:$BEQ$5,0))","v":"★"},{"$f":"INDEX(入力フォーム!$N4:$BEQ4,1,MATCH(RM$175,入力フォーム!$N$5:$BEQ$5,0))","v":"★"},{"$f":"INDEX(入力フォーム!$N4:$BEQ4,1,MATCH(RN$175,入力フォーム!$N$5:$BEQ$5,0))","v":"★"},{"$f":"INDEX(入力フォーム!$N4:$BEQ4,1,MATCH(RO$175,入力フォーム!$N$5:$BEQ$5,0))","v":"★"},{"$f":"INDEX(入力フォーム!$N4:$BEQ4,1,MATCH(RP$175,入力フォーム!$N$5:$BEQ$5,0))","v":"★"},{"$f":"INDEX(入力フォーム!$N4:$BEQ4,1,MATCH(RQ$175,入力フォーム!$N$5:$BEQ$5,0))","v":"★"},{"$f":"INDEX(入力フォーム!$N4:$BEQ4,1,MATCH(RR$175,入力フォーム!$N$5:$BEQ$5,0))","v":"★"},{"$f":"INDEX(入力フォーム!$N4:$BEQ4,1,MATCH(RS$175,入力フォーム!$N$5:$BEQ$5,0))","v":"★"},{"$f":"INDEX(入力フォーム!$N4:$BEQ4,1,MATCH(RT$175,入力フォーム!$N$5:$BEQ$5,0))","v":"★"},{"$f":"INDEX(入力フォーム!$N4:$BEQ4,1,MATCH(RU$175,入力フォーム!$N$5:$BEQ$5,0))","v":"★"},{"$f":"INDEX(入力フォーム!$N4:$BEQ4,1,MATCH(RV$175,入力フォーム!$N$5:$BEQ$5,0))","v":"★"},{"$f":"INDEX(入力フォーム!$N4:$BEQ4,1,MATCH(RW$175,入力フォーム!$N$5:$BEQ$5,0))","v":"★"},{"$f":"INDEX(入力フォーム!$N4:$BEQ4,1,MATCH(RX$175,入力フォーム!$N$5:$BEQ$5,0))","v":"★"},{"$f":"INDEX(入力フォーム!$N4:$BEQ4,1,MATCH(RY$175,入力フォーム!$N$5:$BEQ$5,0))","v":"★"},{"$f":"INDEX(入力フォーム!$N4:$BEQ4,1,MATCH(RZ$175,入力フォーム!$N$5:$BEQ$5,0))","v":"★"},{"$f":"INDEX(入力フォーム!$N4:$BEQ4,1,MATCH(SA$175,入力フォーム!$N$5:$BEQ$5,0))","v":"★"},{"$f":"INDEX(入力フォーム!$N4:$BEQ4,1,MATCH(SB$175,入力フォーム!$N$5:$BEQ$5,0))","v":"★"},{"$f":"INDEX(入力フォーム!$N4:$BEQ4,1,MATCH(SC$175,入力フォーム!$N$5:$BEQ$5,0))","v":"★"},{"$f":"INDEX(入力フォーム!$N4:$BEQ4,1,MATCH(SD$175,入力フォーム!$N$5:$BEQ$5,0))","v":"★"},{"$f":"INDEX(入力フォーム!$N4:$BEQ4,1,MATCH(SE$175,入力フォーム!$N$5:$BEQ$5,0))","v":"★"},{"$f":"INDEX(入力フォーム!$N4:$BEQ4,1,MATCH(SF$175,入力フォーム!$N$5:$BEQ$5,0))","v":"★"},{"$f":"INDEX(入力フォーム!$N4:$BEQ4,1,MATCH(SG$175,入力フォーム!$N$5:$BEQ$5,0))","v":"★"},{"$f":"INDEX(入力フォーム!$N4:$BEQ4,1,MATCH(SH$175,入力フォーム!$N$5:$BEQ$5,0))","v":"★"},{"$f":"INDEX(入力フォーム!$N4:$BEQ4,1,MATCH(SI$175,入力フォーム!$N$5:$BEQ$5,0))","v":"★"},{"$f":"INDEX(入力フォーム!$N4:$BEQ4,1,MATCH(SJ$175,入力フォーム!$N$5:$BEQ$5,0))","v":"★"},{"$f":"INDEX(入力フォーム!$N4:$BEQ4,1,MATCH(SK$175,入力フォーム!$N$5:$BEQ$5,0))","v":"★"},{"$f":"INDEX(入力フォーム!$N4:$BEQ4,1,MATCH(SL$175,入力フォーム!$N$5:$BEQ$5,0))","v":"★"},{"$f":"INDEX(入力フォーム!$N4:$BEQ4,1,MATCH(SM$175,入力フォーム!$N$5:$BEQ$5,0))","v":"★"},{"$f":"INDEX(入力フォーム!$N4:$BEQ4,1,MATCH(SN$175,入力フォーム!$N$5:$BEQ$5,0))","v":"★"},{"$f":"INDEX(入力フォーム!$N4:$BEQ4,1,MATCH(SO$175,入力フォーム!$N$5:$BEQ$5,0))","v":"★"},{"$f":"INDEX(入力フォーム!$N4:$BEQ4,1,MATCH(SP$175,入力フォーム!$N$5:$BEQ$5,0))","v":"★"},{"$f":"INDEX(入力フォーム!$N4:$BEQ4,1,MATCH(SQ$175,入力フォーム!$N$5:$BEQ$5,0))","v":"★"},{"$f":"INDEX(入力フォーム!$N4:$BEQ4,1,MATCH(SR$175,入力フォーム!$N$5:$BEQ$5,0))","v":"★"},{"$f":"INDEX(入力フォーム!$N4:$BEQ4,1,MATCH(SS$175,入力フォーム!$N$5:$BEQ$5,0))","v":"★"},{"$f":"INDEX(入力フォーム!$N4:$BEQ4,1,MATCH(ST$175,入力フォーム!$N$5:$BEQ$5,0))","v":"★"},{"$f":"INDEX(入力フォーム!$N4:$BEQ4,1,MATCH(SU$175,入力フォーム!$N$5:$BEQ$5,0))","v":"★"},{"$f":"INDEX(入力フォーム!$N4:$BEQ4,1,MATCH(SV$175,入力フォーム!$N$5:$BEQ$5,0))","v":"★"},{"$f":"INDEX(入力フォーム!$N4:$BEQ4,1,MATCH(SW$175,入力フォーム!$N$5:$BEQ$5,0))","v":"★"},{"$f":"INDEX(入力フォーム!$N4:$BEQ4,1,MATCH(SX$175,入力フォーム!$N$5:$BEQ$5,0))","v":"★"},{"$f":"INDEX(入力フォーム!$N4:$BEQ4,1,MATCH(SY$175,入力フォーム!$N$5:$BEQ$5,0))","v":"★"},{"$f":"INDEX(入力フォーム!$N4:$BEQ4,1,MATCH(SZ$175,入力フォーム!$N$5:$BEQ$5,0))","v":"★"},{"$f":"INDEX(入力フォーム!$N4:$BEQ4,1,MATCH(TA$175,入力フォーム!$N$5:$BEQ$5,0))","v":"★"},{"$f":"INDEX(入力フォーム!$N4:$BEQ4,1,MATCH(TB$175,入力フォーム!$N$5:$BEQ$5,0))","v":"★"},{"$f":"INDEX(入力フォーム!$N4:$BEQ4,1,MATCH(TC$175,入力フォーム!$N$5:$BEQ$5,0))","v":"★"},{"$f":"INDEX(入力フォーム!$N4:$BEQ4,1,MATCH(TD$175,入力フォーム!$N$5:$BEQ$5,0))","v":"★"},{"$f":"INDEX(入力フォーム!$N4:$BEQ4,1,MATCH(TE$175,入力フォーム!$N$5:$BEQ$5,0))","v":"★"},{"$f":"INDEX(入力フォーム!$N4:$BEQ4,1,MATCH(TF$175,入力フォーム!$N$5:$BEQ$5,0))","v":"★"},{"$f":"INDEX(入力フォーム!$N4:$BEQ4,1,MATCH(TG$175,入力フォーム!$N$5:$BEQ$5,0))","v":"★"},{"$f":"INDEX(入力フォーム!$N4:$BEQ4,1,MATCH(TH$175,入力フォーム!$N$5:$BEQ$5,0))","v":"★"},{"$f":"INDEX(入力フォーム!$N4:$BEQ4,1,MATCH(TI$175,入力フォーム!$N$5:$BEQ$5,0))","v":"★"},{"$f":"INDEX(入力フォーム!$N4:$BEQ4,1,MATCH(TJ$175,入力フォーム!$N$5:$BEQ$5,0))","v":"★"},{"$f":"INDEX(入力フォーム!$N4:$BEQ4,1,MATCH(TK$175,入力フォーム!$N$5:$BEQ$5,0))","v":"★"},{"$f":"INDEX(入力フォーム!$N4:$BEQ4,1,MATCH(TL$175,入力フォーム!$N$5:$BEQ$5,0))","v":"★"},{"$f":"INDEX(入力フォーム!$N4:$BEQ4,1,MATCH(TM$175,入力フォーム!$N$5:$BEQ$5,0))","v":"★"},{"$f":"INDEX(入力フォーム!$N4:$BEQ4,1,MATCH(TN$175,入力フォーム!$N$5:$BEQ$5,0))","v":"★"},{"$f":"INDEX(入力フォーム!$N4:$BEQ4,1,MATCH(TO$175,入力フォーム!$N$5:$BEQ$5,0))","v":"★"},{"$f":"INDEX(入力フォーム!$N4:$BEQ4,1,MATCH(TP$175,入力フォーム!$N$5:$BEQ$5,0))","v":"★"},{"$f":"INDEX(入力フォーム!$N4:$BEQ4,1,MATCH(TQ$175,入力フォーム!$N$5:$BEQ$5,0))","v":"★"},{"$f":"INDEX(入力フォーム!$N4:$BEQ4,1,MATCH(TR$175,入力フォーム!$N$5:$BEQ$5,0))","v":"★"},{"$f":"INDEX(入力フォーム!$N4:$BEQ4,1,MATCH(TS$175,入力フォーム!$N$5:$BEQ$5,0))","v":"★"},{"$f":"INDEX(入力フォーム!$N4:$BEQ4,1,MATCH(TT$175,入力フォーム!$N$5:$BEQ$5,0))","v":"★"},{"$f":"INDEX(入力フォーム!$N4:$BEQ4,1,MATCH(TU$175,入力フォーム!$N$5:$BEQ$5,0))","v":"★"},{"$f":"INDEX(入力フォーム!$N4:$BEQ4,1,MATCH(TV$175,入力フォーム!$N$5:$BEQ$5,0))","v":"★"},{"$f":"INDEX(入力フォーム!$N4:$BEQ4,1,MATCH(TW$175,入力フォーム!$N$5:$BEQ$5,0))","v":"★"},{"$f":"INDEX(入力フォーム!$N4:$BEQ4,1,MATCH(TX$175,入力フォーム!$N$5:$BEQ$5,0))","v":"★"},{"$f":"INDEX(入力フォーム!$N4:$BEQ4,1,MATCH(TY$175,入力フォーム!$N$5:$BEQ$5,0))","v":"★"},{"$f":"INDEX(入力フォーム!$N4:$BEQ4,1,MATCH(TZ$175,入力フォーム!$N$5:$BEQ$5,0))","v":"★"},{"$f":"INDEX(入力フォーム!$N4:$BEQ4,1,MATCH(UA$175,入力フォーム!$N$5:$BEQ$5,0))","v":"★"},{"$f":"INDEX(入力フォーム!$N4:$BEQ4,1,MATCH(UB$175,入力フォーム!$N$5:$BEQ$5,0))","v":"★"},{"$f":"INDEX(入力フォーム!$N4:$BEQ4,1,MATCH(UC$175,入力フォーム!$N$5:$BEQ$5,0))","v":"★"},{"$f":"INDEX(入力フォーム!$N4:$BEQ4,1,MATCH(UD$175,入力フォーム!$N$5:$BEQ$5,0))","v":"★"},{"$f":"INDEX(入力フォーム!$N4:$BEQ4,1,MATCH(UE$175,入力フォーム!$N$5:$BEQ$5,0))","v":"★"},{"$f":"INDEX(入力フォーム!$N4:$BEQ4,1,MATCH(UF$175,入力フォーム!$N$5:$BEQ$5,0))","v":"★"},{"$f":"INDEX(入力フォーム!$N4:$BEQ4,1,MATCH(UG$175,入力フォーム!$N$5:$BEQ$5,0))","v":"★"},{"$f":"INDEX(入力フォーム!$N4:$BEQ4,1,MATCH(UH$175,入力フォーム!$N$5:$BEQ$5,0))","v":"★"},{"$f":"INDEX(入力フォーム!$N4:$BEQ4,1,MATCH(UI$175,入力フォーム!$N$5:$BEQ$5,0))","v":"★"},{"$f":"INDEX(入力フォーム!$N4:$BEQ4,1,MATCH(UJ$175,入力フォーム!$N$5:$BEQ$5,0))","v":"★"},{"$f":"INDEX(入力フォーム!$N4:$BEQ4,1,MATCH(UK$175,入力フォーム!$N$5:$BEQ$5,0))","v":"★"},{"$f":"INDEX(入力フォーム!$N4:$BEQ4,1,MATCH(UL$175,入力フォーム!$N$5:$BEQ$5,0))","v":"★"},{"$f":"INDEX(入力フォーム!$N4:$BEQ4,1,MATCH(UM$175,入力フォーム!$N$5:$BEQ$5,0))","v":"★"},{"$f":"INDEX(入力フォーム!$N4:$BEQ4,1,MATCH(UN$175,入力フォーム!$N$5:$BEQ$5,0))","v":"★"},{"$f":"INDEX(入力フォーム!$N4:$BEQ4,1,MATCH(UO$175,入力フォーム!$N$5:$BEQ$5,0))","v":"★"},{"$f":"INDEX(入力フォーム!$N4:$BEQ4,1,MATCH(UP$175,入力フォーム!$N$5:$BEQ$5,0))","v":"★"},{"$f":"INDEX(入力フォーム!$N4:$BEQ4,1,MATCH(UQ$175,入力フォーム!$N$5:$BEQ$5,0))","v":"★"},{"$f":"INDEX(入力フォーム!$N4:$BEQ4,1,MATCH(UR$175,入力フォーム!$N$5:$BEQ$5,0))","v":"★"},{"$f":"INDEX(入力フォーム!$N4:$BEQ4,1,MATCH(US$175,入力フォーム!$N$5:$BEQ$5,0))","v":"★"},{"$f":"INDEX(入力フォーム!$N4:$BEQ4,1,MATCH(UT$175,入力フォーム!$N$5:$BEQ$5,0))","v":"★"},{"$f":"INDEX(入力フォーム!$N4:$BEQ4,1,MATCH(UU$175,入力フォーム!$N$5:$BEQ$5,0))","v":"★"},{"$f":"INDEX(入力フォーム!$N4:$BEQ4,1,MATCH(UV$175,入力フォーム!$N$5:$BEQ$5,0))","v":"★"},{"$f":"INDEX(入力フォーム!$N4:$BEQ4,1,MATCH(UW$175,入力フォーム!$N$5:$BEQ$5,0))","v":"★"},{"$f":"INDEX(入力フォーム!$N4:$BEQ4,1,MATCH(UX$175,入力フォーム!$N$5:$BEQ$5,0))","v":"★"},{"$f":"INDEX(入力フォーム!$N4:$BEQ4,1,MATCH(UY$175,入力フォーム!$N$5:$BEQ$5,0))","v":"★"},{"$f":"INDEX(入力フォーム!$N4:$BEQ4,1,MATCH(UZ$175,入力フォーム!$N$5:$BEQ$5,0))","v":"★"},{"$f":"INDEX(入力フォーム!$N4:$BEQ4,1,MATCH(VA$175,入力フォーム!$N$5:$BEQ$5,0))","v":"★"},{"$f":"INDEX(入力フォーム!$N4:$BEQ4,1,MATCH(VB$175,入力フォーム!$N$5:$BEQ$5,0))","v":"★"},{"$f":"INDEX(入力フォーム!$N4:$BEQ4,1,MATCH(VC$175,入力フォーム!$N$5:$BEQ$5,0))","v":"★"},{"$f":"INDEX(入力フォーム!$N4:$BEQ4,1,MATCH(VD$175,入力フォーム!$N$5:$BEQ$5,0))","v":"★"},{"$f":"INDEX(入力フォーム!$N4:$BEQ4,1,MATCH(VE$175,入力フォーム!$N$5:$BEQ$5,0))","v":"★"},{"$f":"INDEX(入力フォーム!$N4:$BEQ4,1,MATCH(VF$175,入力フォーム!$N$5:$BEQ$5,0))","v":"★"},{"$f":"INDEX(入力フォーム!$N4:$BEQ4,1,MATCH(VG$175,入力フォーム!$N$5:$BEQ$5,0))","v":"★"},{"$f":"INDEX(入力フォーム!$N4:$BEQ4,1,MATCH(VH$175,入力フォーム!$N$5:$BEQ$5,0))","v":"★"},{"$f":"INDEX(入力フォーム!$N4:$BEQ4,1,MATCH(VI$175,入力フォーム!$N$5:$BEQ$5,0))","v":"★"},{"$f":"INDEX(入力フォーム!$N4:$BEQ4,1,MATCH(VJ$175,入力フォーム!$N$5:$BEQ$5,0))","v":"★"},{"$f":"INDEX(入力フォーム!$N4:$BEQ4,1,MATCH(VK$175,入力フォーム!$N$5:$BEQ$5,0))","v":"★"},{"$f":"INDEX(入力フォーム!$N4:$BEQ4,1,MATCH(VL$175,入力フォーム!$N$5:$BEQ$5,0))","v":"★"},{"$f":"INDEX(入力フォーム!$N4:$BEQ4,1,MATCH(VM$175,入力フォーム!$N$5:$BEQ$5,0))","v":"★"},{"$f":"INDEX(入力フォーム!$N4:$BEQ4,1,MATCH(VN$175,入力フォーム!$N$5:$BEQ$5,0))","v":"★"},{"$f":"INDEX(入力フォーム!$N4:$BEQ4,1,MATCH(VO$175,入力フォーム!$N$5:$BEQ$5,0))","v":"★"},{"$f":"INDEX(入力フォーム!$N4:$BEQ4,1,MATCH(VP$175,入力フォーム!$N$5:$BEQ$5,0))","v":"★"},{"$f":"INDEX(入力フォーム!$N4:$BEQ4,1,MATCH(VQ$175,入力フォーム!$N$5:$BEQ$5,0))","v":"★"},{"$f":"INDEX(入力フォーム!$N4:$BEQ4,1,MATCH(VR$175,入力フォーム!$N$5:$BEQ$5,0))","v":"★"},{"$f":"INDEX(入力フォーム!$N4:$BEQ4,1,MATCH(VS$175,入力フォーム!$N$5:$BEQ$5,0))","v":"★"},{"$f":"INDEX(入力フォーム!$N4:$BEQ4,1,MATCH(VT$175,入力フォーム!$N$5:$BEQ$5,0))","v":"★"},{"$f":"INDEX(入力フォーム!$N4:$BEQ4,1,MATCH(VU$175,入力フォーム!$N$5:$BEQ$5,0))","v":"★"},{"$f":"INDEX(入力フォーム!$N4:$BEQ4,1,MATCH(VV$175,入力フォーム!$N$5:$BEQ$5,0))","v":"★"},{"$f":"INDEX(入力フォーム!$N4:$BEQ4,1,MATCH(VW$175,入力フォーム!$N$5:$BEQ$5,0))","v":"★"},{"$f":"INDEX(入力フォーム!$N4:$BEQ4,1,MATCH(VX$175,入力フォーム!$N$5:$BEQ$5,0))","v":"★"},{"$f":"INDEX(入力フォーム!$N4:$BEQ4,1,MATCH(VY$175,入力フォーム!$N$5:$BEQ$5,0))","v":"★"},{"$f":"INDEX(入力フォーム!$N4:$BEQ4,1,MATCH(VZ$175,入力フォーム!$N$5:$BEQ$5,0))","v":"★"},{"$f":"INDEX(入力フォーム!$N4:$BEQ4,1,MATCH(WA$175,入力フォーム!$N$5:$BEQ$5,0))","v":"★"},{"$f":"INDEX(入力フォーム!$N4:$BEQ4,1,MATCH(WB$175,入力フォーム!$N$5:$BEQ$5,0))","v":"★"},{"$f":"INDEX(入力フォーム!$N4:$BEQ4,1,MATCH(WC$175,入力フォーム!$N$5:$BEQ$5,0))","v":"★"},{"$f":"INDEX(入力フォーム!$N4:$BEQ4,1,MATCH(WD$175,入力フォーム!$N$5:$BEQ$5,0))","v":"★"},{"$f":"INDEX(入力フォーム!$N4:$BEQ4,1,MATCH(WE$175,入力フォーム!$N$5:$BEQ$5,0))","v":"★"},{"$f":"INDEX(入力フォーム!$N4:$BEQ4,1,MATCH(WF$175,入力フォーム!$N$5:$BEQ$5,0))","v":"★"},{"$f":"INDEX(入力フォーム!$N4:$BEQ4,1,MATCH(WG$175,入力フォーム!$N$5:$BEQ$5,0))","v":"★"},{"$f":"INDEX(入力フォーム!$N4:$BEQ4,1,MATCH(WH$175,入力フォーム!$N$5:$BEQ$5,0))","v":"★"},{"$f":"INDEX(入力フォーム!$N4:$BEQ4,1,MATCH(WI$175,入力フォーム!$N$5:$BEQ$5,0))","v":"★"},{"$f":"INDEX(入力フォーム!$N4:$BEQ4,1,MATCH(WJ$175,入力フォーム!$N$5:$BEQ$5,0))","v":"★"},{"$f":"INDEX(入力フォーム!$N4:$BEQ4,1,MATCH(WK$175,入力フォーム!$N$5:$BEQ$5,0))","v":"★"},{"$f":"INDEX(入力フォーム!$N4:$BEQ4,1,MATCH(WL$175,入力フォーム!$N$5:$BEQ$5,0))","v":"★"},{"$f":"INDEX(入力フォーム!$N4:$BEQ4,1,MATCH(WM$175,入力フォーム!$N$5:$BEQ$5,0))","v":"★"},{"$f":"INDEX(入力フォーム!$N4:$BEQ4,1,MATCH(WN$175,入力フォーム!$N$5:$BEQ$5,0))","v":"★"},{"$f":"INDEX(入力フォーム!$N4:$BEQ4,1,MATCH(WO$175,入力フォーム!$N$5:$BEQ$5,0))","v":"★"},{"$f":"INDEX(入力フォーム!$N4:$BEQ4,1,MATCH(WP$175,入力フォーム!$N$5:$BEQ$5,0))","v":"★"},{"$f":"INDEX(入力フォーム!$N4:$BEQ4,1,MATCH(WQ$175,入力フォーム!$N$5:$BEQ$5,0))","v":"★"},{"$f":"INDEX(入力フォーム!$N4:$BEQ4,1,MATCH(WR$175,入力フォーム!$N$5:$BEQ$5,0))","v":"★"},{"$f":"INDEX(入力フォーム!$N4:$BEQ4,1,MATCH(WS$175,入力フォーム!$N$5:$BEQ$5,0))","v":"★"},{"$f":"INDEX(入力フォーム!$N4:$BEQ4,1,MATCH(WT$175,入力フォーム!$N$5:$BEQ$5,0))","v":"★"},{"$f":"INDEX(入力フォーム!$N4:$BEQ4,1,MATCH(WU$175,入力フォーム!$N$5:$BEQ$5,0))","v":"★"},{"$f":"INDEX(入力フォーム!$N4:$BEQ4,1,MATCH(WV$175,入力フォーム!$N$5:$BEQ$5,0))","v":"★"},{"$f":"INDEX(入力フォーム!$N4:$BEQ4,1,MATCH(WW$175,入力フォーム!$N$5:$BEQ$5,0))","v":"★"},{"$f":"INDEX(入力フォーム!$N4:$BEQ4,1,MATCH(WX$175,入力フォーム!$N$5:$BEQ$5,0))","v":"★"},{"$f":"INDEX(入力フォーム!$N4:$BEQ4,1,MATCH(WY$175,入力フォーム!$N$5:$BEQ$5,0))","v":"★"},{"$f":"INDEX(入力フォーム!$N4:$BEQ4,1,MATCH(WZ$175,入力フォーム!$N$5:$BEQ$5,0))","v":"★"},{"$f":"INDEX(入力フォーム!$N4:$BEQ4,1,MATCH(XA$175,入力フォーム!$N$5:$BEQ$5,0))","v":"★"},{"$f":"INDEX(入力フォーム!$N4:$BEQ4,1,MATCH(XB$175,入力フォーム!$N$5:$BEQ$5,0))","v":"★"},{"$f":"INDEX(入力フォーム!$N4:$BEQ4,1,MATCH(XC$175,入力フォーム!$N$5:$BEQ$5,0))","v":"★"},{"$f":"INDEX(入力フォーム!$N4:$BEQ4,1,MATCH(XD$175,入力フォーム!$N$5:$BEQ$5,0))","v":"★"},{"$f":"INDEX(入力フォーム!$N4:$BEQ4,1,MATCH(XE$175,入力フォーム!$N$5:$BEQ$5,0))","v":"★"},{"$f":"INDEX(入力フォーム!$N4:$BEQ4,1,MATCH(XF$175,入力フォーム!$N$5:$BEQ$5,0))","v":"★"},{"$f":"INDEX(入力フォーム!$N4:$BEQ4,1,MATCH(XG$175,入力フォーム!$N$5:$BEQ$5,0))","v":"★"},{"$f":"INDEX(入力フォーム!$N4:$BEQ4,1,MATCH(XH$175,入力フォーム!$N$5:$BEQ$5,0))","v":"★"},{"$f":"INDEX(入力フォーム!$N4:$BEQ4,1,MATCH(XI$175,入力フォーム!$N$5:$BEQ$5,0))","v":"★"},{"$f":"INDEX(入力フォーム!$N4:$BEQ4,1,MATCH(XJ$175,入力フォーム!$N$5:$BEQ$5,0))","v":"★"},{"$f":"INDEX(入力フォーム!$N4:$BEQ4,1,MATCH(XK$175,入力フォーム!$N$5:$BEQ$5,0))","v":"★"},{"$f":"INDEX(入力フォーム!$N4:$BEQ4,1,MATCH(XL$175,入力フォーム!$N$5:$BEQ$5,0))","v":"★"},{"$f":"INDEX(入力フォーム!$N4:$BEQ4,1,MATCH(XM$175,入力フォーム!$N$5:$BEQ$5,0))","v":"★"},{"$f":"INDEX(入力フォーム!$N4:$BEQ4,1,MATCH(XN$175,入力フォーム!$N$5:$BEQ$5,0))","v":"★"},{"$f":"INDEX(入力フォーム!$N4:$BEQ4,1,MATCH(XO$175,入力フォーム!$N$5:$BEQ$5,0))","v":"★"},{"$f":"INDEX(入力フォーム!$N4:$BEQ4,1,MATCH(XP$175,入力フォーム!$N$5:$BEQ$5,0))","v":"★"},{"$f":"INDEX(入力フォーム!$N4:$BEQ4,1,MATCH(XQ$175,入力フォーム!$N$5:$BEQ$5,0))","v":"★"},{"$f":"INDEX(入力フォーム!$N4:$BEQ4,1,MATCH(XR$175,入力フォーム!$N$5:$BEQ$5,0))","v":"★"},{"$f":"INDEX(入力フォーム!$N4:$BEQ4,1,MATCH(XS$175,入力フォーム!$N$5:$BEQ$5,0))","v":"★"},{"$f":"INDEX(入力フォーム!$N4:$BEQ4,1,MATCH(XT$175,入力フォーム!$N$5:$BEQ$5,0))","v":"★"},{"$f":"INDEX(入力フォーム!$N4:$BEQ4,1,MATCH(XU$175,入力フォーム!$N$5:$BEQ$5,0))","v":"★"},{"$f":"INDEX(入力フォーム!$N4:$BEQ4,1,MATCH(XV$175,入力フォーム!$N$5:$BEQ$5,0))","v":"★"},{"$f":"INDEX(入力フォーム!$N4:$BEQ4,1,MATCH(XW$175,入力フォーム!$N$5:$BEQ$5,0))","v":"★"},{"$f":"INDEX(入力フォーム!$N4:$BEQ4,1,MATCH(XX$175,入力フォーム!$N$5:$BEQ$5,0))","v":"★"},{"$f":"INDEX(入力フォーム!$N4:$BEQ4,1,MATCH(XY$175,入力フォーム!$N$5:$BEQ$5,0))","v":"★"},{"$f":"INDEX(入力フォーム!$N4:$BEQ4,1,MATCH(XZ$175,入力フォーム!$N$5:$BEQ$5,0))","v":"★"},{"$f":"INDEX(入力フォーム!$N4:$BEQ4,1,MATCH(YA$175,入力フォーム!$N$5:$BEQ$5,0))","v":"★"},{"$f":"INDEX(入力フォーム!$N4:$BEQ4,1,MATCH(YB$175,入力フォーム!$N$5:$BEQ$5,0))","v":"★"},{"$f":"INDEX(入力フォーム!$N4:$BEQ4,1,MATCH(YC$175,入力フォーム!$N$5:$BEQ$5,0))","v":"★"},{"$f":"INDEX(入力フォーム!$N4:$BEQ4,1,MATCH(YD$175,入力フォーム!$N$5:$BEQ$5,0))","v":"★"},{"$f":"INDEX(入力フォーム!$N4:$BEQ4,1,MATCH(YE$175,入力フォーム!$N$5:$BEQ$5,0))","v":"★"},{"$f":"INDEX(入力フォーム!$N4:$BEQ4,1,MATCH(YF$175,入力フォーム!$N$5:$BEQ$5,0))","v":"★"},{"$f":"INDEX(入力フォーム!$N4:$BEQ4,1,MATCH(YG$175,入力フォーム!$N$5:$BEQ$5,0))","v":"★"},{"$f":"INDEX(入力フォーム!$N4:$BEQ4,1,MATCH(YH$175,入力フォーム!$N$5:$BEQ$5,0))","v":"★"},{"$f":"INDEX(入力フォーム!$N4:$BEQ4,1,MATCH(YI$175,入力フォーム!$N$5:$BEQ$5,0))","v":"★"},{"$f":"INDEX(入力フォーム!$N4:$BEQ4,1,MATCH(YJ$175,入力フォーム!$N$5:$BEQ$5,0))","v":"★"},{"$f":"INDEX(入力フォーム!$N4:$BEQ4,1,MATCH(YK$175,入力フォーム!$N$5:$BEQ$5,0))","v":"★"},{"$f":"INDEX(入力フォーム!$N4:$BEQ4,1,MATCH(YL$175,入力フォーム!$N$5:$BEQ$5,0))","v":"★"},{"$f":"INDEX(入力フォーム!$N4:$BEQ4,1,MATCH(YM$175,入力フォーム!$N$5:$BEQ$5,0))","v":"★"},{"$f":"INDEX(入力フォーム!$N4:$BEQ4,1,MATCH(YN$175,入力フォーム!$N$5:$BEQ$5,0))","v":"★"},{"$f":"INDEX(入力フォーム!$N4:$BEQ4,1,MATCH(YO$175,入力フォーム!$N$5:$BEQ$5,0))","v":"★"},{"$f":"INDEX(入力フォーム!$N4:$BEQ4,1,MATCH(YP$175,入力フォーム!$N$5:$BEQ$5,0))","v":"★"},{"$f":"INDEX(入力フォーム!$N4:$BEQ4,1,MATCH(YQ$175,入力フォーム!$N$5:$BEQ$5,0))","v":"★"},{"$f":"INDEX(入力フォーム!$N4:$BEQ4,1,MATCH(YR$175,入力フォーム!$N$5:$BEQ$5,0))","v":"★"},{"$f":"INDEX(入力フォーム!$N4:$BEQ4,1,MATCH(YS$175,入力フォーム!$N$5:$BEQ$5,0))","v":"★"},{"$f":"INDEX(入力フォーム!$N4:$BEQ4,1,MATCH(YT$175,入力フォーム!$N$5:$BEQ$5,0))","v":"★"},{"$f":"INDEX(入力フォーム!$N4:$BEQ4,1,MATCH(YU$175,入力フォーム!$N$5:$BEQ$5,0))","v":"★"},{"$f":"INDEX(入力フォーム!$N4:$BEQ4,1,MATCH(YV$175,入力フォーム!$N$5:$BEQ$5,0))","v":"★"},{"$f":"INDEX(入力フォーム!$N4:$BEQ4,1,MATCH(YW$175,入力フォーム!$N$5:$BEQ$5,0))","v":"★"},{"$f":"INDEX(入力フォーム!$N4:$BEQ4,1,MATCH(YX$175,入力フォーム!$N$5:$BEQ$5,0))","v":"★"},{"$f":"INDEX(入力フォーム!$N4:$BEQ4,1,MATCH(YY$175,入力フォーム!$N$5:$BEQ$5,0))","v":"★"},{"$f":"INDEX(入力フォーム!$N4:$BEQ4,1,MATCH(YZ$175,入力フォーム!$N$5:$BEQ$5,0))","v":"★"},{"$f":"INDEX(入力フォーム!$N4:$BEQ4,1,MATCH(ZA$175,入力フォーム!$N$5:$BEQ$5,0))","v":"★"},{"$f":"INDEX(入力フォーム!$N4:$BEQ4,1,MATCH(ZB$175,入力フォーム!$N$5:$BEQ$5,0))","v":"★"},{"$f":"INDEX(入力フォーム!$N4:$BEQ4,1,MATCH(ZC$175,入力フォーム!$N$5:$BEQ$5,0))","v":"★"},{"$f":"INDEX(入力フォーム!$N4:$BEQ4,1,MATCH(ZD$175,入力フォーム!$N$5:$BEQ$5,0))","v":"★"},{"$f":"INDEX(入力フォーム!$N4:$BEQ4,1,MATCH(ZE$175,入力フォーム!$N$5:$BEQ$5,0))","v":"★"},{"$f":"INDEX(入力フォーム!$N4:$BEQ4,1,MATCH(ZF$175,入力フォーム!$N$5:$BEQ$5,0))","v":"★"},{"$f":"INDEX(入力フォーム!$N4:$BEQ4,1,MATCH(ZG$175,入力フォーム!$N$5:$BEQ$5,0))","v":"★"},{"$f":"INDEX(入力フォーム!$N4:$BEQ4,1,MATCH(ZH$175,入力フォーム!$N$5:$BEQ$5,0))","v":"★"},{"$f":"INDEX(入力フォーム!$N4:$BEQ4,1,MATCH(ZI$175,入力フォーム!$N$5:$BEQ$5,0))","v":"★"},{"$f":"INDEX(入力フォーム!$N4:$BEQ4,1,MATCH(ZJ$175,入力フォーム!$N$5:$BEQ$5,0))","v":"★"},{"$f":"INDEX(入力フォーム!$N4:$BEQ4,1,MATCH(ZK$175,入力フォーム!$N$5:$BEQ$5,0))","v":"★"},{"$f":"INDEX(入力フォーム!$N4:$BEQ4,1,MATCH(ZL$175,入力フォーム!$N$5:$BEQ$5,0))","v":"★"},{"$f":"INDEX(入力フォーム!$N4:$BEQ4,1,MATCH(ZM$175,入力フォーム!$N$5:$BEQ$5,0))","v":"★"},{"$f":"INDEX(入力フォーム!$N4:$BEQ4,1,MATCH(ZN$175,入力フォーム!$N$5:$BEQ$5,0))","v":"★"},{"$f":"INDEX(入力フォーム!$N4:$BEQ4,1,MATCH(ZO$175,入力フォーム!$N$5:$BEQ$5,0))","v":"★"},{"$f":"INDEX(入力フォーム!$N4:$BEQ4,1,MATCH(ZP$175,入力フォーム!$N$5:$BEQ$5,0))","v":"★"},{"$f":"INDEX(入力フォーム!$N4:$BEQ4,1,MATCH(ZQ$175,入力フォーム!$N$5:$BEQ$5,0))","v":"★"},{"$f":"INDEX(入力フォーム!$N4:$BEQ4,1,MATCH(ZR$175,入力フォーム!$N$5:$BEQ$5,0))","v":"★"},{"$f":"INDEX(入力フォーム!$N4:$BEQ4,1,MATCH(ZS$175,入力フォーム!$N$5:$BEQ$5,0))","v":"★"},{"$f":"INDEX(入力フォーム!$N4:$BEQ4,1,MATCH(ZT$175,入力フォーム!$N$5:$BEQ$5,0))","v":"★"},{"$f":"INDEX(入力フォーム!$N4:$BEQ4,1,MATCH(ZU$175,入力フォーム!$N$5:$BEQ$5,0))","v":"★"},{"$f":"INDEX(入力フォーム!$N4:$BEQ4,1,MATCH(ZV$175,入力フォーム!$N$5:$BEQ$5,0))","v":"★"},{"$f":"INDEX(入力フォーム!$N4:$BEQ4,1,MATCH(ZW$175,入力フォーム!$N$5:$BEQ$5,0))","v":"★"},{"$f":"INDEX(入力フォーム!$N4:$BEQ4,1,MATCH(ZX$175,入力フォーム!$N$5:$BEQ$5,0))","v":"★"},{"$f":"INDEX(入力フォーム!$N4:$BEQ4,1,MATCH(ZY$175,入力フォーム!$N$5:$BEQ$5,0))","v":"★"},{"$f":"INDEX(入力フォーム!$N4:$BEQ4,1,MATCH(ZZ$175,入力フォーム!$N$5:$BEQ$5,0))","v":"★"},{"$f":"INDEX(入力フォーム!$N4:$BEQ4,1,MATCH(AAA$175,入力フォーム!$N$5:$BEQ$5,0))","v":"★"},{"$f":"INDEX(入力フォーム!$N4:$BEQ4,1,MATCH(AAB$175,入力フォーム!$N$5:$BEQ$5,0))","v":"★"},{"$f":"INDEX(入力フォーム!$N4:$BEQ4,1,MATCH(AAC$175,入力フォーム!$N$5:$BEQ$5,0))","v":"★"},{"$f":"INDEX(入力フォーム!$N4:$BEQ4,1,MATCH(AAD$175,入力フォーム!$N$5:$BEQ$5,0))","v":"★"},{"$f":"INDEX(入力フォーム!$N4:$BEQ4,1,MATCH(AAE$175,入力フォーム!$N$5:$BEQ$5,0))","v":"★"},{"$f":"INDEX(入力フォーム!$N4:$BEQ4,1,MATCH(AAF$175,入力フォーム!$N$5:$BEQ$5,0))","v":"★"},{"$f":"INDEX(入力フォーム!$N4:$BEQ4,1,MATCH(AAG$175,入力フォーム!$N$5:$BEQ$5,0))","v":"★"},{"$f":"INDEX(入力フォーム!$N4:$BEQ4,1,MATCH(AAH$175,入力フォーム!$N$5:$BEQ$5,0))","v":"★"},{"$f":"INDEX(入力フォーム!$N4:$BEQ4,1,MATCH(AAI$175,入力フォーム!$N$5:$BEQ$5,0))","v":"★"},{"$f":"INDEX(入力フォーム!$N4:$BEQ4,1,MATCH(AAJ$175,入力フォーム!$N$5:$BEQ$5,0))","v":"★"},{"$f":"INDEX(入力フォーム!$N4:$BEQ4,1,MATCH(AAK$175,入力フォーム!$N$5:$BEQ$5,0))","v":"★"},{"$f":"INDEX(入力フォーム!$N4:$BEQ4,1,MATCH(AAL$175,入力フォーム!$N$5:$BEQ$5,0))","v":"★"},{"$f":"INDEX(入力フォーム!$N4:$BEQ4,1,MATCH(AAM$175,入力フォーム!$N$5:$BEQ$5,0))","v":"★"},{"$f":"INDEX(入力フォーム!$N4:$BEQ4,1,MATCH(AAN$175,入力フォーム!$N$5:$BEQ$5,0))","v":"★"},{"$f":"INDEX(入力フォーム!$N4:$BEQ4,1,MATCH(AAO$175,入力フォーム!$N$5:$BEQ$5,0))","v":"★"},{"$f":"INDEX(入力フォーム!$N4:$BEQ4,1,MATCH(AAP$175,入力フォーム!$N$5:$BEQ$5,0))","v":"★"},{"$f":"INDEX(入力フォーム!$N4:$BEQ4,1,MATCH(AAQ$175,入力フォーム!$N$5:$BEQ$5,0))","v":"★"},{"$f":"INDEX(入力フォーム!$N4:$BEQ4,1,MATCH(AAR$175,入力フォーム!$N$5:$BEQ$5,0))","v":"★"},{"$f":"INDEX(入力フォーム!$N4:$BEQ4,1,MATCH(AAS$175,入力フォーム!$N$5:$BEQ$5,0))","v":"★"},{"$f":"INDEX(入力フォーム!$N4:$BEQ4,1,MATCH(AAT$175,入力フォーム!$N$5:$BEQ$5,0))","v":"★"},{"$f":"INDEX(入力フォーム!$N4:$BEQ4,1,MATCH(AAU$175,入力フォーム!$N$5:$BEQ$5,0))","v":"★"},{"$f":"INDEX(入力フォーム!$N4:$BEQ4,1,MATCH(AAV$175,入力フォーム!$N$5:$BEQ$5,0))","v":"★"},{"$f":"INDEX(入力フォーム!$N4:$BEQ4,1,MATCH(AAW$175,入力フォーム!$N$5:$BEQ$5,0))","v":"★"},{"$f":"INDEX(入力フォーム!$N4:$BEQ4,1,MATCH(AAX$175,入力フォーム!$N$5:$BEQ$5,0))","v":"★"},{"$f":"INDEX(入力フォーム!$N4:$BEQ4,1,MATCH(AAY$175,入力フォーム!$N$5:$BEQ$5,0))","v":"★"},{"$f":"INDEX(入力フォーム!$N4:$BEQ4,1,MATCH(AAZ$175,入力フォーム!$N$5:$BEQ$5,0))","v":"★"},{"$f":"INDEX(入力フォーム!$N4:$BEQ4,1,MATCH(ABA$175,入力フォーム!$N$5:$BEQ$5,0))","v":"★"},{"$f":"INDEX(入力フォーム!$N4:$BEQ4,1,MATCH(ABB$175,入力フォーム!$N$5:$BEQ$5,0))","v":"★"},{"$f":"INDEX(入力フォーム!$N4:$BEQ4,1,MATCH(ABC$175,入力フォーム!$N$5:$BEQ$5,0))","v":"★"},{"$f":"INDEX(入力フォーム!$N4:$BEQ4,1,MATCH(ABD$175,入力フォーム!$N$5:$BEQ$5,0))","v":"★"},{"$f":"INDEX(入力フォーム!$N4:$BEQ4,1,MATCH(ABE$175,入力フォーム!$N$5:$BEQ$5,0))","v":"★"},{"$f":"INDEX(入力フォーム!$N4:$BEQ4,1,MATCH(ABF$175,入力フォーム!$N$5:$BEQ$5,0))","v":"★"},{"$f":"INDEX(入力フォーム!$N4:$BEQ4,1,MATCH(ABG$175,入力フォーム!$N$5:$BEQ$5,0))","v":"★"},{"$f":"INDEX(入力フォーム!$N4:$BEQ4,1,MATCH(ABH$175,入力フォーム!$N$5:$BEQ$5,0))","v":"★"},{"$f":"INDEX(入力フォーム!$N4:$BEQ4,1,MATCH(ABI$175,入力フォーム!$N$5:$BEQ$5,0))","v":"★"},{"$f":"INDEX(入力フォーム!$N4:$BEQ4,1,MATCH(ABJ$175,入力フォーム!$N$5:$BEQ$5,0))","v":"★"},{"$f":"INDEX(入力フォーム!$N4:$BEQ4,1,MATCH(ABK$175,入力フォーム!$N$5:$BEQ$5,0))","v":"★"},{"$f":"INDEX(入力フォーム!$N4:$BEQ4,1,MATCH(ABL$175,入力フォーム!$N$5:$BEQ$5,0))","v":"★"},{"$f":"INDEX(入力フォーム!$N4:$BEQ4,1,MATCH(ABM$175,入力フォーム!$N$5:$BEQ$5,0))","v":"★"},{"$f":"INDEX(入力フォーム!$N4:$BEQ4,1,MATCH(ABN$175,入力フォーム!$N$5:$BEQ$5,0))","v":"★"},{"$f":"INDEX(入力フォーム!$N4:$BEQ4,1,MATCH(ABO$175,入力フォーム!$N$5:$BEQ$5,0))","v":"★"},{"$f":"INDEX(入力フォーム!$N4:$BEQ4,1,MATCH(ABP$175,入力フォーム!$N$5:$BEQ$5,0))","v":"★"},{"$f":"INDEX(入力フォーム!$N4:$BEQ4,1,MATCH(ABQ$175,入力フォーム!$N$5:$BEQ$5,0))","v":"★"},{"$f":"INDEX(入力フォーム!$N4:$BEQ4,1,MATCH(ABR$175,入力フォーム!$N$5:$BEQ$5,0))","v":"★"},{"$f":"INDEX(入力フォーム!$N4:$BEQ4,1,MATCH(ABS$175,入力フォーム!$N$5:$BEQ$5,0))","v":"★"},{"$f":"INDEX(入力フォーム!$N4:$BEQ4,1,MATCH(ABT$175,入力フォーム!$N$5:$BEQ$5,0))","v":"★"},{"$f":"INDEX(入力フォーム!$N4:$BEQ4,1,MATCH(ABU$175,入力フォーム!$N$5:$BEQ$5,0))","v":"★"},{"$f":"INDEX(入力フォーム!$N4:$BEQ4,1,MATCH(ABV$175,入力フォーム!$N$5:$BEQ$5,0))","v":"★"},{"$f":"INDEX(入力フォーム!$N4:$BEQ4,1,MATCH(ABW$175,入力フォーム!$N$5:$BEQ$5,0))","v":"★"},{"$f":"INDEX(入力フォーム!$N4:$BEQ4,1,MATCH(ABX$175,入力フォーム!$N$5:$BEQ$5,0))","v":"★"},{"$f":"INDEX(入力フォーム!$N4:$BEQ4,1,MATCH(ABY$175,入力フォーム!$N$5:$BEQ$5,0))","v":"★"},{"$f":"INDEX(入力フォーム!$N4:$BEQ4,1,MATCH(ABZ$175,入力フォーム!$N$5:$BEQ$5,0))","v":"★"},{"$f":"INDEX(入力フォーム!$N4:$BEQ4,1,MATCH(ACA$175,入力フォーム!$N$5:$BEQ$5,0))","v":"★"},{"$f":"INDEX(入力フォーム!$N4:$BEQ4,1,MATCH(ACB$175,入力フォーム!$N$5:$BEQ$5,0))","v":"★"},{"$f":"INDEX(入力フォーム!$N4:$BEQ4,1,MATCH(ACC$175,入力フォーム!$N$5:$BEQ$5,0))","v":"★"},{"$f":"INDEX(入力フォーム!$N4:$BEQ4,1,MATCH(ACD$175,入力フォーム!$N$5:$BEQ$5,0))","v":"★"},{"$f":"INDEX(入力フォーム!$N4:$BEQ4,1,MATCH(ACE$175,入力フォーム!$N$5:$BEQ$5,0))","v":"★"},{"$f":"INDEX(入力フォーム!$N4:$BEQ4,1,MATCH(ACF$175,入力フォーム!$N$5:$BEQ$5,0))","v":"★"},{"$f":"INDEX(入力フォーム!$N4:$BEQ4,1,MATCH(ACG$175,入力フォーム!$N$5:$BEQ$5,0))","v":"★"},{"$f":"INDEX(入力フォーム!$N4:$BEQ4,1,MATCH(ACH$175,入力フォーム!$N$5:$BEQ$5,0))","v":"★"},{"$f":"INDEX(入力フォーム!$N4:$BEQ4,1,MATCH(ACI$175,入力フォーム!$N$5:$BEQ$5,0))","v":"★"},{"$f":"INDEX(入力フォーム!$N4:$BEQ4,1,MATCH(ACJ$175,入力フォーム!$N$5:$BEQ$5,0))","v":"★"},{"$f":"INDEX(入力フォーム!$N4:$BEQ4,1,MATCH(ACK$175,入力フォーム!$N$5:$BEQ$5,0))","v":"★"},{"$f":"INDEX(入力フォーム!$N4:$BEQ4,1,MATCH(ACL$175,入力フォーム!$N$5:$BEQ$5,0))","v":"★"},{"$f":"INDEX(入力フォーム!$N4:$BEQ4,1,MATCH(ACM$175,入力フォーム!$N$5:$BEQ$5,0))","v":"★"},{"$f":"INDEX(入力フォーム!$N4:$BEQ4,1,MATCH(ACN$175,入力フォーム!$N$5:$BEQ$5,0))","v":"★"},{"$f":"INDEX(入力フォーム!$N4:$BEQ4,1,MATCH(ACO$175,入力フォーム!$N$5:$BEQ$5,0))","v":"★"},{"$f":"INDEX(入力フォーム!$N4:$BEQ4,1,MATCH(ACP$175,入力フォーム!$N$5:$BEQ$5,0))","v":"★"},{"$f":"INDEX(入力フォーム!$N4:$BEQ4,1,MATCH(ACQ$175,入力フォーム!$N$5:$BEQ$5,0))","v":"★"},{"$f":"INDEX(入力フォーム!$N4:$BEQ4,1,MATCH(ACR$175,入力フォーム!$N$5:$BEQ$5,0))","v":"★"},{"$f":"INDEX(入力フォーム!$N4:$BEQ4,1,MATCH(ACS$175,入力フォーム!$N$5:$BEQ$5,0))","v":"★"},{"$f":"INDEX(入力フォーム!$N4:$BEQ4,1,MATCH(ACT$175,入力フォーム!$N$5:$BEQ$5,0))","v":"★"},{"$f":"INDEX(入力フォーム!$N4:$BEQ4,1,MATCH(ACU$175,入力フォーム!$N$5:$BEQ$5,0))","v":"★"},{"$f":"INDEX(入力フォーム!$N4:$BEQ4,1,MATCH(ACV$175,入力フォーム!$N$5:$BEQ$5,0))","v":"★"},{"$f":"INDEX(入力フォーム!$N4:$BEQ4,1,MATCH(ACW$175,入力フォーム!$N$5:$BEQ$5,0))","v":"★"},{"$f":"INDEX(入力フォーム!$N4:$BEQ4,1,MATCH(ACX$175,入力フォーム!$N$5:$BEQ$5,0))","v":"★"},{"$f":"INDEX(入力フォーム!$N4:$BEQ4,1,MATCH(ACY$175,入力フォーム!$N$5:$BEQ$5,0))","v":"★"},{"$f":"INDEX(入力フォーム!$N4:$BEQ4,1,MATCH(ACZ$175,入力フォーム!$N$5:$BEQ$5,0))","v":"★"},{"$f":"INDEX(入力フォーム!$N4:$BEQ4,1,MATCH(ADA$175,入力フォーム!$N$5:$BEQ$5,0))","v":"★"},{"$f":"INDEX(入力フォーム!$N4:$BEQ4,1,MATCH(ADB$175,入力フォーム!$N$5:$BEQ$5,0))","v":"★"},{"$f":"INDEX(入力フォーム!$N4:$BEQ4,1,MATCH(ADC$175,入力フォーム!$N$5:$BEQ$5,0))","v":"★"},{"$f":"INDEX(入力フォーム!$N4:$BEQ4,1,MATCH(ADD$175,入力フォーム!$N$5:$BEQ$5,0))","v":"★"},{"$f":"INDEX(入力フォーム!$N4:$BEQ4,1,MATCH(ADE$175,入力フォーム!$N$5:$BEQ$5,0))","v":"★"},{"$f":"INDEX(入力フォーム!$N4:$BEQ4,1,MATCH(ADF$175,入力フォーム!$N$5:$BEQ$5,0))","v":"★"},{"$f":"INDEX(入力フォーム!$N4:$BEQ4,1,MATCH(ADG$175,入力フォーム!$N$5:$BEQ$5,0))","v":"★"},{"$f":"INDEX(入力フォーム!$N4:$BEQ4,1,MATCH(ADH$175,入力フォーム!$N$5:$BEQ$5,0))","v":"★"},{"$f":"INDEX(入力フォーム!$N4:$BEQ4,1,MATCH(ADI$175,入力フォーム!$N$5:$BEQ$5,0))","v":"★"},{"$f":"INDEX(入力フォーム!$N4:$BEQ4,1,MATCH(ADJ$175,入力フォーム!$N$5:$BEQ$5,0))","v":"★"},{"$f":"INDEX(入力フォーム!$N4:$BEQ4,1,MATCH(ADK$175,入力フォーム!$N$5:$BEQ$5,0))","v":"★"},{"$f":"INDEX(入力フォーム!$N4:$BEQ4,1,MATCH(ADL$175,入力フォーム!$N$5:$BEQ$5,0))","v":"★"},{"$f":"INDEX(入力フォーム!$N4:$BEQ4,1,MATCH(ADM$175,入力フォーム!$N$5:$BEQ$5,0))","v":"★"},{"$f":"INDEX(入力フォーム!$N4:$BEQ4,1,MATCH(ADN$175,入力フォーム!$N$5:$BEQ$5,0))","v":"★"},{"$f":"INDEX(入力フォーム!$N4:$BEQ4,1,MATCH(ADO$175,入力フォーム!$N$5:$BEQ$5,0))","v":"★"},{"$f":"INDEX(入力フォーム!$N4:$BEQ4,1,MATCH(ADP$175,入力フォーム!$N$5:$BEQ$5,0))","v":"★"},{"$f":"INDEX(入力フォーム!$N4:$BEQ4,1,MATCH(ADQ$175,入力フォーム!$N$5:$BEQ$5,0))","v":"★"},{"$f":"INDEX(入力フォーム!$N4:$BEQ4,1,MATCH(ADR$175,入力フォーム!$N$5:$BEQ$5,0))","v":"★"},{"$f":"INDEX(入力フォーム!$N4:$BEQ4,1,MATCH(ADS$175,入力フォーム!$N$5:$BEQ$5,0))","v":"★"},{"$f":"INDEX(入力フォーム!$N4:$BEQ4,1,MATCH(ADT$175,入力フォーム!$N$5:$BEQ$5,0))","v":"★"},{"$f":"INDEX(入力フォーム!$N4:$BEQ4,1,MATCH(ADU$175,入力フォーム!$N$5:$BEQ$5,0))","v":"★"},{"$f":"INDEX(入力フォーム!$N4:$BEQ4,1,MATCH(ADV$175,入力フォーム!$N$5:$BEQ$5,0))","v":"★"},{"$f":"INDEX(入力フォーム!$N4:$BEQ4,1,MATCH(ADW$175,入力フォーム!$N$5:$BEQ$5,0))","v":"★"},{"$f":"INDEX(入力フォーム!$N4:$BEQ4,1,MATCH(ADX$175,入力フォーム!$N$5:$BEQ$5,0))","v":"★"},{"$f":"INDEX(入力フォーム!$N4:$BEQ4,1,MATCH(ADY$175,入力フォーム!$N$5:$BEQ$5,0))","v":"★"},{"$f":"INDEX(入力フォーム!$N4:$BEQ4,1,MATCH(ADZ$175,入力フォーム!$N$5:$BEQ$5,0))","v":"★"},{"$f":"INDEX(入力フォーム!$N4:$BEQ4,1,MATCH(AEA$175,入力フォーム!$N$5:$BEQ$5,0))","v":"★"},{"$f":"INDEX(入力フォーム!$N4:$BEQ4,1,MATCH(AEB$175,入力フォーム!$N$5:$BEQ$5,0))","v":"★"},{"$f":"INDEX(入力フォーム!$N4:$BEQ4,1,MATCH(AEC$175,入力フォーム!$N$5:$BEQ$5,0))","v":"★"},{"$f":"INDEX(入力フォーム!$N4:$BEQ4,1,MATCH(AED$175,入力フォーム!$N$5:$BEQ$5,0))","v":"★"},{"$f":"INDEX(入力フォーム!$N4:$BEQ4,1,MATCH(AEE$175,入力フォーム!$N$5:$BEQ$5,0))","v":"★"},{"$f":"INDEX(入力フォーム!$N4:$BEQ4,1,MATCH(AEF$175,入力フォーム!$N$5:$BEQ$5,0))","v":"★"},{"$f":"INDEX(入力フォーム!$N4:$BEQ4,1,MATCH(AEG$175,入力フォーム!$N$5:$BEQ$5,0))","v":"★"},{"$f":"INDEX(入力フォーム!$N4:$BEQ4,1,MATCH(AEH$175,入力フォーム!$N$5:$BEQ$5,0))","v":"★"},{"$f":"INDEX(入力フォーム!$N4:$BEQ4,1,MATCH(AEI$175,入力フォーム!$N$5:$BEQ$5,0))","v":"★"},{"$f":"INDEX(入力フォーム!$N4:$BEQ4,1,MATCH(AEJ$175,入力フォーム!$N$5:$BEQ$5,0))","v":"★"},{"$f":"INDEX(入力フォーム!$N4:$BEQ4,1,MATCH(AEK$175,入力フォーム!$N$5:$BEQ$5,0))","v":"★"},{"$f":"INDEX(入力フォーム!$N4:$BEQ4,1,MATCH(AEL$175,入力フォーム!$N$5:$BEQ$5,0))","v":"★"},{"$f":"INDEX(入力フォーム!$N4:$BEQ4,1,MATCH(AEM$175,入力フォーム!$N$5:$BEQ$5,0))","v":"★"},{"$f":"INDEX(入力フォーム!$N4:$BEQ4,1,MATCH(AEN$175,入力フォーム!$N$5:$BEQ$5,0))","v":"★"},{"$f":"INDEX(入力フォーム!$N4:$BEQ4,1,MATCH(AEO$175,入力フォーム!$N$5:$BEQ$5,0))","v":"★"},{"$f":"INDEX(入力フォーム!$N4:$BEQ4,1,MATCH(AEP$175,入力フォーム!$N$5:$BEQ$5,0))","v":"★"},{"$f":"INDEX(入力フォーム!$N4:$BEQ4,1,MATCH(AEQ$175,入力フォーム!$N$5:$BEQ$5,0))","v":"★"},{"$f":"INDEX(入力フォーム!$N4:$BEQ4,1,MATCH(AER$175,入力フォーム!$N$5:$BEQ$5,0))","v":"★"},{"$f":"INDEX(入力フォーム!$N4:$BEQ4,1,MATCH(AES$175,入力フォーム!$N$5:$BEQ$5,0))","v":"★"},{"$f":"INDEX(入力フォーム!$N4:$BEQ4,1,MATCH(AET$175,入力フォーム!$N$5:$BEQ$5,0))","v":"★"},{"$f":"INDEX(入力フォーム!$N4:$BEQ4,1,MATCH(AEU$175,入力フォーム!$N$5:$BEQ$5,0))","v":"★"},{"$f":"INDEX(入力フォーム!$N4:$BEQ4,1,MATCH(AEV$175,入力フォーム!$N$5:$BEQ$5,0))","v":"★"},{"$f":"INDEX(入力フォーム!$N4:$BEQ4,1,MATCH(AEW$175,入力フォーム!$N$5:$BEQ$5,0))","v":"★"},{"$f":"INDEX(入力フォーム!$N4:$BEQ4,1,MATCH(AEX$175,入力フォーム!$N$5:$BEQ$5,0))","v":"★"},{"$f":"INDEX(入力フォーム!$N4:$BEQ4,1,MATCH(AEY$175,入力フォーム!$N$5:$BEQ$5,0))","v":"★"},{"$f":"INDEX(入力フォーム!$N4:$BEQ4,1,MATCH(AEZ$175,入力フォーム!$N$5:$BEQ$5,0))","v":"★"},{"$f":"INDEX(入力フォーム!$N4:$BEQ4,1,MATCH(AFA$175,入力フォーム!$N$5:$BEQ$5,0))","v":"★"},{"$f":"INDEX(入力フォーム!$N4:$BEQ4,1,MATCH(AFB$175,入力フォーム!$N$5:$BEQ$5,0))","v":"★"},{"$f":"INDEX(入力フォーム!$N4:$BEQ4,1,MATCH(AFC$175,入力フォーム!$N$5:$BEQ$5,0))","v":"★"},{"$f":"INDEX(入力フォーム!$N4:$BEQ4,1,MATCH(AFD$175,入力フォーム!$N$5:$BEQ$5,0))","v":"★"},{"$f":"INDEX(入力フォーム!$N4:$BEQ4,1,MATCH(AFE$175,入力フォーム!$N$5:$BEQ$5,0))","v":"★"},{"$f":"INDEX(入力フォーム!$N4:$BEQ4,1,MATCH(AFF$175,入力フォーム!$N$5:$BEQ$5,0))","v":"★"},{"$f":"INDEX(入力フォーム!$N4:$BEQ4,1,MATCH(AFG$175,入力フォーム!$N$5:$BEQ$5,0))","v":"★"},{"$f":"INDEX(入力フォーム!$N4:$BEQ4,1,MATCH(AFH$175,入力フォーム!$N$5:$BEQ$5,0))","v":"★"},{"$f":"INDEX(入力フォーム!$N4:$BEQ4,1,MATCH(AFI$175,入力フォーム!$N$5:$BEQ$5,0))","v":"★"},{"$f":"INDEX(入力フォーム!$N4:$BEQ4,1,MATCH(AFJ$175,入力フォーム!$N$5:$BEQ$5,0))","v":"★"},{"$f":"INDEX(入力フォーム!$N4:$BEQ4,1,MATCH(AFK$175,入力フォーム!$N$5:$BEQ$5,0))","v":"★"},{"$f":"INDEX(入力フォーム!$N4:$BEQ4,1,MATCH(AFL$175,入力フォーム!$N$5:$BEQ$5,0))","v":"★"},{"$f":"INDEX(入力フォーム!$N4:$BEQ4,1,MATCH(AFM$175,入力フォーム!$N$5:$BEQ$5,0))","v":"★"},{"$f":"INDEX(入力フォーム!$N4:$BEQ4,1,MATCH(AFN$175,入力フォーム!$N$5:$BEQ$5,0))","v":"★"},{"$f":"INDEX(入力フォーム!$N4:$BEQ4,1,MATCH(AFO$175,入力フォーム!$N$5:$BEQ$5,0))","v":"★"},{"$f":"INDEX(入力フォーム!$N4:$BEQ4,1,MATCH(AFP$175,入力フォーム!$N$5:$BEQ$5,0))","v":"★"},{"$f":"INDEX(入力フォーム!$N4:$BEQ4,1,MATCH(AFQ$175,入力フォーム!$N$5:$BEQ$5,0))","v":"★"},{"$f":"INDEX(入力フォーム!$N4:$BEQ4,1,MATCH(AFR$175,入力フォーム!$N$5:$BEQ$5,0))","v":"★"},{"$f":"INDEX(入力フォーム!$N4:$BEQ4,1,MATCH(AFS$175,入力フォーム!$N$5:$BEQ$5,0))","v":"★"},{"$f":"INDEX(入力フォーム!$N4:$BEQ4,1,MATCH(AFT$175,入力フォーム!$N$5:$BEQ$5,0))","v":"★"},{"$f":"INDEX(入力フォーム!$N4:$BEQ4,1,MATCH(AFU$175,入力フォーム!$N$5:$BEQ$5,0))","v":"★"},{"$f":"INDEX(入力フォーム!$N4:$BEQ4,1,MATCH(AFV$175,入力フォーム!$N$5:$BEQ$5,0))","v":"★"},{"$f":"INDEX(入力フォーム!$N4:$BEQ4,1,MATCH(AFW$175,入力フォーム!$N$5:$BEQ$5,0))","v":"★"},{"$f":"INDEX(入力フォーム!$N4:$BEQ4,1,MATCH(AFX$175,入力フォーム!$N$5:$BEQ$5,0))","v":"★"},{"$f":"INDEX(入力フォーム!$N4:$BEQ4,1,MATCH(AFY$175,入力フォーム!$N$5:$BEQ$5,0))","v":"★"},{"$f":"INDEX(入力フォーム!$N4:$BEQ4,1,MATCH(AFZ$175,入力フォーム!$N$5:$BEQ$5,0))","v":"★"},{"$f":"INDEX(入力フォーム!$N4:$BEQ4,1,MATCH(AGA$175,入力フォーム!$N$5:$BEQ$5,0))","v":"★"},{"$f":"INDEX(入力フォーム!$N4:$BEQ4,1,MATCH(AGB$175,入力フォーム!$N$5:$BEQ$5,0))","v":"★"},{"$f":"INDEX(入力フォーム!$N4:$BEQ4,1,MATCH(AGC$175,入力フォーム!$N$5:$BEQ$5,0))","v":"★"},{"$f":"INDEX(入力フォーム!$N4:$BEQ4,1,MATCH(AGD$175,入力フォーム!$N$5:$BEQ$5,0))","v":"★"},{"$f":"INDEX(入力フォーム!$N4:$BEQ4,1,MATCH(AGE$175,入力フォーム!$N$5:$BEQ$5,0))","v":"★"},{"$f":"INDEX(入力フォーム!$N4:$BEQ4,1,MATCH(AGF$175,入力フォーム!$N$5:$BEQ$5,0))","v":"★"},{"$f":"INDEX(入力フォーム!$N4:$BEQ4,1,MATCH(AGG$175,入力フォーム!$N$5:$BEQ$5,0))","v":"★"},{"$f":"INDEX(入力フォーム!$N4:$BEQ4,1,MATCH(AGH$175,入力フォーム!$N$5:$BEQ$5,0))","v":"★"},{"$f":"INDEX(入力フォーム!$N4:$BEQ4,1,MATCH(AGI$175,入力フォーム!$N$5:$BEQ$5,0))","v":"★"},{"$f":"INDEX(入力フォーム!$N4:$BEQ4,1,MATCH(AGJ$175,入力フォーム!$N$5:$BEQ$5,0))","v":"★"},{"$f":"INDEX(入力フォーム!$N4:$BEQ4,1,MATCH(AGK$175,入力フォーム!$N$5:$BEQ$5,0))","v":"★"},{"$f":"INDEX(入力フォーム!$N4:$BEQ4,1,MATCH(AGL$175,入力フォーム!$N$5:$BEQ$5,0))","v":"★"},{"$f":"INDEX(入力フォーム!$N4:$BEQ4,1,MATCH(AGM$175,入力フォーム!$N$5:$BEQ$5,0))","v":"★"},{"$f":"INDEX(入力フォーム!$N4:$BEQ4,1,MATCH(AGN$175,入力フォーム!$N$5:$BEQ$5,0))","v":"★"},{"$f":"INDEX(入力フォーム!$N4:$BEQ4,1,MATCH(AGO$175,入力フォーム!$N$5:$BEQ$5,0))","v":"★"},{"$f":"INDEX(入力フォーム!$N4:$BEQ4,1,MATCH(AGP$175,入力フォーム!$N$5:$BEQ$5,0))","v":"★"},{"$f":"INDEX(入力フォーム!$N4:$BEQ4,1,MATCH(AGQ$175,入力フォーム!$N$5:$BEQ$5,0))","v":"★"},{"$f":"INDEX(入力フォーム!$N4:$BEQ4,1,MATCH(AGR$175,入力フォーム!$N$5:$BEQ$5,0))","v":"★"},{"$f":"INDEX(入力フォーム!$N4:$BEQ4,1,MATCH(AGS$175,入力フォーム!$N$5:$BEQ$5,0))","v":"★"},{"$f":"INDEX(入力フォーム!$N4:$BEQ4,1,MATCH(AGT$175,入力フォーム!$N$5:$BEQ$5,0))","v":"★"},{"$f":"INDEX(入力フォーム!$N4:$BEQ4,1,MATCH(AGU$175,入力フォーム!$N$5:$BEQ$5,0))","v":"★"},{"$f":"INDEX(入力フォーム!$N4:$BEQ4,1,MATCH(AGV$175,入力フォーム!$N$5:$BEQ$5,0))","v":"★"},{"$f":"INDEX(入力フォーム!$N4:$BEQ4,1,MATCH(AGW$175,入力フォーム!$N$5:$BEQ$5,0))","v":"★"},{"$f":"INDEX(入力フォーム!$N4:$BEQ4,1,MATCH(AGX$175,入力フォーム!$N$5:$BEQ$5,0))","v":"★"},{"$f":"INDEX(入力フォーム!$N4:$BEQ4,1,MATCH(AGY$175,入力フォーム!$N$5:$BEQ$5,0))","v":"★"},{"$f":"INDEX(入力フォーム!$N4:$BEQ4,1,MATCH(AGZ$175,入力フォーム!$N$5:$BEQ$5,0))","v":"★"},{"$f":"INDEX(入力フォーム!$N4:$BEQ4,1,MATCH(AHA$175,入力フォーム!$N$5:$BEQ$5,0))","v":"★"},{"$f":"INDEX(入力フォーム!$N4:$BEQ4,1,MATCH(AHB$175,入力フォーム!$N$5:$BEQ$5,0))","v":"★"},{"$f":"INDEX(入力フォーム!$N4:$BEQ4,1,MATCH(AHC$175,入力フォーム!$N$5:$BEQ$5,0))","v":"★"},{"$f":"INDEX(入力フォーム!$N4:$BEQ4,1,MATCH(AHD$175,入力フォーム!$N$5:$BEQ$5,0))","v":"★"},{"$f":"INDEX(入力フォーム!$N4:$BEQ4,1,MATCH(AHE$175,入力フォーム!$N$5:$BEQ$5,0))","v":"★"},{"$f":"INDEX(入力フォーム!$N4:$BEQ4,1,MATCH(AHF$175,入力フォーム!$N$5:$BEQ$5,0))","v":"★"},{"$f":"INDEX(入力フォーム!$N4:$BEQ4,1,MATCH(AHG$175,入力フォーム!$N$5:$BEQ$5,0))","v":"★"},{"$f":"INDEX(入力フォーム!$N4:$BEQ4,1,MATCH(AHH$175,入力フォーム!$N$5:$BEQ$5,0))","v":"★"},{"$f":"INDEX(入力フォーム!$N4:$BEQ4,1,MATCH(AHI$175,入力フォーム!$N$5:$BEQ$5,0))","v":"★"},{"$f":"INDEX(入力フォーム!$N4:$BEQ4,1,MATCH(AHJ$175,入力フォーム!$N$5:$BEQ$5,0))","v":"★"},{"$f":"INDEX(入力フォーム!$N4:$BEQ4,1,MATCH(AHK$175,入力フォーム!$N$5:$BEQ$5,0))","v":"★"},{"$f":"INDEX(入力フォーム!$N4:$BEQ4,1,MATCH(AHL$175,入力フォーム!$N$5:$BEQ$5,0))","v":"★"},{"$f":"INDEX(入力フォーム!$N4:$BEQ4,1,MATCH(AHM$175,入力フォーム!$N$5:$BEQ$5,0))","v":"★"},{"$f":"INDEX(入力フォーム!$N4:$BEQ4,1,MATCH(AHN$175,入力フォーム!$N$5:$BEQ$5,0))","v":"★"},{"$f":"INDEX(入力フォーム!$N4:$BEQ4,1,MATCH(AHO$175,入力フォーム!$N$5:$BEQ$5,0))","v":"★"},{"$f":"INDEX(入力フォーム!$N4:$BEQ4,1,MATCH(AHP$175,入力フォーム!$N$5:$BEQ$5,0))","v":"★"},{"$f":"INDEX(入力フォーム!$N4:$BEQ4,1,MATCH(AHQ$175,入力フォーム!$N$5:$BEQ$5,0))","v":"★"},{"$f":"INDEX(入力フォーム!$N4:$BEQ4,1,MATCH(AHR$175,入力フォーム!$N$5:$BEQ$5,0))","v":"★"},{"$f":"INDEX(入力フォーム!$N4:$BEQ4,1,MATCH(AHS$175,入力フォーム!$N$5:$BEQ$5,0))","v":"★"},{"$f":"INDEX(入力フォーム!$N4:$BEQ4,1,MATCH(AHT$175,入力フォーム!$N$5:$BEQ$5,0))","v":"★"},{"$f":"INDEX(入力フォーム!$N4:$BEQ4,1,MATCH(AHU$175,入力フォーム!$N$5:$BEQ$5,0))","v":"★"},{"$f":"INDEX(入力フォーム!$N4:$BEQ4,1,MATCH(AHV$175,入力フォーム!$N$5:$BEQ$5,0))","v":"★"},{"$f":"INDEX(入力フォーム!$N4:$BEQ4,1,MATCH(AHW$175,入力フォーム!$N$5:$BEQ$5,0))","v":"★"},{"$f":"INDEX(入力フォーム!$N4:$BEQ4,1,MATCH(AHX$175,入力フォーム!$N$5:$BEQ$5,0))","v":"★"},{"$f":"INDEX(入力フォーム!$N4:$BEQ4,1,MATCH(AHY$175,入力フォーム!$N$5:$BEQ$5,0))","v":"★"},{"$f":"INDEX(入力フォーム!$N4:$BEQ4,1,MATCH(AHZ$175,入力フォーム!$N$5:$BEQ$5,0))","v":"★"},{"$f":"INDEX(入力フォーム!$N4:$BEQ4,1,MATCH(AIA$175,入力フォーム!$N$5:$BEQ$5,0))","v":"★"},{"$f":"INDEX(入力フォーム!$N4:$BEQ4,1,MATCH(AIB$175,入力フォーム!$N$5:$BEQ$5,0))","v":"★"},{"$f":"INDEX(入力フォーム!$N4:$BEQ4,1,MATCH(AIC$175,入力フォーム!$N$5:$BEQ$5,0))","v":"★"},{"$f":"INDEX(入力フォーム!$N4:$BEQ4,1,MATCH(AID$175,入力フォーム!$N$5:$BEQ$5,0))","v":"★"},{"$f":"INDEX(入力フォーム!$N4:$BEQ4,1,MATCH(AIE$175,入力フォーム!$N$5:$BEQ$5,0))","v":"★"},{"$f":"INDEX(入力フォーム!$N4:$BEQ4,1,MATCH(AIF$175,入力フォーム!$N$5:$BEQ$5,0))","v":"★"},{"$f":"INDEX(入力フォーム!$N4:$BEQ4,1,MATCH(AIG$175,入力フォーム!$N$5:$BEQ$5,0))","v":"★"},{"$f":"INDEX(入力フォーム!$N4:$BEQ4,1,MATCH(AIH$175,入力フォーム!$N$5:$BEQ$5,0))","v":"★"},{"$f":"INDEX(入力フォーム!$N4:$BEQ4,1,MATCH(AII$175,入力フォーム!$N$5:$BEQ$5,0))","v":"★"},{"$f":"INDEX(入力フォーム!$N4:$BEQ4,1,MATCH(AIJ$175,入力フォーム!$N$5:$BEQ$5,0))","v":"★"},{"$f":"INDEX(入力フォーム!$N4:$BEQ4,1,MATCH(AIK$175,入力フォーム!$N$5:$BEQ$5,0))","v":"★"},{"$f":"INDEX(入力フォーム!$N4:$BEQ4,1,MATCH(AIL$175,入力フォーム!$N$5:$BEQ$5,0))","v":"★"},{"$f":"INDEX(入力フォーム!$N4:$BEQ4,1,MATCH(AIM$175,入力フォーム!$N$5:$BEQ$5,0))","v":"★"},{"$f":"INDEX(入力フォーム!$N4:$BEQ4,1,MATCH(AIN$175,入力フォーム!$N$5:$BEQ$5,0))","v":"★"},{"$f":"INDEX(入力フォーム!$N4:$BEQ4,1,MATCH(AIO$175,入力フォーム!$N$5:$BEQ$5,0))","v":"★"},{"$f":"INDEX(入力フォーム!$N4:$BEQ4,1,MATCH(AIP$175,入力フォーム!$N$5:$BEQ$5,0))","v":"★"},{"$f":"INDEX(入力フォーム!$N4:$BEQ4,1,MATCH(AIQ$175,入力フォーム!$N$5:$BEQ$5,0))","v":"★"},{"$f":"INDEX(入力フォーム!$N4:$BEQ4,1,MATCH(AIR$175,入力フォーム!$N$5:$BEQ$5,0))","v":"★"},{"$f":"INDEX(入力フォーム!$N4:$BEQ4,1,MATCH(AIS$175,入力フォーム!$N$5:$BEQ$5,0))","v":"★"},{"$f":"INDEX(入力フォーム!$N4:$BEQ4,1,MATCH(AIT$175,入力フォーム!$N$5:$BEQ$5,0))","v":"★"},{"$f":"INDEX(入力フォーム!$N4:$BEQ4,1,MATCH(AIU$175,入力フォーム!$N$5:$BEQ$5,0))","v":"★"},{"$f":"INDEX(入力フォーム!$N4:$BEQ4,1,MATCH(AIV$175,入力フォーム!$N$5:$BEQ$5,0))","v":"★"},{"$f":"INDEX(入力フォーム!$N4:$BEQ4,1,MATCH(AIW$175,入力フォーム!$N$5:$BEQ$5,0))","v":"★"},{"$f":"INDEX(入力フォーム!$N4:$BEQ4,1,MATCH(AIX$175,入力フォーム!$N$5:$BEQ$5,0))","v":"★"},{"$f":"INDEX(入力フォーム!$N4:$BEQ4,1,MATCH(AIY$175,入力フォーム!$N$5:$BEQ$5,0))","v":"★"},{"$f":"INDEX(入力フォーム!$N4:$BEQ4,1,MATCH(AIZ$175,入力フォーム!$N$5:$BEQ$5,0))","v":"★"},{"$f":"INDEX(入力フォーム!$N4:$BEQ4,1,MATCH(AJA$175,入力フォーム!$N$5:$BEQ$5,0))","v":"★"},{"$f":"INDEX(入力フォーム!$N4:$BEQ4,1,MATCH(AJB$175,入力フォーム!$N$5:$BEQ$5,0))","v":"★"},{"$f":"INDEX(入力フォーム!$N4:$BEQ4,1,MATCH(AJC$175,入力フォーム!$N$5:$BEQ$5,0))","v":"★"},{"$f":"INDEX(入力フォーム!$N4:$BEQ4,1,MATCH(AJD$175,入力フォーム!$N$5:$BEQ$5,0))","v":"★"},{"$f":"INDEX(入力フォーム!$N4:$BEQ4,1,MATCH(AJE$175,入力フォーム!$N$5:$BEQ$5,0))","v":"★"},{"$f":"INDEX(入力フォーム!$N4:$BEQ4,1,MATCH(AJF$175,入力フォーム!$N$5:$BEQ$5,0))","v":"★"},{"$f":"INDEX(入力フォーム!$N4:$BEQ4,1,MATCH(AJG$175,入力フォーム!$N$5:$BEQ$5,0))","v":"★"},{"$f":"INDEX(入力フォーム!$N4:$BEQ4,1,MATCH(AJH$175,入力フォーム!$N$5:$BEQ$5,0))","v":"★"},{"$f":"INDEX(入力フォーム!$N4:$BEQ4,1,MATCH(AJI$175,入力フォーム!$N$5:$BEQ$5,0))","v":"★"},{"$f":"INDEX(入力フォーム!$N4:$BEQ4,1,MATCH(AJJ$175,入力フォーム!$N$5:$BEQ$5,0))","v":"★"},{"$f":"INDEX(入力フォーム!$N4:$BEQ4,1,MATCH(AJK$175,入力フォーム!$N$5:$BEQ$5,0))","v":"★"},{"$f":"INDEX(入力フォーム!$N4:$BEQ4,1,MATCH(AJL$175,入力フォーム!$N$5:$BEQ$5,0))","v":"★"},{"$f":"INDEX(入力フォーム!$N4:$BEQ4,1,MATCH(AJM$175,入力フォーム!$N$5:$BEQ$5,0))","v":"★"},{"$f":"INDEX(入力フォーム!$N4:$BEQ4,1,MATCH(AJN$175,入力フォーム!$N$5:$BEQ$5,0))","v":"★"},{"$f":"INDEX(入力フォーム!$N4:$BEQ4,1,MATCH(AJO$175,入力フォーム!$N$5:$BEQ$5,0))","v":"★"},{"$f":"INDEX(入力フォーム!$N4:$BEQ4,1,MATCH(AJP$175,入力フォーム!$N$5:$BEQ$5,0))","v":"★"},{"$f":"INDEX(入力フォーム!$N4:$BEQ4,1,MATCH(AJQ$175,入力フォーム!$N$5:$BEQ$5,0))","v":"★"},{"$f":"INDEX(入力フォーム!$N4:$BEQ4,1,MATCH(AJR$175,入力フォーム!$N$5:$BEQ$5,0))","v":"★"},{"$f":"INDEX(入力フォーム!$N4:$BEQ4,1,MATCH(AJS$175,入力フォーム!$N$5:$BEQ$5,0))","v":"★"},{"$f":"INDEX(入力フォーム!$N4:$BEQ4,1,MATCH(AJT$175,入力フォーム!$N$5:$BEQ$5,0))","v":"★"},{"$f":"INDEX(入力フォーム!$N4:$BEQ4,1,MATCH(AJU$175,入力フォーム!$N$5:$BEQ$5,0))","v":"★"},{"$f":"INDEX(入力フォーム!$N4:$BEQ4,1,MATCH(AJV$175,入力フォーム!$N$5:$BEQ$5,0))","v":"★"},{"$f":"INDEX(入力フォーム!$N4:$BEQ4,1,MATCH(AJW$175,入力フォーム!$N$5:$BEQ$5,0))","v":"★"},{"$f":"INDEX(入力フォーム!$N4:$BEQ4,1,MATCH(AJX$175,入力フォーム!$N$5:$BEQ$5,0))","v":"★"},{"$f":"INDEX(入力フォーム!$N4:$BEQ4,1,MATCH(AJY$175,入力フォーム!$N$5:$BEQ$5,0))","v":"★"},{"$f":"INDEX(入力フォーム!$N4:$BEQ4,1,MATCH(AJZ$175,入力フォーム!$N$5:$BEQ$5,0))","v":"★"},{"$f":"INDEX(入力フォーム!$N4:$BEQ4,1,MATCH(AKA$175,入力フォーム!$N$5:$BEQ$5,0))","v":"★"},{"$f":"INDEX(入力フォーム!$N4:$BEQ4,1,MATCH(AKB$175,入力フォーム!$N$5:$BEQ$5,0))","v":"★"},{"$f":"INDEX(入力フォーム!$N4:$BEQ4,1,MATCH(AKC$175,入力フォーム!$N$5:$BEQ$5,0))","v":"★"},{"$f":"INDEX(入力フォーム!$N4:$BEQ4,1,MATCH(AKD$175,入力フォーム!$N$5:$BEQ$5,0))","v":"★"},{"$f":"INDEX(入力フォーム!$N4:$BEQ4,1,MATCH(AKE$175,入力フォーム!$N$5:$BEQ$5,0))","v":"★"},{"$f":"INDEX(入力フォーム!$N4:$BEQ4,1,MATCH(AKF$175,入力フォーム!$N$5:$BEQ$5,0))","v":"★"},{"$f":"INDEX(入力フォーム!$N4:$BEQ4,1,MATCH(AKG$175,入力フォーム!$N$5:$BEQ$5,0))","v":"★"},{"$f":"INDEX(入力フォーム!$N4:$BEQ4,1,MATCH(AKH$175,入力フォーム!$N$5:$BEQ$5,0))","v":"★"},{"$f":"INDEX(入力フォーム!$N4:$BEQ4,1,MATCH(AKI$175,入力フォーム!$N$5:$BEQ$5,0))","v":"★"},{"$f":"INDEX(入力フォーム!$N4:$BEQ4,1,MATCH(AKJ$175,入力フォーム!$N$5:$BEQ$5,0))","v":"★"},{"$f":"INDEX(入力フォーム!$N4:$BEQ4,1,MATCH(AKK$175,入力フォーム!$N$5:$BEQ$5,0))","v":"★"},{"$f":"INDEX(入力フォーム!$N4:$BEQ4,1,MATCH(AKL$175,入力フォーム!$N$5:$BEQ$5,0))","v":"★"},{"$f":"INDEX(入力フォーム!$N4:$BEQ4,1,MATCH(AKM$175,入力フォーム!$N$5:$BEQ$5,0))","v":"★"},{"$f":"INDEX(入力フォーム!$N4:$BEQ4,1,MATCH(AKN$175,入力フォーム!$N$5:$BEQ$5,0))","v":"★"},{"$f":"INDEX(入力フォーム!$N4:$BEQ4,1,MATCH(AKO$175,入力フォーム!$N$5:$BEQ$5,0))","v":"★"},{"$f":"INDEX(入力フォーム!$N4:$BEQ4,1,MATCH(AKP$175,入力フォーム!$N$5:$BEQ$5,0))","v":"★"},{"$f":"INDEX(入力フォーム!$N4:$BEQ4,1,MATCH(AKQ$175,入力フォーム!$N$5:$BEQ$5,0))","v":"★"},{"$f":"INDEX(入力フォーム!$N4:$BEQ4,1,MATCH(AKR$175,入力フォーム!$N$5:$BEQ$5,0))","v":"★"},{"$f":"INDEX(入力フォーム!$N4:$BEQ4,1,MATCH(AKS$175,入力フォーム!$N$5:$BEQ$5,0))","v":"★"},{"$f":"INDEX(入力フォーム!$N4:$BEQ4,1,MATCH(AKT$175,入力フォーム!$N$5:$BEQ$5,0))","v":"★"},{"$f":"INDEX(入力フォーム!$N4:$BEQ4,1,MATCH(AKU$175,入力フォーム!$N$5:$BEQ$5,0))","v":"★"},{"$f":"INDEX(入力フォーム!$N4:$BEQ4,1,MATCH(AKV$175,入力フォーム!$N$5:$BEQ$5,0))","v":"★"},{"$f":"INDEX(入力フォーム!$N4:$BEQ4,1,MATCH(AKW$175,入力フォーム!$N$5:$BEQ$5,0))","v":"★"},{"$f":"INDEX(入力フォーム!$N4:$BEQ4,1,MATCH(AKX$175,入力フォーム!$N$5:$BEQ$5,0))","v":"★"},{"$f":"INDEX(入力フォーム!$N4:$BEQ4,1,MATCH(AKY$175,入力フォーム!$N$5:$BEQ$5,0))","v":"★"},{"$f":"INDEX(入力フォーム!$N4:$BEQ4,1,MATCH(AKZ$175,入力フォーム!$N$5:$BEQ$5,0))","v":"★"},{"$f":"INDEX(入力フォーム!$N4:$BEQ4,1,MATCH(ALA$175,入力フォーム!$N$5:$BEQ$5,0))","v":"★"},{"$f":"INDEX(入力フォーム!$N4:$BEQ4,1,MATCH(ALB$175,入力フォーム!$N$5:$BEQ$5,0))","v":"★"},{"$f":"INDEX(入力フォーム!$N4:$BEQ4,1,MATCH(ALC$175,入力フォーム!$N$5:$BEQ$5,0))","v":"★"},{"$f":"INDEX(入力フォーム!$N4:$BEQ4,1,MATCH(ALD$175,入力フォーム!$N$5:$BEQ$5,0))","v":"★"},{"$f":"INDEX(入力フォーム!$N4:$BEQ4,1,MATCH(ALE$175,入力フォーム!$N$5:$BEQ$5,0))","v":"★"},{"$f":"INDEX(入力フォーム!$N4:$BEQ4,1,MATCH(ALF$175,入力フォーム!$N$5:$BEQ$5,0))","v":"★"},{"$f":"INDEX(入力フォーム!$N4:$BEQ4,1,MATCH(ALG$175,入力フォーム!$N$5:$BEQ$5,0))","v":"★"},{"$f":"INDEX(入力フォーム!$N4:$BEQ4,1,MATCH(ALH$175,入力フォーム!$N$5:$BEQ$5,0))","v":"★"},{"$f":"INDEX(入力フォーム!$N4:$BEQ4,1,MATCH(ALI$175,入力フォーム!$N$5:$BEQ$5,0))","v":"★"},{"$f":"INDEX(入力フォーム!$N4:$BEQ4,1,MATCH(ALJ$175,入力フォーム!$N$5:$BEQ$5,0))","v":"★"},{"$f":"INDEX(入力フォーム!$N4:$BEQ4,1,MATCH(ALK$175,入力フォーム!$N$5:$BEQ$5,0))","v":"★"},{"$f":"INDEX(入力フォーム!$N4:$BEQ4,1,MATCH(ALL$175,入力フォーム!$N$5:$BEQ$5,0))","v":"★"},{"$f":"INDEX(入力フォーム!$N4:$BEQ4,1,MATCH(ALM$175,入力フォーム!$N$5:$BEQ$5,0))","v":"★"},{"$f":"INDEX(入力フォーム!$N4:$BEQ4,1,MATCH(ALN$175,入力フォーム!$N$5:$BEQ$5,0))","v":"★"},{"$f":"INDEX(入力フォーム!$N4:$BEQ4,1,MATCH(ALO$175,入力フォーム!$N$5:$BEQ$5,0))","v":"★"},{"$f":"INDEX(入力フォーム!$N4:$BEQ4,1,MATCH(ALP$175,入力フォーム!$N$5:$BEQ$5,0))","v":"★"},{"$f":"INDEX(入力フォーム!$N4:$BEQ4,1,MATCH(ALQ$175,入力フォーム!$N$5:$BEQ$5,0))","v":"★"},{"$f":"INDEX(入力フォーム!$N4:$BEQ4,1,MATCH(ALR$175,入力フォーム!$N$5:$BEQ$5,0))","v":"★"},{"$f":"INDEX(入力フォーム!$N4:$BEQ4,1,MATCH(ALS$175,入力フォーム!$N$5:$BEQ$5,0))","v":"★"},{"$f":"INDEX(入力フォーム!$N4:$BEQ4,1,MATCH(ALT$175,入力フォーム!$N$5:$BEQ$5,0))","v":"★"},{"$f":"INDEX(入力フォーム!$N4:$BEQ4,1,MATCH(ALU$175,入力フォーム!$N$5:$BEQ$5,0))","v":"★"},{"$f":"INDEX(入力フォーム!$N4:$BEQ4,1,MATCH(ALV$175,入力フォーム!$N$5:$BEQ$5,0))","v":"★"},{"$f":"INDEX(入力フォーム!$N4:$BEQ4,1,MATCH(ALW$175,入力フォーム!$N$5:$BEQ$5,0))","v":"★"},{"$f":"INDEX(入力フォーム!$N4:$BEQ4,1,MATCH(ALX$175,入力フォーム!$N$5:$BEQ$5,0))","v":"★"},{"$f":"INDEX(入力フォーム!$N4:$BEQ4,1,MATCH(ALY$175,入力フォーム!$N$5:$BEQ$5,0))","v":"★"},{"$f":"INDEX(入力フォーム!$N4:$BEQ4,1,MATCH(ALZ$175,入力フォーム!$N$5:$BEQ$5,0))","v":"★"},{"$f":"INDEX(入力フォーム!$N4:$BEQ4,1,MATCH(AMA$175,入力フォーム!$N$5:$BEQ$5,0))","v":"★"},{"$f":"INDEX(入力フォーム!$N4:$BEQ4,1,MATCH(AMB$175,入力フォーム!$N$5:$BEQ$5,0))","v":"★"},{"$f":"INDEX(入力フォーム!$N4:$BEQ4,1,MATCH(AMC$175,入力フォーム!$N$5:$BEQ$5,0))","v":"★"},{"$f":"INDEX(入力フォーム!$N4:$BEQ4,1,MATCH(AMD$175,入力フォーム!$N$5:$BEQ$5,0))","v":"★"},{"$f":"INDEX(入力フォーム!$N4:$BEQ4,1,MATCH(AME$175,入力フォーム!$N$5:$BEQ$5,0))","v":"★"},{"$f":"INDEX(入力フォーム!$N4:$BEQ4,1,MATCH(AMF$175,入力フォーム!$N$5:$BEQ$5,0))","v":"★"},{"$f":"INDEX(入力フォーム!$N4:$BEQ4,1,MATCH(AMG$175,入力フォーム!$N$5:$BEQ$5,0))","v":"★"},{"$f":"INDEX(入力フォーム!$N4:$BEQ4,1,MATCH(AMH$175,入力フォーム!$N$5:$BEQ$5,0))","v":"★"},{"$f":"INDEX(入力フォーム!$N4:$BEQ4,1,MATCH(AMI$175,入力フォーム!$N$5:$BEQ$5,0))","v":"★"},{"$f":"INDEX(入力フォーム!$N4:$BEQ4,1,MATCH(AMJ$175,入力フォーム!$N$5:$BEQ$5,0))","v":"★"},{"$f":"INDEX(入力フォーム!$N4:$BEQ4,1,MATCH(AMK$175,入力フォーム!$N$5:$BEQ$5,0))","v":"★"},{"$f":"INDEX(入力フォーム!$N4:$BEQ4,1,MATCH(AML$175,入力フォーム!$N$5:$BEQ$5,0))","v":"★"},{"$f":"INDEX(入力フォーム!$N4:$BEQ4,1,MATCH(AMM$175,入力フォーム!$N$5:$BEQ$5,0))","v":"★"},{"$f":"INDEX(入力フォーム!$N4:$BEQ4,1,MATCH(AMN$175,入力フォーム!$N$5:$BEQ$5,0))","v":"★"},{"$f":"INDEX(入力フォーム!$N4:$BEQ4,1,MATCH(AMO$175,入力フォーム!$N$5:$BEQ$5,0))","v":"★"},{"$f":"INDEX(入力フォーム!$N4:$BEQ4,1,MATCH(AMP$175,入力フォーム!$N$5:$BEQ$5,0))","v":"★"},{"$f":"INDEX(入力フォーム!$N4:$BEQ4,1,MATCH(AMQ$175,入力フォーム!$N$5:$BEQ$5,0))","v":"★"},{"$f":"INDEX(入力フォーム!$N4:$BEQ4,1,MATCH(AMR$175,入力フォーム!$N$5:$BEQ$5,0))","v":"★"},{"$f":"INDEX(入力フォーム!$N4:$BEQ4,1,MATCH(AMS$175,入力フォーム!$N$5:$BEQ$5,0))","v":"★"},{"$f":"INDEX(入力フォーム!$N4:$BEQ4,1,MATCH(AMT$175,入力フォーム!$N$5:$BEQ$5,0))","v":"★"},{"$f":"INDEX(入力フォーム!$N4:$BEQ4,1,MATCH(AMU$175,入力フォーム!$N$5:$BEQ$5,0))","v":"★"},{"$f":"INDEX(入力フォーム!$N4:$BEQ4,1,MATCH(AMV$175,入力フォーム!$N$5:$BEQ$5,0))","v":"★"},{"$f":"INDEX(入力フォーム!$N4:$BEQ4,1,MATCH(AMW$175,入力フォーム!$N$5:$BEQ$5,0))","v":"★"},{"$f":"INDEX(入力フォーム!$N4:$BEQ4,1,MATCH(AMX$175,入力フォーム!$N$5:$BEQ$5,0))","v":"★"},{"$f":"INDEX(入力フォーム!$N4:$BEQ4,1,MATCH(AMY$175,入力フォーム!$N$5:$BEQ$5,0))","v":"★"},{"$f":"INDEX(入力フォーム!$N4:$BEQ4,1,MATCH(AMZ$175,入力フォーム!$N$5:$BEQ$5,0))","v":"★"},{"$f":"INDEX(入力フォーム!$N4:$BEQ4,1,MATCH(ANA$175,入力フォーム!$N$5:$BEQ$5,0))","v":"★"},{"$f":"INDEX(入力フォーム!$N4:$BEQ4,1,MATCH(ANB$175,入力フォーム!$N$5:$BEQ$5,0))","v":"★"},{"$f":"INDEX(入力フォーム!$N4:$BEQ4,1,MATCH(ANC$175,入力フォーム!$N$5:$BEQ$5,0))","v":"★"},{"$f":"INDEX(入力フォーム!$N4:$BEQ4,1,MATCH(AND$175,入力フォーム!$N$5:$BEQ$5,0))","v":"★"},{"$f":"INDEX(入力フォーム!$N4:$BEQ4,1,MATCH(ANE$175,入力フォーム!$N$5:$BEQ$5,0))","v":"★"},{"$f":"INDEX(入力フォーム!$N4:$BEQ4,1,MATCH(ANF$175,入力フォーム!$N$5:$BEQ$5,0))","v":"★"},{"$f":"INDEX(入力フォーム!$N4:$BEQ4,1,MATCH(ANG$175,入力フォーム!$N$5:$BEQ$5,0))","v":"★"},{"$f":"INDEX(入力フォーム!$N4:$BEQ4,1,MATCH(ANH$175,入力フォーム!$N$5:$BEQ$5,0))","v":"★"},{"$f":"INDEX(入力フォーム!$N4:$BEQ4,1,MATCH(ANI$175,入力フォーム!$N$5:$BEQ$5,0))","v":"★"},{"$f":"INDEX(入力フォーム!$N4:$BEQ4,1,MATCH(ANJ$175,入力フォーム!$N$5:$BEQ$5,0))","v":"★"},{"$f":"INDEX(入力フォーム!$N4:$BEQ4,1,MATCH(ANK$175,入力フォーム!$N$5:$BEQ$5,0))","v":"★"},{"$f":"INDEX(入力フォーム!$N4:$BEQ4,1,MATCH(ANL$175,入力フォーム!$N$5:$BEQ$5,0))","v":"★"},{"$f":"INDEX(入力フォーム!$N4:$BEQ4,1,MATCH(ANM$175,入力フォーム!$N$5:$BEQ$5,0))","v":"★"},{"$f":"INDEX(入力フォーム!$N4:$BEQ4,1,MATCH(ANN$175,入力フォーム!$N$5:$BEQ$5,0))","v":"★"},{"$f":"INDEX(入力フォーム!$N4:$BEQ4,1,MATCH(ANO$175,入力フォーム!$N$5:$BEQ$5,0))","v":"★"},{"$f":"INDEX(入力フォーム!$N4:$BEQ4,1,MATCH(ANP$175,入力フォーム!$N$5:$BEQ$5,0))","v":"★"},{"$f":"INDEX(入力フォーム!$N4:$BEQ4,1,MATCH(ANQ$175,入力フォーム!$N$5:$BEQ$5,0))","v":"★"},{"$f":"INDEX(入力フォーム!$N4:$BEQ4,1,MATCH(ANR$175,入力フォーム!$N$5:$BEQ$5,0))","v":"★"},{"$f":"INDEX(入力フォーム!$N4:$BEQ4,1,MATCH(ANS$175,入力フォーム!$N$5:$BEQ$5,0))","v":"★"},{"$f":"INDEX(入力フォーム!$N4:$BEQ4,1,MATCH(ANT$175,入力フォーム!$N$5:$BEQ$5,0))","v":"★"},{"$f":"INDEX(入力フォーム!$N4:$BEQ4,1,MATCH(ANU$175,入力フォーム!$N$5:$BEQ$5,0))","v":"★"},{"$f":"INDEX(入力フォーム!$N4:$BEQ4,1,MATCH(ANV$175,入力フォーム!$N$5:$BEQ$5,0))","v":"★"},{"$f":"INDEX(入力フォーム!$N4:$BEQ4,1,MATCH(ANW$175,入力フォーム!$N$5:$BEQ$5,0))","v":"★"},{"$f":"INDEX(入力フォーム!$N4:$BEQ4,1,MATCH(ANX$175,入力フォーム!$N$5:$BEQ$5,0))","v":"★"},{"$f":"INDEX(入力フォーム!$N4:$BEQ4,1,MATCH(ANY$175,入力フォーム!$N$5:$BEQ$5,0))","v":"★"},{"$f":"INDEX(入力フォーム!$N4:$BEQ4,1,MATCH(ANZ$175,入力フォーム!$N$5:$BEQ$5,0))","v":"★"},{"$f":"INDEX(入力フォーム!$N4:$BEQ4,1,MATCH(AOA$175,入力フォーム!$N$5:$BEQ$5,0))","v":"★"},{"$f":"INDEX(入力フォーム!$N4:$BEQ4,1,MATCH(AOB$175,入力フォーム!$N$5:$BEQ$5,0))","v":"★"},{"$f":"INDEX(入力フォーム!$N4:$BEQ4,1,MATCH(AOC$175,入力フォーム!$N$5:$BEQ$5,0))","v":"★"},{"$f":"INDEX(入力フォーム!$N4:$BEQ4,1,MATCH(AOD$175,入力フォーム!$N$5:$BEQ$5,0))","v":"★"},{"$f":"INDEX(入力フォーム!$N4:$BEQ4,1,MATCH(AOE$175,入力フォーム!$N$5:$BEQ$5,0))","v":"★"},{"$f":"INDEX(入力フォーム!$N4:$BEQ4,1,MATCH(AOF$175,入力フォーム!$N$5:$BEQ$5,0))","v":"★"},{"$f":"INDEX(入力フォーム!$N4:$BEQ4,1,MATCH(AOG$175,入力フォーム!$N$5:$BEQ$5,0))","v":"★"},{"$f":"INDEX(入力フォーム!$N4:$BEQ4,1,MATCH(AOH$175,入力フォーム!$N$5:$BEQ$5,0))","v":"★"},{"$f":"INDEX(入力フォーム!$N4:$BEQ4,1,MATCH(AOI$175,入力フォーム!$N$5:$BEQ$5,0))","v":"★"},{"$f":"INDEX(入力フォーム!$N4:$BEQ4,1,MATCH(AOJ$175,入力フォーム!$N$5:$BEQ$5,0))","v":"★"},{"$f":"INDEX(入力フォーム!$N4:$BEQ4,1,MATCH(AOK$175,入力フォーム!$N$5:$BEQ$5,0))","v":"★"},{"$f":"INDEX(入力フォーム!$N4:$BEQ4,1,MATCH(AOL$175,入力フォーム!$N$5:$BEQ$5,0))","v":"★"},{"$f":"INDEX(入力フォーム!$N4:$BEQ4,1,MATCH(AOM$175,入力フォーム!$N$5:$BEQ$5,0))","v":"★"},{"$f":"INDEX(入力フォーム!$N4:$BEQ4,1,MATCH(AON$175,入力フォーム!$N$5:$BEQ$5,0))","v":"★"},{"$f":"INDEX(入力フォーム!$N4:$BEQ4,1,MATCH(AOO$175,入力フォーム!$N$5:$BEQ$5,0))","v":"★"},{"$f":"INDEX(入力フォーム!$N4:$BEQ4,1,MATCH(AOP$175,入力フォーム!$N$5:$BEQ$5,0))","v":"★"},{"$f":"INDEX(入力フォーム!$N4:$BEQ4,1,MATCH(AOQ$175,入力フォーム!$N$5:$BEQ$5,0))","v":"★"},{"$f":"INDEX(入力フォーム!$N4:$BEQ4,1,MATCH(AOR$175,入力フォーム!$N$5:$BEQ$5,0))","v":"★"},{"$f":"INDEX(入力フォーム!$N4:$BEQ4,1,MATCH(AOS$175,入力フォーム!$N$5:$BEQ$5,0))","v":"★"},{"$f":"INDEX(入力フォーム!$N4:$BEQ4,1,MATCH(AOT$175,入力フォーム!$N$5:$BEQ$5,0))","v":"★"},{"$f":"INDEX(入力フォーム!$N4:$BEQ4,1,MATCH(AOU$175,入力フォーム!$N$5:$BEQ$5,0))","v":"★"},{"$f":"INDEX(入力フォーム!$N4:$BEQ4,1,MATCH(AOV$175,入力フォーム!$N$5:$BEQ$5,0))","v":"★"},{"$f":"INDEX(入力フォーム!$N4:$BEQ4,1,MATCH(AOW$175,入力フォーム!$N$5:$BEQ$5,0))","v":"★"},{"$f":"INDEX(入力フォーム!$N4:$BEQ4,1,MATCH(AOX$175,入力フォーム!$N$5:$BEQ$5,0))","v":"★"},{"$f":"INDEX(入力フォーム!$N4:$BEQ4,1,MATCH(AOY$175,入力フォーム!$N$5:$BEQ$5,0))","v":"★"},{"$f":"INDEX(入力フォーム!$N4:$BEQ4,1,MATCH(AOZ$175,入力フォーム!$N$5:$BEQ$5,0))","v":"★"},{"$f":"INDEX(入力フォーム!$N4:$BEQ4,1,MATCH(APA$175,入力フォーム!$N$5:$BEQ$5,0))","v":"★"},{"$f":"INDEX(入力フォーム!$N4:$BEQ4,1,MATCH(APB$175,入力フォーム!$N$5:$BEQ$5,0))","v":"★"},{"$f":"INDEX(入力フォーム!$N4:$BEQ4,1,MATCH(APC$175,入力フォーム!$N$5:$BEQ$5,0))","v":"★"},{"$f":"INDEX(入力フォーム!$N4:$BEQ4,1,MATCH(APD$175,入力フォーム!$N$5:$BEQ$5,0))","v":"★"},{"$f":"INDEX(入力フォーム!$N4:$BEQ4,1,MATCH(APE$175,入力フォーム!$N$5:$BEQ$5,0))","v":"★"},{"$f":"INDEX(入力フォーム!$N4:$BEQ4,1,MATCH(APF$175,入力フォーム!$N$5:$BEQ$5,0))","v":"★"},{"$f":"INDEX(入力フォーム!$N4:$BEQ4,1,MATCH(APG$175,入力フォーム!$N$5:$BEQ$5,0))","v":"★"},{"$f":"INDEX(入力フォーム!$N4:$BEQ4,1,MATCH(APH$175,入力フォーム!$N$5:$BEQ$5,0))","v":"★"},{"$f":"INDEX(入力フォーム!$N4:$BEQ4,1,MATCH(API$175,入力フォーム!$N$5:$BEQ$5,0))","v":"★"},{"$f":"INDEX(入力フォーム!$N4:$BEQ4,1,MATCH(APJ$175,入力フォーム!$N$5:$BEQ$5,0))","v":"★"},{"$f":"INDEX(入力フォーム!$N4:$BEQ4,1,MATCH(APK$175,入力フォーム!$N$5:$BEQ$5,0))","v":"★"},{"$f":"INDEX(入力フォーム!$N4:$BEQ4,1,MATCH(APL$175,入力フォーム!$N$5:$BEQ$5,0))","v":"★"},{"$f":"INDEX(入力フォーム!$N4:$BEQ4,1,MATCH(APM$175,入力フォーム!$N$5:$BEQ$5,0))","v":"★"},{"$f":"INDEX(入力フォーム!$N4:$BEQ4,1,MATCH(APN$175,入力フォーム!$N$5:$BEQ$5,0))","v":"★"},{"$f":"INDEX(入力フォーム!$N4:$BEQ4,1,MATCH(APO$175,入力フォーム!$N$5:$BEQ$5,0))","v":"★"},{"$f":"INDEX(入力フォーム!$N4:$BEQ4,1,MATCH(APP$175,入力フォーム!$N$5:$BEQ$5,0))","v":"★"},{"$f":"INDEX(入力フォーム!$N4:$BEQ4,1,MATCH(APQ$175,入力フォーム!$N$5:$BEQ$5,0))","v":"★"},{"$f":"INDEX(入力フォーム!$N4:$BEQ4,1,MATCH(APR$175,入力フォーム!$N$5:$BEQ$5,0))","v":"★"},{"$f":"INDEX(入力フォーム!$N4:$BEQ4,1,MATCH(APS$175,入力フォーム!$N$5:$BEQ$5,0))","v":"★"},{"$f":"INDEX(入力フォーム!$N4:$BEQ4,1,MATCH(APT$175,入力フォーム!$N$5:$BEQ$5,0))","v":"★"},{"$f":"INDEX(入力フォーム!$N4:$BEQ4,1,MATCH(APU$175,入力フォーム!$N$5:$BEQ$5,0))","v":"★"},{"$f":"INDEX(入力フォーム!$N4:$BEQ4,1,MATCH(APV$175,入力フォーム!$N$5:$BEQ$5,0))","v":"★"},{"$f":"INDEX(入力フォーム!$N4:$BEQ4,1,MATCH(APW$175,入力フォーム!$N$5:$BEQ$5,0))","v":"★"},{"$f":"INDEX(入力フォーム!$N4:$BEQ4,1,MATCH(APX$175,入力フォーム!$N$5:$BEQ$5,0))","v":"★"},{"$f":"INDEX(入力フォーム!$N4:$BEQ4,1,MATCH(APY$175,入力フォーム!$N$5:$BEQ$5,0))","v":"★"},{"$f":"INDEX(入力フォーム!$N4:$BEQ4,1,MATCH(APZ$175,入力フォーム!$N$5:$BEQ$5,0))","v":"★"},{"$f":"INDEX(入力フォーム!$N4:$BEQ4,1,MATCH(AQA$175,入力フォーム!$N$5:$BEQ$5,0))","v":"★"},{"$f":"INDEX(入力フォーム!$N4:$BEQ4,1,MATCH(AQB$175,入力フォーム!$N$5:$BEQ$5,0))","v":"★"},{"$f":"INDEX(入力フォーム!$N4:$BEQ4,1,MATCH(AQC$175,入力フォーム!$N$5:$BEQ$5,0))","v":"★"},{"$f":"INDEX(入力フォーム!$N4:$BEQ4,1,MATCH(AQD$175,入力フォーム!$N$5:$BEQ$5,0))","v":"★"},{"$f":"INDEX(入力フォーム!$N4:$BEQ4,1,MATCH(AQE$175,入力フォーム!$N$5:$BEQ$5,0))","v":"★"},{"$f":"INDEX(入力フォーム!$N4:$BEQ4,1,MATCH(AQF$175,入力フォーム!$N$5:$BEQ$5,0))","v":"★"},{"$f":"INDEX(入力フォーム!$N4:$BEQ4,1,MATCH(AQG$175,入力フォーム!$N$5:$BEQ$5,0))","v":"★"},{"$f":"INDEX(入力フォーム!$N4:$BEQ4,1,MATCH(AQH$175,入力フォーム!$N$5:$BEQ$5,0))","v":"★"},{"$f":"INDEX(入力フォーム!$N4:$BEQ4,1,MATCH(AQI$175,入力フォーム!$N$5:$BEQ$5,0))","v":"★"},{"$f":"INDEX(入力フォーム!$N4:$BEQ4,1,MATCH(AQJ$175,入力フォーム!$N$5:$BEQ$5,0))","v":"★"},{"$f":"INDEX(入力フォーム!$N4:$BEQ4,1,MATCH(AQK$175,入力フォーム!$N$5:$BEQ$5,0))","v":"★"},{"$f":"INDEX(入力フォーム!$N4:$BEQ4,1,MATCH(AQL$175,入力フォーム!$N$5:$BEQ$5,0))","v":"★"},{"$f":"INDEX(入力フォーム!$N4:$BEQ4,1,MATCH(AQM$175,入力フォーム!$N$5:$BEQ$5,0))","v":"★"},{"$f":"INDEX(入力フォーム!$N4:$BEQ4,1,MATCH(AQN$175,入力フォーム!$N$5:$BEQ$5,0))","v":"★"},{"$f":"INDEX(入力フォーム!$N4:$BEQ4,1,MATCH(AQO$175,入力フォーム!$N$5:$BEQ$5,0))","v":"★"},{"$f":"INDEX(入力フォーム!$N4:$BEQ4,1,MATCH(AQP$175,入力フォーム!$N$5:$BEQ$5,0))","v":"★"},{"$f":"INDEX(入力フォーム!$N4:$BEQ4,1,MATCH(AQQ$175,入力フォーム!$N$5:$BEQ$5,0))","v":"★"},{"$f":"INDEX(入力フォーム!$N4:$BEQ4,1,MATCH(AQR$175,入力フォーム!$N$5:$BEQ$5,0))","v":"★"},{"$f":"INDEX(入力フォーム!$N4:$BEQ4,1,MATCH(AQS$175,入力フォーム!$N$5:$BEQ$5,0))","v":"★"},{"$f":"INDEX(入力フォーム!$N4:$BEQ4,1,MATCH(AQT$175,入力フォーム!$N$5:$BEQ$5,0))","v":"★"},{"$f":"INDEX(入力フォーム!$N4:$BEQ4,1,MATCH(AQU$175,入力フォーム!$N$5:$BEQ$5,0))","v":"★"},{"$f":"INDEX(入力フォーム!$N4:$BEQ4,1,MATCH(AQV$175,入力フォーム!$N$5:$BEQ$5,0))","v":"★"},{"$f":"INDEX(入力フォーム!$N4:$BEQ4,1,MATCH(AQW$175,入力フォーム!$N$5:$BEQ$5,0))","v":"★"},{"$f":"INDEX(入力フォーム!$N4:$BEQ4,1,MATCH(AQX$175,入力フォーム!$N$5:$BEQ$5,0))","v":"★"},{"$f":"INDEX(入力フォーム!$N4:$BEQ4,1,MATCH(AQY$175,入力フォーム!$N$5:$BEQ$5,0))","v":"★"},{"$f":"INDEX(入力フォーム!$N4:$BEQ4,1,MATCH(AQZ$175,入力フォーム!$N$5:$BEQ$5,0))","v":"★"},{"$f":"INDEX(入力フォーム!$N4:$BEQ4,1,MATCH(ARA$175,入力フォーム!$N$5:$BEQ$5,0))","v":"★"},{"$f":"INDEX(入力フォーム!$N4:$BEQ4,1,MATCH(ARB$175,入力フォーム!$N$5:$BEQ$5,0))","v":"★"},{"$f":"INDEX(入力フォーム!$N4:$BEQ4,1,MATCH(ARC$175,入力フォーム!$N$5:$BEQ$5,0))","v":"★"},{"$f":"INDEX(入力フォーム!$N4:$BEQ4,1,MATCH(ARD$175,入力フォーム!$N$5:$BEQ$5,0))","v":"★"},{"$f":"INDEX(入力フォーム!$N4:$BEQ4,1,MATCH(ARE$175,入力フォーム!$N$5:$BEQ$5,0))","v":"★"},{"$f":"INDEX(入力フォーム!$N4:$BEQ4,1,MATCH(ARF$175,入力フォーム!$N$5:$BEQ$5,0))","v":"★"},{"$f":"INDEX(入力フォーム!$N4:$BEQ4,1,MATCH(ARG$175,入力フォーム!$N$5:$BEQ$5,0))","v":"★"},{"$f":"INDEX(入力フォーム!$N4:$BEQ4,1,MATCH(ARH$175,入力フォーム!$N$5:$BEQ$5,0))","v":"★"},{"$f":"INDEX(入力フォーム!$N4:$BEQ4,1,MATCH(ARI$175,入力フォーム!$N$5:$BEQ$5,0))","v":"★"},{"$f":"INDEX(入力フォーム!$N4:$BEQ4,1,MATCH(ARJ$175,入力フォーム!$N$5:$BEQ$5,0))","v":"★"},{"$f":"INDEX(入力フォーム!$N4:$BEQ4,1,MATCH(ARK$175,入力フォーム!$N$5:$BEQ$5,0))","v":"★"},{"$f":"INDEX(入力フォーム!$N4:$BEQ4,1,MATCH(ARL$175,入力フォーム!$N$5:$BEQ$5,0))","v":"★"},{"$f":"INDEX(入力フォーム!$N4:$BEQ4,1,MATCH(ARM$175,入力フォーム!$N$5:$BEQ$5,0))","v":"★"},{"$f":"INDEX(入力フォーム!$N4:$BEQ4,1,MATCH(ARN$175,入力フォーム!$N$5:$BEQ$5,0))","v":"★"},{"$f":"INDEX(入力フォーム!$N4:$BEQ4,1,MATCH(ARO$175,入力フォーム!$N$5:$BEQ$5,0))","v":"★"},{"$f":"INDEX(入力フォーム!$N4:$BEQ4,1,MATCH(ARP$175,入力フォーム!$N$5:$BEQ$5,0))","v":"★"},{"$f":"INDEX(入力フォーム!$N4:$BEQ4,1,MATCH(ARQ$175,入力フォーム!$N$5:$BEQ$5,0))","v":"★"},{"$f":"INDEX(入力フォーム!$N4:$BEQ4,1,MATCH(ARR$175,入力フォーム!$N$5:$BEQ$5,0))","v":"★"},{"$f":"INDEX(入力フォーム!$N4:$BEQ4,1,MATCH(ARS$175,入力フォーム!$N$5:$BEQ$5,0))","v":"★"},{"$f":"INDEX(入力フォーム!$N4:$BEQ4,1,MATCH(ART$175,入力フォーム!$N$5:$BEQ$5,0))","v":"★"},{"$f":"INDEX(入力フォーム!$N4:$BEQ4,1,MATCH(ARU$175,入力フォーム!$N$5:$BEQ$5,0))","v":"★"},{"$f":"INDEX(入力フォーム!$N4:$BEQ4,1,MATCH(ARV$175,入力フォーム!$N$5:$BEQ$5,0))","v":"★"},{"$f":"INDEX(入力フォーム!$N4:$BEQ4,1,MATCH(ARW$175,入力フォーム!$N$5:$BEQ$5,0))","v":"★"},{"$f":"INDEX(入力フォーム!$N4:$BEQ4,1,MATCH(ARX$175,入力フォーム!$N$5:$BEQ$5,0))","v":"★"},{"$f":"INDEX(入力フォーム!$N4:$BEQ4,1,MATCH(ARY$175,入力フォーム!$N$5:$BEQ$5,0))","v":"★"},{"$f":"INDEX(入力フォーム!$N4:$BEQ4,1,MATCH(ARZ$175,入力フォーム!$N$5:$BEQ$5,0))","v":"★"},{"$f":"INDEX(入力フォーム!$N4:$BEQ4,1,MATCH(ASA$175,入力フォーム!$N$5:$BEQ$5,0))","v":"★"},{"$f":"INDEX(入力フォーム!$N4:$BEQ4,1,MATCH(ASB$175,入力フォーム!$N$5:$BEQ$5,0))","v":"★"},{"$f":"INDEX(入力フォーム!$N4:$BEQ4,1,MATCH(ASC$175,入力フォーム!$N$5:$BEQ$5,0))","v":"★"},{"$f":"INDEX(入力フォーム!$N4:$BEQ4,1,MATCH(ASD$175,入力フォーム!$N$5:$BEQ$5,0))","v":"★"},{"$f":"INDEX(入力フォーム!$N4:$BEQ4,1,MATCH(ASE$175,入力フォーム!$N$5:$BEQ$5,0))","v":"★"},{"$f":"INDEX(入力フォーム!$N4:$BEQ4,1,MATCH(ASF$175,入力フォーム!$N$5:$BEQ$5,0))","v":"★"},{"$f":"INDEX(入力フォーム!$N4:$BEQ4,1,MATCH(ASG$175,入力フォーム!$N$5:$BEQ$5,0))","v":"★"},{"$f":"INDEX(入力フォーム!$N4:$BEQ4,1,MATCH(ASH$175,入力フォーム!$N$5:$BEQ$5,0))","v":"★"},{"$f":"INDEX(入力フォーム!$N4:$BEQ4,1,MATCH(ASI$175,入力フォーム!$N$5:$BEQ$5,0))","v":"★"},{"$f":"INDEX(入力フォーム!$N4:$BEQ4,1,MATCH(ASJ$175,入力フォーム!$N$5:$BEQ$5,0))","v":"★"},{"$f":"INDEX(入力フォーム!$N4:$BEQ4,1,MATCH(ASK$175,入力フォーム!$N$5:$BEQ$5,0))","v":"★"},{"$f":"INDEX(入力フォーム!$N4:$BEQ4,1,MATCH(ASL$175,入力フォーム!$N$5:$BEQ$5,0))","v":"★"},{"$f":"INDEX(入力フォーム!$N4:$BEQ4,1,MATCH(ASM$175,入力フォーム!$N$5:$BEQ$5,0))","v":"★"},{"$f":"INDEX(入力フォーム!$N4:$BEQ4,1,MATCH(ASN$175,入力フォーム!$N$5:$BEQ$5,0))","v":"★"},{"$f":"INDEX(入力フォーム!$N4:$BEQ4,1,MATCH(ASO$175,入力フォーム!$N$5:$BEQ$5,0))","v":"★"},{"$f":"INDEX(入力フォーム!$N4:$BEQ4,1,MATCH(ASP$175,入力フォーム!$N$5:$BEQ$5,0))","v":"★"},{"$f":"INDEX(入力フォーム!$N4:$BEQ4,1,MATCH(ASQ$175,入力フォーム!$N$5:$BEQ$5,0))","v":"★"},{"$f":"INDEX(入力フォーム!$N4:$BEQ4,1,MATCH(ASR$175,入力フォーム!$N$5:$BEQ$5,0))","v":"★"},{"$f":"INDEX(入力フォーム!$N4:$BEQ4,1,MATCH(ASS$175,入力フォーム!$N$5:$BEQ$5,0))","v":"★"},{"$f":"INDEX(入力フォーム!$N4:$BEQ4,1,MATCH(AST$175,入力フォーム!$N$5:$BEQ$5,0))","v":"★"},{"$f":"INDEX(入力フォーム!$N4:$BEQ4,1,MATCH(ASU$175,入力フォーム!$N$5:$BEQ$5,0))","v":"★"},{"$f":"INDEX(入力フォーム!$N4:$BEQ4,1,MATCH(ASV$175,入力フォーム!$N$5:$BEQ$5,0))","v":"★"},{"$f":"INDEX(入力フォーム!$N4:$BEQ4,1,MATCH(ASW$175,入力フォーム!$N$5:$BEQ$5,0))","v":"★"},{"$f":"INDEX(入力フォーム!$N4:$BEQ4,1,MATCH(ASX$175,入力フォーム!$N$5:$BEQ$5,0))","v":"★"},{"$f":"INDEX(入力フォーム!$N4:$BEQ4,1,MATCH(ASY$175,入力フォーム!$N$5:$BEQ$5,0))","v":"★"},{"$f":"INDEX(入力フォーム!$N4:$BEQ4,1,MATCH(ASZ$175,入力フォーム!$N$5:$BEQ$5,0))","v":"★"},{"$f":"INDEX(入力フォーム!$N4:$BEQ4,1,MATCH(ATA$175,入力フォーム!$N$5:$BEQ$5,0))","v":"★"},{"$f":"INDEX(入力フォーム!$N4:$BEQ4,1,MATCH(ATB$175,入力フォーム!$N$5:$BEQ$5,0))","v":"★"},{"$f":"INDEX(入力フォーム!$N4:$BEQ4,1,MATCH(ATC$175,入力フォーム!$N$5:$BEQ$5,0))","v":"★"},{"$f":"INDEX(入力フォーム!$N4:$BEQ4,1,MATCH(ATD$175,入力フォーム!$N$5:$BEQ$5,0))","v":"★"},{"$f":"INDEX(入力フォーム!$N4:$BEQ4,1,MATCH(ATE$175,入力フォーム!$N$5:$BEQ$5,0))","v":"★"},{"$f":"INDEX(入力フォーム!$N4:$BEQ4,1,MATCH(ATF$175,入力フォーム!$N$5:$BEQ$5,0))","v":"★"},{"$f":"INDEX(入力フォーム!$N4:$BEQ4,1,MATCH(ATG$175,入力フォーム!$N$5:$BEQ$5,0))","v":"★"},{"$f":"INDEX(入力フォーム!$N4:$BEQ4,1,MATCH(ATH$175,入力フォーム!$N$5:$BEQ$5,0))","v":"★"},{"$f":"INDEX(入力フォーム!$N4:$BEQ4,1,MATCH(ATI$175,入力フォーム!$N$5:$BEQ$5,0))","v":"★"},{"$f":"INDEX(入力フォーム!$N4:$BEQ4,1,MATCH(ATJ$175,入力フォーム!$N$5:$BEQ$5,0))","v":"★"},{"$f":"INDEX(入力フォーム!$N4:$BEQ4,1,MATCH(ATK$175,入力フォーム!$N$5:$BEQ$5,0))","v":"★"},{"$f":"INDEX(入力フォーム!$N4:$BEQ4,1,MATCH(ATL$175,入力フォーム!$N$5:$BEQ$5,0))","v":"★"},{"$f":"INDEX(入力フォーム!$N4:$BEQ4,1,MATCH(ATM$175,入力フォーム!$N$5:$BEQ$5,0))","v":"★"},{"$f":"INDEX(入力フォーム!$N4:$BEQ4,1,MATCH(ATN$175,入力フォーム!$N$5:$BEQ$5,0))","v":"★"},{"$f":"INDEX(入力フォーム!$N4:$BEQ4,1,MATCH(ATO$175,入力フォーム!$N$5:$BEQ$5,0))","v":"★"},{"$f":"INDEX(入力フォーム!$N4:$BEQ4,1,MATCH(ATP$175,入力フォーム!$N$5:$BEQ$5,0))","v":"★"},{"$f":"INDEX(入力フォーム!$N4:$BEQ4,1,MATCH(ATQ$175,入力フォーム!$N$5:$BEQ$5,0))","v":"★"},{"$f":"INDEX(入力フォーム!$N4:$BEQ4,1,MATCH(ATR$175,入力フォーム!$N$5:$BEQ$5,0))","v":"★"},{"$f":"INDEX(入力フォーム!$N4:$BEQ4,1,MATCH(ATS$175,入力フォーム!$N$5:$BEQ$5,0))","v":"★"},{"$f":"INDEX(入力フォーム!$N4:$BEQ4,1,MATCH(ATT$175,入力フォーム!$N$5:$BEQ$5,0))","v":"★"},{"$f":"INDEX(入力フォーム!$N4:$BEQ4,1,MATCH(ATU$175,入力フォーム!$N$5:$BEQ$5,0))","v":"★"},{"$f":"INDEX(入力フォーム!$N4:$BEQ4,1,MATCH(ATV$175,入力フォーム!$N$5:$BEQ$5,0))","v":"★"},{"$f":"INDEX(入力フォーム!$N4:$BEQ4,1,MATCH(ATW$175,入力フォーム!$N$5:$BEQ$5,0))","v":"★"},{"$f":"INDEX(入力フォーム!$N4:$BEQ4,1,MATCH(ATX$175,入力フォーム!$N$5:$BEQ$5,0))","v":"★"},{"$f":"INDEX(入力フォーム!$N4:$BEQ4,1,MATCH(ATY$175,入力フォーム!$N$5:$BEQ$5,0))","v":"★"},{"$f":"INDEX(入力フォーム!$N4:$BEQ4,1,MATCH(ATZ$175,入力フォーム!$N$5:$BEQ$5,0))","v":"★"},{"$f":"INDEX(入力フォーム!$N4:$BEQ4,1,MATCH(AUA$175,入力フォーム!$N$5:$BEQ$5,0))","v":"★"},{"$f":"INDEX(入力フォーム!$N4:$BEQ4,1,MATCH(AUB$175,入力フォーム!$N$5:$BEQ$5,0))","v":"★"},{"$f":"INDEX(入力フォーム!$N4:$BEQ4,1,MATCH(AUC$175,入力フォーム!$N$5:$BEQ$5,0))","v":"★"},{"$f":"INDEX(入力フォーム!$N4:$BEQ4,1,MATCH(AUD$175,入力フォーム!$N$5:$BEQ$5,0))","v":"★"},{"$f":"INDEX(入力フォーム!$N4:$BEQ4,1,MATCH(AUE$175,入力フォーム!$N$5:$BEQ$5,0))","v":"★"},{"$f":"INDEX(入力フォーム!$N4:$BEQ4,1,MATCH(AUF$175,入力フォーム!$N$5:$BEQ$5,0))","v":"★"},{"$f":"INDEX(入力フォーム!$N4:$BEQ4,1,MATCH(AUG$175,入力フォーム!$N$5:$BEQ$5,0))","v":"★"},{"$f":"INDEX(入力フォーム!$N4:$BEQ4,1,MATCH(AUH$175,入力フォーム!$N$5:$BEQ$5,0))","v":"★"},{"$f":"INDEX(入力フォーム!$N4:$BEQ4,1,MATCH(AUI$175,入力フォーム!$N$5:$BEQ$5,0))","v":"★"},{"$f":"INDEX(入力フォーム!$N4:$BEQ4,1,MATCH(AUJ$175,入力フォーム!$N$5:$BEQ$5,0))","v":"★"},{"$f":"INDEX(入力フォーム!$N4:$BEQ4,1,MATCH(AUK$175,入力フォーム!$N$5:$BEQ$5,0))","v":"★"},{"$f":"INDEX(入力フォーム!$N4:$BEQ4,1,MATCH(AUL$175,入力フォーム!$N$5:$BEQ$5,0))","v":"★"},{"$f":"INDEX(入力フォーム!$N4:$BEQ4,1,MATCH(AUM$175,入力フォーム!$N$5:$BEQ$5,0))","v":"★"},{"$f":"INDEX(入力フォーム!$N4:$BEQ4,1,MATCH(AUN$175,入力フォーム!$N$5:$BEQ$5,0))","v":"★"},{"$f":"INDEX(入力フォーム!$N4:$BEQ4,1,MATCH(AUO$175,入力フォーム!$N$5:$BEQ$5,0))","v":"★"},{"$f":"INDEX(入力フォーム!$N4:$BEQ4,1,MATCH(AUP$175,入力フォーム!$N$5:$BEQ$5,0))","v":"★"},{"$f":"INDEX(入力フォーム!$N4:$BEQ4,1,MATCH(AUQ$175,入力フォーム!$N$5:$BEQ$5,0))","v":"★"},{"$f":"INDEX(入力フォーム!$N4:$BEQ4,1,MATCH(AUR$175,入力フォーム!$N$5:$BEQ$5,0))","v":"★"},{"$f":"INDEX(入力フォーム!$N4:$BEQ4,1,MATCH(AUS$175,入力フォーム!$N$5:$BEQ$5,0))","v":"★"},{"$f":"INDEX(入力フォーム!$N4:$BEQ4,1,MATCH(AUT$175,入力フォーム!$N$5:$BEQ$5,0))","v":"★"},{"$f":"INDEX(入力フォーム!$N4:$BEQ4,1,MATCH(AUU$175,入力フォーム!$N$5:$BEQ$5,0))","v":"★"},{"$f":"INDEX(入力フォーム!$N4:$BEQ4,1,MATCH(AUV$175,入力フォーム!$N$5:$BEQ$5,0))","v":"★"},{"$f":"INDEX(入力フォーム!$N4:$BEQ4,1,MATCH(AUW$175,入力フォーム!$N$5:$BEQ$5,0))","v":"★"},{"$f":"INDEX(入力フォーム!$N4:$BEQ4,1,MATCH(AUX$175,入力フォーム!$N$5:$BEQ$5,0))","v":"★"},{"$f":"INDEX(入力フォーム!$N4:$BEQ4,1,MATCH(AUY$175,入力フォーム!$N$5:$BEQ$5,0))","v":"★"},{"$f":"INDEX(入力フォーム!$N4:$BEQ4,1,MATCH(AUZ$175,入力フォーム!$N$5:$BEQ$5,0))","v":"★"},{"$f":"INDEX(入力フォーム!$N4:$BEQ4,1,MATCH(AVA$175,入力フォーム!$N$5:$BEQ$5,0))","v":"★"},{"$f":"INDEX(入力フォーム!$N4:$BEQ4,1,MATCH(AVB$175,入力フォーム!$N$5:$BEQ$5,0))","v":"★"},{"$f":"INDEX(入力フォーム!$N4:$BEQ4,1,MATCH(AVC$175,入力フォーム!$N$5:$BEQ$5,0))","v":"★"},{"$f":"INDEX(入力フォーム!$N4:$BEQ4,1,MATCH(AVD$175,入力フォーム!$N$5:$BEQ$5,0))","v":"★"},{"$f":"INDEX(入力フォーム!$N4:$BEQ4,1,MATCH(AVE$175,入力フォーム!$N$5:$BEQ$5,0))","v":"★"},{"$f":"INDEX(入力フォーム!$N4:$BEQ4,1,MATCH(AVF$175,入力フォーム!$N$5:$BEQ$5,0))","v":"★"},{"$f":"INDEX(入力フォーム!$N4:$BEQ4,1,MATCH(AVG$175,入力フォーム!$N$5:$BEQ$5,0))","v":"★"},{"$f":"INDEX(入力フォーム!$N4:$BEQ4,1,MATCH(AVH$175,入力フォーム!$N$5:$BEQ$5,0))","v":"★"},{"$f":"INDEX(入力フォーム!$N4:$BEQ4,1,MATCH(AVI$175,入力フォーム!$N$5:$BEQ$5,0))","v":"★"},{"$f":"INDEX(入力フォーム!$N4:$BEQ4,1,MATCH(AVJ$175,入力フォーム!$N$5:$BEQ$5,0))","v":"★"},{"$f":"INDEX(入力フォーム!$N4:$BEQ4,1,MATCH(AVK$175,入力フォーム!$N$5:$BEQ$5,0))","v":"★"},{"$f":"INDEX(入力フォーム!$N4:$BEQ4,1,MATCH(AVL$175,入力フォーム!$N$5:$BEQ$5,0))","v":"★"},{"$f":"INDEX(入力フォーム!$N4:$BEQ4,1,MATCH(AVM$175,入力フォーム!$N$5:$BEQ$5,0))","v":"★"},{"$f":"INDEX(入力フォーム!$N4:$BEQ4,1,MATCH(AVN$175,入力フォーム!$N$5:$BEQ$5,0))","v":"★"},{"$f":"INDEX(入力フォーム!$N4:$BEQ4,1,MATCH(AVO$175,入力フォーム!$N$5:$BEQ$5,0))","v":"★"},{"$f":"INDEX(入力フォーム!$N4:$BEQ4,1,MATCH(AVP$175,入力フォーム!$N$5:$BEQ$5,0))","v":"★"},{"$f":"INDEX(入力フォーム!$N4:$BEQ4,1,MATCH(AVQ$175,入力フォーム!$N$5:$BEQ$5,0))","v":"★"},{"$f":"INDEX(入力フォーム!$N4:$BEQ4,1,MATCH(AVR$175,入力フォーム!$N$5:$BEQ$5,0))","v":"★"},{"$f":"INDEX(入力フォーム!$N4:$BEQ4,1,MATCH(AVS$175,入力フォーム!$N$5:$BEQ$5,0))","v":"★"},{"$f":"INDEX(入力フォーム!$N4:$BEQ4,1,MATCH(AVT$175,入力フォーム!$N$5:$BEQ$5,0))","v":"★"},{"$f":"INDEX(入力フォーム!$N4:$BEQ4,1,MATCH(AVU$175,入力フォーム!$N$5:$BEQ$5,0))","v":"★"},{"$f":"INDEX(入力フォーム!$N4:$BEQ4,1,MATCH(AVV$175,入力フォーム!$N$5:$BEQ$5,0))","v":"★"},{"$f":"INDEX(入力フォーム!$N4:$BEQ4,1,MATCH(AVW$175,入力フォーム!$N$5:$BEQ$5,0))","v":"★"},{"$f":"INDEX(入力フォーム!$N4:$BEQ4,1,MATCH(AVX$175,入力フォーム!$N$5:$BEQ$5,0))","v":"★"},{"$f":"INDEX(入力フォーム!$N4:$BEQ4,1,MATCH(AVY$175,入力フォーム!$N$5:$BEQ$5,0))","v":"★"},{"$f":"INDEX(入力フォーム!$N4:$BEQ4,1,MATCH(AVZ$175,入力フォーム!$N$5:$BEQ$5,0))","v":"★"},{"$f":"INDEX(入力フォーム!$N4:$BEQ4,1,MATCH(AWA$175,入力フォーム!$N$5:$BEQ$5,0))","v":"★"},{"$f":"INDEX(入力フォーム!$N4:$BEQ4,1,MATCH(AWB$175,入力フォーム!$N$5:$BEQ$5,0))","v":"★"},{"$f":"INDEX(入力フォーム!$N4:$BEQ4,1,MATCH(AWC$175,入力フォーム!$N$5:$BEQ$5,0))","v":"★"},{"$f":"INDEX(入力フォーム!$N4:$BEQ4,1,MATCH(AWD$175,入力フォーム!$N$5:$BEQ$5,0))","v":"★"},{"$f":"INDEX(入力フォーム!$N4:$BEQ4,1,MATCH(AWE$175,入力フォーム!$N$5:$BEQ$5,0))","v":"★"},{"$f":"INDEX(入力フォーム!$N4:$BEQ4,1,MATCH(AWF$175,入力フォーム!$N$5:$BEQ$5,0))","v":"★"},{"$f":"INDEX(入力フォーム!$N4:$BEQ4,1,MATCH(AWG$175,入力フォーム!$N$5:$BEQ$5,0))","v":"★"},{"$f":"INDEX(入力フォーム!$N4:$BEQ4,1,MATCH(AWH$175,入力フォーム!$N$5:$BEQ$5,0))","v":"★"},{"$f":"INDEX(入力フォーム!$N4:$BEQ4,1,MATCH(AWI$175,入力フォーム!$N$5:$BEQ$5,0))","v":"★"},{"$f":"INDEX(入力フォーム!$N4:$BEQ4,1,MATCH(AWJ$175,入力フォーム!$N$5:$BEQ$5,0))","v":"★"},{"$f":"INDEX(入力フォーム!$N4:$BEQ4,1,MATCH(AWK$175,入力フォーム!$N$5:$BEQ$5,0))","v":"★"},{"$f":"INDEX(入力フォーム!$N4:$BEQ4,1,MATCH(AWL$175,入力フォーム!$N$5:$BEQ$5,0))","v":"★"},{"$f":"INDEX(入力フォーム!$N4:$BEQ4,1,MATCH(AWM$175,入力フォーム!$N$5:$BEQ$5,0))","v":"★"},{"$f":"INDEX(入力フォーム!$N4:$BEQ4,1,MATCH(AWN$175,入力フォーム!$N$5:$BEQ$5,0))","v":"★"},{"$f":"INDEX(入力フォーム!$N4:$BEQ4,1,MATCH(AWO$175,入力フォーム!$N$5:$BEQ$5,0))","v":"★"},{"$f":"INDEX(入力フォーム!$N4:$BEQ4,1,MATCH(AWP$175,入力フォーム!$N$5:$BEQ$5,0))","v":"★"},{"$f":"INDEX(入力フォーム!$N4:$BEQ4,1,MATCH(AWQ$175,入力フォーム!$N$5:$BEQ$5,0))","v":"★"},{"$f":"INDEX(入力フォーム!$N4:$BEQ4,1,MATCH(AWR$175,入力フォーム!$N$5:$BEQ$5,0))","v":"★"},{"$f":"INDEX(入力フォーム!$N4:$BEQ4,1,MATCH(AWS$175,入力フォーム!$N$5:$BEQ$5,0))","v":"★"},{"$f":"INDEX(入力フォーム!$N4:$BEQ4,1,MATCH(AWT$175,入力フォーム!$N$5:$BEQ$5,0))","v":"★"},{"$f":"INDEX(入力フォーム!$N4:$BEQ4,1,MATCH(AWU$175,入力フォーム!$N$5:$BEQ$5,0))","v":"★"},{"$f":"INDEX(入力フォーム!$N4:$BEQ4,1,MATCH(AWV$175,入力フォーム!$N$5:$BEQ$5,0))","v":"★"},{"$f":"INDEX(入力フォーム!$N4:$BEQ4,1,MATCH(AWW$175,入力フォーム!$N$5:$BEQ$5,0))","v":"★"},{"$f":"INDEX(入力フォーム!$N4:$BEQ4,1,MATCH(AWX$175,入力フォーム!$N$5:$BEQ$5,0))","v":"★"},{"$f":"INDEX(入力フォーム!$N4:$BEQ4,1,MATCH(AWY$175,入力フォーム!$N$5:$BEQ$5,0))","v":"★"},{"$f":"INDEX(入力フォーム!$N4:$BEQ4,1,MATCH(AWZ$175,入力フォーム!$N$5:$BEQ$5,0))","v":"★"},{"$f":"INDEX(入力フォーム!$N4:$BEQ4,1,MATCH(AXA$175,入力フォーム!$N$5:$BEQ$5,0))","v":"★"},{"$f":"INDEX(入力フォーム!$N4:$BEQ4,1,MATCH(AXB$175,入力フォーム!$N$5:$BEQ$5,0))","v":"★"},{"$f":"INDEX(入力フォーム!$N4:$BEQ4,1,MATCH(AXC$175,入力フォーム!$N$5:$BEQ$5,0))","v":"★"},{"$f":"INDEX(入力フォーム!$N4:$BEQ4,1,MATCH(AXD$175,入力フォーム!$N$5:$BEQ$5,0))","v":"★"},{"$f":"INDEX(入力フォーム!$N4:$BEQ4,1,MATCH(AXE$175,入力フォーム!$N$5:$BEQ$5,0))","v":"★"},{"$f":"INDEX(入力フォーム!$N4:$BEQ4,1,MATCH(AXF$175,入力フォーム!$N$5:$BEQ$5,0))","v":"★"},{"$f":"INDEX(入力フォーム!$N4:$BEQ4,1,MATCH(AXG$175,入力フォーム!$N$5:$BEQ$5,0))","v":"★"},{"$f":"INDEX(入力フォーム!$N4:$BEQ4,1,MATCH(AXH$175,入力フォーム!$N$5:$BEQ$5,0))","v":"★"},{"$f":"INDEX(入力フォーム!$N4:$BEQ4,1,MATCH(AXI$175,入力フォーム!$N$5:$BEQ$5,0))","v":"★"},{"$f":"INDEX(入力フォーム!$N4:$BEQ4,1,MATCH(AXJ$175,入力フォーム!$N$5:$BEQ$5,0))","v":"★"},{"$f":"INDEX(入力フォーム!$N4:$BEQ4,1,MATCH(AXK$175,入力フォーム!$N$5:$BEQ$5,0))","v":"★"},{"$f":"INDEX(入力フォーム!$N4:$BEQ4,1,MATCH(AXL$175,入力フォーム!$N$5:$BEQ$5,0))","v":"★"},{"$f":"INDEX(入力フォーム!$N4:$BEQ4,1,MATCH(AXM$175,入力フォーム!$N$5:$BEQ$5,0))","v":"★"},{"$f":"INDEX(入力フォーム!$N4:$BEQ4,1,MATCH(AXN$175,入力フォーム!$N$5:$BEQ$5,0))","v":"★"},{"$f":"INDEX(入力フォーム!$N4:$BEQ4,1,MATCH(AXO$175,入力フォーム!$N$5:$BEQ$5,0))","v":"★"},{"$f":"INDEX(入力フォーム!$N4:$BEQ4,1,MATCH(AXP$175,入力フォーム!$N$5:$BEQ$5,0))","v":"★"},{"$f":"INDEX(入力フォーム!$N4:$BEQ4,1,MATCH(AXQ$175,入力フォーム!$N$5:$BEQ$5,0))","v":"★"},{"$f":"INDEX(入力フォーム!$N4:$BEQ4,1,MATCH(AXR$175,入力フォーム!$N$5:$BEQ$5,0))","v":"★"},{"$f":"INDEX(入力フォーム!$N4:$BEQ4,1,MATCH(AXS$175,入力フォーム!$N$5:$BEQ$5,0))","v":"★"},{"$f":"INDEX(入力フォーム!$N4:$BEQ4,1,MATCH(AXT$175,入力フォーム!$N$5:$BEQ$5,0))","v":"★"},{"$f":"INDEX(入力フォーム!$N4:$BEQ4,1,MATCH(AXU$175,入力フォーム!$N$5:$BEQ$5,0))","v":"★"},{"$f":"INDEX(入力フォーム!$N4:$BEQ4,1,MATCH(AXV$175,入力フォーム!$N$5:$BEQ$5,0))","v":"★"},{"$f":"INDEX(入力フォーム!$N4:$BEQ4,1,MATCH(AXW$175,入力フォーム!$N$5:$BEQ$5,0))","v":"★"},{"$f":"INDEX(入力フォーム!$N4:$BEQ4,1,MATCH(AXX$175,入力フォーム!$N$5:$BEQ$5,0))","v":"★"},{"$f":"INDEX(入力フォーム!$N4:$BEQ4,1,MATCH(AXY$175,入力フォーム!$N$5:$BEQ$5,0))","v":"★"},{"$f":"INDEX(入力フォーム!$N4:$BEQ4,1,MATCH(AXZ$175,入力フォーム!$N$5:$BEQ$5,0))","v":"★"},{"$f":"INDEX(入力フォーム!$N4:$BEQ4,1,MATCH(AYA$175,入力フォーム!$N$5:$BEQ$5,0))","v":"★"},{"$f":"INDEX(入力フォーム!$N4:$BEQ4,1,MATCH(AYB$175,入力フォーム!$N$5:$BEQ$5,0))","v":"★"},{"$f":"INDEX(入力フォーム!$N4:$BEQ4,1,MATCH(AYC$175,入力フォーム!$N$5:$BEQ$5,0))","v":"★"},{"$f":"INDEX(入力フォーム!$N4:$BEQ4,1,MATCH(AYD$175,入力フォーム!$N$5:$BEQ$5,0))","v":"★"},{"$f":"INDEX(入力フォーム!$N4:$BEQ4,1,MATCH(AYE$175,入力フォーム!$N$5:$BEQ$5,0))","v":"★"},{"$f":"INDEX(入力フォーム!$N4:$BEQ4,1,MATCH(AYF$175,入力フォーム!$N$5:$BEQ$5,0))","v":"★"},{"$f":"INDEX(入力フォーム!$N4:$BEQ4,1,MATCH(AYG$175,入力フォーム!$N$5:$BEQ$5,0))","v":"★"},{"$f":"INDEX(入力フォーム!$N4:$BEQ4,1,MATCH(AYH$175,入力フォーム!$N$5:$BEQ$5,0))","v":"★"},{"$f":"INDEX(入力フォーム!$N4:$BEQ4,1,MATCH(AYI$175,入力フォーム!$N$5:$BEQ$5,0))","v":"★"},{"$f":"INDEX(入力フォーム!$N4:$BEQ4,1,MATCH(AYJ$175,入力フォーム!$N$5:$BEQ$5,0))","v":"★"},{"$f":"INDEX(入力フォーム!$N4:$BEQ4,1,MATCH(AYK$175,入力フォーム!$N$5:$BEQ$5,0))","v":"★"},{"$f":"INDEX(入力フォーム!$N4:$BEQ4,1,MATCH(AYL$175,入力フォーム!$N$5:$BEQ$5,0))","v":"★"},{"$f":"INDEX(入力フォーム!$N4:$BEQ4,1,MATCH(AYM$175,入力フォーム!$N$5:$BEQ$5,0))","v":"★"},{"$f":"INDEX(入力フォーム!$N4:$BEQ4,1,MATCH(AYN$175,入力フォーム!$N$5:$BEQ$5,0))","v":"★"},{"$f":"INDEX(入力フォーム!$N4:$BEQ4,1,MATCH(AYO$175,入力フォーム!$N$5:$BEQ$5,0))","v":"★"},{"$f":"INDEX(入力フォーム!$N4:$BEQ4,1,MATCH(AYP$175,入力フォーム!$N$5:$BEQ$5,0))","v":"★"},{"$f":"INDEX(入力フォーム!$N4:$BEQ4,1,MATCH(AYQ$175,入力フォーム!$N$5:$BEQ$5,0))","v":"★"},{"$f":"INDEX(入力フォーム!$N4:$BEQ4,1,MATCH(AYR$175,入力フォーム!$N$5:$BEQ$5,0))","v":"★"},{"$f":"INDEX(入力フォーム!$N4:$BEQ4,1,MATCH(AYS$175,入力フォーム!$N$5:$BEQ$5,0))","v":"★"},{"$f":"INDEX(入力フォーム!$N4:$BEQ4,1,MATCH(AYT$175,入力フォーム!$N$5:$BEQ$5,0))","v":"★"},{"$f":"INDEX(入力フォーム!$N4:$BEQ4,1,MATCH(AYU$175,入力フォーム!$N$5:$BEQ$5,0))","v":"★"},{"$f":"INDEX(入力フォーム!$N4:$BEQ4,1,MATCH(AYV$175,入力フォーム!$N$5:$BEQ$5,0))","v":"★"},{"$f":"INDEX(入力フォーム!$N4:$BEQ4,1,MATCH(AYW$175,入力フォーム!$N$5:$BEQ$5,0))","v":"★"},{"$f":"INDEX(入力フォーム!$N4:$BEQ4,1,MATCH(AYX$175,入力フォーム!$N$5:$BEQ$5,0))","v":"★"},{"$f":"INDEX(入力フォーム!$N4:$BEQ4,1,MATCH(AYY$175,入力フォーム!$N$5:$BEQ$5,0))","v":"★"},{"$f":"INDEX(入力フォーム!$N4:$BEQ4,1,MATCH(AYZ$175,入力フォーム!$N$5:$BEQ$5,0))","v":"★"},{"$f":"INDEX(入力フォーム!$N4:$BEQ4,1,MATCH(AZA$175,入力フォーム!$N$5:$BEQ$5,0))","v":"★"},{"$f":"INDEX(入力フォーム!$N4:$BEQ4,1,MATCH(AZB$175,入力フォーム!$N$5:$BEQ$5,0))","v":"★"},{"$f":"INDEX(入力フォーム!$N4:$BEQ4,1,MATCH(AZC$175,入力フォーム!$N$5:$BEQ$5,0))","v":"★"},{"$f":"INDEX(入力フォーム!$N4:$BEQ4,1,MATCH(AZD$175,入力フォーム!$N$5:$BEQ$5,0))","v":"★"},{"$f":"INDEX(入力フォーム!$N4:$BEQ4,1,MATCH(AZE$175,入力フォーム!$N$5:$BEQ$5,0))","v":"★"},{"$f":"INDEX(入力フォーム!$N4:$BEQ4,1,MATCH(AZF$175,入力フォーム!$N$5:$BEQ$5,0))","v":"★"},{"$f":"INDEX(入力フォーム!$N4:$BEQ4,1,MATCH(AZG$175,入力フォーム!$N$5:$BEQ$5,0))","v":"★"},{"$f":"INDEX(入力フォーム!$N4:$BEQ4,1,MATCH(AZH$175,入力フォーム!$N$5:$BEQ$5,0))","v":"★"},{"$f":"INDEX(入力フォーム!$N4:$BEQ4,1,MATCH(AZI$175,入力フォーム!$N$5:$BEQ$5,0))","v":"★"},{"$f":"INDEX(入力フォーム!$N4:$BEQ4,1,MATCH(AZJ$175,入力フォーム!$N$5:$BEQ$5,0))","v":"★"},{"$f":"INDEX(入力フォーム!$N4:$BEQ4,1,MATCH(AZK$175,入力フォーム!$N$5:$BEQ$5,0))","v":"★"},{"$f":"INDEX(入力フォーム!$N4:$BEQ4,1,MATCH(AZL$175,入力フォーム!$N$5:$BEQ$5,0))","v":"★"},{"$f":"INDEX(入力フォーム!$N4:$BEQ4,1,MATCH(AZM$175,入力フォーム!$N$5:$BEQ$5,0))","v":"★"},{"$f":"INDEX(入力フォーム!$N4:$BEQ4,1,MATCH(AZN$175,入力フォーム!$N$5:$BEQ$5,0))","v":"★"},{"$f":"INDEX(入力フォーム!$N4:$BEQ4,1,MATCH(AZO$175,入力フォーム!$N$5:$BEQ$5,0))","v":"★"},{"$f":"INDEX(入力フォーム!$N4:$BEQ4,1,MATCH(AZP$175,入力フォーム!$N$5:$BEQ$5,0))","v":"★"},{"$f":"INDEX(入力フォーム!$N4:$BEQ4,1,MATCH(AZQ$175,入力フォーム!$N$5:$BEQ$5,0))","v":"★"},{"$f":"INDEX(入力フォーム!$N4:$BEQ4,1,MATCH(AZR$175,入力フォーム!$N$5:$BEQ$5,0))","v":"★"},{"$f":"INDEX(入力フォーム!$N4:$BEQ4,1,MATCH(AZS$175,入力フォーム!$N$5:$BEQ$5,0))","v":"★"},{"$f":"INDEX(入力フォーム!$N4:$BEQ4,1,MATCH(AZT$175,入力フォーム!$N$5:$BEQ$5,0))","v":"★"},{"$f":"INDEX(入力フォーム!$N4:$BEQ4,1,MATCH(AZU$175,入力フォーム!$N$5:$BEQ$5,0))","v":"★"},{"$f":"INDEX(入力フォーム!$N4:$BEQ4,1,MATCH(AZV$175,入力フォーム!$N$5:$BEQ$5,0))","v":"★"},{"$f":"INDEX(入力フォーム!$N4:$BEQ4,1,MATCH(AZW$175,入力フォーム!$N$5:$BEQ$5,0))","v":"★"},{"$f":"INDEX(入力フォーム!$N4:$BEQ4,1,MATCH(AZX$175,入力フォーム!$N$5:$BEQ$5,0))","v":"★"},{"$f":"INDEX(入力フォーム!$N4:$BEQ4,1,MATCH(AZY$175,入力フォーム!$N$5:$BEQ$5,0))","v":"★"},{"$f":"INDEX(入力フォーム!$N4:$BEQ4,1,MATCH(AZZ$175,入力フォーム!$N$5:$BEQ$5,0))","v":"★"},{"$f":"INDEX(入力フォーム!$N4:$BEQ4,1,MATCH(BAA$175,入力フォーム!$N$5:$BEQ$5,0))","v":"★"},{"$f":"INDEX(入力フォーム!$N4:$BEQ4,1,MATCH(BAB$175,入力フォーム!$N$5:$BEQ$5,0))","v":"★"},{"$f":"INDEX(入力フォーム!$N4:$BEQ4,1,MATCH(BAC$175,入力フォーム!$N$5:$BEQ$5,0))","v":"★"},{"$f":"INDEX(入力フォーム!$N4:$BEQ4,1,MATCH(BAD$175,入力フォーム!$N$5:$BEQ$5,0))","v":"★"},{"$f":"INDEX(入力フォーム!$N4:$BEQ4,1,MATCH(BAE$175,入力フォーム!$N$5:$BEQ$5,0))","v":"★"},{"$f":"INDEX(入力フォーム!$N4:$BEQ4,1,MATCH(BAF$175,入力フォーム!$N$5:$BEQ$5,0))","v":"★"},{"$f":"INDEX(入力フォーム!$N4:$BEQ4,1,MATCH(BAG$175,入力フォーム!$N$5:$BEQ$5,0))","v":"★"},{"$f":"INDEX(入力フォーム!$N4:$BEQ4,1,MATCH(BAH$175,入力フォーム!$N$5:$BEQ$5,0))","v":"★"},{"$f":"INDEX(入力フォーム!$N4:$BEQ4,1,MATCH(BAI$175,入力フォーム!$N$5:$BEQ$5,0))","v":"★"},{"$f":"INDEX(入力フォーム!$N4:$BEQ4,1,MATCH(BAJ$175,入力フォーム!$N$5:$BEQ$5,0))","v":"★"},{"$f":"INDEX(入力フォーム!$N4:$BEQ4,1,MATCH(BAK$175,入力フォーム!$N$5:$BEQ$5,0))","v":"★"},{"$f":"INDEX(入力フォーム!$N4:$BEQ4,1,MATCH(BAL$175,入力フォーム!$N$5:$BEQ$5,0))","v":"★"},{"$f":"INDEX(入力フォーム!$N4:$BEQ4,1,MATCH(BAM$175,入力フォーム!$N$5:$BEQ$5,0))","v":"★"},{"$f":"INDEX(入力フォーム!$N4:$BEQ4,1,MATCH(BAN$175,入力フォーム!$N$5:$BEQ$5,0))","v":"★"},{"$f":"INDEX(入力フォーム!$N4:$BEQ4,1,MATCH(BAO$175,入力フォーム!$N$5:$BEQ$5,0))","v":"★"},{"$f":"INDEX(入力フォーム!$N4:$BEQ4,1,MATCH(BAP$175,入力フォーム!$N$5:$BEQ$5,0))","v":"★"},{"$f":"INDEX(入力フォーム!$N4:$BEQ4,1,MATCH(BAQ$175,入力フォーム!$N$5:$BEQ$5,0))","v":"★"},{"$f":"INDEX(入力フォーム!$N4:$BEQ4,1,MATCH(BAR$175,入力フォーム!$N$5:$BEQ$5,0))","v":"★"},{"$f":"INDEX(入力フォーム!$N4:$BEQ4,1,MATCH(BAS$175,入力フォーム!$N$5:$BEQ$5,0))","v":"★"},{"$f":"INDEX(入力フォーム!$N4:$BEQ4,1,MATCH(BAT$175,入力フォーム!$N$5:$BEQ$5,0))","v":"★"},{"$f":"INDEX(入力フォーム!$N4:$BEQ4,1,MATCH(BAU$175,入力フォーム!$N$5:$BEQ$5,0))","v":"★"},{"$f":"INDEX(入力フォーム!$N4:$BEQ4,1,MATCH(BAV$175,入力フォーム!$N$5:$BEQ$5,0))","v":"★"},{"$f":"INDEX(入力フォーム!$N4:$BEQ4,1,MATCH(BAW$175,入力フォーム!$N$5:$BEQ$5,0))","v":"★"},{"$f":"INDEX(入力フォーム!$N4:$BEQ4,1,MATCH(BAX$175,入力フォーム!$N$5:$BEQ$5,0))","v":"★"},{"$f":"INDEX(入力フォーム!$N4:$BEQ4,1,MATCH(BAY$175,入力フォーム!$N$5:$BEQ$5,0))","v":"★"},{"$f":"INDEX(入力フォーム!$N4:$BEQ4,1,MATCH(BAZ$175,入力フォーム!$N$5:$BEQ$5,0))","v":"★"},{"$f":"INDEX(入力フォーム!$N4:$BEQ4,1,MATCH(BBA$175,入力フォーム!$N$5:$BEQ$5,0))","v":"★"},{"$f":"INDEX(入力フォーム!$N4:$BEQ4,1,MATCH(BBB$175,入力フォーム!$N$5:$BEQ$5,0))","v":"★"},{"$f":"INDEX(入力フォーム!$N4:$BEQ4,1,MATCH(BBC$175,入力フォーム!$N$5:$BEQ$5,0))","v":"★"},{"$f":"INDEX(入力フォーム!$N4:$BEQ4,1,MATCH(BBD$175,入力フォーム!$N$5:$BEQ$5,0))","v":"★"},{"$f":"INDEX(入力フォーム!$N4:$BEQ4,1,MATCH(BBE$175,入力フォーム!$N$5:$BEQ$5,0))","v":"★"},{"$f":"INDEX(入力フォーム!$N4:$BEQ4,1,MATCH(BBF$175,入力フォーム!$N$5:$BEQ$5,0))","v":"★"},{"$f":"INDEX(入力フォーム!$N4:$BEQ4,1,MATCH(BBG$175,入力フォーム!$N$5:$BEQ$5,0))","v":"★"},{"$f":"INDEX(入力フォーム!$N4:$BEQ4,1,MATCH(BBH$175,入力フォーム!$N$5:$BEQ$5,0))","v":"★"},{"$f":"INDEX(入力フォーム!$N4:$BEQ4,1,MATCH(BBI$175,入力フォーム!$N$5:$BEQ$5,0))","v":"★"},{"$f":"INDEX(入力フォーム!$N4:$BEQ4,1,MATCH(BBJ$175,入力フォーム!$N$5:$BEQ$5,0))","v":"★"},{"$f":"INDEX(入力フォーム!$N4:$BEQ4,1,MATCH(BBK$175,入力フォーム!$N$5:$BEQ$5,0))","v":"★"},{"$f":"INDEX(入力フォーム!$N4:$BEQ4,1,MATCH(BBL$175,入力フォーム!$N$5:$BEQ$5,0))","v":"★"},{"$f":"INDEX(入力フォーム!$N4:$BEQ4,1,MATCH(BBM$175,入力フォーム!$N$5:$BEQ$5,0))","v":"★"},{"$f":"INDEX(入力フォーム!$N4:$BEQ4,1,MATCH(BBN$175,入力フォーム!$N$5:$BEQ$5,0))","v":"★"},{"$f":"INDEX(入力フォーム!$N4:$BEQ4,1,MATCH(BBO$175,入力フォーム!$N$5:$BEQ$5,0))","v":"★"},{"$f":"INDEX(入力フォーム!$N4:$BEQ4,1,MATCH(BBP$175,入力フォーム!$N$5:$BEQ$5,0))","v":"★"},{"$f":"INDEX(入力フォーム!$N4:$BEQ4,1,MATCH(BBQ$175,入力フォーム!$N$5:$BEQ$5,0))","v":"★"},{"$f":"INDEX(入力フォーム!$N4:$BEQ4,1,MATCH(BBR$175,入力フォーム!$N$5:$BEQ$5,0))","v":"★"},{"$f":"INDEX(入力フォーム!$N4:$BEQ4,1,MATCH(BBS$175,入力フォーム!$N$5:$BEQ$5,0))","v":"★"},{"$f":"INDEX(入力フォーム!$N4:$BEQ4,1,MATCH(BBT$175,入力フォーム!$N$5:$BEQ$5,0))","v":"★"},{"$f":"INDEX(入力フォーム!$N4:$BEQ4,1,MATCH(BBU$175,入力フォーム!$N$5:$BEQ$5,0))","v":"★"},{"$f":"INDEX(入力フォーム!$N4:$BEQ4,1,MATCH(BBV$175,入力フォーム!$N$5:$BEQ$5,0))","v":"★"},{"$f":"INDEX(入力フォーム!$N4:$BEQ4,1,MATCH(BBW$175,入力フォーム!$N$5:$BEQ$5,0))","v":"★"},{"$f":"INDEX(入力フォーム!$N4:$BEQ4,1,MATCH(BBX$175,入力フォーム!$N$5:$BEQ$5,0))","v":"★"},{"$f":"INDEX(入力フォーム!$N4:$BEQ4,1,MATCH(BBY$175,入力フォーム!$N$5:$BEQ$5,0))","v":"★"},{"$f":"INDEX(入力フォーム!$N4:$BEQ4,1,MATCH(BBZ$175,入力フォーム!$N$5:$BEQ$5,0))","v":"★"},{"$f":"INDEX(入力フォーム!$N4:$BEQ4,1,MATCH(BCA$175,入力フォーム!$N$5:$BEQ$5,0))","v":"★"},{"$f":"INDEX(入力フォーム!$N4:$BEQ4,1,MATCH(BCB$175,入力フォーム!$N$5:$BEQ$5,0))","v":"★"},{"$f":"INDEX(入力フォーム!$N4:$BEQ4,1,MATCH(BCC$175,入力フォーム!$N$5:$BEQ$5,0))","v":"★"},{"$f":"INDEX(入力フォーム!$N4:$BEQ4,1,MATCH(BCD$175,入力フォーム!$N$5:$BEQ$5,0))","v":"★"},{"$f":"INDEX(入力フォーム!$N4:$BEQ4,1,MATCH(BCE$175,入力フォーム!$N$5:$BEQ$5,0))","v":"★"},{"$f":"INDEX(入力フォーム!$N4:$BEQ4,1,MATCH(BCF$175,入力フォーム!$N$5:$BEQ$5,0))","v":"★"},{"$f":"INDEX(入力フォーム!$N4:$BEQ4,1,MATCH(BCG$175,入力フォーム!$N$5:$BEQ$5,0))","v":"★"},{"$f":"INDEX(入力フォーム!$N4:$BEQ4,1,MATCH(BCH$175,入力フォーム!$N$5:$BEQ$5,0))","v":"★"},{"$f":"INDEX(入力フォーム!$N4:$BEQ4,1,MATCH(BCI$175,入力フォーム!$N$5:$BEQ$5,0))","v":"★"},{"$f":"INDEX(入力フォーム!$N4:$BEQ4,1,MATCH(BCJ$175,入力フォーム!$N$5:$BEQ$5,0))","v":"★"},{"$f":"INDEX(入力フォーム!$N4:$BEQ4,1,MATCH(BCK$175,入力フォーム!$N$5:$BEQ$5,0))","v":"★"},{"$f":"INDEX(入力フォーム!$N4:$BEQ4,1,MATCH(BCL$175,入力フォーム!$N$5:$BEQ$5,0))","v":"★"},{"$f":"INDEX(入力フォーム!$N4:$BEQ4,1,MATCH(BCM$175,入力フォーム!$N$5:$BEQ$5,0))","v":"★"},{"$f":"INDEX(入力フォーム!$N4:$BEQ4,1,MATCH(BCN$175,入力フォーム!$N$5:$BEQ$5,0))","v":"★"},{"$f":"INDEX(入力フォーム!$N4:$BEQ4,1,MATCH(BCO$175,入力フォーム!$N$5:$BEQ$5,0))","v":"★"},{"$f":"INDEX(入力フォーム!$N4:$BEQ4,1,MATCH(BCP$175,入力フォーム!$N$5:$BEQ$5,0))","v":"★"},{"$f":"INDEX(入力フォーム!$N4:$BEQ4,1,MATCH(BCQ$175,入力フォーム!$N$5:$BEQ$5,0))","v":"★"},{"$f":"INDEX(入力フォーム!$N4:$BEQ4,1,MATCH(BCR$175,入力フォーム!$N$5:$BEQ$5,0))","v":"★"},{"$f":"INDEX(入力フォーム!$N4:$BEQ4,1,MATCH(BCS$175,入力フォーム!$N$5:$BEQ$5,0))","v":"★"},{"$f":"INDEX(入力フォーム!$N4:$BEQ4,1,MATCH(BCT$175,入力フォーム!$N$5:$BEQ$5,0))","v":"★"},{"$f":"INDEX(入力フォーム!$N4:$BEQ4,1,MATCH(BCU$175,入力フォーム!$N$5:$BEQ$5,0))","v":"★"},{"$f":"INDEX(入力フォーム!$N4:$BEQ4,1,MATCH(BCV$175,入力フォーム!$N$5:$BEQ$5,0))","v":"★"},{"$f":"INDEX(入力フォーム!$N4:$BEQ4,1,MATCH(BCW$175,入力フォーム!$N$5:$BEQ$5,0))","v":"★"},{"$f":"INDEX(入力フォーム!$N4:$BEQ4,1,MATCH(BCX$175,入力フォーム!$N$5:$BEQ$5,0))","v":"★"},{"$f":"INDEX(入力フォーム!$N4:$BEQ4,1,MATCH(BCY$175,入力フォーム!$N$5:$BEQ$5,0))","v":"★"},{"$f":"INDEX(入力フォーム!$N4:$BEQ4,1,MATCH(BCZ$175,入力フォーム!$N$5:$BEQ$5,0))","v":"★"},{"$f":"INDEX(入力フォーム!$N4:$BEQ4,1,MATCH(BDA$175,入力フォーム!$N$5:$BEQ$5,0))","v":"★"},{"$f":"INDEX(入力フォーム!$N4:$BEQ4,1,MATCH(BDB$175,入力フォーム!$N$5:$BEQ$5,0))","v":"★"},{"$f":"INDEX(入力フォーム!$N4:$BEQ4,1,MATCH(BDC$175,入力フォーム!$N$5:$BEQ$5,0))","v":"★"},{"$f":"INDEX(入力フォーム!$N4:$BEQ4,1,MATCH(BDD$175,入力フォーム!$N$5:$BEQ$5,0))","v":"★"},{"$f":"INDEX(入力フォーム!$N4:$BEQ4,1,MATCH(BDE$175,入力フォーム!$N$5:$BEQ$5,0))","v":"★"},{"$f":"INDEX(入力フォーム!$N4:$BEQ4,1,MATCH(BDF$175,入力フォーム!$N$5:$BEQ$5,0))","v":"★"},{"$f":"INDEX(入力フォーム!$N4:$BEQ4,1,MATCH(BDG$175,入力フォーム!$N$5:$BEQ$5,0))","v":"★"},{"$f":"INDEX(入力フォーム!$N4:$BEQ4,1,MATCH(BDH$175,入力フォーム!$N$5:$BEQ$5,0))","v":"★"},{"$f":"INDEX(入力フォーム!$N4:$BEQ4,1,MATCH(BDI$175,入力フォーム!$N$5:$BEQ$5,0))","v":"★"},{"$f":"INDEX(入力フォーム!$N4:$BEQ4,1,MATCH(BDJ$175,入力フォーム!$N$5:$BEQ$5,0))","v":"★"},{"$f":"INDEX(入力フォーム!$N4:$BEQ4,1,MATCH(BDK$175,入力フォーム!$N$5:$BEQ$5,0))","v":"★"},{"$f":"INDEX(入力フォーム!$N4:$BEQ4,1,MATCH(BDL$175,入力フォーム!$N$5:$BEQ$5,0))","v":"★"},{"$f":"INDEX(入力フォーム!$N4:$BEQ4,1,MATCH(BDM$175,入力フォーム!$N$5:$BEQ$5,0))","v":"★"},{"$f":"INDEX(入力フォーム!$N4:$BEQ4,1,MATCH(BDN$175,入力フォーム!$N$5:$BEQ$5,0))","v":"★"},{"$f":"INDEX(入力フォーム!$N4:$BEQ4,1,MATCH(BDO$175,入力フォーム!$N$5:$BEQ$5,0))","v":"★"},{"$f":"INDEX(入力フォーム!$N4:$BEQ4,1,MATCH(BDP$175,入力フォーム!$N$5:$BEQ$5,0))","v":"★"},{"$f":"INDEX(入力フォーム!$N4:$BEQ4,1,MATCH(BDQ$175,入力フォーム!$N$5:$BEQ$5,0))","v":"★"},{"$f":"INDEX(入力フォーム!$N4:$BEQ4,1,MATCH(BDR$175,入力フォーム!$N$5:$BEQ$5,0))","v":"★"},{"$f":"INDEX(入力フォーム!$N4:$BEQ4,1,MATCH(BDS$175,入力フォーム!$N$5:$BEQ$5,0))","v":"★"},{"$f":"INDEX(入力フォーム!$N4:$BEQ4,1,MATCH(BDT$175,入力フォーム!$N$5:$BEQ$5,0))","v":"★"},{"$f":"INDEX(入力フォーム!$N4:$BEQ4,1,MATCH(BDU$175,入力フォーム!$N$5:$BEQ$5,0))","v":"★"},{"$f":"INDEX(入力フォーム!$N4:$BEQ4,1,MATCH(BDV$175,入力フォーム!$N$5:$BEQ$5,0))","v":"★"},{"$f":"INDEX(入力フォーム!$N4:$BEQ4,1,MATCH(BDW$175,入力フォーム!$N$5:$BEQ$5,0))","v":"★"},{"$f":"INDEX(入力フォーム!$N4:$BEQ4,1,MATCH(BDX$175,入力フォーム!$N$5:$BEQ$5,0))","v":"★"},{"$f":"INDEX(入力フォーム!$N4:$BEQ4,1,MATCH(BDY$175,入力フォーム!$N$5:$BEQ$5,0))","v":"★"},{"$f":"INDEX(入力フォーム!$N4:$BEQ4,1,MATCH(BDZ$175,入力フォーム!$N$5:$BEQ$5,0))","v":"★"},{"$f":"INDEX(入力フォーム!$N4:$BEQ4,1,MATCH(BEA$175,入力フォーム!$N$5:$BEQ$5,0))","v":"★"},{"$f":"INDEX(入力フォーム!$N4:$BEQ4,1,MATCH(BEB$175,入力フォーム!$N$5:$BEQ$5,0))","v":"★"},{"$f":"INDEX(入力フォーム!$N4:$BEQ4,1,MATCH(BEC$175,入力フォーム!$N$5:$BEQ$5,0))","v":"★"},{"$f":"INDEX(入力フォーム!$N4:$BEQ4,1,MATCH(BED$175,入力フォーム!$N$5:$BEQ$5,0))","v":"★"},{"$f":"INDEX(入力フォーム!$N4:$BEQ4,1,MATCH(BEE$175,入力フォーム!$N$5:$BEQ$5,0))","v":"★"},{"$f":"INDEX(入力フォーム!$N4:$BEQ4,1,MATCH(BEF$175,入力フォーム!$N$5:$BEQ$5,0))","v":"★"},{"$f":"INDEX(入力フォーム!$N4:$BEQ4,1,MATCH(BEG$175,入力フォーム!$N$5:$BEQ$5,0))","v":"★"},{"$f":"INDEX(入力フォーム!$N4:$BEQ4,1,MATCH(BEH$175,入力フォーム!$N$5:$BEQ$5,0))","v":"★"},{"$f":"INDEX(入力フォーム!$N4:$BEQ4,1,MATCH(BEI$175,入力フォーム!$N$5:$BEQ$5,0))","v":"★"},{"$f":"INDEX(入力フォーム!$N4:$BEQ4,1,MATCH(BEJ$175,入力フォーム!$N$5:$BEQ$5,0))","v":"★"},{"$f":"INDEX(入力フォーム!$N4:$BEQ4,1,MATCH(BEK$175,入力フォーム!$N$5:$BEQ$5,0))","v":"★"},{"$f":"INDEX(入力フォーム!$N4:$BEQ4,1,MATCH(BEL$175,入力フォーム!$N$5:$BEQ$5,0))","v":"★"},{"$f":"INDEX(入力フォーム!$N4:$BEQ4,1,MATCH(BEM$175,入力フォーム!$N$5:$BEQ$5,0))","v":"★"},{"$f":"INDEX(入力フォーム!$N4:$BEQ4,1,MATCH(BEN$175,入力フォーム!$N$5:$BEQ$5,0))","v":"★"},{"$f":"INDEX(入力フォーム!$N4:$BEQ4,1,MATCH(BEO$175,入力フォーム!$N$5:$BEQ$5,0))","v":"★"},{"$f":"INDEX(入力フォーム!$N4:$BEQ4,1,MATCH(BEP$175,入力フォーム!$N$5:$BEQ$5,0))","v":"★"},{"$f":"INDEX(入力フォーム!$N4:$BEQ4,1,MATCH(BEQ$175,入力フォーム!$N$5:$BEQ$5,0))","v":"★"},{"$f":"INDEX(入力フォーム!$N4:$BEQ4,1,MATCH(BER$175,入力フォーム!$N$5:$BEQ$5,0))","v":"★"},{"$f":"INDEX(入力フォーム!$N4:$BEQ4,1,MATCH(BES$175,入力フォーム!$N$5:$BEQ$5,0))","v":"★"},{"$f":"INDEX(入力フォーム!$N4:$BEQ4,1,MATCH(BET$175,入力フォーム!$N$5:$BEQ$5,0))","v":"★"},{"$f":"INDEX(入力フォーム!$N4:$BEQ4,1,MATCH(BEU$175,入力フォーム!$N$5:$BEQ$5,0))","v":"★"},{"$f":"INDEX(入力フォーム!$N4:$BEQ4,1,MATCH(BEV$175,入力フォーム!$N$5:$BEQ$5,0))","v":"★"},{"$f":"INDEX(入力フォーム!$N4:$BEQ4,1,MATCH(BEW$175,入力フォーム!$N$5:$BEQ$5,0))","v":"★"},{"$f":"INDEX(入力フォーム!$N4:$BEQ4,1,MATCH(BEX$175,入力フォーム!$N$5:$BEQ$5,0))","v":"★"},{"$f":"INDEX(入力フォーム!$N4:$BEQ4,1,MATCH(BEY$175,入力フォーム!$N$5:$BEQ$5,0))","v":"★"},{"$f":"INDEX(入力フォーム!$N4:$BEQ4,1,MATCH(BEZ$175,入力フォーム!$N$5:$BEQ$5,0))","v":"★"},{"$f":"INDEX(入力フォーム!$N4:$BEQ4,1,MATCH(BFA$175,入力フォーム!$N$5:$BEQ$5,0))","v":"★"},{"$f":"INDEX(入力フォーム!$N4:$BEQ4,1,MATCH(BFB$175,入力フォーム!$N$5:$BEQ$5,0))","v":"★"},{"$f":"INDEX(入力フォーム!$N4:$BEQ4,1,MATCH(BFC$175,入力フォーム!$N$5:$BEQ$5,0))","v":"★"},{"$f":"INDEX(入力フォーム!$N4:$BEQ4,1,MATCH(BFD$175,入力フォーム!$N$5:$BEQ$5,0))","v":"★"},{"$f":"INDEX(入力フォーム!$N4:$BEQ4,1,MATCH(BFE$175,入力フォーム!$N$5:$BEQ$5,0))","v":"★"},{"$f":"INDEX(入力フォーム!$N4:$BEQ4,1,MATCH(BFF$175,入力フォーム!$N$5:$BEQ$5,0))","v":"★"},{"$f":"INDEX(入力フォーム!$N4:$BEQ4,1,MATCH(BFG$175,入力フォーム!$N$5:$BEQ$5,0))","v":"★"},{"$f":"INDEX(入力フォーム!$N4:$BEQ4,1,MATCH(BFH$175,入力フォーム!$N$5:$BEQ$5,0))","v":"★"},{"$f":"INDEX(入力フォーム!$N4:$BEQ4,1,MATCH(BFI$175,入力フォーム!$N$5:$BEQ$5,0))","v":"★"},{"$f":"INDEX(入力フォーム!$N4:$BEQ4,1,MATCH(BFJ$175,入力フォーム!$N$5:$BEQ$5,0))","v":"★"},{"$f":"INDEX(入力フォーム!$N4:$BEQ4,1,MATCH(BFK$175,入力フォーム!$N$5:$BEQ$5,0))","v":"★"},{"$f":"INDEX(入力フォーム!$N4:$BEQ4,1,MATCH(BFL$175,入力フォーム!$N$5:$BEQ$5,0))","v":"★"},{"$f":"INDEX(入力フォーム!$N4:$BEQ4,1,MATCH(BFM$175,入力フォーム!$N$5:$BEQ$5,0))","v":"★"},{"$f":"INDEX(入力フォーム!$N4:$BEQ4,1,MATCH(BFN$175,入力フォーム!$N$5:$BEQ$5,0))","v":"★"},{"$f":"INDEX(入力フォーム!$N4:$BEQ4,1,MATCH(BFO$175,入力フォーム!$N$5:$BEQ$5,0))","v":"★"},{"$f":"INDEX(入力フォーム!$N4:$BEQ4,1,MATCH(BFP$175,入力フォーム!$N$5:$BEQ$5,0))","v":"★"},{"$f":"INDEX(入力フォーム!$N4:$BEQ4,1,MATCH(BFQ$175,入力フォーム!$N$5:$BEQ$5,0))","v":"★"},{"$f":"INDEX(入力フォーム!$N4:$BEQ4,1,MATCH(BFR$175,入力フォーム!$N$5:$BEQ$5,0))","v":"★"},{"$f":"INDEX(入力フォーム!$N4:$BEQ4,1,MATCH(BFS$175,入力フォーム!$N$5:$BEQ$5,0))","v":"★"},{"$f":"INDEX(入力フォーム!$N4:$BEQ4,1,MATCH(BFT$175,入力フォーム!$N$5:$BEQ$5,0))","v":"★"},{"$f":"INDEX(入力フォーム!$N4:$BEQ4,1,MATCH(BFU$175,入力フォーム!$N$5:$BEQ$5,0))","v":"★"},{"$f":"INDEX(入力フォーム!$N4:$BEQ4,1,MATCH(BFV$175,入力フォーム!$N$5:$BEQ$5,0))","v":"★"},{"$f":"INDEX(入力フォーム!$N4:$BEQ4,1,MATCH(BFW$175,入力フォーム!$N$5:$BEQ$5,0))","v":"★"},{"$f":"INDEX(入力フォーム!$N4:$BEQ4,1,MATCH(BFX$175,入力フォーム!$N$5:$BEQ$5,0))","v":"★"},{"$f":"INDEX(入力フォーム!$N4:$BEQ4,1,MATCH(BFY$175,入力フォーム!$N$5:$BEQ$5,0))","v":"★"},{"$f":"INDEX(入力フォーム!$N4:$BEQ4,1,MATCH(BFZ$175,入力フォーム!$N$5:$BEQ$5,0))","v":"★"},{"$f":"INDEX(入力フォーム!$N4:$BEQ4,1,MATCH(BGA$175,入力フォーム!$N$5:$BEQ$5,0))","v":"★"},{"$f":"INDEX(入力フォーム!$N4:$BEQ4,1,MATCH(BGB$175,入力フォーム!$N$5:$BEQ$5,0))","v":"★"},{"$f":"INDEX(入力フォーム!$N4:$BEQ4,1,MATCH(BGC$175,入力フォーム!$N$5:$BEQ$5,0))","v":"★"},{"$f":"INDEX(入力フォーム!$N4:$BEQ4,1,MATCH(BGD$175,入力フォーム!$N$5:$BEQ$5,0))","v":"★"},{"$f":"INDEX(入力フォーム!$N4:$BEQ4,1,MATCH(BGE$175,入力フォーム!$N$5:$BEQ$5,0))","v":"★"},{"$f":"INDEX(入力フォーム!$N4:$BEQ4,1,MATCH(BGF$175,入力フォーム!$N$5:$BEQ$5,0))","v":"★"},{"$f":"INDEX(入力フォーム!$N4:$BEQ4,1,MATCH(BGG$175,入力フォーム!$N$5:$BEQ$5,0))","v":"★"},{"$f":"INDEX(入力フォーム!$N4:$BEQ4,1,MATCH(BGH$175,入力フォーム!$N$5:$BEQ$5,0))","v":"★"},{"$f":"INDEX(入力フォーム!$N4:$BEQ4,1,MATCH(BGI$175,入力フォーム!$N$5:$BEQ$5,0))","v":"★"},{"$f":"INDEX(入力フォーム!$N4:$BEQ4,1,MATCH(BGJ$175,入力フォーム!$N$5:$BEQ$5,0))","v":"★"},{"$f":"INDEX(入力フォーム!$N4:$BEQ4,1,MATCH(BGK$175,入力フォーム!$N$5:$BEQ$5,0))","v":"★"},{"$f":"INDEX(入力フォーム!$N4:$BEQ4,1,MATCH(BGL$175,入力フォーム!$N$5:$BEQ$5,0))","v":"★"},{"$f":"INDEX(入力フォーム!$N4:$BEQ4,1,MATCH(BGM$175,入力フォーム!$N$5:$BEQ$5,0))","v":"★"},{"$f":"INDEX(入力フォーム!$N4:$BEQ4,1,MATCH(BGN$175,入力フォーム!$N$5:$BEQ$5,0))","v":"★"},{"$f":"INDEX(入力フォーム!$N4:$BEQ4,1,MATCH(BGO$175,入力フォーム!$N$5:$BEQ$5,0))","v":"★"},{"$f":"INDEX(入力フォーム!$N4:$BEQ4,1,MATCH(BGP$175,入力フォーム!$N$5:$BEQ$5,0))","v":"★"},{"$f":"INDEX(入力フォーム!$N4:$BEQ4,1,MATCH(BGQ$175,入力フォーム!$N$5:$BEQ$5,0))","v":"★"},{"$f":"INDEX(入力フォーム!$N4:$BEQ4,1,MATCH(BGR$175,入力フォーム!$N$5:$BEQ$5,0))","v":"★"},{"$f":"INDEX(入力フォーム!$N4:$BEQ4,1,MATCH(BGS$175,入力フォーム!$N$5:$BEQ$5,0))","v":"★"},{"$f":"INDEX(入力フォーム!$N4:$BEQ4,1,MATCH(BGT$175,入力フォーム!$N$5:$BEQ$5,0))","v":"★"},{"$f":"INDEX(入力フォーム!$N4:$BEQ4,1,MATCH(BGU$175,入力フォーム!$N$5:$BEQ$5,0))","v":"★"},{"$f":"INDEX(入力フォーム!$N4:$BEQ4,1,MATCH(BGV$175,入力フォーム!$N$5:$BEQ$5,0))","v":"★"},{"$f":"INDEX(入力フォーム!$N4:$BEQ4,1,MATCH(BGW$175,入力フォーム!$N$5:$BEQ$5,0))","v":"★"},{"$f":"INDEX(入力フォーム!$N4:$BEQ4,1,MATCH(BGX$175,入力フォーム!$N$5:$BEQ$5,0))","v":"★"},{"$f":"INDEX(入力フォーム!$N4:$BEQ4,1,MATCH(BGY$175,入力フォーム!$N$5:$BEQ$5,0))","v":"★"},{"$f":"INDEX(入力フォーム!$N4:$BEQ4,1,MATCH(BGZ$175,入力フォーム!$N$5:$BEQ$5,0))","v":"★"},{"$f":"INDEX(入力フォーム!$N4:$BEQ4,1,MATCH(BHA$175,入力フォーム!$N$5:$BEQ$5,0))","v":"★"},{"$f":"INDEX(入力フォーム!$N4:$BEQ4,1,MATCH(BHB$175,入力フォーム!$N$5:$BEQ$5,0))","v":"★"},{"$f":"INDEX(入力フォーム!$N4:$BEQ4,1,MATCH(BHC$175,入力フォーム!$N$5:$BEQ$5,0))","v":"★"},{"$f":"INDEX(入力フォーム!$N4:$BEQ4,1,MATCH(BHD$175,入力フォーム!$N$5:$BEQ$5,0))","v":"★"},{"$f":"INDEX(入力フォーム!$N4:$BEQ4,1,MATCH(BHE$175,入力フォーム!$N$5:$BEQ$5,0))","v":"★"},{"$f":"INDEX(入力フォーム!$N4:$BEQ4,1,MATCH(BHF$175,入力フォーム!$N$5:$BEQ$5,0))","v":"★"},{"$f":"INDEX(入力フォーム!$N4:$BEQ4,1,MATCH(BHG$175,入力フォーム!$N$5:$BEQ$5,0))","v":"★"},{"$f":"INDEX(入力フォーム!$N4:$BEQ4,1,MATCH(BHH$175,入力フォーム!$N$5:$BEQ$5,0))","v":"★"},{"$f":"INDEX(入力フォーム!$N4:$BEQ4,1,MATCH(BHI$175,入力フォーム!$N$5:$BEQ$5,0))","v":"★"},{"$f":"INDEX(入力フォーム!$N4:$BEQ4,1,MATCH(BHJ$175,入力フォーム!$N$5:$BEQ$5,0))","v":"★"},{"$f":"INDEX(入力フォーム!$N4:$BEQ4,1,MATCH(BHK$175,入力フォーム!$N$5:$BEQ$5,0))","v":"★"},{"$f":"INDEX(入力フォーム!$N4:$BEQ4,1,MATCH(BHL$175,入力フォーム!$N$5:$BEQ$5,0))","v":"★"},{"$f":"INDEX(入力フォーム!$N4:$BEQ4,1,MATCH(BHM$175,入力フォーム!$N$5:$BEQ$5,0))","v":"★"},{"$f":"INDEX(入力フォーム!$N4:$BEQ4,1,MATCH(BHN$175,入力フォーム!$N$5:$BEQ$5,0))","v":"★"},{"$f":"INDEX(入力フォーム!$N4:$BEQ4,1,MATCH(BHO$175,入力フォーム!$N$5:$BEQ$5,0))","v":"★"},{"$f":"INDEX(入力フォーム!$N4:$BEQ4,1,MATCH(BHP$175,入力フォーム!$N$5:$BEQ$5,0))","v":"★"},{"$f":"INDEX(入力フォーム!$N4:$BEQ4,1,MATCH(BHQ$175,入力フォーム!$N$5:$BEQ$5,0))","v":"★"},{"$f":"INDEX(入力フォーム!$N4:$BEQ4,1,MATCH(BHR$175,入力フォーム!$N$5:$BEQ$5,0))","v":"★"},{"$f":"INDEX(入力フォーム!$N4:$BEQ4,1,MATCH(BHS$175,入力フォーム!$N$5:$BEQ$5,0))","v":"★"},{"$f":"INDEX(入力フォーム!$N4:$BEQ4,1,MATCH(BHT$175,入力フォーム!$N$5:$BEQ$5,0))","v":"★"},{"$f":"INDEX(入力フォーム!$N4:$BEQ4,1,MATCH(BHU$175,入力フォーム!$N$5:$BEQ$5,0))","v":"★"},{"$f":"INDEX(入力フォーム!$N4:$BEQ4,1,MATCH(BHV$175,入力フォーム!$N$5:$BEQ$5,0))","v":"★"},{"$f":"INDEX(入力フォーム!$N4:$BEQ4,1,MATCH(BHW$175,入力フォーム!$N$5:$BEQ$5,0))","v":"★"},{"$f":"INDEX(入力フォーム!$N4:$BEQ4,1,MATCH(BHX$175,入力フォーム!$N$5:$BEQ$5,0))","v":"★"},{"$f":"INDEX(入力フォーム!$N4:$BEQ4,1,MATCH(BHY$175,入力フォーム!$N$5:$BEQ$5,0))","v":"★"},{"$f":"INDEX(入力フォーム!$N4:$BEQ4,1,MATCH(BHZ$175,入力フォーム!$N$5:$BEQ$5,0))","v":"★"},{"$f":"INDEX(入力フォーム!$N4:$BEQ4,1,MATCH(BIA$175,入力フォーム!$N$5:$BEQ$5,0))","v":"★"},{"$f":"INDEX(入力フォーム!$N4:$BEQ4,1,MATCH(BIB$175,入力フォーム!$N$5:$BEQ$5,0))","v":"★"},{"$f":"INDEX(入力フォーム!$N4:$BEQ4,1,MATCH(BIC$175,入力フォーム!$N$5:$BEQ$5,0))","v":"★"},{"$f":"INDEX(入力フォーム!$N4:$BEQ4,1,MATCH(BID$175,入力フォーム!$N$5:$BEQ$5,0))","v":"★"},{"$f":"INDEX(入力フォーム!$N4:$BEQ4,1,MATCH(BIE$175,入力フォーム!$N$5:$BEQ$5,0))","v":"★"},{"$f":"INDEX(入力フォーム!$N4:$BEQ4,1,MATCH(BIF$175,入力フォーム!$N$5:$BEQ$5,0))","v":"★"},{"$f":"INDEX(入力フォーム!$N4:$BEQ4,1,MATCH(BIG$175,入力フォーム!$N$5:$BEQ$5,0))","v":"★"},{"$f":"INDEX(入力フォーム!$N4:$BEQ4,1,MATCH(BIH$175,入力フォーム!$N$5:$BEQ$5,0))","v":"★"},{"$f":"INDEX(入力フォーム!$N4:$BEQ4,1,MATCH(BII$175,入力フォーム!$N$5:$BEQ$5,0))","v":"★"},{"$f":"INDEX(入力フォーム!$N4:$BEQ4,1,MATCH(BIJ$175,入力フォーム!$N$5:$BEQ$5,0))","v":"★"},{"$f":"INDEX(入力フォーム!$N4:$BEQ4,1,MATCH(BIK$175,入力フォーム!$N$5:$BEQ$5,0))","v":"★"},{"$f":"INDEX(入力フォーム!$N4:$BEQ4,1,MATCH(BIL$175,入力フォーム!$N$5:$BEQ$5,0))","v":"★"},{"$f":"INDEX(入力フォーム!$N4:$BEQ4,1,MATCH(BIM$175,入力フォーム!$N$5:$BEQ$5,0))","v":"★"},{"$f":"INDEX(入力フォーム!$N4:$BEQ4,1,MATCH(BIN$175,入力フォーム!$N$5:$BEQ$5,0))","v":"★"},{"$f":"INDEX(入力フォーム!$N4:$BEQ4,1,MATCH(BIO$175,入力フォーム!$N$5:$BEQ$5,0))","v":"★"},{"$f":"INDEX(入力フォーム!$N4:$BEQ4,1,MATCH(BIP$175,入力フォーム!$N$5:$BEQ$5,0))","v":"★"},{"$f":"INDEX(入力フォーム!$N4:$BEQ4,1,MATCH(BIQ$175,入力フォーム!$N$5:$BEQ$5,0))","v":"★"},{"$f":"INDEX(入力フォーム!$N4:$BEQ4,1,MATCH(BIR$175,入力フォーム!$N$5:$BEQ$5,0))","v":"★"},{"$f":"INDEX(入力フォーム!$N4:$BEQ4,1,MATCH(BIS$175,入力フォーム!$N$5:$BEQ$5,0))","v":"★"},{"$f":"INDEX(入力フォーム!$N4:$BEQ4,1,MATCH(BIT$175,入力フォーム!$N$5:$BEQ$5,0))","v":"★"},{"$f":"INDEX(入力フォーム!$N4:$BEQ4,1,MATCH(BIU$175,入力フォーム!$N$5:$BEQ$5,0))","v":"★"},{"$f":"INDEX(入力フォーム!$N4:$BEQ4,1,MATCH(BIV$175,入力フォーム!$N$5:$BEQ$5,0))","v":"★"},{"$f":"INDEX(入力フォーム!$N4:$BEQ4,1,MATCH(BIW$175,入力フォーム!$N$5:$BEQ$5,0))","v":"★"},{"$f":"INDEX(入力フォーム!$N4:$BEQ4,1,MATCH(BIX$175,入力フォーム!$N$5:$BEQ$5,0))","v":"★"},{"$f":"INDEX(入力フォーム!$N4:$BEQ4,1,MATCH(BIY$175,入力フォーム!$N$5:$BEQ$5,0))","v":"★"},{"$f":"INDEX(入力フォーム!$N4:$BEQ4,1,MATCH(BIZ$175,入力フォーム!$N$5:$BEQ$5,0))","v":"★"},{"$f":"INDEX(入力フォーム!$N4:$BEQ4,1,MATCH(BJA$175,入力フォーム!$N$5:$BEQ$5,0))","v":"★"},{"$f":"INDEX(入力フォーム!$N4:$BEQ4,1,MATCH(BJB$175,入力フォーム!$N$5:$BEQ$5,0))","v":"★"},{"$f":"INDEX(入力フォーム!$N4:$BEQ4,1,MATCH(BJC$175,入力フォーム!$N$5:$BEQ$5,0))","v":"★"},{"$f":"INDEX(入力フォーム!$N4:$BEQ4,1,MATCH(BJD$175,入力フォーム!$N$5:$BEQ$5,0))","v":"★"},{"$f":"INDEX(入力フォーム!$N4:$BEQ4,1,MATCH(BJE$175,入力フォーム!$N$5:$BEQ$5,0))","v":"★"},{"$f":"INDEX(入力フォーム!$N4:$BEQ4,1,MATCH(BJF$175,入力フォーム!$N$5:$BEQ$5,0))","v":"★"},{"$f":"INDEX(入力フォーム!$N4:$BEQ4,1,MATCH(BJG$175,入力フォーム!$N$5:$BEQ$5,0))","v":"★"},{"$f":"INDEX(入力フォーム!$N4:$BEQ4,1,MATCH(BJH$175,入力フォーム!$N$5:$BEQ$5,0))","v":"★"},{"$f":"INDEX(入力フォーム!$N4:$BEQ4,1,MATCH(BJI$175,入力フォーム!$N$5:$BEQ$5,0))","v":"★"},{"$f":"INDEX(入力フォーム!$N4:$BEQ4,1,MATCH(BJJ$175,入力フォーム!$N$5:$BEQ$5,0))","v":"★"},{"$f":"INDEX(入力フォーム!$N4:$BEQ4,1,MATCH(BJK$175,入力フォーム!$N$5:$BEQ$5,0))","v":"★"},{"$f":"INDEX(入力フォーム!$N4:$BEQ4,1,MATCH(BJL$175,入力フォーム!$N$5:$BEQ$5,0))","v":"★"},{"$f":"INDEX(入力フォーム!$N4:$BEQ4,1,MATCH(BJM$175,入力フォーム!$N$5:$BEQ$5,0))","v":"★"},{"$f":"INDEX(入力フォーム!$N4:$BEQ4,1,MATCH(BJN$175,入力フォーム!$N$5:$BEQ$5,0))","v":"★"},{"$f":"INDEX(入力フォーム!$N4:$BEQ4,1,MATCH(BJO$175,入力フォーム!$N$5:$BEQ$5,0))","v":"★"},{"$f":"INDEX(入力フォーム!$N4:$BEQ4,1,MATCH(BJP$175,入力フォーム!$N$5:$BEQ$5,0))","v":"★"}]
[{"$nulls":144},0,{"$f":"INDEX($A$175:$BJP$175,1,COLUMN()-1)+1","v":1},2,3,4,5,6,7,8,9,10,11,12,13,14,15,16,17,18,19,20,21,22,23,24,25,26,27,28,29,30,31,32,33,34,35,36,37,38,39,40,41,42,43,44,45,46,47,48,49,50,51,52,53,54,55,56,57,58,59,60,61,62,63,64,{"$f":"INDEX($A$175:$BJP$175,1,COLUMN()-1)+1","v":65},66,67,68,69,70,71,72,73,74,75,76,77,78,79,80,81,82,83,84,85,86,87,88,89,90,91,92,93,94,95,96,97,98,99,100,101,102,103,104,105,106,107,108,109,110,111,112,113,114,115,116,117,118,119,120,121,122,123,124,125,126,127,128,{"$f":"INDEX($A$175:$BJP$175,1,COLUMN()-1)+1","v":129},130,131,132,133,134,135,136,137,138,139,140,141,142,143,144,145,146,147,148,149,150,151,152,153,154,155,156,157,158,159,160,161,162,163,164,165,166,167,168,169,170,171,172,173,174,175,176,177,178,179,180,181,182,183,184,185,186,187,188,189,190,191,192,{"$f":"INDEX($A$175:$BJP$175,1,COLUMN()-1)+1","v":193},194,195,196,197,198,199,200,201,202,203,204,205,206,207,208,209,210,211,212,213,214,215,216,217,218,219,220,221,222,223,224,225,226,227,228,229,230,231,232,233,234,235,236,237,238,239,240,241,242,243,244,245,246,247,248,249,250,251,252,253,254,255,256,{"$f":"INDEX($A$175:$BJP$175,1,COLUMN()-1)+1","v":257},258,259,260,261,262,263,264,265,266,267,268,269,270,271,272,273,274,275,276,277,278,279,280,281,282,283,284,285,286,287,288,289,290,291,292,293,294,295,296,297,298,299,300,301,302,303,304,305,306,307,308,309,310,311,312,313,314,315,316,317,318,319,320,{"$f":"INDEX($A$175:$BJP$175,1,COLUMN()-1)+1","v":321},322,323,324,325,326,327,328,329,330,331,332,333,334,335,336,337,338,339,340,341,342,343,344,345,346,347,348,349,350,351,352,353,354,355,356,357,358,359,360,361,362,363,364,365,366,367,368,369,370,371,372,373,374,375,376,377,378,379,380,381,382,383,384,{"$f":"INDEX($A$175:$BJP$175,1,COLUMN()-1)+1","v":385},386,387,388,389,390,391,392,393,394,395,396,397,398,399,400,401,402,403,404,405,406,407,408,409,410,411,412,413,414,415,416,417,418,419,420,421,422,423,424,425,426,427,428,429,430,431,432,433,434,435,436,437,438,439,440,441,442,443,444,445,446,447,448,{"$f":"INDEX($A$175:$BJP$175,1,COLUMN()-1)+1","v":449},450,451,452,453,454,455,456,457,458,459,460,461,462,463,464,465,466,467,468,469,470,471,472,473,474,475,476,477,478,479,480,481,482,483,484,485,486,487,488,489,490,491,492,493,494,495,496,497,498,499,500,501,502,503,504,505,506,507,508,509,510,511,512,{"$f":"INDEX($A$175:$BJP$175,1,COLUMN()-1)+1","v":513},514,515,516,517,518,519,520,521,522,523,524,525,526,527,528,529,530,531,532,533,534,535,536,537,538,539,540,541,542,543,544,545,546,547,548,549,550,551,552,553,554,555,556,557,558,559,560,561,562,563,564,565,566,567,568,569,570,571,572,573,574,575,576,{"$f":"INDEX($A$175:$BJP$175,1,COLUMN()-1)+1","v":577},578,579,580,581,582,583,584,585,586,587,588,589,590,591,592,593,594,595,596,597,598,599,600,601,602,603,604,605,606,607,608,609,610,611,612,613,614,615,616,617,618,619,620,621,622,623,624,625,626,627,628,629,630,631,632,633,634,635,636,637,638,639,640,{"$f":"INDEX($A$175:$BJP$175,1,COLUMN()-1)+1","v":641},642,643,644,645,646,647,648,649,650,651,652,653,654,655,656,657,658,659,660,661,662,663,664,665,666,667,668,669,670,671,672,673,674,675,676,677,678,679,680,681,682,683,684,685,686,687,688,689,690,691,692,693,694,695,696,697,698,699,700,701,702,703,704,{"$f":"INDEX($A$175:$BJP$175,1,COLUMN()-1)+1","v":705},706,707,708,709,710,711,712,713,714,715,716,717,718,719,720,721,722,723,724,725,726,727,728,729,730,731,732,733,734,735,736,737,738,739,740,741,742,743,744,745,746,747,748,749,750,751,752,753,754,755,756,757,758,759,760,761,762,763,764,765,766,767,768,{"$f":"INDEX($A$175:$BJP$175,1,COLUMN()-1)+1","v":769},770,771,772,773,774,775,776,777,778,779,780,781,782,783,784,785,786,787,788,789,790,791,792,793,794,795,796,797,798,799,800,801,802,803,804,805,806,807,808,809,810,811,812,813,814,815,816,817,818,819,820,821,822,823,824,825,826,827,828,829,830,831,832,{"$f":"INDEX($A$175:$BJP$175,1,COLUMN()-1)+1","v":833},834,835,836,837,838,839,840,841,842,843,844,845,846,847,848,849,850,851,852,853,854,855,856,857,858,859,860,861,862,863,864,865,866,867,868,869,870,871,872,873,874,875,876,877,878,879,880,881,882,883,884,885,886,887,888,889,890,891,892,893,894,895,896,{"$f":"INDEX($A$175:$BJP$175,1,COLUMN()-1)+1","v":897},898,899,900,901,902,903,904,905,906,907,908,909,910,911,912,913,914,915,916,917,918,919,920,921,922,923,924,925,926,927,928,929,930,931,932,933,934,935,936,937,938,939,940,941,942,943,944,945,946,947,948,949,950,951,952,953,954,955,956,957,958,959,960,{"$f":"INDEX($A$175:$BJP$175,1,COLUMN()-1)+1","v":961},962,963,964,965,966,967,968,969,970,971,972,973,974,975,976,977,978,979,980,981,982,983,984,985,986,987,988,989,990,991,992,993,994,995,996,997,998,999,1000,1001,1002,1003,1004,1005,1006,1007,1008,1009,1010,1011,1012,1013,1014,1015,1016,1017,1018,1019,1020,1021,1022,1023,1024,{"$f":"INDEX($A$175:$BJP$175,1,COLUMN()-1)+1","v":1025},1026,1027,1028,1029,1030,1031,1032,1033,1034,1035,1036,1037,1038,1039,1040,1041,1042,1043,1044,1045,1046,1047,1048,1049,1050,1051,1052,1053,1054,1055,1056,1057,1058,1059,1060,1061,1062,1063,1064,1065,1066,1067,1068,1069,1070,1071,1072,1073,1074,1075,1076,1077,1078,1079,1080,1081,1082,1083,1084,1085,1086,1087,1088,{"$f":"INDEX($A$175:$BJP$175,1,COLUMN()-1)+1","v":1089},1090,1091,1092,1093,1094,1095,1096,1097,1098,1099,1100,1101,1102,1103,1104,1105,1106,1107,1108,1109,1110,1111,1112,1113,1114,1115,1116,1117,1118,1119,1120,1121,1122,1123,1124,1125,1126,1127,1128,1129,1130,1131,1132,1133,1134,1135,1136,1137,1138,1139,1140,1141,1142,1143,1144,1145,1146,1147,1148,1149,1150,1151,1152,{"$f":"INDEX($A$175:$BJP$175,1,COLUMN()-1)+1","v":1153},1154,1155,1156,1157,1158,1159,1160,1161,1162,1163,1164,1165,1166,1167,1168,1169,1170,1171,1172,1173,1174,1175,1176,1177,1178,1179,1180,1181,1182,1183,1184,1185,1186,1187,1188,1189,1190,1191,1192,1193,1194,1195,1196,1197,1198,1199,1200,1201,1202,1203,1204,1205,1206,1207,1208,1209,1210,1211,1212,1213,1214,1215,1216,{"$f":"INDEX($A$175:$BJP$175,1,COLUMN()-1)+1","v":1217},1218,1219,1220,1221,1222,1223,1224,1225,1226,1227,1228,1229,1230,1231,1232,1233,1234,1235,1236,1237,1238,1239,1240,1241,1242,1243,1244,1245,1246,1247,1248,1249,1250,1251,1252,1253,1254,1255,1256,1257,1258,1259,1260,1261,1262,1263,1264,1265,1266,1267,1268,1269,1270,1271,1272,1273,1274,1275,1276,1277,1278,1279,1280,{"$f":"INDEX($A$175:$BJP$175,1,COLUMN()-1)+1","v":1281},1282,1283,1284,1285,1286,1287,1288,1289,1290,1291,1292,1293,1294,1295,1296,1297,1298,1299,1300,1301,1302,1303,1304,1305,1306,1307,1308,1309,1310,1311,1312,1313,1314,1315,1316,1317,1318,1319,1320,1321,1322,1323,1324,1325,1326,1327,1328,1329,1330,1331,1332,1333,1334,1335,1336,1337,1338,1339,1340,1341,1342,1343,1344,{"$f":"INDEX($A$175:$BJP$175,1,COLUMN()-1)+1","v":1345},1346,1347,1348,1349,1350,1351,1352,1353,1354,1355,1356,1357,1358,1359,1360,1361,1362,1363,1364,1365,1366,1367,1368,1369,1370,1371,1372,1373,1374,1375,1376,1377,1378,1379,1380,1381,1382,1383,1384,1385,1386,1387,1388,1389,1390,1391,1392,1393,1394,1395,1396,1397,1398,1399,1400,1401,1402,1403,1404,1405,1406,1407,1408,{"$f":"INDEX($A$175:$BJP$175,1,COLUMN()-1)+1","v":1409},1410,1411,1412,1413,1414,1415,1416,1417,1418,1419,1420,1421,1422,1423,1424,1425,1426,1427,1428,1429,1430,1431,1432,1433,1434,1435,1436,1437,1438,1439,1440,1441,1442,1443,1444,1445,1446,1447,1448,1449,1450,1451,1452,1453,1454,1455,1456,1457,1458,1459,1460,1461,1462,1463,1464,1465,1466,1467,1468,1469,1470,1471,1472,1473,1474,1475,1476,1477,1478,1479,1480,1481,1482,1483]

{"sheet":"登録情報シート","index":3,"n_rows":461,"n_cols":1676,"rows_kept":461,"merged":[[0,3,1,96],[3,3,3,96],[4,3,4,11],[4,13,4,49],[4,50,21,96],[5,3,5,11],[5,13,5,49],[6,3,7,11],[6,13,6,49],[7,13,7,49],[8,3,9,11],[8,13,8,49],[9,13,9,49],[10,3,10,11],[10,13,10,49],[11,3,11,11],[11,13,11,49],[12,3,12,11],[12,13,12,49],[13,3,13,11],[13,13,13,49],[14,3,14,11],[14,13,14,49],[15,3,15,11],[15,13,15,49],[16,3,16,11],[16,13,16,49],[17,3,17,11],[17,13,17,49],[18,3,18,11],[18,13,18,49],[19,3,19,11],[19,13,19,49],[20,3,20,11],[20,13,20,49],[21,3,21,11],[21,13,21,49],[22,3,22,96],[23,4,23,96],[24,3,24,12],[24,14,24,82],[24,83,24,92],[24,93,24,96],[25,3,25,12],[25,14,25,96],[26,3,26,96],[27,4,27,96],[28,3,28,12],[28,14,28,96],[30,3,30,96],[31,3,31,17],[31,19,31,96],[32,3,32,96],[33,3,33,17],[33,19,33,96],[34,3,34,17],[34,19,34,96],[35,3,35,17],[35,19,35,96],[36,3,36,96],[37,3,37,17],[37,19,37,54],[37,55,37,64],[37,66,37,96],[38,3,38,17],[38,19,38,96],[40,3,40,96],[41,3,41,14],[41,16,41,96],[42,3,42,14],[42,16,42,82],[42,83,42,92],[42,93,42,96],[44,2,44,95],[45,2,45,11],[45,12,45,53],[45,54,57,95],[46,2,46,11],[46,12,46,27],[46,28,46,37],[46,38,46,53],[47,2,47,11],[47,12,47,27],[47,28,47,37],[47,38,47,53],[48,2,48,11],[48,12,48,27],[48,28,48,37],[48,38,48,53],[49,2,49,11],[49,12,49,27],[49,28,49,37],[49,38,49,53],[50,2,50,11],[50,12,50,27],[50,28,50,37],[50,38,50,53],[51,2,51,11],[51,12,51,27],[51,28,51,37],[51,38,51,53],[52,2,52,11],[52,12,52,27],[52,28,52,37],[52,38,52,53],[53,2,53,11],[53,12,53,27],[53,28,53,53],[54,2,54,11],[54,12,54,27],[54,28,54,37],[54,38,54,53],[55,2,55,11],[55,12,55,53],[56,2,56,11],[56,12,56,53],[57,2,57,5],[57,6,57,53],[58,2,58,53],[58,54,58,95],[59,2,59,5],[59,6,59,53],[59,54,61,95],[60,2,60,5],[60,6,60,53],[61,2,61,5],[61,6,61,53],[63,2,63,95],[64,2,64,11],[64,12,64,53],[64,54,76,95],[65,2,65,11],[65,12,65,27],[65,28,65,37],[65,38,65,53],[66,2,66,11],[66,12,66,27],[66,28,66,37],[66,38,66,53],[67,2,67,11],[67,12,67,27],[67,28,67,37],[67,38,67,53],[68,2,68,11],[68,12,68,27],[68,28,68,37],[68,38,68,53],[69,2,69,11],[69,12,69,27],[69,28,69,37],[69,38,69,53],[70,2,70,11],[70,12,70,27],[70,28,70,37],[70,38,70,53],[71,2,71,11],[71,12,71,27],[71,28,71,37],[71,38,71,53],[72,2,72,11],[72,12,72,27],[72,28,72,53],[73,2,73,11],[73,12,73,27],[73,28,73,37],[73,38,73,53],[74,2,74,11],[74,12,74,53],[75,2,75,11],[75,12,75,53],[76,2,76,5],[76,6,76,53],[77,2,77,53],[77,54,77,95],[78,2,78,5],[78,6,78,53],[78,54,80,95],[79,2,79,5],[79,6,79,53],[80,2,80,5],[80,6,80,53],[82,2,82,95],[83,2,83,11],[83,12,83,53],[83,54,95,95],[84,2,84,11],[84,12,84,27],[84,28,84,37],[84,38,84,53],[85,2,85,11],[85,12,85,27],[85,28,85,37],[85,38,85,53],[86,2,86,11],[86,12,86,27],[86,28,86,37],[86,38,86,53],[87,2,87,11],[87,12,87,27],[87,28,87,37],[87,38,87,53],[88,2,88,11],[88,12,88,27],[88,28,88,37],[88,38,88,53],[89,2,89,11],[89,12,89,27],[89,28,89,37],[89,38,89,53],[90,2,90,11],[90,12,90,27],[90,28,90,37],[90,38,90,53],[91,2,91,11],[91,12,91,27],[91,28,91,53],[92,2,92,11],[92,12,92,27],[92,28,92,37],[92,38,92,53],[93,2,93,11],[93,12,93,53],[94,2,94,11],[94,12,94,53],[95,2,95,5],[95,6,95,53],[96,2,96,53],[96,54,96,95],[97,2,97,5],[97,6,97,53],[97,54,99,95],[98,2,98,5],[98,6,98,53],[99,2,99,5],[99,6,99,53],[101,2,101,95],[102,2,102,11],[102,12,102,53],[102,54,114,95],[103,2,103,11],[103,12,103,27],[103,28,103,37],[103,38,103,53],[104,2,104,11],[104,12,104,27],[104,28,104,37],[104,38,104,53],[105,2,105,11],[105,12,105,27],[105,28,105,37],[105,38,105,53],[106,2,106,11],[106,12,106,27],[106,28,106,37],[106,38,106,53],[107,2,107,11],[107,12,107,27],[107,28,107,37],[107,38,107,53],[108,2,108,11],[108,12,108,27],[108,28,108,37],[108,38,108,53],[109,2,109,11],[109,12,109,27],[109,28,109,37],[109,38,109,53],[110,2,110,11],[110,12,110,27],[110,28,110,53],[111,2,111,11],[111,12,111,27],[111,28,111,37],[111,38,111,53],[112,2,112,11],[112,12,112,53],[113,2,113,11],[113,12,113,53],[114,2,114,5],[114,6,114,53],[115,2,115,53],[115,54,115,95],[116,2,116,5],[116,6,116,53],[116,54,118,95],[117,2,117,5],[117,6,117,53],[118,2,118,5],[118,6,118,53],[120,2,120,95],[121,2,121,11],[121,12,121,53],[121,54,133,95],[122,2,122,11],[122,12,122,27],[122,28,122,37],[122,38,122,53],[123,2,123,11],[123,12,123,27],[123,28,123,37],[123,38,123,53],[124,2,124,11],[124,12,124,27],[124,28,124,37],[124,38,124,53],[125,2,125,11],[125,12,125,27],[125,28,125,37],[125,38,125,53],[126,2,126,11],[126,12,126,27],[126,28,126,37],[126,38,126,53],[127,2,127,11],[127,12,127,27],[127,28,127,37],[127,38,127,53],[128,2,128,11],[128,12,128,27],[128,28,128,37],[128,38,128,53],[129,2,129,11],[129,12,129,27],[129,28,129,53],[130,2,130,11],[130,12,130,27],[130,28,130,37],[130,38,130,53],[131,2,131,11],[131,12,131,53],[132,2,132,11],[132,12,132,53],[133,2,133,5],[133,6,133,53],[134,2,134,53],[134,54,134,95],[135,2,135,5],[135,6,135,53],[135,54,137,95],[136,2,136,5],[136,6,136,53],[137,2,137,5],[137,6,137,53],[139,2,139,95],[140,2,140,11],[140,12,140,53],[140,54,152,95],[141,2,141,11],[141,12,141,27],[141,28,141,37],[141,38,141,53],[142,2,142,11],[142,12,142,27],[142,28,142,37],[142,38,142,53],[143,2,143,11],[143,12,143,27],[143,28,143,37],[143,38,143,53],[144,2,144,11],[144,12,144,27],[144,28,144,37],[144,38,144,53],[145,2,145,11],[145,12,145,27],[145,28,145,37],[145,38,145,53],[146,2,146,11],[146,12,146,27],[146,28,146,37],[146,38,146,53],[147,2,147,11],[147,12,147,27],[147,28,147,37],[147,38,147,53],[148,2,148,11],[148,12,148,27],[148,28,148,53],[149,2,149,11],[149,12,149,27],[149,28,149,37],[149,38,149,53],[150,2,150,11],[150,12,150,53],[151,2,151,11],[151,12,151,53],[152,2,152,5],[152,6,152,53],[153,2,153,53],[153,54,153,95],[154,2,154,5],[154,6,154,53],[154,54,156,95],[155,2,155,5],[155,6,155,53],[156,2,156,5],[156,6,156,53],[158,2,158,95],[159,2,159,11],[159,12,159,53],[159,54,171,95],[160,2,160,11],[160,12,160,27],[160,28,160,37],[160,38,160,53],[161,2,161,11],[161,12,161,27],[161,28,161,37],[161,38,161,53],[162,2,162,11],[162,12,162,27],[162,28,162,37],[162,38,162,53],[163,2,163,11],[163,12,163,27],[163,28,163,37],[163,38,163,53],[164,2,164,11],[164,12,164,27],[164,28,164,37],[164,38,164,53],[165,2,165,11],[165,12,165,27],[165,28,165,37],[165,38,165,53],[166,2,166,11],[166,12,166,27],[166,28,166,37],[166,38,166,53],[167,2,167,11],[167,12,167,27],[167,28,167,53],[168,2,168,11],[168,12,168,27],[168,28,168,37],[168,38,168,53],[169,2,169,11],[169,12,169,53],[170,2,170,11],[170,12,170,53],[171,2,171,5],[171,6,171,53],[172,2,172,53],[172,54,172,95],[173,2,173,5],[173,6,173,53],[173,54,175,95],[174,2,174,5],[174,6,174,53],[175,2,175,5],[175,6,175,53],[177,2,177,95],[178,2,178,11],[178,12,178,53],[178,54,190,95],[179,2,179,11],[179,12,179,27],[179,28,179,37],[179,38,179,53],[180,2,180,11],[180,12,180,27],[180,28,180,37],[180,38,180,53],[181,2,181,11],[181,12,181,27],[181,28,181,37],[181,38,181,53],[182,2,182,11],[182,12,182,27],[182,28,182,37],[182,38,182,53],[183,2,183,11],[183,12,183,27],[183,28,183,37],[183,38,183,53],[184,2,184,11],[184,12,184,27],[184,28,184,37],[184,38,184,53],[185,2,185,11],[185,12,185,27],[185,28,185,37],[185,38,185,53],[186,2,186,11],[186,12,186,27],[186,28,186,53],[187,2,187,11],[187,12,187,27],[187,28,187,37],[187,38,187,53],[188,2,188,11],[188,12,188,53],[189,2,189,11],[189,12,189,53],[190,2,190,5],[190,6,190,53],[191,2,191,53],[191,54,191,95],[192,2,192,5],[192,6,192,53],[192,54,194,95],[193,2,193,5],[193,6,193,53],[194,2,194,5],[194,6,194,53],[196,2,196,95],[197,2,197,11],[197,12,197,53],[197,54,209,95],[198,2,198,11],[198,12,198,27],[198,28,198,37],[198,38,198,53],[199,2,199,11],[199,12,199,27],[199,28,199,37],[199,38,199,53],[200,2,200,11],[200,12,200,27],[200,28,200,37],[200,38,200,53],[201,2,201,11],[201,12,201,27],[201,28,201,37],[201,38,201,53],[202,2,202,11],[202,12,202,27],[202,28,202,37],[202,38,202,53],[203,2,203,11],[203,12,203,27],[203,28,203,37],[203,38,203,53],[204,2,204,11],[204,12,204,27],[204,28,204,37],[204,38,204,53],[205,2,205,11],[205,12,205,27],[205,28,205,53],[206,2,206,11],[206,12,206,27],[206,28,206,37],[206,38,206,53],[207,2,207,11],[207,12,207,53],[208,2,208,11],[208,12,208,53],[209,2,209,5],[209,6,209,53],[210,2,210,53],[210,54,210,95],[211,2,211,5],[211,6,211,53],[211,54,213,95],[212,2,212,5],[212,6,212,53],[213,2,213,5],[213,6,213,53],[215,2,215,95],[216,2,216,11],[216,12,216,53],[216,54,228,95],[217,2,217,11],[217,12,217,27],[217,28,217,37],[217,38,217,53],[218,2,218,11],[218,12,218,27],[218,28,218,37],[218,38,218,53],[219,2,219,11],[219,12,219,27],[219,28,219,37],[219,38,219,53],[220,2,220,11],[220,12,220,27],[220,28,220,37],[220,38,220,53],[221,2,221,11],[221,12,221,27],[221,28,221,37],[221,38,221,53],[222,2,222,11],[222,12,222,27],[222,28,222,37],[222,38,222,53],[223,2,223,11],[223,12,223,27],[223,28,223,37],[223,38,223,53],[224,2,224,11],[224,12,224,27],[224,28,224,53],[225,2,225,11],[225,12,225,27],[225,28,225,37],[225,38,225,53],[226,2,226,11],[226,12,226,53],[227,2,227,11],[227,12,227,53],[228,2,228,5],[228,6,228,53],[229,2,229,53],[229,54,229,95],[230,2,230,5],[230,6,230,53],[230,54,232,95],[231,2,231,5],[231,6,231,53],[232,2,232,5],[232,6,232,53],[234,2,234,95],[235,2,235,11],[235,12,235,53],[235,54,247,95],[236,2,236,11],[236,12,236,27],[236,28,236,37],[236,38,236,53],[237,2,237,11],[237,12,237,27],[237,28,237,37],[237,38,237,53],[238,2,238,11],[238,12,238,27],[238,28,238,37],[238,38,238,53],[239,2,239,11],[239,12,239,27],[239,28,239,37],[239,38,239,53],[240,2,240,11],[240,12,240,27],[240,28,240,37],[240,38,240,53],[241,2,241,11],[241,12,241,27],[241,28,241,37],[241,38,241,53],[242,2,242,11],[242,12,242,27],[242,28,242,37],[242,38,242,53],[243,2,243,11],[243,12,243,27],[243,28,243,53],[244,2,244,11],[244,12,244,27],[244,28,244,37],[244,38,244,53],[245,2,245,11],[245,12,245,53],[246,2,246,11],[246,12,246,53],[247,2,247,5],[247,6,247,53],[248,2,248,53],[248,54,248,95],[249,2,249,5],[249,6,249,53],[249,54,251,95],[250,2,250,5],[250,6,250,53],[251,2,251,5],[251,6,251,53],[253,2,253,95],[254,2,254,11],[254,12,254,53],[254,54,266,95],[255,2,255,11],[255,12,255,27],[255,28,255,37],[255,38,255,53],[256,2,256,11],[256,12,256,27],[256,28,256,37],[256,38,256,53],[257,2,257,11],[257,12,257,27],[257,28,257,37],[257,38,257,53],[258,2,258,11],[258,12,258,27],[258,28,258,37],[258,38,258,53],[259,2,259,11],[259,12,259,27],[259,28,259,37],[259,38,259,53],[260,2,260,11],[260,12,260,27],[260,28,260,37],[260,38,260,53],[261,2,261,11],[261,12,261,27],[261,28,261,37],[261,38,261,53],[262,2,262,11],[262,12,262,27],[262,28,262,53],[263,2,263,11],[263,12,263,27],[263,28,263,37],[263,38,263,53],[264,2,264,11],[264,12,264,53],[265,2,265,11],[265,12,265,53],[266,2,266,5],[266,6,266,53],[267,2,267,53],[267,54,267,95],[268,2,268,5],[268,6,268,53],[268,54,270,95],[269,2,269,5],[269,6,269,53],[270,2,270,5],[270,6,270,53],[272,2,272,95],[273,2,273,11],[273,12,273,53],[273,54,285,95],[274,2,274,11],[274,12,274,27],[274,28,274,37],[274,38,274,53],[275,2,275,11],[275,12,275,27],[275,28,275,37],[275,38,275,53],[276,2,276,11],[276,12,276,27],[276,28,276,37],[276,38,276,53],[277,2,277,11],[277,12,277,27],[277,28,277,37],[277,38,277,53],[278,2,278,11],[278,12,278,27],[278,28,278,37],[278,38,278,53],[279,2,279,11],[279,12,279,27],[279,28,279,37],[279,38,279,53],[280,2,280,11],[280,12,280,27],[280,28,280,37],[280,38,280,53],[281,2,281,11],[281,12,281,27],[281,28,281,53],[282,2,282,11],[282,12,282,27],[282,28,282,37],[282,38,282,53],[283,2,283,11],[283,12,283,53],[284,2,284,11],[284,12,284,53],[285,2,285,5],[285,6,285,53],[286,2,286,53],[286,54,286,95],[287,2,287,5],[287,6,287,53],[287,54,289,95],[288,2,288,5],[288,6,288,53],[289,2,289,5],[289,6,289,53],[291,2,291,95],[292,2,292,11],[292,12,292,53],[292,54,304,95],[293,2,293,11],[293,12,293,27],[293,28,293,37],[293,38,293,53],[294,2,294,11],[294,12,294,27],[294,28,294,37],[294,38,294,53],[295,2,295,11],[295,12,295,27],[295,28,295,37],[295,38,295,53],[296,2,296,11],[296,12,296,27],[296,28,296,37],[296,38,296,53],[297,2,297,11],[297,12,297,27],[297,28,297,37],[297,38,297,53],[298,2,298,11],[298,12,298,27],[298,28,298,37],[298,38,298,53],[299,2,299,11],[299,12,299,27],[299,28,299,37],[299,38,299,53],[300,2,300,11],[300,12,300,27],[300,28,300,53],[301,2,301,11],[301,12,301,27],[301,28,301,37],[301,38,301,53],[302,2,302,11],[302,12,302,53],[303,2,303,11],[303,12,303,53],[304,2,304,5],[304,6,304,53],[305,2,305,53],[305,54,305,95],[306,2,306,5],[306,6,306,53],[306,54,308,95],[307,2,307,5],[307,6,307,53],[308,2,308,5],[308,6,308,53],[310,2,310,95],[311,2,311,11],[311,12,311,53],[311,54,323,95],[312,2,312,11],[312,12,312,27],[312,28,312,37],[312,38,312,53],[313,2,313,11],[313,12,313,27],[313,28,313,37],[313,38,313,53],[314,2,314,11],[314,12,314,27],[314,28,314,37],[314,38,314,53],[315,2,315,11],[315,12,315,27],[315,28,315,37],[315,38,315,53],[316,2,316,11],[316,12,316,27],[316,28,316,37],[316,38,316,53],[317,2,317,11],[317,12,317,27],[317,28,317,37],[317,38,317,53],[318,2,318,11],[318,12,318,27],[318,28,318,37],[318,38,318,53],[319,2,319,11],[319,12,319,27],[319,28,319,53],[320,2,320,11],[320,12,320,27],[320,28,320,37],[320,38,320,53],[321,2,321,11],[321,12,321,53],[322,2,322,11],[322,12,322,53],[323,2,323,5],[323,6,323,53],[324,2,324,53],[324,54,324,95],[325,2,325,5],[325,6,325,53],[325,54,327,95],[326,2,326,5],[326,6,326,53],[327,2,327,5],[327,6,327,53],[329,2,329,95],[330,2,330,11],[330,12,330,53],[330,54,342,95],[331,2,331,11],[331,12,331,27],[331,28,331,37],[331,38,331,53],[332,2,332,11],[332,12,332,27],[332,28,332,37],[332,38,332,53],[333,2,333,11],[333,12,333,27],[333,28,333,37],[333,38,333,53],[334,2,334,11],[334,12,334,27],[334,28,334,37],[334,38,334,53],[335,2,335,11],[335,12,335,27],[335,28,335,37],[335,38,335,53],[336,2,336,11],[336,12,336,27],[336,28,336,37],[336,38,336,53],[337,2,337,11],[337,12,337,27],[337,28,337,37],[337,38,337,53],[338,2,338,11],[338,12,338,27],[338,28,338,53],[339,2,339,11],[339,12,339,27],[339,28,339,37],[339,38,339,53],[340,2,340,11],[340,12,340,53],[341,2,341,11],[341,12,341,53],[342,2,342,5],[342,6,342,53],[343,2,343,53],[343,54,343,95],[344,2,344,5],[344,6,344,53],[344,54,346,95],[345,2,345,5],[345,6,345,53],[346,2,346,5],[346,6,346,53],[348,2,348,95],[349,2,349,11],[349,12,349,53],[349,54,361,95],[350,2,350,11],[350,12,350,27],[350,28,350,37],[350,38,350,53],[351,2,351,11],[351,12,351,27],[351,28,351,37],[351,38,351,53],[352,2,352,11],[352,12,352,27],[352,28,352,37],[352,38,352,53],[353,2,353,11],[353,12,353,27],[353,28,353,37],[353,38,353,53],[354,2,354,11],[354,12,354,27],[354,28,354,37],[354,38,354,53],[355,2,355,11],[355,12,355,27],[355,28,355,37],[355,38,355,53],[356,2,356,11],[356,12,356,27],[356,28,356,37],[356,38,356,53],[357,2,357,11],[357,12,357,27],[357,28,357,53],[358,2,358,11],[358,12,358,27],[358,28,358,37],[358,38,358,53],[359,2,359,11],[359,12,359,53],[360,2,360,11],[360,12,360,53],[361,2,361,5],[361,6,361,53],[362,2,362,53],[362,54,362,95],[363,2,363,5],[363,6,363,53],[363,54,365,95],[367,2,367,95],[368,2,368,11],[368,12,368,53],[369,2,369,11],[369,12,369,27],[369,28,369,37],[369,38,369,53],[370,28,370,37],[370,38,370,53],[371,2,371,11],[371,12,371,27],[371,28,371,37],[371,38,371,53]],"merged_total":1261,"flags":["merged_cut"]}
[{"$nulls":3},"大分県産品　登録情報シート"]
[]
[]
[{"$nulls":3},"■基本情報",{"$nulls":188},{"$f":"INDEX(入力フォーム!$N3:$BEQ3,1,MATCH(GK7,入力フォーム!$N$5:$BEQ$5,0))","v":"会社名等"},{"$f":"INDEX(入力フォーム!$N3:$BEQ3,1,MATCH(GL7,入力フォーム!$N$5:$BEQ$5,0))","v":"会社名等(フリガナ)"},{"$f":"INDEX(入力フォーム!$N3:$BEQ3,1,MATCH(GM7,入力フォーム!$N$5:$BEQ$5,0))","v":"会社所在地(〒)"},{"$f":"INDEX(入力フォーム!$N3:$BEQ3,1,MATCH(GN7,入力フォーム!$N$5:$BEQ$5,0))","v":"会社所在地(住所)"},{"$f":"INDEX(入力フォーム!$N3:$BEQ3,1,MATCH(GO7,入力フォーム!$N$5:$BEQ$5,0))","v":"工場所在地(〒)"},{"$f":"INDEX(入力フォーム!$N3:$BEQ3,1,MATCH(GP7,入力フォーム!$N$5:$BEQ$5,0))","v":"工場所在地(住所)"},{"$f":"INDEX(入力フォーム!$N3:$BEQ3,1,MATCH(GQ7,入力フォーム!$N$5:$BEQ$5,0))","v":"会社TEL"},{"$f":"INDEX(入力フォーム!$N3:$BEQ3,1,MATCH(GR7,入力フォーム!$N$5:$BEQ$5,0))","v":"会社FAX"},{"$f":"INDEX(入力フォーム!$N3:$BEQ3,1,MATCH(GS7,入力フォーム!$N$5:$BEQ$5,0))","v":"会社Email"},{"$f":"INDEX(入力フォーム!$N3:$BEQ3,1,MATCH(GT7,入力フォーム!$N$5:$BEQ$5,0))","v":"代表者役職"},{"$f":"INDEX(入力フォーム!$N3:$BEQ3,1,MATCH(GU7,入力フォーム!$N$5:$BEQ$5,0))","v":"代表者氏名"},{"$f":"INDEX(入力フォーム!$N3:$BEQ3,1,MATCH(GV7,入力フォーム!$N$5:$BEQ$5,0))","v":"年間売上高"},{"$f":"INDEX(入力フォーム!$N3:$BEQ3,1,MATCH(GW7,入力フォーム!$N$5:$BEQ$5,0))","v":"従業員数"},{"$f":"INDEX(入力フォーム!$N3:$BEQ3,1,MATCH(GX7,入力フォーム!$N$5:$BEQ$5,0))","v":"担当者役職"},{"$f":"INDEX(入力フォーム!$N3:$BEQ3,1,MATCH(GY7,入力フォーム!$N$5:$BEQ$5,0))","v":"担当者氏名"},{"$f":"INDEX(入力フォーム!$N3:$BEQ3,1,MATCH(GZ7,入力フォーム!$N$5:$BEQ$5,0))","v":"担当者TEL"},{"$f":"INDEX(入力フォーム!$N3:$BEQ3,1,MATCH(HA7,入力フォーム!$N$5:$BEQ$5,0))","v":"担当者Email"},{"$f":"INDEX(入力フォーム!$N3:$BEQ3,1,MATCH(HB7,入力フォーム!$N$5:$BEQ$5,0))","v":"ホームページURL"},{"$f":"INDEX(入力フォーム!$N3:$BEQ3,1,MATCH(HC7,入力フォーム!$N$5:$BEQ$5,0))","v":"メッセージ・\nアピールポイント"},{"$f":"INDEX(入力フォーム!$N3:$BEQ3,1,MATCH(HD7,入力フォーム!$N$5:$BEQ$5,0))","v":"飲料"},{"$f":"INDEX(入力フォーム!$N3:$BEQ3,1,MATCH(HE7,入力フォーム!$N$5:$BEQ$5,0))","v":"酒類"},{"$f":"INDEX(入力フォーム!$N3:$BEQ3,1,MATCH(HF7,入力フォーム!$N$5:$BEQ$5,0))","v":"菓子類"},{"$f":"INDEX(入力フォーム!$N3:$BEQ3,1,MATCH(HG7,入力フォーム!$N$5:$BEQ$5,0))","v":"水産品・水産加工品"},{"$f":"INDEX(入力フォーム!$N3:$BEQ3,1,MATCH(HH7,入力フォーム!$N$5:$BEQ$5,0))","v":"畜産品・畜産加工品"},{"$f":"INDEX(入力フォーム!$N3:$BEQ3,1,MATCH(HI7,入力フォーム!$N$5:$BEQ$5,0))","v":"農産加工品"},{"$f":"INDEX(入力フォーム!$N3:$BEQ3,1,MATCH(HJ7,入力フォーム!$N$5:$BEQ$5,0))","v":"茶・茶加工品"},{"$f":"INDEX(入力フォーム!$N3:$BEQ3,1,MATCH(HK7,入力フォーム!$N$5:$BEQ$5,0))","v":"調味料"},{"$f":"INDEX(入力フォーム!$N3:$BEQ3,1,MATCH(HL7,入力フォーム!$N$5:$BEQ$5,0))","v":"食品卸"},{"$f":"INDEX(入力フォーム!$N3:$BEQ3,1,MATCH(HM7,入力フォーム!$N$5:$BEQ$5,0))","v":"その他・業種"},{"$f":"INDEX(入力フォーム!$N3:$BEQ3,1,MATCH(HN7,入力フォーム!$N$5:$BEQ$5,0))","v":"その他・業種・"},{"$f":"INDEX(入力フォーム!$N3:$BEQ3,1,MATCH(HO7,入力フォーム!$N$5:$BEQ$5,0))","v":"日本語"},{"$f":"INDEX(入力フォーム!$N3:$BEQ3,1,MATCH(HP7,入力フォーム!$N$5:$BEQ$5,0))","v":"中国語"},{"$f":"INDEX(入力フォーム!$N3:$BEQ3,1,MATCH(HQ7,入力フォーム!$N$5:$BEQ$5,0))","v":"英語"},{"$f":"INDEX(入力フォーム!$N3:$BEQ3,1,MATCH(HR7,入力フォーム!$N$5:$BEQ$5,0))","v":"その他・言語"},{"$f":"INDEX(入力フォーム!$N3:$BEQ3,1,MATCH(HS7,入力フォーム!$N$5:$BEQ$5,0))","v":"その他・言語・"},{"$f":"INDEX(入力フォーム!$N3:$BEQ3,1,MATCH(HT7,入力フォーム!$N$5:$BEQ$5,0))","v":"可"},{"$f":"INDEX(入力フォーム!$N3:$BEQ3,1,MATCH(HU7,入力フォーム!$N$5:$BEQ$5,0))","v":"不可"},{"$f":"INDEX(入力フォーム!$N3:$BEQ3,1,MATCH(HV7,入力フォーム!$N$5:$BEQ$5,0))","v":"生産・製造工程\nアピールポイント\n"},{"$f":"INDEX(入力フォーム!$N3:$BEQ3,1,MATCH(HW7,入力フォーム!$N$5:$BEQ$5,0))","v":"HACCP"},{"$f":"INDEX(入力フォーム!$N3:$BEQ3,1,MATCH(HX7,入力フォーム!$N$5:$BEQ$5,0))","v":"G-GAP"},{"$f":"INDEX(入力フォーム!$N3:$BEQ3,1,MATCH(HY7,入力フォーム!$N$5:$BEQ$5,0))","v":"ISO22000"},{"$f":"INDEX(入力フォーム!$N3:$BEQ3,1,MATCH(HZ7,入力フォーム!$N$5:$BEQ$5,0))","v":"ISO9001"},{"$f":"INDEX(入力フォーム!$N3:$BEQ3,1,MATCH(IA7,入力フォーム!$N$5:$BEQ$5,0))","v":"Halal"},{"$f":"INDEX(入力フォーム!$N3:$BEQ3,1,MATCH(IB7,入力フォーム!$N$5:$BEQ$5,0))","v":"FSSC22000"},{"$f":"INDEX(入力フォーム!$N3:$BEQ3,1,MATCH(IC7,入力フォーム!$N$5:$BEQ$5,0))","v":"Organic JAS"},{"$f":"INDEX(入力フォーム!$N3:$BEQ3,1,MATCH(ID7,入力フォーム!$N$5:$BEQ$5,0))","v":"なし・取得"},{"$f":"INDEX(入力フォーム!$N3:$BEQ3,1,MATCH(IE7,入力フォーム!$N$5:$BEQ$5,0))","v":"その他・取得"},{"$f":"INDEX(入力フォーム!$N3:$BEQ3,1,MATCH(IF7,入力フォーム!$N$5:$BEQ$5,0))","v":"その他・取得・"},{"$f":"INDEX(入力フォーム!$N3:$BEQ3,1,MATCH(IG7,入力フォーム!$N$5:$BEQ$5,0))","v":0},{"$f":"INDEX(入力フォーム!$N3:$BEQ3,1,MATCH(IH7,入力フォーム!$N$5:$BEQ$5,0))","v":"なし・品質"},{"$f":"INDEX(入力フォーム!$N3:$BEQ3,1,MATCH(II7,入力フォーム!$N$5:$BEQ$5,0))","v":"あり・品質"},{"$f":"INDEX(入力フォーム!$N3:$BEQ3,1,MATCH(IJ7,入力フォーム!$N$5:$BEQ$5,0))","v":"あり・品質・"},{"$f":"INDEX(入力フォーム!$N3:$BEQ3,1,MATCH(IK7,入力フォーム!$N$5:$BEQ$5,0))","v":"衛生・生産"},{"$f":"INDEX(入力フォーム!$N3:$BEQ3,1,MATCH(IL7,入力フォーム!$N$5:$BEQ$5,0))","v":"衛生・従業員"},{"$f":"INDEX(入力フォーム!$N3:$BEQ3,1,MATCH(IM7,入力フォーム!$N$5:$BEQ$5,0))","v":"衛生・施設"},{"$f":"INDEX(入力フォーム!$N3:$BEQ3,1,MATCH(IN7,入力フォーム!$N$5:$BEQ$5,0))","v":"危機・担当"},{"$f":"INDEX(入力フォーム!$N3:$BEQ3,1,MATCH(IO7,入力フォーム!$N$5:$BEQ$5,0))","v":"危機・担当連絡"},{"$f":"INDEX(入力フォーム!$N3:$BEQ3,1,MATCH(IP7,入力フォーム!$N$5:$BEQ$5,0))","v":"危機・対応"},{"$f":"INDEX(入力フォーム!$N3:$BEQ3,1,MATCH(IQ7,入力フォーム!$N$5:$BEQ$5,0))","v":0},{"$f":"INDEX(入力フォーム!$N3:$BEQ3,1,MATCH(IR7,入力フォーム!$N$5:$BEQ$5,0))","v":"商談・中国"},{"$f":"INDEX(入力フォーム!$N3:$BEQ3,1,MATCH(IS7,入力フォーム!$N$5:$BEQ$5,0))","v":"商談・韓国"},{"$f":"INDEX(入力フォーム!$N3:$BEQ3,1,MATCH(IT7,入力フォーム!$N$5:$BEQ$5,0))","v":"商談・台湾"},{"$f":"INDEX(入力フォーム!$N3:$BEQ3,1,MATCH(IU7,入力フォーム!$N$5:$BEQ$5,0))","v":"商談・香港"},{"$f":"INDEX(入力フォーム!$N3:$BEQ3,1,MATCH(IV7,入力フォーム!$N$5:$BEQ$5,0))","v":"商談・シンガポール"},{"$f":"INDEX(入力フォーム!$N3:$BEQ3,1,MATCH(IW7,入力フォーム!$N$5:$BEQ$5,0))","v":"商談・タイ"},{"$f":"INDEX(入力フォーム!$N3:$BEQ3,1,MATCH(IX7,入力フォーム!$N$5:$BEQ$5,0))","v":"商談・マレーシア"},{"$f":"INDEX(入力フォーム!$N3:$BEQ3,1,MATCH(IY7,入力フォーム!$N$5:$BEQ$5,0))","v":"商談・ベトナム"},{"$f":"INDEX(入力フォーム!$N3:$BEQ3,1,MATCH(IZ7,入力フォーム!$N$5:$BEQ$5,0))","v":"商談・北米"},{"$f":"INDEX(入力フォーム!$N3:$BEQ3,1,MATCH(JA7,入力フォーム!$N$5:$BEQ$5,0))","v":"商談・ドバイ"},{"$f":"INDEX(入力フォーム!$N3:$BEQ3,1,MATCH(JB7,入力フォーム!$N$5:$BEQ$5,0))","v":"商談・フランス"},{"$f":"INDEX(入力フォーム!$N3:$BEQ3,1,MATCH(JC7,入力フォーム!$N$5:$BEQ$5,0))","v":"商談・イギリス"},{"$f":"INDEX(入力フォーム!$N3:$BEQ3,1,MATCH(JD7,入力フォーム!$N$5:$BEQ$5,0))","v":"商談・ブラジル"},{"$f":"INDEX(入力フォーム!$N3:$BEQ3,1,MATCH(JE7,入力フォーム!$N$5:$BEQ$5,0))","v":"商談・オーストラリア"},{"$f":"INDEX(入力フォーム!$N3:$BEQ3,1,MATCH(JF7,入力フォーム!$N$5:$BEQ$5,0))","v":"その他・商談"},{"$f":"INDEX(入力フォーム!$N3:$BEQ3,1,MATCH(JG7,入力フォーム!$N$5:$BEQ$5,0))","v":"その他・商談・"},{"$f":"INDEX(入力フォーム!$N3:$BEQ3,1,MATCH(JH7,入力フォーム!$N$5:$BEQ$5,0))","v":"輸出・中国"},{"$f":"INDEX(入力フォーム!$N3:$BEQ3,1,MATCH(JI7,入力フォーム!$N$5:$BEQ$5,0))","v":"輸出・韓国"},{"$f":"INDEX(入力フォーム!$N3:$BEQ3,1,MATCH(JJ7,入力フォーム!$N$5:$BEQ$5,0))","v":"輸出・台湾"},{"$f":"INDEX(入力フォーム!$N3:$BEQ3,1,MATCH(JK7,入力フォーム!$N$5:$BEQ$5,0))","v":"輸出・香港"},{"$f":"INDEX(入力フォーム!$N3:$BEQ3,1,MATCH(JL7,入力フォーム!$N$5:$BEQ$5,0))","v":"輸出・シンガポール"},{"$f":"INDEX(入力フォーム!$N3:$BEQ3,1,MATCH(JM7,入力フォーム!$N$5:$BEQ$5,0))","v":"輸出・タイ"},{"$f":"INDEX(入力フォーム!$N3:$BEQ3,1,MATCH(JN7,入力フォーム!$N$5:$BEQ$5,0))","v":"輸出・マレーシア"},{"$f":"INDEX(入力フォーム!$N3:$BEQ3,1,MATCH(JO7,入力フォーム!$N$5:$BEQ$5,0))","v":"輸出・ベトナム"},{"$f":"INDEX(入力フォーム!$N3:$BEQ3,1,MATCH(JP7,入力フォーム!$N$5:$BEQ$5,0))","v":"輸出・北米"},{"$f":"INDEX(入力フォーム!$N3:$BEQ3,1,MATCH(JQ7,入力フォーム!$N$5:$BEQ$5,0))","v":"輸出・ドバイ"},{"$f":"INDEX(入力フォーム!$N3:$BEQ3,1,MATCH(JR7,入力フォーム!$N$5:$BEQ$5,0))","v":"輸出・フランス"},{"$f":"INDEX(入力フォーム!$N3:$BEQ3,1,MATCH(JS7,入力フォーム!$N$5:$BEQ$5,0))","v":"輸出・イギリス"},{"$f":"INDEX(入力フォーム!$N3:$BEQ3,1,MATCH(JT7,入力フォーム!$N$5:$BEQ$5,0))","v":"輸出・ブラジル"},{"$f":"INDEX(入力フォーム!$N3:$BEQ3,1,MATCH(JU7,入力フォーム!$N$5:$BEQ$5,0))","v":"輸出・オーストラリア"},{"$f":"INDEX(入力フォーム!$N3:$BEQ3,1,MATCH(JV7,入力フォーム!$N$5:$BEQ$5,0))","v":"その他・輸出"},{"$f":"INDEX(入力フォーム!$N3:$BEQ3,1,MATCH(JW7,入力フォーム!$N$5:$BEQ$5,0))","v":"その他・輸出・"},{"$f":"INDEX(入力フォーム!$N3:$BEQ3,1,MATCH(JX7,入力フォーム!$N$5:$BEQ$5,0))","v":"あり・輸出"},{"$f":"INDEX(入力フォーム!$N3:$BEQ3,1,MATCH(JY7,入力フォーム!$N$5:$BEQ$5,0))","v":"なし・輸出"},{"$f":"INDEX(入力フォーム!$N3:$BEQ3,1,MATCH(JZ7,入力フォーム!$N$5:$BEQ$5,0))","v":0},{"$f":"INDEX(入力フォーム!$N3:$BEQ3,1,MATCH(KA7,入力フォーム!$N$5:$BEQ$5,0))","v":"商品名①"},{"$f":"INDEX(入力フォーム!$N3:$BEQ3,1,MATCH(KB7,入力フォーム!$N$5:$BEQ$5,0))","v":"提供可能時期①"},{"$f":"INDEX(入力フォーム!$N3:$BEQ3,1,MATCH(KC7,入力フォーム!$N$5:$BEQ$5,0))","v":"主原料産地①"},{"$f":"INDEX(入力フォーム!$N3:$BEQ3,1,MATCH(KD7,入力フォーム!$N$5:$BEQ$5,0))","v":"内容量①"},{"$f":"INDEX(入力フォーム!$N3:$BEQ3,1,MATCH(KE7,入力フォーム!$N$5:$BEQ$5,0))","v":"1ケースあたり①"},{"$f":"INDEX(入力フォーム!$N3:$BEQ3,1,MATCH(KF7,入力フォーム!$N$5:$BEQ$5,0))","v":"発注リードタイム①"},{"$f":"INDEX(入力フォーム!$N3:$BEQ3,1,MATCH(KG7,入力フォーム!$N$5:$BEQ$5,0))","v":"最大ケース①"},{"$f":"INDEX(入力フォーム!$N3:$BEQ3,1,MATCH(KH7,入力フォーム!$N$5:$BEQ$5,0))","v":"最小ケース①"},{"$f":"INDEX(入力フォーム!$N3:$BEQ3,1,MATCH(KI7,入力フォーム!$N$5:$BEQ$5,0))","v":"縦①"},{"$f":"INDEX(入力フォーム!$N3:$BEQ3,1,MATCH(KJ7,入力フォーム!$N$5:$BEQ$5,0))","v":"横①"},{"$f":"INDEX(入力フォーム!$N3:$BEQ3,1,MATCH(KK7,入力フォーム!$N$5:$BEQ$5,0))","v":"高さ①"},{"$f":"INDEX(入力フォーム!$N3:$BEQ3,1,MATCH(KL7,入力フォーム!$N$5:$BEQ$5,0))","v":"重量①"},{"$f":"INDEX(入力フォーム!$N3:$BEQ3,1,MATCH(KM7,入力フォーム!$N$5:$BEQ$5,0))","v":"賞味期限①"},{"$f":"INDEX(入力フォーム!$N3:$BEQ3,1,MATCH(KN7,入力フォーム!$N$5:$BEQ$5,0))","v":"消費期限①"},{"$f":"INDEX(入力フォーム!$N3:$BEQ3,1,MATCH(KO7,入力フォーム!$N$5:$BEQ$5,0))","v":"JANコード①"},{"$f":"INDEX(入力フォーム!$N3:$BEQ3,1,MATCH(KP7,入力フォーム!$N$5:$BEQ$5,0))","v":"希望小売①"},{"$f":"INDEX(入力フォーム!$N3:$BEQ3,1,MATCH(KQ7,入力フォーム!$N$5:$BEQ$5,0))","v":"仕切単価①"},{"$f":"INDEX(入力フォーム!$N3:$BEQ3,1,MATCH(KR7,入力フォーム!$N$5:$BEQ$5,0))","v":"工場出し①"},{"$f":"INDEX(入力フォーム!$N3:$BEQ3,1,MATCH(KS7,入力フォーム!$N$5:$BEQ$5,0))","v":"関東向け①"},{"$f":"INDEX(入力フォーム!$N3:$BEQ3,1,MATCH(KT7,入力フォーム!$N$5:$BEQ$5,0))","v":"関西向け①"},{"$f":"INDEX(入力フォーム!$N3:$BEQ3,1,MATCH(KU7,入力フォーム!$N$5:$BEQ$5,0))","v":"8%①"},{"$f":"INDEX(入力フォーム!$N3:$BEQ3,1,MATCH(KV7,入力フォーム!$N$5:$BEQ$5,0))","v":"10%①"},{"$f":"INDEX(入力フォーム!$N3:$BEQ3,1,MATCH(KW7,入力フォーム!$N$5:$BEQ$5,0))","v":"常温①"},{"$f":"INDEX(入力フォーム!$N3:$BEQ3,1,MATCH(KX7,入力フォーム!$N$5:$BEQ$5,0))","v":"冷蔵①"},{"$f":"INDEX(入力フォーム!$N3:$BEQ3,1,MATCH(KY7,入力フォーム!$N$5:$BEQ$5,0))","v":"冷凍①"},{"$f":"INDEX(入力フォーム!$N3:$BEQ3,1,MATCH(KZ7,入力フォーム!$N$5:$BEQ$5,0))","v":"外食①"},{"$f":"INDEX(入力フォーム!$N3:$BEQ3,1,MATCH(LA7,入力フォーム!$N$5:$BEQ$5,0))","v":"中食①"},{"$f":"INDEX(入力フォーム!$N3:$BEQ3,1,MATCH(LB7,入力フォーム!$N$5:$BEQ$5,0))","v":"商社・卸売①"},{"$f":"INDEX(入力フォーム!$N3:$BEQ3,1,MATCH(LC7,入力フォーム!$N$5:$BEQ$5,0))","v":"メーカー①"},{"$f":"INDEX(入力フォーム!$N3:$BEQ3,1,MATCH(LD7,入力フォーム!$N$5:$BEQ$5,0))","v":"スーパーマーケット①"},{"$f":"INDEX(入力フォーム!$N3:$BEQ3,1,MATCH(LE7,入力フォーム!$N$5:$BEQ$5,0))","v":"百貨店①"},{"$f":"INDEX(入力フォーム!$N3:$BEQ3,1,MATCH(LF7,入力フォーム!$N$5:$BEQ$5,0))","v":"その他小売①"},{"$f":"INDEX(入力フォーム!$N3:$BEQ3,1,MATCH(LG7,入力フォーム!$N$5:$BEQ$5,0))","v":"ホテル・宴会・レジャー①"},{"$f":"INDEX(入力フォーム!$N3:$BEQ3,1,MATCH(LH7,入力フォーム!$N$5:$BEQ$5,0))","v":"その他・ターゲット①"},{"$f":"INDEX(入力フォーム!$N3:$BEQ3,1,MATCH(LI7,入力フォーム!$N$5:$BEQ$5,0))","v":"その他・ターゲット・①"},{"$f":"INDEX(入力フォーム!$N3:$BEQ3,1,MATCH(LJ7,入力フォーム!$N$5:$BEQ$5,0))","v":"業務用対応可能①"},{"$f":"INDEX(入力フォーム!$N3:$BEQ3,1,MATCH(LK7,入力フォーム!$N$5:$BEQ$5,0))","v":"ギフト対応可能①"},{"$f":"INDEX(入力フォーム!$N3:$BEQ3,1,MATCH(LL7,入力フォーム!$N$5:$BEQ$5,0))","v":"ターゲット①"},{"$f":"INDEX(入力フォーム!$N3:$BEQ3,1,MATCH(LM7,入力フォーム!$N$5:$BEQ$5,0))","v":"利用シーン①"},{"$f":"INDEX(入力フォーム!$N3:$BEQ3,1,MATCH(LN7,入力フォーム!$N$5:$BEQ$5,0))","v":"商品特徴①"},{"$f":"INDEX(入力フォーム!$N3:$BEQ3,1,MATCH(LO7,入力フォーム!$N$5:$BEQ$5,0))","v":"えび①"},{"$f":"INDEX(入力フォーム!$N3:$BEQ3,1,MATCH(LP7,入力フォーム!$N$5:$BEQ$5,0))","v":"かに①"},{"$f":"INDEX(入力フォーム!$N3:$BEQ3,1,MATCH(LQ7,入力フォーム!$N$5:$BEQ$5,0))","v":"小麦①"},{"$f":"INDEX(入力フォーム!$N3:$BEQ3,1,MATCH(LR7,入力フォーム!$N$5:$BEQ$5,0))","v":"そば①"},{"$f":"INDEX(入力フォーム!$N3:$BEQ3,1,MATCH(LS7,入力フォーム!$N$5:$BEQ$5,0))","v":"卵①"},{"$f":"INDEX(入力フォーム!$N3:$BEQ3,1,MATCH(LT7,入力フォーム!$N$5:$BEQ$5,0))","v":"乳①"},{"$f":"INDEX(入力フォーム!$N3:$BEQ3,1,MATCH(LU7,入力フォーム!$N$5:$BEQ$5,0))","v":"落花生①"},{"$f":"INDEX(入力フォーム!$N3:$BEQ3,1,MATCH(LV7,入力フォーム!$N$5:$BEQ$5,0))","v":"あわび①"},{"$f":"INDEX(入力フォーム!$N3:$BEQ3,1,MATCH(LW7,入力フォーム!$N$5:$BEQ$5,0))","v":"いか①"},{"$f":"INDEX(入力フォーム!$N3:$BEQ3,1,MATCH(LX7,入力フォーム!$N$5:$BEQ$5,0))","v":"いくら①"},{"$f":"INDEX(入力フォーム!$N3:$BEQ3,1,MATCH(LY7,入力フォーム!$N$5:$BEQ$5,0))","v":"オレンジ①"},{"$f":"INDEX(入力フォーム!$N3:$BEQ3,1,MATCH(LZ7,入力フォーム!$N$5:$BEQ$5,0))","v":"カシューナッツ①"},{"$f":"INDEX(入力フォーム!$N3:$BEQ3,1,MATCH(MA7,入力フォーム!$N$5:$BEQ$5,0))","v":"キウイフルーツ①"},{"$f":"INDEX(入力フォーム!$N3:$BEQ3,1,MATCH(MB7,入力フォーム!$N$5:$BEQ$5,0))","v":"牛肉①"},{"$f":"INDEX(入力フォーム!$N3:$BEQ3,1,MATCH(MC7,入力フォーム!$N$5:$BEQ$5,0))","v":"くるみ①"},{"$f":"INDEX(入力フォーム!$N3:$BEQ3,1,MATCH(MD7,入力フォーム!$N$5:$BEQ$5,0))","v":"ごま①"},{"$f":"INDEX(入力フォーム!$N3:$BEQ3,1,MATCH(ME7,入力フォーム!$N$5:$BEQ$5,0))","v":"さけ①"},{"$f":"INDEX(入力フォーム!$N3:$BEQ3,1,MATCH(MF7,入力フォーム!$N$5:$BEQ$5,0))","v":"さば①"},{"$f":"INDEX(入力フォーム!$N3:$BEQ3,1,MATCH(MG7,入力フォーム!$N$5:$BEQ$5,0))","v":"大豆①"},{"$f":"INDEX(入力フォーム!$N3:$BEQ3,1,MATCH(MH7,入力フォーム!$N$5:$BEQ$5,0))","v":"鶏肉①"},{"$f":"INDEX(入力フォーム!$N3:$BEQ3,1,MATCH(MI7,入力フォーム!$N$5:$BEQ$5,0))","v":"バナナ①"},{"$f":"INDEX(入力フォーム!$N3:$BEQ3,1,MATCH(MJ7,入力フォーム!$N$5:$BEQ$5,0))","v":"豚肉①"},{"$f":"INDEX(入力フォーム!$N3:$BEQ3,1,MATCH(MK7,入力フォーム!$N$5:$BEQ$5,0))","v":"まつたけ①"},{"$f":"INDEX(入力フォーム!$N3:$BEQ3,1,MATCH(ML7,入力フォーム!$N$5:$BEQ$5,0))","v":"もも①"},{"$f":"INDEX(入力フォーム!$N3:$BEQ3,1,MATCH(MM7,入力フォーム!$N$5:$BEQ$5,0))","v":"やまいも①"},{"$f":"INDEX(入力フォーム!$N3:$BEQ3,1,MATCH(MN7,入力フォーム!$N$5:$BEQ$5,0))","v":"りんご①"},{"$f":"INDEX(入力フォーム!$N3:$BEQ3,1,MATCH(MO7,入力フォーム!$N$5:$BEQ$5,0))","v":"ゼラチン①"},{"$f":"INDEX(入力フォーム!$N3:$BEQ3,1,MATCH(MP7,入力フォーム!$N$5:$BEQ$5,0))","v":"備考①"},{"$f":"INDEX(入力フォーム!$N3:$BEQ3,1,MATCH(MQ7,入力フォーム!$N$5:$BEQ$5,0))","v":0},{"$f":"INDEX(入力フォーム!$N3:$BEQ3,1,MATCH(MR7,入力フォーム!$N$5:$BEQ$5,0))","v":"商品名②"},{"$f":"INDEX(入力フォーム!$N3:$BEQ3,1,MATCH(MS7,入力フォーム!$N$5:$BEQ$5,0))","v":"提供可能時期②"},{"$f":"INDEX(入力フォーム!$N3:$BEQ3,1,MATCH(MT7,入力フォーム!$N$5:$BEQ$5,0))","v":"主原料産地②"},{"$f":"INDEX(入力フォーム!$N3:$BEQ3,1,MATCH(MU7,入力フォーム!$N$5:$BEQ$5,0))","v":"内容量②"},{"$f":"INDEX(入力フォーム!$N3:$BEQ3,1,MATCH(MV7,入力フォーム!$N$5:$BEQ$5,0))","v":"1ケースあたり②"},{"$f":"INDEX(入力フォーム!$N3:$BEQ3,1,MATCH(MW7,入力フォーム!$N$5:$BEQ$5,0))","v":"発注リードタイム②"},{"$f":"INDEX(入力フォーム!$N3:$BEQ3,1,MATCH(MX7,入力フォーム!$N$5:$BEQ$5,0))","v":"最大ケース②"},{"$f":"INDEX(入力フォーム!$N3:$BEQ3,1,MATCH(MY7,入力フォーム!$N$5:$BEQ$5,0))","v":"最小ケース②"},{"$f":"INDEX(入力フォーム!$N3:$BEQ3,1,MATCH(MZ7,入力フォーム!$N$5:$BEQ$5,0))","v":"縦②"},{"$f":"INDEX(入力フォーム!$N3:$BEQ3,1,MATCH(NA7,入力フォーム!$N$5:$BEQ$5,0))","v":"横②"},{"$f":"INDEX(入力フォーム!$N3:$BEQ3,1,MATCH(NB7,入力フォーム!$N$5:$BEQ$5,0))","v":"高さ②"},{"$f":"INDEX(入力フォーム!$N3:$BEQ3,1,MATCH(NC7,入力フォーム!$N$5:$BEQ$5,0))","v":"重量②"},{"$f":"INDEX(入力フォーム!$N3:$BEQ3,1,MATCH(ND7,入力フォーム!$N$5:$BEQ$5,0))","v":"賞味期限②"},{"$f":"INDEX(入力フォーム!$N3:$BEQ3,1,MATCH(NE7,入力フォーム!$N$5:$BEQ$5,0))","v":"消費期限②"},{"$f":"INDEX(入力フォーム!$N3:$BEQ3,1,MATCH(NF7,入力フォーム!$N$5:$BEQ$5,0))","v":"JANコード②"},{"$f":"INDEX(入力フォーム!$N3:$BEQ3,1,MATCH(NG7,入力フォーム!$N$5:$BEQ$5,0))","v":"希望小売②"},{"$f":"INDEX(入力フォーム!$N3:$BEQ3,1,MATCH(NH7,入力フォーム!$N$5:$BEQ$5,0))","v":"仕切単価②"},{"$f":"INDEX(入力フォーム!$N3:$BEQ3,1,MATCH(NI7,入力フォーム!$N$5:$BEQ$5,0))","v":"工場出し②"},{"$f":"INDEX(入力フォーム!$N3:$BEQ3,1,MATCH(NJ7,入力フォーム!$N$5:$BEQ$5,0))","v":"関東向け②"},{"$f":"INDEX(入力フォーム!$N3:$BEQ3,1,MATCH(NK7,入力フォーム!$N$5:$BEQ$5,0))","v":"関西向け②"},{"$f":"INDEX(入力フォーム!$N3:$BEQ3,1,MATCH(NL7,入力フォーム!$N$5:$BEQ$5,0))","v":"8%②"},{"$f":"INDEX(入力フォーム!$N3:$BEQ3,1,MATCH(NM7,入力フォーム!$N$5:$BEQ$5,0))","v":"10%②"},{"$f":"INDEX(入力フォーム!$N3:$BEQ3,1,MATCH(NN7,入力フォーム!$N$5:$BEQ$5,0))","v":"常温②"},{"$f":"INDEX(入力フォーム!$N3:$BEQ3,1,MATCH(NO7,入力フォーム!$N$5:$BEQ$5,0))","v":"冷蔵②"},{"$f":"INDEX(入力フォーム!$N3:$BEQ3,1,MATCH(NP7,入力フォーム!$N$5:$BEQ$5,0))","v":"冷凍②"},{"$f":"INDEX(入力フォーム!$N3:$BEQ3,1,MATCH(NQ7,入力フォーム!$N$5:$BEQ$5,0))","v":"外食②"},{"$f":"INDEX(入力フォーム!$N3:$BEQ3,1,MATCH(NR7,入力フォーム!$N$5:$BEQ$5,0))","v":"中食②"},{"$f":"INDEX(入力フォーム!$N3:$BEQ3,1,MATCH(NS7,入力フォーム!$N$5:$BEQ$5,0))","v":"商社・卸売②"},{"$f":"INDEX(入力フォーム!$N3:$BEQ3,1,MATCH(NT7,入力フォーム!$N$5:$BEQ$5,0))","v":"メーカー②"},{"$f":"INDEX(入力フォーム!$N3:$BEQ3,1,MATCH(NU7,入力フォーム!$N$5:$BEQ$5,0))","v":"スーパーマーケット②"},{"$f":"INDEX(入力フォーム!$N3:$BEQ3,1,MATCH(NV7,入力フォーム!$N$5:$BEQ$5,0))","v":"百貨店②"},{"$f":"INDEX(入力フォーム!$N3:$BEQ3,1,MATCH(NW7,入力フォーム!$N$5:$BEQ$5,0))","v":"その他小売②"},{"$f":"INDEX(入力フォーム!$N3:$BEQ3,1,MATCH(NX7,入力フォーム!$N$5:$BEQ$5,0))","v":"ホテル・宴会・レジャー②"},{"$f":"INDEX(入力フォーム!$N3:$BEQ3,1,MATCH(NY7,入力フォーム!$N$5:$BEQ$5,0))","v":"その他・ターゲット②"},{"$f":"INDEX(入力フォーム!$N3:$BEQ3,1,MATCH(NZ7,入力フォーム!$N$5:$BEQ$5,0))","v":"その他・ターゲット・②"},{"$f":"INDEX(入力フォーム!$N3:$BEQ3,1,MATCH(OA7,入力フォーム!$N$5:$BEQ$5,0))","v":"業務用対応可能②"},{"$f":"INDEX(入力フォーム!$N3:$BEQ3,1,MATCH(OB7,入力フォーム!$N$5:$BEQ$5,0))","v":"ギフト対応可能②"},{"$f":"INDEX(入力フォーム!$N3:$BEQ3,1,MATCH(OC7,入力フォーム!$N$5:$BEQ$5,0))","v":"ターゲット②"},{"$f":"INDEX(入力フォーム!$N3:$BEQ3,1,MATCH(OD7,入力フォーム!$N$5:$BEQ$5,0))","v":"利用シーン②"},{"$f":"INDEX(入力フォーム!$N3:$BEQ3,1,MATCH(OE7,入力フォーム!$N$5:$BEQ$5,0))","v":"商品特徴②"},{"$f":"INDEX(入力フォーム!$N3:$BEQ3,1,MATCH(OF7,入力フォーム!$N$5:$BEQ$5,0))","v":"えび②"},{"$f":"INDEX(入力フォーム!$N3:$BEQ3,1,MATCH(OG7,入力フォーム!$N$5:$BEQ$5,0))","v":"かに②"},{"$f":"INDEX(入力フォーム!$N3:$BEQ3,1,MATCH(OH7,入力フォーム!$N$5:$BEQ$5,0))","v":"小麦②"},{"$f":"INDEX(入力フォーム!$N3:$BEQ3,1,MATCH(OI7,入力フォーム!$N$5:$BEQ$5,0))","v":"そば②"},{"$f":"INDEX(入力フォーム!$N3:$BEQ3,1,MATCH(OJ7,入力フォーム!$N$5:$BEQ$5,0))","v":"卵②"},{"$f":"INDEX(入力フォーム!$N3:$BEQ3,1,MATCH(OK7,入力フォーム!$N$5:$BEQ$5,0))","v":"乳②"},{"$f":"INDEX(入力フォーム!$N3:$BEQ3,1,MATCH(OL7,入力フォーム!$N$5:$BEQ$5,0))","v":"落花生②"},{"$f":"INDEX(入力フォーム!$N3:$BEQ3,1,MATCH(OM7,入力フォーム!$N$5:$BEQ$5,0))","v":"あわび②"},{"$f":"INDEX(入力フォーム!$N3:$BEQ3,1,MATCH(ON7,入力フォーム!$N$5:$BEQ$5,0))","v":"いか②"},{"$f":"INDEX(入力フォーム!$N3:$BEQ3,1,MATCH(OO7,入力フォーム!$N$5:$BEQ$5,0))","v":"いくら②"},{"$f":"INDEX(入力フォーム!$N3:$BEQ3,1,MATCH(OP7,入力フォーム!$N$5:$BEQ$5,0))","v":"オレンジ②"},{"$f":"INDEX(入力フォーム!$N3:$BEQ3,1,MATCH(OQ7,入力フォーム!$N$5:$BEQ$5,0))","v":"カシューナッツ②"},{"$f":"INDEX(入力フォーム!$N3:$BEQ3,1,MATCH(OR7,入力フォーム!$N$5:$BEQ$5,0))","v":"キウイフルーツ②"},{"$f":"INDEX(入力フォーム!$N3:$BEQ3,1,MATCH(OS7,入力フォーム!$N$5:$BEQ$5,0))","v":"牛肉②"},{"$f":"INDEX(入力フォーム!$N3:$BEQ3,1,MATCH(OT7,入力フォーム!$N$5:$BEQ$5,0))","v":"くるみ②"},{"$f":"INDEX(入力フォーム!$N3:$BEQ3,1,MATCH(OU7,入力フォーム!$N$5:$BEQ$5,0))","v":"ごま②"},{"$f":"INDEX(入力フォーム!$N3:$BEQ3,1,MATCH(OV7,入力フォーム!$N$5:$BEQ$5,0))","v":"さけ②"},{"$f":"INDEX(入力フォーム!$N3:$BEQ3,1,MATCH(OW7,入力フォーム!$N$5:$BEQ$5,0))","v":"さば②"},{"$f":"INDEX(入力フォーム!$N3:$BEQ3,1,MATCH(OX7,入力フォーム!$N$5:$BEQ$5,0))","v":"大豆②"},{"$f":"INDEX(入力フォーム!$N3:$BEQ3,1,MATCH(OY7,入力フォーム!$N$5:$BEQ$5,0))","v":"鶏肉②"},{"$f":"INDEX(入力フォーム!$N3:$BEQ3,1,MATCH(OZ7,入力フォーム!$N$5:$BEQ$5,0))","v":"バナナ②"},{"$f":"INDEX(入力フォーム!$N3:$BEQ3,1,MATCH(PA7,入力フォーム!$N$5:$BEQ$5,0))","v":"豚肉②"},{"$f":"INDEX(入力フォーム!$N3:$BEQ3,1,MATCH(PB7,入力フォーム!$N$5:$BEQ$5,0))","v":"まつたけ②"},{"$f":"INDEX(入力フォーム!$N3:$BEQ3,1,MATCH(PC7,入力フォーム!$N$5:$BEQ$5,0))","v":"もも②"},{"$f":"INDEX(入力フォーム!$N3:$BEQ3,1,MATCH(PD7,入力フォーム!$N$5:$BEQ$5,0))","v":"やまいも②"},{"$f":"INDEX(入力フォーム!$N3:$BEQ3,1,MATCH(PE7,入力フォーム!$N$5:$BEQ$5,0))","v":"りんご②"},{"$f":"INDEX(入力フォーム!$N3:$BEQ3,1,MATCH(PF7,入力フォーム!$N$5:$BEQ$5,0))","v":"ゼラチン②"},{"$f":"INDEX(入力フォーム!$N3:$BEQ3,1,MATCH(PG7,入力フォーム!$N$5:$BEQ$5,0))","v":"備考②"},{"$f":"INDEX(入力フォーム!$N3:$BEQ3,1,MATCH(PH7,入力フォーム!$N$5:$BEQ$5,0))","v":0},{"$f":"INDEX(入力フォーム!$N3:$BEQ3,1,MATCH(PI7,入力フォーム!$N$5:$BEQ$5,0))","v":"商品名③"},{"$f":"INDEX(入力フォーム!$N3:$BEQ3,1,MATCH(PJ7,入力フォーム!$N$5:$BEQ$5,0))","v":"提供可能時期③"},{"$f":"INDEX(入力フォーム!$N3:$BEQ3,1,MATCH(PK7,入力フォーム!$N$5:$BEQ$5,0))","v":"主原料産地③"},{"$f":"INDEX(入力フォーム!$N3:$BEQ3,1,MATCH(PL7,入力フォーム!$N$5:$BEQ$5,0))","v":"内容量③"},{"$f":"INDEX(入力フォーム!$N3:$BEQ3,1,MATCH(PM7,入力フォーム!$N$5:$BEQ$5,0))","v":"1ケースあたり③"},{"$f":"INDEX(入力フォーム!$N3:$BEQ3,1,MATCH(PN7,入力フォーム!$N$5:$BEQ$5,0))","v":"発注リードタイム③"},{"$f":"INDEX(入力フォーム!$N3:$BEQ3,1,MATCH(PO7,入力フォーム!$N$5:$BEQ$5,0))","v":"最大ケース③"},{"$f":"INDEX(入力フォーム!$N3:$BEQ3,1,MATCH(PP7,入力フォーム!$N$5:$BEQ$5,0))","v":"最小ケース③"},{"$f":"INDEX(入力フォーム!$N3:$BEQ3,1,MATCH(PQ7,入力フォーム!$N$5:$BEQ$5,0))","v":"縦③"},{"$f":"INDEX(入力フォーム!$N3:$BEQ3,1,MATCH(PR7,入力フォーム!$N$5:$BEQ$5,0))","v":"横③"},{"$f":"INDEX(入力フォーム!$N3:$BEQ3,1,MATCH(PS7,入力フォーム!$N$5:$BEQ$5,0))","v":"高さ③"},{"$f":"INDEX(入力フォーム!$N3:$BEQ3,1,MATCH(PT7,入力フォーム!$N$5:$BEQ$5,0))","v":"重量③"},{"$f":"INDEX(入力フォーム!$N3:$BEQ3,1,MATCH(PU7,入力フォーム!$N$5:$BEQ$5,0))","v":"賞味期限③"},{"$f":"INDEX(入力フォーム!$N3:$BEQ3,1,MATCH(PV7,入力フォーム!$N$5:$BEQ$5,0))","v":"消費期限③"},{"$f":"INDEX(入力フォーム!$N3:$BEQ3,1,MATCH(PW7,入力フォーム!$N$5:$BEQ$5,0))","v":"JANコード③"},{"$f":"INDEX(入力フォーム!$N3:$BEQ3,1,MATCH(PX7,入力フォーム!$N$5:$BEQ$5,0))","v":"希望小売③"},{"$f":"INDEX(入力フォーム!$N3:$BEQ3,1,MATCH(PY7,入力フォーム!$N$5:$BEQ$5,0))","v":"仕切単価③"},{"$f":"INDEX(入力フォーム!$N3:$BEQ3,1,MATCH(PZ7,入力フォーム!$N$5:$BEQ$5,0))","v":"工場出し③"},{"$f":"INDEX(入力フォーム!$N3:$BEQ3,1,MATCH(QA7,入力フォーム!$N$5:$BEQ$5,0))","v":"関東向け③"},{"$f":"INDEX(入力フォーム!$N3:$BEQ3,1,MATCH(QB7,入力フォーム!$N$5:$BEQ$5,0))","v":"関西向け③"},{"$f":"INDEX(入力フォーム!$N3:$BEQ3,1,MATCH(QC7,入力フォーム!$N$5:$BEQ$5,0))","v":"8%③"},{"$f":"INDEX(入力フォーム!$N3:$BEQ3,1,MATCH(QD7,入力フォーム!$N$5:$BEQ$5,0))","v":"10%③"},{"$f":"INDEX(入力フォーム!$N3:$BEQ3,1,MATCH(QE7,入力フォーム!$N$5:$BEQ$5,0))","v":"常温③"},{"$f":"INDEX(入力フォーム!$N3:$BEQ3,1,MATCH(QF7,入力フォーム!$N$5:$BEQ$5,0))","v":"冷蔵③"},{"$f":"INDEX(入力フォーム!$N3:$BEQ3,1,MATCH(QG7,入力フォーム!$N$5:$BEQ$5,0))","v":"冷凍③"},{"$f":"INDEX(入力フォーム!$N3:$BEQ3,1,MATCH(QH7,入力フォーム!$N$5:$BEQ$5,0))","v":"外食③"},{"$f":"INDEX(入力フォーム!$N3:$BEQ3,1,MATCH(QI7,入力フォーム!$N$5:$BEQ$5,0))","v":"中食③"},{"$f":"INDEX(入力フォーム!$N3:$BEQ3,1,MATCH(QJ7,入力フォーム!$N$5:$BEQ$5,0))","v":"商社・卸売③"},{"$f":"INDEX(入力フォーム!$N3:$BEQ3,1,MATCH(QK7,入力フォーム!$N$5:$BEQ$5,0))","v":"メーカー③"},{"$f":"INDEX(入力フォーム!$N3:$BEQ3,1,MATCH(QL7,入力フォーム!$N$5:$BEQ$5,0))","v":"スーパーマーケット③"},{"$f":"INDEX(入力フォーム!$N3:$BEQ3,1,MATCH(QM7,入力フォーム!$N$5:$BEQ$5,0))","v":"百貨店③"},{"$f":"INDEX(入力フォーム!$N3:$BEQ3,1,MATCH(QN7,入力フォーム!$N$5:$BEQ$5,0))","v":"その他小売③"},{"$f":"INDEX(入力フォーム!$N3:$BEQ3,1,MATCH(QO7,入力フォーム!$N$5:$BEQ$5,0))","v":"ホテル・宴会・レジャー③"},{"$f":"INDEX(入力フォーム!$N3:$BEQ3,1,MATCH(QP7,入力フォーム!$N$5:$BEQ$5,0))","v":"その他・ターゲット③"},{"$f":"INDEX(入力フォーム!$N3:$BEQ3,1,MATCH(QQ7,入力フォーム!$N$5:$BEQ$5,0))","v":"その他・ターゲット・③"},{"$f":"INDEX(入力フォーム!$N3:$BEQ3,1,MATCH(QR7,入力フォーム!$N$5:$BEQ$5,0))","v":"業務用対応可能③"},{"$f":"INDEX(入力フォーム!$N3:$BEQ3,1,MATCH(QS7,入力フォーム!$N$5:$BEQ$5,0))","v":"ギフト対応可能③"},{"$f":"INDEX(入力フォーム!$N3:$BEQ3,1,MATCH(QT7,入力フォーム!$N$5:$BEQ$5,0))","v":"ターゲット③"},{"$f":"INDEX(入力フォーム!$N3:$BEQ3,1,MATCH(QU7,入力フォーム!$N$5:$BEQ$5,0))","v":"利用シーン③"},{"$f":"INDEX(入力フォーム!$N3:$BEQ3,1,MATCH(QV7,入力フォーム!$N$5:$BEQ$5,0))","v":"商品特徴③"},{"$f":"INDEX(入力フォーム!$N3:$BEQ3,1,MATCH(QW7,入力フォーム!$N$5:$BEQ$5,0))","v":"えび③"},{"$f":"INDEX(入力フォーム!$N3:$BEQ3,1,MATCH(QX7,入力フォーム!$N$5:$BEQ$5,0))","v":"かに③"},{"$f":"INDEX(入力フォーム!$N3:$BEQ3,1,MATCH(QY7,入力フォーム!$N$5:$BEQ$5,0))","v":"小麦③"},{"$f":"INDEX(入力フォーム!$N3:$BEQ3,1,MATCH(QZ7,入力フォーム!$N$5:$BEQ$5,0))","v":"そば③"},{"$f":"INDEX(入力フォーム!$N3:$BEQ3,1,MATCH(RA7,入力フォーム!$N$5:$BEQ$5,0))","v":"卵③"},{"$f":"INDEX(入力フォーム!$N3:$BEQ3,1,MATCH(RB7,入力フォーム!$N$5:$BEQ$5,0))","v":"乳③"},{"$f":"INDEX(入力フォーム!$N3:$BEQ3,1,MATCH(RC7,入力フォーム!$N$5:$BEQ$5,0))","v":"落花生③"},{"$f":"INDEX(入力フォーム!$N3:$BEQ3,1,MATCH(RD7,入力フォーム!$N$5:$BEQ$5,0))","v":"あわび③"},{"$f":"INDEX(入力フォーム!$N3:$BEQ3,1,MATCH(RE7,入力フォーム!$N$5:$BEQ$5,0))","v":"いか③"},{"$f":"INDEX(入力フォーム!$N3:$BEQ3,1,MATCH(RF7,入力フォーム!$N$5:$BEQ$5,0))","v":"いくら③"},{"$f":"INDEX(入力フォーム!$N3:$BEQ3,1,MATCH(RG7,入力フォーム!$N$5:$BEQ$5,0))","v":"オレンジ③"},{"$f":"INDEX(入力フォーム!$N3:$BEQ3,1,MATCH(RH7,入力フォーム!$N$5:$BEQ$5,0))","v":"カシューナッツ③"},{"$f":"INDEX(入力フォーム!$N3:$BEQ3,1,MATCH(RI7,入力フォーム!$N$5:$BEQ$5,0))","v":"キウイフルーツ③"},{"$f":"INDEX(入力フォーム!$N3:$BEQ3,1,MATCH(RJ7,入力フォーム!$N$5:$BEQ$5,0))","v":"牛肉③"},{"$f":"INDEX(入力フォーム!$N3:$BEQ3,1,MATCH(RK7,入力フォーム!$N$5:$BEQ$5,0))","v":"くるみ③"},{"$f":"INDEX(入力フォーム!$N3:$BEQ3,1,MATCH(RL7,入力フォーム!$N$5:$BEQ$5,0))","v":"ごま③"},{"$f":"INDEX(入力フォーム!$N3:$BEQ3,1,MATCH(RM7,入力フォーム!$N$5:$BEQ$5,0))","v":"さけ③"},{"$f":"INDEX(入力フォーム!$N3:$BEQ3,1,MATCH(RN7,入力フォーム!$N$5:$BEQ$5,0))","v":"さば③"},{"$f":"INDEX(入力フォーム!$N3:$BEQ3,1,MATCH(RO7,入力フォーム!$N$5:$BEQ$5,0))","v":"大豆③"},{"$f":"INDEX(入力フォーム!$N3:$BEQ3,1,MATCH(RP7,入力フォーム!$N$5:$BEQ$5,0))","v":"鶏肉③"},{"$f":"INDEX(入力フォーム!$N3:$BEQ3,1,MATCH(RQ7,入力フォーム!$N$5:$BEQ$5,0))","v":"バナナ③"},{"$f":"INDEX(入力フォーム!$N3:$BEQ3,1,MATCH(RR7,入力フォーム!$N$5:$BEQ$5,0))","v":"豚肉③"},{"$f":"INDEX(入力フォーム!$N3:$BEQ3,1,MATCH(RS7,入力フォーム!$N$5:$BEQ$5,0))","v":"まつたけ③"},{"$f":"INDEX(入力フォーム!$N3:$BEQ3,1,MATCH(RT7,入力フォーム!$N$5:$BEQ$5,0))","v":"もも③"},{"$f":"INDEX(入力フォーム!$N3:$BEQ3,1,MATCH(RU7,入力フォーム!$N$5:$BEQ$5,0))","v":"やまいも③"},{"$f":"INDEX(入力フォーム!$N3:$BEQ3,1,MATCH(RV7,入力フォーム!$N$5:$BEQ$5,0))","v":"りんご③"},{"$f":"INDEX(入力フォーム!$N3:$BEQ3,1,MATCH(RW7,入力フォーム!$N$5:$BEQ$5,0))","v":"ゼラチン③"},{"$f":"INDEX(入力フォーム!$N3:$BEQ3,1,MATCH(RX7,入力フォーム!$N$5:$BEQ$5,0))","v":"備考③"},{"$f":"INDEX(入力フォーム!$N3:$BEQ3,1,MATCH(RY7,入力フォーム!$N$5:$BEQ$5,0))","v":0},{"$f":"INDEX(入力フォーム!$N3:$BEQ3,1,MATCH(RZ7,入力フォーム!$N$5:$BEQ$5,0))","v":"商品名④"},{"$f":"INDEX(入力フォーム!$N3:$BEQ3,1,MATCH(SA7,入力フォーム!$N$5:$BEQ$5,0))","v":"提供可能時期④"},{"$f":"INDEX(入力フォーム!$N3:$BEQ3,1,MATCH(SB7,入力フォーム!$N$5:$BEQ$5,0))","v":"主原料産地④"},{"$f":"INDEX(入力フォーム!$N3:$BEQ3,1,MATCH(SC7,入力フォーム!$N$5:$BEQ$5,0))","v":"内容量④"},{"$f":"INDEX(入力フォーム!$N3:$BEQ3,1,MATCH(SD7,入力フォーム!$N$5:$BEQ$5,0))","v":"1ケースあたり④"},{"$f":"INDEX(入力フォーム!$N3:$BEQ3,1,MATCH(SE7,入力フォーム!$N$5:$BEQ$5,0))","v":"発注リードタイム④"},{"$f":"INDEX(入力フォーム!$N3:$BEQ3,1,MATCH(SF7,入力フォーム!$N$5:$BEQ$5,0))","v":"最大ケース④"},{"$f":"INDEX(入力フォーム!$N3:$BEQ3,1,MATCH(SG7,入力フォーム!$N$5:$BEQ$5,0))","v":"最小ケース④"},{"$f":"INDEX(入力フォーム!$N3:$BEQ3,1,MATCH(SH7,入力フォーム!$N$5:$BEQ$5,0))","v":"縦④"},{"$f":"INDEX(入力フォーム!$N3:$BEQ3,1,MATCH(SI7,入力フォーム!$N$5:$BEQ$5,0))","v":"横④"},{"$f":"INDEX(入力フォーム!$N3:$BEQ3,1,MATCH(SJ7,入力フォーム!$N$5:$BEQ$5,0))","v":"高さ④"},{"$f":"INDEX(入力フォーム!$N3:$BEQ3,1,MATCH(SK7,入力フォーム!$N$5:$BEQ$5,0))","v":"重量④"},{"$f":"INDEX(入力フォーム!$N3:$BEQ3,1,MATCH(SL7,入力フォーム!$N$5:$BEQ$5,0))","v":"賞味期限④"},{"$f":"INDEX(入力フォーム!$N3:$BEQ3,1,MATCH(SM7,入力フォーム!$N$5:$BEQ$5,0))","v":"消費期限④"},{"$f":"INDEX(入力フォーム!$N3:$BEQ3,1,MATCH(SN7,入力フォーム!$N$5:$BEQ$5,0))","v":"JANコード④"},{"$f":"INDEX(入力フォーム!$N3:$BEQ3,1,MATCH(SO7,入力フォーム!$N$5:$BEQ$5,0))","v":"希望小売④"},{"$f":"INDEX(入力フォーム!$N3:$BEQ3,1,MATCH(SP7,入力フォーム!$N$5:$BEQ$5,0))","v":"仕切単価④"},{"$f":"INDEX(入力フォーム!$N3:$BEQ3,1,MATCH(SQ7,入力フォーム!$N$5:$BEQ$5,0))","v":"工場出し④"},{"$f":"INDEX(入力フォーム!$N3:$BEQ3,1,MATCH(SR7,入力フォーム!$N$5:$BEQ$5,0))","v":"関東向け④"},{"$f":"INDEX(入力フォーム!$N3:$BEQ3,1,MATCH(SS7,入力フォーム!$N$5:$BEQ$5,0))","v":"関西向け④"},{"$f":"INDEX(入力フォーム!$N3:$BEQ3,1,MATCH(ST7,入力フォーム!$N$5:$BEQ$5,0))","v":"8%④"},{"$f":"INDEX(入力フォーム!$N3:$BEQ3,1,MATCH(SU7,入力フォーム!$N$5:$BEQ$5,0))","v":"10%④"},{"$f":"INDEX(入力フォーム!$N3:$BEQ3,1,MATCH(SV7,入力フォーム!$N$5:$BEQ$5,0))","v":"常温④"},{"$f":"INDEX(入力フォーム!$N3:$BEQ3,1,MATCH(SW7,入力フォーム!$N$5:$BEQ$5,0))","v":"冷蔵④"},{"$f":"INDEX(入力フォーム!$N3:$BEQ3,1,MATCH(SX7,入力フォーム!$N$5:$BEQ$5,0))","v":"冷凍④"},{"$f":"INDEX(入力フォーム!$N3:$BEQ3,1,MATCH(SY7,入力フォーム!$N$5:$BEQ$5,0))","v":"外食④"},{"$f":"INDEX(入力フォーム!$N3:$BEQ3,1,MATCH(SZ7,入力フォーム!$N$5:$BEQ$5,0))","v":"中食④"},{"$f":"INDEX(入力フォーム!$N3:$BEQ3,1,MATCH(TA7,入力フォーム!$N$5:$BEQ$5,0))","v":"商社・卸売④"},{"$f":"INDEX(入力フォーム!$N3:$BEQ3,1,MATCH(TB7,入力フォーム!$N$5:$BEQ$5,0))","v":"メーカー④"},{"$f":"INDEX(入力フォーム!$N3:$BEQ3,1,MATCH(TC7,入力フォーム!$N$5:$BEQ$5,0))","v":"スーパーマーケット④"},{"$f":"INDEX(入力フォーム!$N3:$BEQ3,1,MATCH(TD7,入力フォーム!$N$5:$BEQ$5,0))","v":"百貨店④"},{"$f":"INDEX(入力フォーム!$N3:$BEQ3,1,MATCH(TE7,入力フォーム!$N$5:$BEQ$5,0))","v":"その他小売④"},{"$f":"INDEX(入力フォーム!$N3:$BEQ3,1,MATCH(TF7,入力フォーム!$N$5:$BEQ$5,0))","v":"ホテル・宴会・レジャー④"},{"$f":"INDEX(入力フォーム!$N3:$BEQ3,1,MATCH(TG7,入力フォーム!$N$5:$BEQ$5,0))","v":"その他・ターゲット④"},{"$f":"INDEX(入力フォーム!$N3:$BEQ3,1,MATCH(TH7,入力フォーム!$N$5:$BEQ$5,0))","v":"その他・ターゲット・④"},{"$f":"INDEX(入力フォーム!$N3:$BEQ3,1,MATCH(TI7,入力フォーム!$N$5:$BEQ$5,0))","v":"業務用対応可能④"},{"$f":"INDEX(入力フォーム!$N3:$BEQ3,1,MATCH(TJ7,入力フォーム!$N$5:$BEQ$5,0))","v":"ギフト対応可能④"},{"$f":"INDEX(入力フォーム!$N3:$BEQ3,1,MATCH(TK7,入力フォーム!$N$5:$BEQ$5,0))","v":"ターゲット④"},{"$f":"INDEX(入力フォーム!$N3:$BEQ3,1,MATCH(TL7,入力フォーム!$N$5:$BEQ$5,0))","v":"利用シーン④"},{"$f":"INDEX(入力フォーム!$N3:$BEQ3,1,MATCH(TM7,入力フォーム!$N$5:$BEQ$5,0))","v":"商品特徴④"},{"$f":"INDEX(入力フォーム!$N3:$BEQ3,1,MATCH(TN7,入力フォーム!$N$5:$BEQ$5,0))","v":"えび④"},{"$f":"INDEX(入力フォーム!$N3:$BEQ3,1,MATCH(TO7,入力フォーム!$N$5:$BEQ$5,0))","v":"かに④"},{"$f":"INDEX(入力フォーム!$N3:$BEQ3,1,MATCH(TP7,入力フォーム!$N$5:$BEQ$5,0))","v":"小麦④"},{"$f":"INDEX(入力フォーム!$N3:$BEQ3,1,MATCH(TQ7,入力フォーム!$N$5:$BEQ$5,0))","v":"そば④"},{"$f":"INDEX(入力フォーム!$N3:$BEQ3,1,MATCH(TR7,入力フォーム!$N$5:$BEQ$5,0))","v":"卵④"},{"$f":"INDEX(入力フォーム!$N3:$BEQ3,1,MATCH(TS7,入力フォーム!$N$5:$BEQ$5,0))","v":"乳④"},{"$f":"INDEX(入力フォーム!$N3:$BEQ3,1,MATCH(TT7,入力フォーム!$N$5:$BEQ$5,0))","v":"落花生④"},{"$f":"INDEX(入力フォーム!$N3:$BEQ3,1,MATCH(TU7,入力フォーム!$N$5:$BEQ$5,0))","v":"あわび④"},{"$f":"INDEX(入力フォーム!$N3:$BEQ3,1,MATCH(TV7,入力フォーム!$N$5:$BEQ$5,0))","v":"いか④"},{"$f":"INDEX(入力フォーム!$N3:$BEQ3,1,MATCH(TW7,入力フォーム!$N$5:$BEQ$5,0))","v":"いくら④"},{"$f":"INDEX(入力フォーム!$N3:$BEQ3,1,MATCH(TX7,入力フォーム!$N$5:$BEQ$5,0))","v":"オレンジ④"},{"$f":"INDEX(入力フォーム!$N3:$BEQ3,1,MATCH(TY7,入力フォーム!$N$5:$BEQ$5,0))","v":"カシューナッツ④"},{"$f":"INDEX(入力フォーム!$N3:$BEQ3,1,MATCH(TZ7,入力フォーム!$N$5:$BEQ$5,0))","v":"キウイフルーツ④"},{"$f":"INDEX(入力フォーム!$N3:$BEQ3,1,MATCH(UA7,入力フォーム!$N$5:$BEQ$5,0))","v":"牛肉④"},{"$f":"INDEX(入力フォーム!$N3:$BEQ3,1,MATCH(UB7,入力フォーム!$N$5:$BEQ$5,0))","v":"くるみ④"},{"$f":"INDEX(入力フォーム!$N3:$BEQ3,1,MATCH(UC7,入力フォーム!$N$5:$BEQ$5,0))","v":"ごま④"},{"$f":"INDEX(入力フォーム!$N3:$BEQ3,1,MATCH(UD7,入力フォーム!$N$5:$BEQ$5,0))","v":"さけ④"},{"$f":"INDEX(入力フォーム!$N3:$BEQ3,1,MATCH(UE7,入力フォーム!$N$5:$BEQ$5,0))","v":"さば④"},{"$f":"INDEX(入力フォーム!$N3:$BEQ3,1,MATCH(UF7,入力フォーム!$N$5:$BEQ$5,0))","v":"大豆④"},{"$f":"INDEX(入力フォーム!$N3:$BEQ3,1,MATCH(UG7,入力フォーム!$N$5:$BEQ$5,0))","v":"鶏肉④"},{"$f":"INDEX(入力フォーム!$N3:$BEQ3,1,MATCH(UH7,入力フォーム!$N$5:$BEQ$5,0))","v":"バナナ④"},{"$f":"INDEX(入力フォーム!$N3:$BEQ3,1,MATCH(UI7,入力フォーム!$N$5:$BEQ$5,0))","v":"豚肉④"},{"$f":"INDEX(入力フォーム!$N3:$BEQ3,1,MATCH(UJ7,入力フォーム!$N$5:$BEQ$5,0))","v":"まつたけ④"},{"$f":"INDEX(入力フォーム!$N3:$BEQ3,1,MATCH(UK7,入力フォーム!$N$5:$BEQ$5,0))","v":"もも④"},{"$f":"INDEX(入力フォーム!$N3:$BEQ3,1,MATCH(UL7,入力フォーム!$N$5:$BEQ$5,0))","v":"やまいも④"},{"$f":"INDEX(入力フォーム!$N3:$BEQ3,1,MATCH(UM7,入力フォーム!$N$5:$BEQ$5,0))","v":"りんご④"},{"$f":"INDEX(入力フォーム!$N3:$BEQ3,1,MATCH(UN7,入力フォーム!$N$5:$BEQ$5,0))","v":"ゼラチン④"},{"$f":"INDEX(入力フォーム!$N3:$BEQ3,1,MATCH(UO7,入力フォーム!$N$5:$BEQ$5,0))","v":"備考④"},{"$f":"INDEX(入力フォーム!$N3:$BEQ3,1,MATCH(UP7,入力フォーム!$N$5:$BEQ$5,0))","v":0},{"$f":"INDEX(入力フォーム!$N3:$BEQ3,1,MATCH(UQ7,入力フォーム!$N$5:$BEQ$5,0))","v":"商品名⑤"},{"$f":"INDEX(入力フォーム!$N3:$BEQ3,1,MATCH(UR7,入力フォーム!$N$5:$BEQ$5,0))","v":"提供可能時期⑤"},{"$f":"INDEX(入力フォーム!$N3:$BEQ3,1,MATCH(US7,入力フォーム!$N$5:$BEQ$5,0))","v":"主原料産地⑤"},{"$f":"INDEX(入力フォーム!$N3:$BEQ3,1,MATCH(UT7,入力フォーム!$N$5:$BEQ$5,0))","v":"内容量⑤"},{"$f":"INDEX(入力フォーム!$N3:$BEQ3,1,MATCH(UU7,入力フォーム!$N$5:$BEQ$5,0))","v":"1ケースあたり⑤"},{"$f":"INDEX(入力フォーム!$N3:$BEQ3,1,MATCH(UV7,入力フォーム!$N$5:$BEQ$5,0))","v":"発注リードタイム⑤"},{"$f":"INDEX(入力フォーム!$N3:$BEQ3,1,MATCH(UW7,入力フォーム!$N$5:$BEQ$5,0))","v":"最大ケース⑤"},{"$f":"INDEX(入力フォーム!$N3:$BEQ3,1,MATCH(UX7,入力フォーム!$N$5:$BEQ$5,0))","v":"最小ケース⑤"},{"$f":"INDEX(入力フォーム!$N3:$BEQ3,1,MATCH(UY7,入力フォーム!$N$5:$BEQ$5,0))","v":"縦⑤"},{"$f":"INDEX(入力フォーム!$N3:$BEQ3,1,MATCH(UZ7,入力フォーム!$N$5:$BEQ$5,0))","v":"横⑤"},{"$f":"INDEX(入力フォーム!$N3:$BEQ3,1,MATCH(VA7,入力フォーム!$N$5:$BEQ$5,0))","v":"高さ⑤"},{"$f":"INDEX(入力フォーム!$N3:$BEQ3,1,MATCH(VB7,入力フォーム!$N$5:$BEQ$5,0))","v":"重量⑤"},{"$f":"INDEX(入力フォーム!$N3:$BEQ3,1,MATCH(VC7,入力フォーム!$N$5:$BEQ$5,0))","v":"賞味期限⑤"},{"$f":"INDEX(入力フォーム!$N3:$BEQ3,1,MATCH(VD7,入力フォーム!$N$5:$BEQ$5,0))","v":"消費期限⑤"},{"$f":"INDEX(入力フォーム!$N3:$BEQ3,1,MATCH(VE7,入力フォーム!$N$5:$BEQ$5,0))","v":"JANコード⑤"},{"$f":"INDEX(入力フォーム!$N3:$BEQ3,1,MATCH(VF7,入力フォーム!$N$5:$BEQ$5,0))","v":"希望小売⑤"},{"$f":"INDEX(入力フォーム!$N3:$BEQ3,1,MATCH(VG7,入力フォーム!$N$5:$BEQ$5,0))","v":"仕切単価⑤"},{"$f":"INDEX(入力フォーム!$N3:$BEQ3,1,MATCH(VH7,入力フォーム!$N$5:$BEQ$5,0))","v":"工場出し⑤"},{"$f":"INDEX(入力フォーム!$N3:$BEQ3,1,MATCH(VI7,入力フォーム!$N$5:$BEQ$5,0))","v":"関東向け⑤"},{"$f":"INDEX(入力フォーム!$N3:$BEQ3,1,MATCH(VJ7,入力フォーム!$N$5:$BEQ$5,0))","v":"関西向け⑤"},{"$f":"INDEX(入力フォーム!$N3:$BEQ3,1,MATCH(VK7,入力フォーム!$N$5:$BEQ$5,0))","v":"8%⑤"},{"$f":"INDEX(入力フォーム!$N3:$BEQ3,1,MATCH(VL7,入力フォーム!$N$5:$BEQ$5,0))","v":"10%⑤"},{"$f":"INDEX(入力フォーム!$N3:$BEQ3,1,MATCH(VM7,入力フォーム!$N$5:$BEQ$5,0))","v":"常温⑤"},{"$f":"INDEX(入力フォーム!$N3:$BEQ3,1,MATCH(VN7,入力フォーム!$N$5:$BEQ$5,0))","v":"冷蔵⑤"},{"$f":"INDEX(入力フォーム!$N3:$BEQ3,1,MATCH(VO7,入力フォーム!$N$5:$BEQ$5,0))","v":"冷凍⑤"},{"$f":"INDEX(入力フォーム!$N3:$BEQ3,1,MATCH(VP7,入力フォーム!$N$5:$BEQ$5,0))","v":"外食⑤"},{"$f":"INDEX(入力フォーム!$N3:$BEQ3,1,MATCH(VQ7,入力フォーム!$N$5:$BEQ$5,0))","v":"中食⑤"},{"$f":"INDEX(入力フォーム!$N3:$BEQ3,1,MATCH(VR7,入力フォーム!$N$5:$BEQ$5,0))","v":"商社・卸売⑤"},{"$f":"INDEX(入力フォーム!$N3:$BEQ3,1,MATCH(VS7,入力フォーム!$N$5:$BEQ$5,0))","v":"メーカー⑤"},{"$f":"INDEX(入力フォーム!$N3:$BEQ3,1,MATCH(VT7,入力フォーム!$N$5:$BEQ$5,0))","v":"スーパーマーケット⑤"},{"$f":"INDEX(入力フォーム!$N3:$BEQ3,1,MATCH(VU7,入力フォーム!$N$5:$BEQ$5,0))","v":"百貨店⑤"},{"$f":"INDEX(入力フォーム!$N3:$BEQ3,1,MATCH(VV7,入力フォーム!$N$5:$BEQ$5,0))","v":"その他小売⑤"},{"$f":"INDEX(入力フォーム!$N3:$BEQ3,1,MATCH(VW7,入力フォーム!$N$5:$BEQ$5,0))","v":"ホテル・宴会・レジャー⑤"},{"$f":"INDEX(入力フォーム!$N3:$BEQ3,1,MATCH(VX7,入力フォーム!$N$5:$BEQ$5,0))","v":"その他・ターゲット⑤"},{"$f":"INDEX(入力フォーム!$N3:$BEQ3,1,MATCH(VY7,入力フォーム!$N$5:$BEQ$5,0))","v":"その他・ターゲット・⑤"},{"$f":"INDEX(入力フォーム!$N3:$BEQ3,1,MATCH(VZ7,入力フォーム!$N$5:$BEQ$5,0))","v":"業務用対応可能⑤"},{"$f":"INDEX(入力フォーム!$N3:$BEQ3,1,MATCH(WA7,入力フォーム!$N$5:$BEQ$5,0))","v":"ギフト対応可能⑤"},{"$f":"INDEX(入力フォーム!$N3:$BEQ3,1,MATCH(WB7,入力フォーム!$N$5:$BEQ$5,0))","v":"ターゲット⑤"},{"$f":"INDEX(入力フォーム!$N3:$BEQ3,1,MATCH(WC7,入力フォーム!$N$5:$BEQ$5,0))","v":"利用シーン⑤"},{"$f":"INDEX(入力フォーム!$N3:$BEQ3,1,MATCH(WD7,入力フォーム!$N$5:$BEQ$5,0))","v":"商品特徴⑤"},{"$f":"INDEX(入力フォーム!$N3:$BEQ3,1,MATCH(WE7,入力フォーム!$N$5:$BEQ$5,0))","v":"えび⑤"},{"$f":"INDEX(入力フォーム!$N3:$BEQ3,1,MATCH(WF7,入力フォーム!$N$5:$BEQ$5,0))","v":"かに⑤"},{"$f":"INDEX(入力フォーム!$N3:$BEQ3,1,MATCH(WG7,入力フォーム!$N$5:$BEQ$5,0))","v":"小麦⑤"},{"$f":"INDEX(入力フォーム!$N3:$BEQ3,1,MATCH(WH7,入力フォーム!$N$5:$BEQ$5,0))","v":"そば⑤"},{"$f":"INDEX(入力フォーム!$N3:$BEQ3,1,MATCH(WI7,入力フォーム!$N$5:$BEQ$5,0))","v":"卵⑤"},{"$f":"INDEX(入力フォーム!$N3:$BEQ3,1,MATCH(WJ7,入力フォーム!$N$5:$BEQ$5,0))","v":"乳⑤"},{"$f":"INDEX(入力フォーム!$N3:$BEQ3,1,MATCH(WK7,入力フォーム!$N$5:$BEQ$5,0))","v":"落花生⑤"},{"$f":"INDEX(入力フォーム!$N3:$BEQ3,1,MATCH(WL7,入力フォーム!$N$5:$BEQ$5,0))","v":"あわび⑤"},{"$f":"INDEX(入力フォーム!$N3:$BEQ3,1,MATCH(WM7,入力フォーム!$N$5:$BEQ$5,0))","v":"いか⑤"},{"$f":"INDEX(入力フォーム!$N3:$BEQ3,1,MATCH(WN7,入力フォーム!$N$5:$BEQ$5,0))","v":"いくら⑤"},{"$f":"INDEX(入力フォーム!$N3:$BEQ3,1,MATCH(WO7,入力フォーム!$N$5:$BEQ$5,0))","v":"オレンジ⑤"},{"$f":"INDEX(入力フォーム!$N3:$BEQ3,1,MATCH(WP7,入力フォーム!$N$5:$BEQ$5,0))","v":"カシューナッツ⑤"},{"$f":"INDEX(入力フォーム!$N3:$BEQ3,1,MATCH(WQ7,入力フォーム!$N$5:$BEQ$5,0))","v":"キウイフルーツ⑤"},{"$f":"INDEX(入力フォーム!$N3:$BEQ3,1,MATCH(WR7,入力フォーム!$N$5:$BEQ$5,0))","v":"牛肉⑤"},{"$f":"INDEX(入力フォーム!$N3:$BEQ3,1,MATCH(WS7,入力フォーム!$N$5:$BEQ$5,0))","v":"くるみ⑤"},{"$f":"INDEX(入力フォーム!$N3:$BEQ3,1,MATCH(WT7,入力フォーム!$N$5:$BEQ$5,0))","v":"ごま⑤"},{"$f":"INDEX(入力フォーム!$N3:$BEQ3,1,MATCH(WU7,入力フォーム!$N$5:$BEQ$5,0))","v":"さけ⑤"},{"$f":"INDEX(入力フォーム!$N3:$BEQ3,1,MATCH(WV7,入力フォーム!$N$5:$BEQ$5,0))","v":"さば⑤"},{"$f":"INDEX(入力フォーム!$N3:$BEQ3,1,MATCH(WW7,入力フォーム!$N$5:$BEQ$5,0))","v":"大豆⑤"},{"$f":"INDEX(入力フォーム!$N3:$BEQ3,1,MATCH(WX7,入力フォーム!$N$5:$BEQ$5,0))","v":"鶏肉⑤"},{"$f":"INDEX(入力フォーム!$N3:$BEQ3,1,MATCH(WY7,入力フォーム!$N$5:$BEQ$5,0))","v":"バナナ⑤"},{"$f":"INDEX(入力フォーム!$N3:$BEQ3,1,MATCH(WZ7,入力フォーム!$N$5:$BEQ$5,0))","v":"豚肉⑤"},{"$f":"INDEX(入力フォーム!$N3:$BEQ3,1,MATCH(XA7,入力フォーム!$N$5:$BEQ$5,0))","v":"まつたけ⑤"},{"$f":"INDEX(入力フォーム!$N3:$BEQ3,1,MATCH(XB7,入力フォーム!$N$5:$BEQ$5,0))","v":"もも⑤"},{"$f":"INDEX(入力フォーム!$N3:$BEQ3,1,MATCH(XC7,入力フォーム!$N$5:$BEQ$5,0))","v":"やまいも⑤"},{"$f":"INDEX(入力フォーム!$N3:$BEQ3,1,MATCH(XD7,入力フォーム!$N$5:$BEQ$5,0))","v":"りんご⑤"},{"$f":"INDEX(入力フォーム!$N3:$BEQ3,1,MATCH(XE7,入力フォーム!$N$5:$BEQ$5,0))","v":"ゼラチン⑤"},{"$f":"INDEX(入力フォーム!$N3:$BEQ3,1,MATCH(XF7,入力フォーム!$N$5:$BEQ$5,0))","v":"備考⑤"},{"$f":"INDEX(入力フォーム!$N3:$BEQ3,1,MATCH(XG7,入力フォーム!$N$5:$BEQ$5,0))","v":0},{"$f":"INDEX(入力フォーム!$N3:$BEQ3,1,MATCH(XH7,入力フォーム!$N$5:$BEQ$5,0))","v":"商品名⑥"},{"$f":"INDEX(入力フォーム!$N3:$BEQ3,1,MATCH(XI7,入力フォーム!$N$5:$BEQ$5,0))","v":"提供可能時期⑥"},{"$f":"INDEX(入力フォーム!$N3:$BEQ3,1,MATCH(XJ7,入力フォーム!$N$5:$BEQ$5,0))","v":"主原料産地⑥"},{"$f":"INDEX(入力フォーム!$N3:$BEQ3,1,MATCH(XK7,入力フォーム!$N$5:$BEQ$5,0))","v":"内容量⑥"},{"$f":"INDEX(入力フォーム!$N3:$BEQ3,1,MATCH(XL7,入力フォーム!$N$5:$BEQ$5,0))","v":"1ケースあたり⑥"},{"$f":"INDEX(入力フォーム!$N3:$BEQ3,1,MATCH(XM7,入力フォーム!$N$5:$BEQ$5,0))","v":"発注リードタイム⑥"},{"$f":"INDEX(入力フォーム!$N3:$BEQ3,1,MATCH(XN7,入力フォーム!$N$5:$BEQ$5,0))","v":"最大ケース⑥"},{"$f":"INDEX(入力フォーム!$N3:$BEQ3,1,MATCH(XO7,入力フォーム!$N$5:$BEQ$5,0))","v":"最小ケース⑥"},{"$f":"INDEX(入力フォーム!$N3:$BEQ3,1,MATCH(XP7,入力フォーム!$N$5:$BEQ$5,0))","v":"縦⑥"},{"$f":"INDEX(入力フォーム!$N3:$BEQ3,1,MATCH(XQ7,入力フォーム!$N$5:$BEQ$5,0))","v":"横⑥"},{"$f":"INDEX(入力フォーム!$N3:$BEQ3,1,MATCH(XR7,入力フォーム!$N$5:$BEQ$5,0))","v":"高さ⑥"},{"$f":"INDEX(入力フォーム!$N3:$BEQ3,1,MATCH(XS7,入力フォーム!$N$5:$BEQ$5,0))","v":"重量⑥"},{"$f":"INDEX(入力フォーム!$N3:$BEQ3,1,MATCH(XT7,入力フォーム!$N$5:$BEQ$5,0))","v":"賞味期限⑥"},{"$f":"INDEX(入力フォーム!$N3:$BEQ3,1,MATCH(XU7,入力フォーム!$N$5:$BEQ$5,0))","v":"消費期限⑥"},{"$f":"INDEX(入力フォーム!$N3:$BEQ3,1,MATCH(XV7,入力フォーム!$N$5:$BEQ$5,0))","v":"JANコード⑥"},{"$f":"INDEX(入力フォーム!$N3:$BEQ3,1,MATCH(XW7,入力フォーム!$N$5:$BEQ$5,0))","v":"希望小売⑥"},{"$f":"INDEX(入力フォーム!$N3:$BEQ3,1,MATCH(XX7,入力フォーム!$N$5:$BEQ$5,0))","v":"仕切単価⑥"},{"$f":"INDEX(入力フォーム!$N3:$BEQ3,1,MATCH(XY7,入力フォーム!$N$5:$BEQ$5,0))","v":"工場出し⑥"},{"$f":"INDEX(入力フォーム!$N3:$BEQ3,1,MATCH(XZ7,入力フォーム!$N$5:$BEQ$5,0))","v":"関東向け⑥"},{"$f":"INDEX(入力フォーム!$N3:$BEQ3,1,MATCH(YA7,入力フォーム!$N$5:$BEQ$5,0))","v":"関西向け⑥"},{"$f":"INDEX(入力フォーム!$N3:$BEQ3,1,MATCH(YB7,入力フォーム!$N$5:$BEQ$5,0))","v":"8%⑥"},{"$f":"INDEX(入力フォーム!$N3:$BEQ3,1,MATCH(YC7,入力フォーム!$N$5:$BEQ$5,0))","v":"10%⑥"},{"$f":"INDEX(入力フォーム!$N3:$BEQ3,1,MATCH(YD7,入力フォーム!$N$5:$BEQ$5,0))","v":"常温⑥"},{"$f":"INDEX(入力フォーム!$N3:$BEQ3,1,MATCH(YE7,入力フォーム!$N$5:$BEQ$5,0))","v":"冷蔵⑥"},{"$f":"INDEX(入力フォーム!$N3:$BEQ3,1,MATCH(YF7,入力フォーム!$N$5:$BEQ$5,0))","v":"冷凍⑥"},{"$f":"INDEX(入力フォーム!$N3:$BEQ3,1,MATCH(YG7,入力フォーム!$N$5:$BEQ$5,0))","v":"外食⑥"},{"$f":"INDEX(入力フォーム!$N3:$BEQ3,1,MATCH(YH7,入力フォーム!$N$5:$BEQ$5,0))","v":"中食⑥"},{"$f":"INDEX(入力フォーム!$N3:$BEQ3,1,MATCH(YI7,入力フォーム!$N$5:$BEQ$5,0))","v":"商社・卸売⑥"},{"$f":"INDEX(入力フォーム!$N3:$BEQ3,1,MATCH(YJ7,入力フォーム!$N$5:$BEQ$5,0))","v":"メーカー⑥"},{"$f":"INDEX(入力フォーム!$N3:$BEQ3,1,MATCH(YK7,入力フォーム!$N$5:$BEQ$5,0))","v":"スーパーマーケット⑥"},{"$f":"INDEX(入力フォーム!$N3:$BEQ3,1,MATCH(YL7,入力フォーム!$N$5:$BEQ$5,0))","v":"百貨店⑥"},{"$f":"INDEX(入力フォーム!$N3:$BEQ3,1,MATCH(YM7,入力フォーム!$N$5:$BEQ$5,0))","v":"その他小売⑥"},{"$f":"INDEX(入力フォーム!$N3:$BEQ3,1,MATCH(YN7,入力フォーム!$N$5:$BEQ$5,0))","v":"ホテル・宴会・レジャー⑥"},{"$f":"INDEX(入力フォーム!$N3:$BEQ3,1,MATCH(YO7,入力フォーム!$N$5:$BEQ$5,0))","v":"その他・ターゲット⑥"},{"$f":"INDEX(入力フォーム!$N3:$BEQ3,1,MATCH(YP7,入力フォーム!$N$5:$BEQ$5,0))","v":"その他・ターゲット・⑥"},{"$f":"INDEX(入力フォーム!$N3:$BEQ3,1,MATCH(YQ7,入力フォーム!$N$5:$BEQ$5,0))","v":"業務用対応可能⑥"},{"$f":"INDEX(入力フォーム!$N3:$BEQ3,1,MATCH(YR7,入力フォーム!$N$5:$BEQ$5,0))","v":"ギフト対応可能⑥"},{"$f":"INDEX(入力フォーム!$N3:$BEQ3,1,MATCH(YS7,入力フォーム!$N$5:$BEQ$5,0))","v":"ターゲット⑥"},{"$f":"INDEX(入力フォーム!$N3:$BEQ3,1,MATCH(YT7,入力フォーム!$N$5:$BEQ$5,0))","v":"利用シーン⑥"},{"$f":"INDEX(入力フォーム!$N3:$BEQ3,1,MATCH(YU7,入力フォーム!$N$5:$BEQ$5,0))","v":"商品特徴⑥"},{"$f":"INDEX(入力フォーム!$N3:$BEQ3,1,MATCH(YV7,入力フォーム!$N$5:$BEQ$5,0))","v":"えび⑥"},{"$f":"INDEX(入力フォーム!$N3:$BEQ3,1,MATCH(YW7,入力フォーム!$N$5:$BEQ$5,0))","v":"かに⑥"},{"$f":"INDEX(入力フォーム!$N3:$BEQ3,1,MATCH(YX7,入力フォーム!$N$5:$BEQ$5,0))","v":"小麦⑥"},{"$f":"INDEX(入力フォーム!$N3:$BEQ3,1,MATCH(YY7,入力フォーム!$N$5:$BEQ$5,0))","v":"そば⑥"},{"$f":"INDEX(入力フォーム!$N3:$BEQ3,1,MATCH(YZ7,入力フォーム!$N$5:$BEQ$5,0))","v":"卵⑥"},{"$f":"INDEX(入力フォーム!$N3:$BEQ3,1,MATCH(ZA7,入力フォーム!$N$5:$BEQ$5,0))","v":"乳⑥"},{"$f":"INDEX(入力フォーム!$N3:$BEQ3,1,MATCH(ZB7,入力フォーム!$N$5:$BEQ$5,0))","v":"落花生⑥"},{"$f":"INDEX(入力フォーム!$N3:$BEQ3,1,MATCH(ZC7,入力フォーム!$N$5:$BEQ$5,0))","v":"あわび⑥"},{"$f":"INDEX(入力フォーム!$N3:$BEQ3,1,MATCH(ZD7,入力フォーム!$N$5:$BEQ$5,0))","v":"いか⑥"},{"$f":"INDEX(入力フォーム!$N3:$BEQ3,1,MATCH(ZE7,入力フォーム!$N$5:$BEQ$5,0))","v":"いくら⑥"},{"$f":"INDEX(入力フォーム!$N3:$BEQ3,1,MATCH(ZF7,入力フォーム!$N$5:$BEQ$5,0))","v":"オレンジ⑥"},{"$f":"INDEX(入力フォーム!$N3:$BEQ3,1,MATCH(ZG7,入力フォーム!$N$5:$BEQ$5,0))","v":"カシューナッツ⑥"},{"$f":"INDEX(入力フォーム!$N3:$BEQ3,1,MATCH(ZH7,入力フォーム!$N$5:$BEQ$5,0))","v":"キウイフルーツ⑥"},{"$f":"INDEX(入力フォーム!$N3:$BEQ3,1,MATCH(ZI7,入力フォーム!$N$5:$BEQ$5,0))","v":"牛肉⑥"},{"$f":"INDEX(入力フォーム!$N3:$BEQ3,1,MATCH(ZJ7,入力フォーム!$N$5:$BEQ$5,0))","v":"くるみ⑥"},{"$f":"INDEX(入力フォーム!$N3:$BEQ3,1,MATCH(ZK7,入力フォーム!$N$5:$BEQ$5,0))","v":"ごま⑥"},{"$f":"INDEX(入力フォーム!$N3:$BEQ3,1,MATCH(ZL7,入力フォーム!$N$5:$BEQ$5,0))","v":"さけ⑥"},{"$f":"INDEX(入力フォーム!$N3:$BEQ3,1,MATCH(ZM7,入力フォーム!$N$5:$BEQ$5,0))","v":"さば⑥"},{"$f":"INDEX(入力フォーム!$N3:$BEQ3,1,MATCH(ZN7,入力フォーム!$N$5:$BEQ$5,0))","v":"大豆⑥"},{"$f":"INDEX(入力フォーム!$N3:$BEQ3,1,MATCH(ZO7,入力フォーム!$N$5:$BEQ$5,0))","v":"鶏肉⑥"},{"$f":"INDEX(入力フォーム!$N3:$BEQ3,1,MATCH(ZP7,入力フォーム!$N$5:$BEQ$5,0))","v":"バナナ⑥"},{"$f":"INDEX(入力フォーム!$N3:$BEQ3,1,MATCH(ZQ7,入力フォーム!$N$5:$BEQ$5,0))","v":"豚肉⑥"},{"$f":"INDEX(入力フォーム!$N3:$BEQ3,1,MATCH(ZR7,入力フォーム!$N$5:$BEQ$5,0))","v":"まつたけ⑥"},{"$f":"INDEX(入力フォーム!$N3:$BEQ3,1,MATCH(ZS7,入力フォーム!$N$5:$BEQ$5,0))","v":"もも⑥"},{"$f":"INDEX(入力フォーム!$N3:$BEQ3,1,MATCH(ZT7,入力フォーム!$N$5:$BEQ$5,0))","v":"やまいも⑥"},{"$f":"INDEX(入力フォーム!$N3:$BEQ3,1,MATCH(ZU7,入力フォーム!$N$5:$BEQ$5,0))","v":"りんご⑥"},{"$f":"INDEX(入力フォーム!$N3:$BEQ3,1,MATCH(ZV7,入力フォーム!$N$5:$BEQ$5,0))","v":"ゼラチン⑥"},{"$f":"INDEX(入力フォーム!$N3:$BEQ3,1,MATCH(ZW7,入力フォーム!$N$5:$BEQ$5,0))","v":"備考⑥"},{"$f":"INDEX(入力フォーム!$N3:$BEQ3,1,MATCH(ZX7,入力フォーム!$N$5:$BEQ$5,0))","v":0},{"$f":"INDEX(入力フォーム!$N3:$BEQ3,1,MATCH(ZY7,入力フォーム!$N$5:$BEQ$5,0))","v":"商品名⑦"},{"$f":"INDEX(入力フォーム!$N3:$BEQ3,1,MATCH(ZZ7,入力フォーム!$N$5:$BEQ$5,0))","v":"提供可能時期⑦"},{"$f":"INDEX(入力フォーム!$N3:$BEQ3,1,MATCH(AAA7,入力フォーム!$N$5:$BEQ$5,0))","v":"主原料産地⑦"},{"$f":"INDEX(入力フォーム!$N3:$BEQ3,1,MATCH(AAB7,入力フォーム!$N$5:$BEQ$5,0))","v":"内容量⑦"},{"$f":"INDEX(入力フォーム!$N3:$BEQ3,1,MATCH(AAC7,入力フォーム!$N$5:$BEQ$5,0))","v":"1ケースあたり⑦"},{"$f":"INDEX(入力フォーム!$N3:$BEQ3,1,MATCH(AAD7,入力フォーム!$N$5:$BEQ$5,0))","v":"発注リードタイム⑦"},{"$f":"INDEX(入力フォーム!$N3:$BEQ3,1,MATCH(AAE7,入力フォーム!$N$5:$BEQ$5,0))","v":"最大ケース⑦"},{"$f":"INDEX(入力フォーム!$N3:$BEQ3,1,MATCH(AAF7,入力フォーム!$N$5:$BEQ$5,0))","v":"最小ケース⑦"},{"$f":"INDEX(入力フォーム!$N3:$BEQ3,1,MATCH(AAG7,入力フォーム!$N$5:$BEQ$5,0))","v":"縦⑦"},{"$f":"INDEX(入力フォーム!$N3:$BEQ3,1,MATCH(AAH7,入力フォーム!$N$5:$BEQ$5,0))","v":"横⑦"},{"$f":"INDEX(入力フォーム!$N3:$BEQ3,1,MATCH(AAI7,入力フォーム!$N$5:$BEQ$5,0))","v":"高さ⑦"},{"$f":"INDEX(入力フォーム!$N3:$BEQ3,1,MATCH(AAJ7,入力フォーム!$N$5:$BEQ$5,0))","v":"重量⑦"},{"$f":"INDEX(入力フォーム!$N3:$BEQ3,1,MATCH(AAK7,入力フォーム!$N$5:$BEQ$5,0))","v":"賞味期限⑦"},{"$f":"INDEX(入力フォーム!$N3:$BEQ3,1,MATCH(AAL7,入力フォーム!$N$5:$BEQ$5,0))","v":"消費期限⑦"},{"$f":"INDEX(入力フォーム!$N3:$BEQ3,1,MATCH(AAM7,入力フォーム!$N$5:$BEQ$5,0))","v":"JANコード⑦"},{"$f":"INDEX(入力フォーム!$N3:$BEQ3,1,MATCH(AAN7,入力フォーム!$N$5:$BEQ$5,0))","v":"希望小売⑦"},{"$f":"INDEX(入力フォーム!$N3:$BEQ3,1,MATCH(AAO7,入力フォーム!$N$5:$BEQ$5,0))","v":"仕切単価⑦"},{"$f":"INDEX(入力フォーム!$N3:$BEQ3,1,MATCH(AAP7,入力フォーム!$N$5:$BEQ$5,0))","v":"工場出し⑦"},{"$f":"INDEX(入力フォーム!$N3:$BEQ3,1,MATCH(AAQ7,入力フォーム!$N$5:$BEQ$5,0))","v":"関東向け⑦"},{"$f":"INDEX(入力フォーム!$N3:$BEQ3,1,MATCH(AAR7,入力フォーム!$N$5:$BEQ$5,0))","v":"関西向け⑦"},{"$f":"INDEX(入力フォーム!$N3:$BEQ3,1,MATCH(AAS7,入力フォーム!$N$5:$BEQ$5,0))","v":"8%⑦"},{"$f":"INDEX(入力フォーム!$N3:$BEQ3,1,MATCH(AAT7,入力フォーム!$N$5:$BEQ$5,0))","v":"10%⑦"},{"$f":"INDEX(入力フォーム!$N3:$BEQ3,1,MATCH(AAU7,入力フォーム!$N$5:$BEQ$5,0))","v":"常温⑦"},{"$f":"INDEX(入力フォーム!$N3:$BEQ3,1,MATCH(AAV7,入力フォーム!$N$5:$BEQ$5,0))","v":"冷蔵⑦"},{"$f":"INDEX(入力フォーム!$N3:$BEQ3,1,MATCH(AAW7,入力フォーム!$N$5:$BEQ$5,0))","v":"冷凍⑦"},{"$f":"INDEX(入力フォーム!$N3:$BEQ3,1,MATCH(AAX7,入力フォーム!$N$5:$BEQ$5,0))","v":"外食⑦"},{"$f":"INDEX(入力フォーム!$N3:$BEQ3,1,MATCH(AAY7,入力フォーム!$N$5:$BEQ$5,0))","v":"中食⑦"},{"$f":"INDEX(入力フォーム!$N3:$BEQ3,1,MATCH(AAZ7,入力フォーム!$N$5:$BEQ$5,0))","v":"商社・卸売⑦"},{"$f":"INDEX(入力フォーム!$N3:$BEQ3,1,MATCH(ABA7,入力フォーム!$N$5:$BEQ$5,0))","v":"メーカー⑦"},{"$f":"INDEX(入力フォーム!$N3:$BEQ3,1,MATCH(ABB7,入力フォーム!$N$5:$BEQ$5,0))","v":"スーパーマーケット⑦"},{"$f":"INDEX(入力フォーム!$N3:$BEQ3,1,MATCH(ABC7,入力フォーム!$N$5:$BEQ$5,0))","v":"百貨店⑦"},{"$f":"INDEX(入力フォーム!$N3:$BEQ3,1,MATCH(ABD7,入力フォーム!$N$5:$BEQ$5,0))","v":"その他小売⑦"},{"$f":"INDEX(入力フォーム!$N3:$BEQ3,1,MATCH(ABE7,入力フォーム!$N$5:$BEQ$5,0))","v":"ホテル・宴会・レジャー⑦"},{"$f":"INDEX(入力フォーム!$N3:$BEQ3,1,MATCH(ABF7,入力フォーム!$N$5:$BEQ$5,0))","v":"その他・ターゲット⑦"},{"$f":"INDEX(入力フォーム!$N3:$BEQ3,1,MATCH(ABG7,入力フォーム!$N$5:$BEQ$5,0))","v":"その他・ターゲット・⑦"},{"$f":"INDEX(入力フォーム!$N3:$BEQ3,1,MATCH(ABH7,入力フォーム!$N$5:$BEQ$5,0))","v":"業務用対応可能⑦"},{"$f":"INDEX(入力フォーム!$N3:$BEQ3,1,MATCH(ABI7,入力フォーム!$N$5:$BEQ$5,0))","v":"ギフト対応可能⑦"},{"$f":"INDEX(入力フォーム!$N3:$BEQ3,1,MATCH(ABJ7,入力フォーム!$N$5:$BEQ$5,0))","v":"ターゲット⑦"},{"$f":"INDEX(入力フォーム!$N3:$BEQ3,1,MATCH(ABK7,入力フォーム!$N$5:$BEQ$5,0))","v":"利用シーン⑦"},{"$f":"INDEX(入力フォーム!$N3:$BEQ3,1,MATCH(ABL7,入力フォーム!$N$5:$BEQ$5,0))","v":"商品特徴⑦"},{"$f":"INDEX(入力フォーム!$N3:$BEQ3,1,MATCH(ABM7,入力フォーム!$N$5:$BEQ$5,0))","v":"えび⑦"},{"$f":"INDEX(入力フォーム!$N3:$BEQ3,1,MATCH(ABN7,入力フォーム!$N$5:$BEQ$5,0))","v":"かに⑦"},{"$f":"INDEX(入力フォーム!$N3:$BEQ3,1,MATCH(ABO7,入力フォーム!$N$5:$BEQ$5,0))","v":"小麦⑦"},{"$f":"INDEX(入力フォーム!$N3:$BEQ3,1,MATCH(ABP7,入力フォーム!$N$5:$BEQ$5,0))","v":"そば⑦"},{"$f":"INDEX(入力フォーム!$N3:$BEQ3,1,MATCH(ABQ7,入力フォーム!$N$5:$BEQ$5,0))","v":"卵⑦"},{"$f":"INDEX(入力フォーム!$N3:$BEQ3,1,MATCH(ABR7,入力フォーム!$N$5:$BEQ$5,0))","v":"乳⑦"},{"$f":"INDEX(入力フォーム!$N3:$BEQ3,1,MATCH(ABS7,入力フォーム!$N$5:$BEQ$5,0))","v":"落花生⑦"},{"$f":"INDEX(入力フォーム!$N3:$BEQ3,1,MATCH(ABT7,入力フォーム!$N$5:$BEQ$5,0))","v":"あわび⑦"},{"$f":"INDEX(入力フォーム!$N3:$BEQ3,1,MATCH(ABU7,入力フォーム!$N$5:$BEQ$5,0))","v":"いか⑦"},{"$f":"INDEX(入力フォーム!$N3:$BEQ3,1,MATCH(ABV7,入力フォーム!$N$5:$BEQ$5,0))","v":"いくら⑦"},{"$f":"INDEX(入力フォーム!$N3:$BEQ3,1,MATCH(ABW7,入力フォーム!$N$5:$BEQ$5,0))","v":"オレンジ⑦"},{"$f":"INDEX(入力フォーム!$N3:$BEQ3,1,MATCH(ABX7,入力フォーム!$N$5:$BEQ$5,0))","v":"カシューナッツ⑦"},{"$f":"INDEX(入力フォーム!$N3:$BEQ3,1,MATCH(ABY7,入力フォーム!$N$5:$BEQ$5,0))","v":"キウイフルーツ⑦"},{"$f":"INDEX(入力フォーム!$N3:$BEQ3,1,MATCH(ABZ7,入力フォーム!$N$5:$BEQ$5,0))","v":"牛肉⑦"},{"$f":"INDEX(入力フォーム!$N3:$BEQ3,1,MATCH(ACA7,入力フォーム!$N$5:$BEQ$5,0))","v":"くるみ⑦"},{"$f":"INDEX(入力フォーム!$N3:$BEQ3,1,MATCH(ACB7,入力フォーム!$N$5:$BEQ$5,0))","v":"ごま⑦"},{"$f":"INDEX(入力フォーム!$N3:$BEQ3,1,MATCH(ACC7,入力フォーム!$N$5:$BEQ$5,0))","v":"さけ⑦"},{"$f":"INDEX(入力フォーム!$N3:$BEQ3,1,MATCH(ACD7,入力フォーム!$N$5:$BEQ$5,0))","v":"さば⑦"},{"$f":"INDEX(入力フォーム!$N3:$BEQ3,1,MATCH(ACE7,入力フォーム!$N$5:$BEQ$5,0))","v":"大豆⑦"},{"$f":"INDEX(入力フォーム!$N3:$BEQ3,1,MATCH(ACF7,入力フォーム!$N$5:$BEQ$5,0))","v":"鶏肉⑦"},{"$f":"INDEX(入力フォーム!$N3:$BEQ3,1,MATCH(ACG7,入力フォーム!$N$5:$BEQ$5,0))","v":"バナナ⑦"},{"$f":"INDEX(入力フォーム!$N3:$BEQ3,1,MATCH(ACH7,入力フォーム!$N$5:$BEQ$5,0))","v":"豚肉⑦"},{"$f":"INDEX(入力フォーム!$N3:$BEQ3,1,MATCH(ACI7,入力フォーム!$N$5:$BEQ$5,0))","v":"まつたけ⑦"},{"$f":"INDEX(入力フォーム!$N3:$BEQ3,1,MATCH(ACJ7,入力フォーム!$N$5:$BEQ$5,0))","v":"もも⑦"},{"$f":"INDEX(入力フォーム!$N3:$BEQ3,1,MATCH(ACK7,入力フォーム!$N$5:$BEQ$5,0))","v":"やまいも⑦"},{"$f":"INDEX(入力フォーム!$N3:$BEQ3,1,MATCH(ACL7,入力フォーム!$N$5:$BEQ$5,0))","v":"りんご⑦"},{"$f":"INDEX(入力フォーム!$N3:$BEQ3,1,MATCH(ACM7,入力フォーム!$N$5:$BEQ$5,0))","v":"ゼラチン⑦"},{"$f":"INDEX(入力フォーム!$N3:$BEQ3,1,MATCH(ACN7,入力フォーム!$N$5:$BEQ$5,0))","v":"備考⑦"},{"$f":"INDEX(入力フォーム!$N3:$BEQ3,1,MATCH(ACO7,入力フォーム!$N$5:$BEQ$5,0))","v":0},{"$f":"INDEX(入力フォーム!$N3:$BEQ3,1,MATCH(ACP7,入力フォーム!$N$5:$BEQ$5,0))","v":"商品名⑧"},{"$f":"INDEX(入力フォーム!$N3:$BEQ3,1,MATCH(ACQ7,入力フォーム!$N$5:$BEQ$5,0))","v":"提供可能時期⑧"},{"$f":"INDEX(入力フォーム!$N3:$BEQ3,1,MATCH(ACR7,入力フォーム!$N$5:$BEQ$5,0))","v":"主原料産地⑧"},{"$f":"INDEX(入力フォーム!$N3:$BEQ3,1,MATCH(ACS7,入力フォーム!$N$5:$BEQ$5,0))","v":"内容量⑧"},{"$f":"INDEX(入力フォーム!$N3:$BEQ3,1,MATCH(ACT7,入力フォーム!$N$5:$BEQ$5,0))","v":"1ケースあたり⑧"},{"$f":"INDEX(入力フォーム!$N3:$BEQ3,1,MATCH(ACU7,入力フォーム!$N$5:$BEQ$5,0))","v":"発注リードタイム⑧"},{"$f":"INDEX(入力フォーム!$N3:$BEQ3,1,MATCH(ACV7,入力フォーム!$N$5:$BEQ$5,0))","v":"最大ケース⑧"},{"$f":"INDEX(入力フォーム!$N3:$BEQ3,1,MATCH(ACW7,入力フォーム!$N$5:$BEQ$5,0))","v":"最小ケース⑧"},{"$f":"INDEX(入力フォーム!$N3:$BEQ3,1,MATCH(ACX7,入力フォーム!$N$5:$BEQ$5,0))","v":"縦⑧"},{"$f":"INDEX(入力フォーム!$N3:$BEQ3,1,MATCH(ACY7,入力フォーム!$N$5:$BEQ$5,0))","v":"横⑧"},{"$f":"INDEX(入力フォーム!$N3:$BEQ3,1,MATCH(ACZ7,入力フォーム!$N$5:$BEQ$5,0))","v":"高さ⑧"},{"$f":"INDEX(入力フォーム!$N3:$BEQ3,1,MATCH(ADA7,入力フォーム!$N$5:$BEQ$5,0))","v":"重量⑧"},{"$f":"INDEX(入力フォーム!$N3:$BEQ3,1,MATCH(ADB7,入力フォーム!$N$5:$BEQ$5,0))","v":"賞味期限⑧"},{"$f":"INDEX(入力フォーム!$N3:$BEQ3,1,MATCH(ADC7,入力フォーム!$N$5:$BEQ$5,0))","v":"消費期限⑧"},{"$f":"INDEX(入力フォーム!$N3:$BEQ3,1,MATCH(ADD7,入力フォーム!$N$5:$BEQ$5,0))","v":"JANコード⑧"},{"$f":"INDEX(入力フォーム!$N3:$BEQ3,1,MATCH(ADE7,入力フォーム!$N$5:$BEQ$5,0))","v":"希望小売⑧"},{"$f":"INDEX(入力フォーム!$N3:$BEQ3,1,MATCH(ADF7,入力フォーム!$N$5:$BEQ$5,0))","v":"仕切単価⑧"},{"$f":"INDEX(入力フォーム!$N3:$BEQ3,1,MATCH(ADG7,入力フォーム!$N$5:$BEQ$5,0))","v":"工場出し⑧"},{"$f":"INDEX(入力フォーム!$N3:$BEQ3,1,MATCH(ADH7,入力フォーム!$N$5:$BEQ$5,0))","v":"関東向け⑧"},{"$f":"INDEX(入力フォーム!$N3:$BEQ3,1,MATCH(ADI7,入力フォーム!$N$5:$BEQ$5,0))","v":"関西向け⑧"},{"$f":"INDEX(入力フォーム!$N3:$BEQ3,1,MATCH(ADJ7,入力フォーム!$N$5:$BEQ$5,0))","v":"8%⑧"},{"$f":"INDEX(入力フォーム!$N3:$BEQ3,1,MATCH(ADK7,入力フォーム!$N$5:$BEQ$5,0))","v":"10%⑧"},{"$f":"INDEX(入力フォーム!$N3:$BEQ3,1,MATCH(ADL7,入力フォーム!$N$5:$BEQ$5,0))","v":"常温⑧"},{"$f":"INDEX(入力フォーム!$N3:$BEQ3,1,MATCH(ADM7,入力フォーム!$N$5:$BEQ$5,0))","v":"冷蔵⑧"},{"$f":"INDEX(入力フォーム!$N3:$BEQ3,1,MATCH(ADN7,入力フォーム!$N$5:$BEQ$5,0))","v":"冷凍⑧"},{"$f":"INDEX(入力フォーム!$N3:$BEQ3,1,MATCH(ADO7,入力フォーム!$N$5:$BEQ$5,0))","v":"外食⑧"},{"$f":"INDEX(入力フォーム!$N3:$BEQ3,1,MATCH(ADP7,入力フォーム!$N$5:$BEQ$5,0))","v":"中食⑧"},{"$f":"INDEX(入力フォーム!$N3:$BEQ3,1,MATCH(ADQ7,入力フォーム!$N$5:$BEQ$5,0))","v":"商社・卸売⑧"},{"$f":"INDEX(入力フォーム!$N3:$BEQ3,1,MATCH(ADR7,入力フォーム!$N$5:$BEQ$5,0))","v":"メーカー⑧"},{"$f":"INDEX(入力フォーム!$N3:$BEQ3,1,MATCH(ADS7,入力フォーム!$N$5:$BEQ$5,0))","v":"スーパーマーケット⑧"},{"$f":"INDEX(入力フォーム!$N3:$BEQ3,1,MATCH(ADT7,入力フォーム!$N$5:$BEQ$5,0))","v":"百貨店⑧"},{"$f":"INDEX(入力フォーム!$N3:$BEQ3,1,MATCH(ADU7,入力フォーム!$N$5:$BEQ$5,0))","v":"その他小売⑧"},{"$f":"INDEX(入力フォーム!$N3:$BEQ3,1,MATCH(ADV7,入力フォーム!$N$5:$BEQ$5,0))","v":"ホテル・宴会・レジャー⑧"},{"$f":"INDEX(入力フォーム!$N3:$BEQ3,1,MATCH(ADW7,入力フォーム!$N$5:$BEQ$5,0))","v":"その他・ターゲット⑧"},{"$f":"INDEX(入力フォーム!$N3:$BEQ3,1,MATCH(ADX7,入力フォーム!$N$5:$BEQ$5,0))","v":"その他・ターゲット・⑧"},{"$f":"INDEX(入力フォーム!$N3:$BEQ3,1,MATCH(ADY7,入力フォーム!$N$5:$BEQ$5,0))","v":"業務用対応可能⑧"},{"$f":"INDEX(入力フォーム!$N3:$BEQ3,1,MATCH(ADZ7,入力フォーム!$N$5:$BEQ$5,0))","v":"ギフト対応可能⑧"},{"$f":"INDEX(入力フォーム!$N3:$BEQ3,1,MATCH(AEA7,入力フォーム!$N$5:$BEQ$5,0))","v":"ターゲット⑧"},{"$f":"INDEX(入力フォーム!$N3:$BEQ3,1,MATCH(AEB7,入力フォーム!$N$5:$BEQ$5,0))","v":"利用シーン⑧"},{"$f":"INDEX(入力フォーム!$N3:$BEQ3,1,MATCH(AEC7,入力フォーム!$N$5:$BEQ$5,0))","v":"商品特徴⑧"},{"$f":"INDEX(入力フォーム!$N3:$BEQ3,1,MATCH(AED7,入力フォーム!$N$5:$BEQ$5,0))","v":"えび⑧"},{"$f":"INDEX(入力フォーム!$N3:$BEQ3,1,MATCH(AEE7,入力フォーム!$N$5:$BEQ$5,0))","v":"かに⑧"},{"$f":"INDEX(入力フォーム!$N3:$BEQ3,1,MATCH(AEF7,入力フォーム!$N$5:$BEQ$5,0))","v":"小麦⑧"},{"$f":"INDEX(入力フォーム!$N3:$BEQ3,1,MATCH(AEG7,入力フォーム!$N$5:$BEQ$5,0))","v":"そば⑧"},{"$f":"INDEX(入力フォーム!$N3:$BEQ3,1,MATCH(AEH7,入力フォーム!$N$5:$BEQ$5,0))","v":"卵⑧"},{"$f":"INDEX(入力フォーム!$N3:$BEQ3,1,MATCH(AEI7,入力フォーム!$N$5:$BEQ$5,0))","v":"乳⑧"},{"$f":"INDEX(入力フォーム!$N3:$BEQ3,1,MATCH(AEJ7,入力フォーム!$N$5:$BEQ$5,0))","v":"落花生⑧"},{"$f":"INDEX(入力フォーム!$N3:$BEQ3,1,MATCH(AEK7,入力フォーム!$N$5:$BEQ$5,0))","v":"あわび⑧"},{"$f":"INDEX(入力フォーム!$N3:$BEQ3,1,MATCH(AEL7,入力フォーム!$N$5:$BEQ$5,0))","v":"いか⑧"},{"$f":"INDEX(入力フォーム!$N3:$BEQ3,1,MATCH(AEM7,入力フォーム!$N$5:$BEQ$5,0))","v":"いくら⑧"},{"$f":"INDEX(入力フォーム!$N3:$BEQ3,1,MATCH(AEN7,入力フォーム!$N$5:$BEQ$5,0))","v":"オレンジ⑧"},{"$f":"INDEX(入力フォーム!$N3:$BEQ3,1,MATCH(AEO7,入力フォーム!$N$5:$BEQ$5,0))","v":"カシューナッツ⑧"},{"$f":"INDEX(入力フォーム!$N3:$BEQ3,1,MATCH(AEP7,入力フォーム!$N$5:$BEQ$5,0))","v":"キウイフルーツ⑧"},{"$f":"INDEX(入力フォーム!$N3:$BEQ3,1,MATCH(AEQ7,入力フォーム!$N$5:$BEQ$5,0))","v":"牛肉⑧"},{"$f":"INDEX(入力フォーム!$N3:$BEQ3,1,MATCH(AER7,入力フォーム!$N$5:$BEQ$5,0))","v":"くるみ⑧"},{"$f":"INDEX(入力フォーム!$N3:$BEQ3,1,MATCH(AES7,入力フォーム!$N$5:$BEQ$5,0))","v":"ごま⑧"},{"$f":"INDEX(入力フォーム!$N3:$BEQ3,1,MATCH(AET7,入力フォーム!$N$5:$BEQ$5,0))","v":"さけ⑧"},{"$f":"INDEX(入力フォーム!$N3:$BEQ3,1,MATCH(AEU7,入力フォーム!$N$5:$BEQ$5,0))","v":"さば⑧"},{"$f":"INDEX(入力フォーム!$N3:$BEQ3,1,MATCH(AEV7,入力フォーム!$N$5:$BEQ$5,0))","v":"大豆⑧"},{"$f":"INDEX(入力フォーム!$N3:$BEQ3,1,MATCH(AEW7,入力フォーム!$N$5:$BEQ$5,0))","v":"鶏肉⑧"},{"$f":"INDEX(入力フォーム!$N3:$BEQ3,1,MATCH(AEX7,入力フォーム!$N$5:$BEQ$5,0))","v":"バナナ⑧"},{"$f":"INDEX(入力フォーム!$N3:$BEQ3,1,MATCH(AEY7,入力フォーム!$N$5:$BEQ$5,0))","v":"豚肉⑧"},{"$f":"INDEX(入力フォーム!$N3:$BEQ3,1,MATCH(AEZ7,入力フォーム!$N$5:$BEQ$5,0))","v":"まつたけ⑧"},{"$f":"INDEX(入力フォーム!$N3:$BEQ3,1,MATCH(AFA7,入力フォーム!$N$5:$BEQ$5,0))","v":"もも⑧"},{"$f":"INDEX(入力フォーム!$N3:$BEQ3,1,MATCH(AFB7,入力フォーム!$N$5:$BEQ$5,0))","v":"やまいも⑧"},{"$f":"INDEX(入力フォーム!$N3:$BEQ3,1,MATCH(AFC7,入力フォーム!$N$5:$BEQ$5,0))","v":"りんご⑧"},{"$f":"INDEX(入力フォーム!$N3:$BEQ3,1,MATCH(AFD7,入力フォーム!$N$5:$BEQ$5,0))","v":"ゼラチン⑧"},{"$f":"INDEX(入力フォーム!$N3:$BEQ3,1,MATCH(AFE7,入力フォーム!$N$5:$BEQ$5,0))","v":"備考⑧"},{"$f":"INDEX(入力フォーム!$N3:$BEQ3,1,MATCH(AFF7,入力フォーム!$N$5:$BEQ$5,0))","v":0},{"$f":"INDEX(入力フォーム!$N3:$BEQ3,1,MATCH(AFG7,入力フォーム!$N$5:$BEQ$5,0))","v":"商品名⑨"},{"$f":"INDEX(入力フォーム!$N3:$BEQ3,1,MATCH(AFH7,入力フォーム!$N$5:$BEQ$5,0))","v":"提供可能時期⑨"},{"$f":"INDEX(入力フォーム!$N3:$BEQ3,1,MATCH(AFI7,入力フォーム!$N$5:$BEQ$5,0))","v":"主原料産地⑨"},{"$f":"INDEX(入力フォーム!$N3:$BEQ3,1,MATCH(AFJ7,入力フォーム!$N$5:$BEQ$5,0))","v":"内容量⑨"},{"$f":"INDEX(入力フォーム!$N3:$BEQ3,1,MATCH(AFK7,入力フォーム!$N$5:$BEQ$5,0))","v":"1ケースあたり⑨"},{"$f":"INDEX(入力フォーム!$N3:$BEQ3,1,MATCH(AFL7,入力フォーム!$N$5:$BEQ$5,0))","v":"発注リードタイム⑨"},{"$f":"INDEX(入力フォーム!$N3:$BEQ3,1,MATCH(AFM7,入力フォーム!$N$5:$BEQ$5,0))","v":"最大ケース⑨"},{"$f":"INDEX(入力フォーム!$N3:$BEQ3,1,MATCH(AFN7,入力フォーム!$N$5:$BEQ$5,0))","v":"最小ケース⑨"},{"$f":"INDEX(入力フォーム!$N3:$BEQ3,1,MATCH(AFO7,入力フォーム!$N$5:$BEQ$5,0))","v":"縦⑨"},{"$f":"INDEX(入力フォーム!$N3:$BEQ3,1,MATCH(AFP7,入力フォーム!$N$5:$BEQ$5,0))","v":"横⑨"},{"$f":"INDEX(入力フォーム!$N3:$BEQ3,1,MATCH(AFQ7,入力フォーム!$N$5:$BEQ$5,0))","v":"高さ⑨"},{"$f":"INDEX(入力フォーム!$N3:$BEQ3,1,MATCH(AFR7,入力フォーム!$N$5:$BEQ$5,0))","v":"重量⑨"},{"$f":"INDEX(入力フォーム!$N3:$BEQ3,1,MATCH(AFS7,入力フォーム!$N$5:$BEQ$5,0))","v":"賞味期限⑨"},{"$f":"INDEX(入力フォーム!$N3:$BEQ3,1,MATCH(AFT7,入力フォーム!$N$5:$BEQ$5,0))","v":"消費期限⑨"},{"$f":"INDEX(入力フォーム!$N3:$BEQ3,1,MATCH(AFU7,入力フォーム!$N$5:$BEQ$5,0))","v":"JANコード⑨"},{"$f":"INDEX(入力フォーム!$N3:$BEQ3,1,MATCH(AFV7,入力フォーム!$N$5:$BEQ$5,0))","v":"希望小売⑨"},{"$f":"INDEX(入力フォーム!$N3:$BEQ3,1,MATCH(AFW7,入力フォーム!$N$5:$BEQ$5,0))","v":"仕切単価⑨"},{"$f":"INDEX(入力フォーム!$N3:$BEQ3,1,MATCH(AFX7,入力フォーム!$N$5:$BEQ$5,0))","v":"工場出し⑨"},{"$f":"INDEX(入力フォーム!$N3:$BEQ3,1,MATCH(AFY7,入力フォーム!$N$5:$BEQ$5,0))","v":"関東向け⑨"},{"$f":"INDEX(入力フォーム!$N3:$BEQ3,1,MATCH(AFZ7,入力フォーム!$N$5:$BEQ$5,0))","v":"関西向け⑨"},{"$f":"INDEX(入力フォーム!$N3:$BEQ3,1,MATCH(AGA7,入力フォーム!$N$5:$BEQ$5,0))","v":"8%⑨"},{"$f":"INDEX(入力フォーム!$N3:$BEQ3,1,MATCH(AGB7,入力フォーム!$N$5:$BEQ$5,0))","v":"10%⑨"},{"$f":"INDEX(入力フォーム!$N3:$BEQ3,1,MATCH(AGC7,入力フォーム!$N$5:$BEQ$5,0))","v":"常温⑨"},{"$f":"INDEX(入力フォーム!$N3:$BEQ3,1,MATCH(AGD7,入力フォーム!$N$5:$BEQ$5,0))","v":"冷蔵⑨"},{"$f":"INDEX(入力フォーム!$N3:$BEQ3,1,MATCH(AGE7,入力フォーム!$N$5:$BEQ$5,0))","v":"冷凍⑨"},{"$f":"INDEX(入力フォーム!$N3:$BEQ3,1,MATCH(AGF7,入力フォーム!$N$5:$BEQ$5,0))","v":"外食⑨"},{"$f":"INDEX(入力フォーム!$N3:$BEQ3,1,MATCH(AGG7,入力フォーム!$N$5:$BEQ$5,0))","v":"中食⑨"},{"$f":"INDEX(入力フォーム!$N3:$BEQ3,1,MATCH(AGH7,入力フォーム!$N$5:$BEQ$5,0))","v":"商社・卸売⑨"},{"$f":"INDEX(入力フォーム!$N3:$BEQ3,1,MATCH(AGI7,入力フォーム!$N$5:$BEQ$5,0))","v":"メーカー⑨"},{"$f":"INDEX(入力フォーム!$N3:$BEQ3,1,MATCH(AGJ7,入力フォーム!$N$5:$BEQ$5,0))","v":"スーパーマーケット⑨"},{"$f":"INDEX(入力フォーム!$N3:$BEQ3,1,MATCH(AGK7,入力フォーム!$N$5:$BEQ$5,0))","v":"百貨店⑨"},{"$f":"INDEX(入力フォーム!$N3:$BEQ3,1,MATCH(AGL7,入力フォーム!$N$5:$BEQ$5,0))","v":"その他小売⑨"},{"$f":"INDEX(入力フォーム!$N3:$BEQ3,1,MATCH(AGM7,入力フォーム!$N$5:$BEQ$5,0))","v":"ホテル・宴会・レジャー⑨"},{"$f":"INDEX(入力フォーム!$N3:$BEQ3,1,MATCH(AGN7,入力フォーム!$N$5:$BEQ$5,0))","v":"その他・ターゲット⑨"},{"$f":"INDEX(入力フォーム!$N3:$BEQ3,1,MATCH(AGO7,入力フォーム!$N$5:$BEQ$5,0))","v":"その他・ターゲット・⑨"},{"$f":"INDEX(入力フォーム!$N3:$BEQ3,1,MATCH(AGP7,入力フォーム!$N$5:$BEQ$5,0))","v":"業務用対応可能⑨"},{"$f":"INDEX(入力フォーム!$N3:$BEQ3,1,MATCH(AGQ7,入力フォーム!$N$5:$BEQ$5,0))","v":"ギフト対応可能⑨"},{"$f":"INDEX(入力フォーム!$N3:$BEQ3,1,MATCH(AGR7,入力フォーム!$N$5:$BEQ$5,0))","v":"ターゲット⑨"},{"$f":"INDEX(入力フォーム!$N3:$BEQ3,1,MATCH(AGS7,入力フォーム!$N$5:$BEQ$5,0))","v":"利用シーン⑨"},{"$f":"INDEX(入力フォーム!$N3:$BEQ3,1,MATCH(AGT7,入力フォーム!$N$5:$BEQ$5,0))","v":"商品特徴⑨"},{"$f":"INDEX(入力フォーム!$N3:$BEQ3,1,MATCH(AGU7,入力フォーム!$N$5:$BEQ$5,0))","v":"えび⑨"},{"$f":"INDEX(入力フォーム!$N3:$BEQ3,1,MATCH(AGV7,入力フォーム!$N$5:$BEQ$5,0))","v":"かに⑨"},{"$f":"INDEX(入力フォーム!$N3:$BEQ3,1,MATCH(AGW7,入力フォーム!$N$5:$BEQ$5,0))","v":"小麦⑨"},{"$f":"INDEX(入力フォーム!$N3:$BEQ3,1,MATCH(AGX7,入力フォーム!$N$5:$BEQ$5,0))","v":"そば⑨"},{"$f":"INDEX(入力フォーム!$N3:$BEQ3,1,MATCH(AGY7,入力フォーム!$N$5:$BEQ$5,0))","v":"卵⑨"},{"$f":"INDEX(入力フォーム!$N3:$BEQ3,1,MATCH(AGZ7,入力フォーム!$N$5:$BEQ$5,0))","v":"乳⑨"},{"$f":"INDEX(入力フォーム!$N3:$BEQ3,1,MATCH(AHA7,入力フォーム!$N$5:$BEQ$5,0))","v":"落花生⑨"},{"$f":"INDEX(入力フォーム!$N3:$BEQ3,1,MATCH(AHB7,入力フォーム!$N$5:$BEQ$5,0))","v":"あわび⑨"},{"$f":"INDEX(入力フォーム!$N3:$BEQ3,1,MATCH(AHC7,入力フォーム!$N$5:$BEQ$5,0))","v":"いか⑨"},{"$f":"INDEX(入力フォーム!$N3:$BEQ3,1,MATCH(AHD7,入力フォーム!$N$5:$BEQ$5,0))","v":"いくら⑨"},{"$f":"INDEX(入力フォーム!$N3:$BEQ3,1,MATCH(AHE7,入力フォーム!$N$5:$BEQ$5,0))","v":"オレンジ⑨"},{"$f":"INDEX(入力フォーム!$N3:$BEQ3,1,MATCH(AHF7,入力フォーム!$N$5:$BEQ$5,0))","v":"カシューナッツ⑨"},{"$f":"INDEX(入力フォーム!$N3:$BEQ3,1,MATCH(AHG7,入力フォーム!$N$5:$BEQ$5,0))","v":"キウイフルーツ⑨"},{"$f":"INDEX(入力フォーム!$N3:$BEQ3,1,MATCH(AHH7,入力フォーム!$N$5:$BEQ$5,0))","v":"牛肉⑨"},{"$f":"INDEX(入力フォーム!$N3:$BEQ3,1,MATCH(AHI7,入力フォーム!$N$5:$BEQ$5,0))","v":"くるみ⑨"},{"$f":"INDEX(入力フォーム!$N3:$BEQ3,1,MATCH(AHJ7,入力フォーム!$N$5:$BEQ$5,0))","v":"ごま⑨"},{"$f":"INDEX(入力フォーム!$N3:$BEQ3,1,MATCH(AHK7,入力フォーム!$N$5:$BEQ$5,0))","v":"さけ⑨"},{"$f":"INDEX(入力フォーム!$N3:$BEQ3,1,MATCH(AHL7,入力フォーム!$N$5:$BEQ$5,0))","v":"さば⑨"},{"$f":"INDEX(入力フォーム!$N3:$BEQ3,1,MATCH(AHM7,入力フォーム!$N$5:$BEQ$5,0))","v":"大豆⑨"},{"$f":"INDEX(入力フォーム!$N3:$BEQ3,1,MATCH(AHN7,入力フォーム!$N$5:$BEQ$5,0))","v":"鶏肉⑨"},{"$f":"INDEX(入力フォーム!$N3:$BEQ3,1,MATCH(AHO7,入力フォーム!$N$5:$BEQ$5,0))","v":"バナナ⑨"},{"$f":"INDEX(入力フォーム!$N3:$BEQ3,1,MATCH(AHP7,入力フォーム!$N$5:$BEQ$5,0))","v":"豚肉⑨"},{"$f":"INDEX(入力フォーム!$N3:$BEQ3,1,MATCH(AHQ7,入力フォーム!$N$5:$BEQ$5,0))","v":"まつたけ⑨"},{"$f":"INDEX(入力フォーム!$N3:$BEQ3,1,MATCH(AHR7,入力フォーム!$N$5:$BEQ$5,0))","v":"もも⑨"},{"$f":"INDEX(入力フォーム!$N3:$BEQ3,1,MATCH(AHS7,入力フォーム!$N$5:$BEQ$5,0))","v":"やまいも⑨"},{"$f":"INDEX(入力フォーム!$N3:$BEQ3,1,MATCH(AHT7,入力フォーム!$N$5:$BEQ$5,0))","v":"りんご⑨"},{"$f":"INDEX(入力フォーム!$N3:$BEQ3,1,MATCH(AHU7,入力フォーム!$N$5:$BEQ$5,0))","v":"ゼラチン⑨"},{"$f":"INDEX(入力フォーム!$N3:$BEQ3,1,MATCH(AHV7,入力フォーム!$N$5:$BEQ$5,0))","v":"備考⑨"},{"$f":"INDEX(入力フォーム!$N3:$BEQ3,1,MATCH(AHW7,入力フォーム!$N$5:$BEQ$5,0))","v":0},{"$f":"INDEX(入力フォーム!$N3:$BEQ3,1,MATCH(AHX7,入力フォーム!$N$5:$BEQ$5,0))","v":"商品名⑩"},{"$f":"INDEX(入力フォーム!$N3:$BEQ3,1,MATCH(AHY7,入力フォーム!$N$5:$BEQ$5,0))","v":"提供可能時期⑩"},{"$f":"INDEX(入力フォーム!$N3:$BEQ3,1,MATCH(AHZ7,入力フォーム!$N$5:$BEQ$5,0))","v":"主原料産地⑩"},{"$f":"INDEX(入力フォーム!$N3:$BEQ3,1,MATCH(AIA7,入力フォーム!$N$5:$BEQ$5,0))","v":"内容量⑩"},{"$f":"INDEX(入力フォーム!$N3:$BEQ3,1,MATCH(AIB7,入力フォーム!$N$5:$BEQ$5,0))","v":"1ケースあたり⑩"},{"$f":"INDEX(入力フォーム!$N3:$BEQ3,1,MATCH(AIC7,入力フォーム!$N$5:$BEQ$5,0))","v":"発注リードタイム⑩"},{"$f":"INDEX(入力フォーム!$N3:$BEQ3,1,MATCH(AID7,入力フォーム!$N$5:$BEQ$5,0))","v":"最大ケース⑩"},{"$f":"INDEX(入力フォーム!$N3:$BEQ3,1,MATCH(AIE7,入力フォーム!$N$5:$BEQ$5,0))","v":"最小ケース⑩"},{"$f":"INDEX(入力フォーム!$N3:$BEQ3,1,MATCH(AIF7,入力フォーム!$N$5:$BEQ$5,0))","v":"縦⑩"},{"$f":"INDEX(入力フォーム!$N3:$BEQ3,1,MATCH(AIG7,入力フォーム!$N$5:$BEQ$5,0))","v":"横⑩"},{"$f":"INDEX(入力フォーム!$N3:$BEQ3,1,MATCH(AIH7,入力フォーム!$N$5:$BEQ$5,0))","v":"高さ⑩"},{"$f":"INDEX(入力フォーム!$N3:$BEQ3,1,MATCH(AII7,入力フォーム!$N$5:$BEQ$5,0))","v":"重量⑩"},{"$f":"INDEX(入力フォーム!$N3:$BEQ3,1,MATCH(AIJ7,入力フォーム!$N$5:$BEQ$5,0))","v":"賞味期限⑩"},{"$f":"INDEX(入力フォーム!$N3:$BEQ3,1,MATCH(AIK7,入力フォーム!$N$5:$BEQ$5,0))","v":"消費期限⑩"},{"$f":"INDEX(入力フォーム!$N3:$BEQ3,1,MATCH(AIL7,入力フォーム!$N$5:$BEQ$5,0))","v":"JANコード⑩"},{"$f":"INDEX(入力フォーム!$N3:$BEQ3,1,MATCH(AIM7,入力フォーム!$N$5:$BEQ$5,0))","v":"希望小売⑩"},{"$f":"INDEX(入力フォーム!$N3:$BEQ3,1,MATCH(AIN7,入力フォーム!$N$5:$BEQ$5,0))","v":"仕切単価⑩"},{"$f":"INDEX(入力フォーム!$N3:$BEQ3,1,MATCH(AIO7,入力フォーム!$N$5:$BEQ$5,0))","v":"工場出し⑩"},{"$f":"INDEX(入力フォーム!$N3:$BEQ3,1,MATCH(AIP7,入力フォーム!$N$5:$BEQ$5,0))","v":"関東向け⑩"},{"$f":"INDEX(入力フォーム!$N3:$BEQ3,1,MATCH(AIQ7,入力フォーム!$N$5:$BEQ$5,0))","v":"関西向け⑩"},{"$f":"INDEX(入力フォーム!$N3:$BEQ3,1,MATCH(AIR7,入力フォーム!$N$5:$BEQ$5,0))","v":"8%⑩"},{"$f":"INDEX(入力フォーム!$N3:$BEQ3,1,MATCH(AIS7,入力フォーム!$N$5:$BEQ$5,0))","v":"10%⑩"},{"$f":"INDEX(入力フォーム!$N3:$BEQ3,1,MATCH(AIT7,入力フォーム!$N$5:$BEQ$5,0))","v":"常温⑩"},{"$f":"INDEX(入力フォーム!$N3:$BEQ3,1,MATCH(AIU7,入力フォーム!$N$5:$BEQ$5,0))","v":"冷蔵⑩"},{"$f":"INDEX(入力フォーム!$N3:$BEQ3,1,MATCH(AIV7,入力フォーム!$N$5:$BEQ$5,0))","v":"冷凍⑩"},{"$f":"INDEX(入力フォーム!$N3:$BEQ3,1,MATCH(AIW7,入力フォーム!$N$5:$BEQ$5,0))","v":"外食⑩"},{"$f":"INDEX(入力フォーム!$N3:$BEQ3,1,MATCH(AIX7,入力フォーム!$N$5:$BEQ$5,0))","v":"中食⑩"},{"$f":"INDEX(入力フォーム!$N3:$BEQ3,1,MATCH(AIY7,入力フォーム!$N$5:$BEQ$5,0))","v":"商社・卸売⑩"},{"$f":"INDEX(入力フォーム!$N3:$BEQ3,1,MATCH(AIZ7,入力フォーム!$N$5:$BEQ$5,0))","v":"メーカー⑩"},{"$f":"INDEX(入力フォーム!$N3:$BEQ3,1,MATCH(AJA7,入力フォーム!$N$5:$BEQ$5,0))","v":"スーパーマーケット⑩"},{"$f":"INDEX(入力フォーム!$N3:$BEQ3,1,MATCH(AJB7,入力フォーム!$N$5:$BEQ$5,0))","v":"百貨店⑩"},{"$f":"INDEX(入力フォーム!$N3:$BEQ3,1,MATCH(AJC7,入力フォーム!$N$5:$BEQ$5,0))","v":"その他小売⑩"},{"$f":"INDEX(入力フォーム!$N3:$BEQ3,1,MATCH(AJD7,入力フォーム!$N$5:$BEQ$5,0))","v":"ホテル・宴会・レジャー⑩"},{"$f":"INDEX(入力フォーム!$N3:$BEQ3,1,MATCH(AJE7,入力フォーム!$N$5:$BEQ$5,0))","v":"その他・ターゲット⑩"},{"$f":"INDEX(入力フォーム!$N3:$BEQ3,1,MATCH(AJF7,入力フォーム!$N$5:$BEQ$5,0))","v":"その他・ターゲット・⑩"},{"$f":"INDEX(入力フォーム!$N3:$BEQ3,1,MATCH(AJG7,入力フォーム!$N$5:$BEQ$5,0))","v":"業務用対応可能⑩"},{"$f":"INDEX(入力フォーム!$N3:$BEQ3,1,MATCH(AJH7,入力フォーム!$N$5:$BEQ$5,0))","v":"ギフト対応可能⑩"},{"$f":"INDEX(入力フォーム!$N3:$BEQ3,1,MATCH(AJI7,入力フォーム!$N$5:$BEQ$5,0))","v":"ターゲット⑩"},{"$f":"INDEX(入力フォーム!$N3:$BEQ3,1,MATCH(AJJ7,入力フォーム!$N$5:$BEQ$5,0))","v":"利用シーン⑩"},{"$f":"INDEX(入力フォーム!$N3:$BEQ3,1,MATCH(AJK7,入力フォーム!$N$5:$BEQ$5,0))","v":"商品特徴⑩"},{"$f":"INDEX(入力フォーム!$N3:$BEQ3,1,MATCH(AJL7,入力フォーム!$N$5:$BEQ$5,0))","v":"えび⑩"},{"$f":"INDEX(入力フォーム!$N3:$BEQ3,1,MATCH(AJM7,入力フォーム!$N$5:$BEQ$5,0))","v":"かに⑩"},{"$f":"INDEX(入力フォーム!$N3:$BEQ3,1,MATCH(AJN7,入力フォーム!$N$5:$BEQ$5,0))","v":"小麦⑩"},{"$f":"INDEX(入力フォーム!$N3:$BEQ3,1,MATCH(AJO7,入力フォーム!$N$5:$BEQ$5,0))","v":"そば⑩"},{"$f":"INDEX(入力フォーム!$N3:$BEQ3,1,MATCH(AJP7,入力フォーム!$N$5:$BEQ$5,0))","v":"卵⑩"},{"$f":"INDEX(入力フォーム!$N3:$BEQ3,1,MATCH(AJQ7,入力フォーム!$N$5:$BEQ$5,0))","v":"乳⑩"},{"$f":"INDEX(入力フォーム!$N3:$BEQ3,1,MATCH(AJR7,入力フォーム!$N$5:$BEQ$5,0))","v":"落花生⑩"},{"$f":"INDEX(入力フォーム!$N3:$BEQ3,1,MATCH(AJS7,入力フォーム!$N$5:$BEQ$5,0))","v":"あわび⑩"},{"$f":"INDEX(入力フォーム!$N3:$BEQ3,1,MATCH(AJT7,入力フォーム!$N$5:$BEQ$5,0))","v":"いか⑩"},{"$f":"INDEX(入力フォーム!$N3:$BEQ3,1,MATCH(AJU7,入力フォーム!$N$5:$BEQ$5,0))","v":"いくら⑩"},{"$f":"INDEX(入力フォーム!$N3:$BEQ3,1,MATCH(AJV7,入力フォーム!$N$5:$BEQ$5,0))","v":"オレンジ⑩"},{"$f":"INDEX(入力フォーム!$N3:$BEQ3,1,MATCH(AJW7,入力フォーム!$N$5:$BEQ$5,0))","v":"カシューナッツ⑩"},{"$f":"INDEX(入力フォーム!$N3:$BEQ3,1,MATCH(AJX7,入力フォーム!$N$5:$BEQ$5,0))","v":"キウイフルーツ⑩"},{"$f":"INDEX(入力フォーム!$N3:$BEQ3,1,MATCH(AJY7,入力フォーム!$N$5:$BEQ$5,0))","v":"牛肉⑩"},{"$f":"INDEX(入力フォーム!$N3:$BEQ3,1,MATCH(AJZ7,入力フォーム!$N$5:$BEQ$5,0))","v":"くるみ⑩"},{"$f":"INDEX(入力フォーム!$N3:$BEQ3,1,MATCH(AKA7,入力フォーム!$N$5:$BEQ$5,0))","v":"ごま⑩"},{"$f":"INDEX(入力フォーム!$N3:$BEQ3,1,MATCH(AKB7,入力フォーム!$N$5:$BEQ$5,0))","v":"さけ⑩"},{"$f":"INDEX(入力フォーム!$N3:$BEQ3,1,MATCH(AKC7,入力フォーム!$N$5:$BEQ$5,0))","v":"さば⑩"},{"$f":"INDEX(入力フォーム!$N3:$BEQ3,1,MATCH(AKD7,入力フォーム!$N$5:$BEQ$5,0))","v":"大豆⑩"},{"$f":"INDEX(入力フォーム!$N3:$BEQ3,1,MATCH(AKE7,入力フォーム!$N$5:$BEQ$5,0))","v":"鶏肉⑩"},{"$f":"INDEX(入力フォーム!$N3:$BEQ3,1,MATCH(AKF7,入力フォーム!$N$5:$BEQ$5,0))","v":"バナナ⑩"},{"$f":"INDEX(入力フォーム!$N3:$BEQ3,1,MATCH(AKG7,入力フォーム!$N$5:$BEQ$5,0))","v":"豚肉⑩"},{"$f":"INDEX(入力フォーム!$N3:$BEQ3,1,MATCH(AKH7,入力フォーム!$N$5:$BEQ$5,0))","v":"まつたけ⑩"},{"$f":"INDEX(入力フォーム!$N3:$BEQ3,1,MATCH(AKI7,入力フォーム!$N$5:$BEQ$5,0))","v":"もも⑩"},{"$f":"INDEX(入力フォーム!$N3:$BEQ3,1,MATCH(AKJ7,入力フォーム!$N$5:$BEQ$5,0))","v":"やまいも⑩"},{"$f":"INDEX(入力フォーム!$N3:$BEQ3,1,MATCH(AKK7,入力フォーム!$N$5:$BEQ$5,0))","v":"りんご⑩"},{"$f":"INDEX(入力フォーム!$N3:$BEQ3,1,MATCH(AKL7,入力フォーム!$N$5:$BEQ$5,0))","v":"ゼラチン⑩"},{"$f":"INDEX(入力フォーム!$N3:$BEQ3,1,MATCH(AKM7,入力フォーム!$N$5:$BEQ$5,0))","v":"備考⑩"},{"$f":"INDEX(入力フォーム!$N3:$BEQ3,1,MATCH(AKN7,入力フォーム!$N$5:$BEQ$5,0))","v":0},{"$f":"INDEX(入力フォーム!$N3:$BEQ3,1,MATCH(AKO7,入力フォーム!$N$5:$BEQ$5,0))","v":"商品名⑪"},{"$f":"INDEX(入力フォーム!$N3:$BEQ3,1,MATCH(AKP7,入力フォーム!$N$5:$BEQ$5,0))","v":"提供可能時期⑪"},{"$f":"INDEX(入力フォーム!$N3:$BEQ3,1,MATCH(AKQ7,入力フォーム!$N$5:$BEQ$5,0))","v":"主原料産地⑪"},{"$f":"INDEX(入力フォーム!$N3:$BEQ3,1,MATCH(AKR7,入力フォーム!$N$5:$BEQ$5,0))","v":"内容量⑪"},{"$f":"INDEX(入力フォーム!$N3:$BEQ3,1,MATCH(AKS7,入力フォーム!$N$5:$BEQ$5,0))","v":"1ケースあたり⑪"},{"$f":"INDEX(入力フォーム!$N3:$BEQ3,1,MATCH(AKT7,入力フォーム!$N$5:$BEQ$5,0))","v":"発注リードタイム⑪"},{"$f":"INDEX(入力フォーム!$N3:$BEQ3,1,MATCH(AKU7,入力フォーム!$N$5:$BEQ$5,0))","v":"最大ケース⑪"},{"$f":"INDEX(入力フォーム!$N3:$BEQ3,1,MATCH(AKV7,入力フォーム!$N$5:$BEQ$5,0))","v":"最小ケース⑪"},{"$f":"INDEX(入力フォーム!$N3:$BEQ3,1,MATCH(AKW7,入力フォーム!$N$5:$BEQ$5,0))","v":"縦⑪"},{"$f":"INDEX(入力フォーム!$N3:$BEQ3,1,MATCH(AKX7,入力フォーム!$N$5:$BEQ$5,0))","v":"横⑪"},{"$f":"INDEX(入力フォーム!$N3:$BEQ3,1,MATCH(AKY7,入力フォーム!$N$5:$BEQ$5,0))","v":"高さ⑪"},{"$f":"INDEX(入力フォーム!$N3:$BEQ3,1,MATCH(AKZ7,入力フォーム!$N$5:$BEQ$5,0))","v":"重量⑪"},{"$f":"INDEX(入力フォーム!$N3:$BEQ3,1,MATCH(ALA7,入力フォーム!$N$5:$BEQ$5,0))","v":"賞味期限⑪"},{"$f":"INDEX(入力フォーム!$N3:$BEQ3,1,MATCH(ALB7,入力フォーム!$N$5:$BEQ$5,0))","v":"消費期限⑪"},{"$f":"INDEX(入力フォーム!$N3:$BEQ3,1,MATCH(ALC7,入力フォーム!$N$5:$BEQ$5,0))","v":"JANコード⑪"},{"$f":"INDEX(入力フォーム!$N3:$BEQ3,1,MATCH(ALD7,入力フォーム!$N$5:$BEQ$5,0))","v":"希望小売⑪"},{"$f":"INDEX(入力フォーム!$N3:$BEQ3,1,MATCH(ALE7,入力フォーム!$N$5:$BEQ$5,0))","v":"仕切単価⑪"},{"$f":"INDEX(入力フォーム!$N3:$BEQ3,1,MATCH(ALF7,入力フォーム!$N$5:$BEQ$5,0))","v":"工場出し⑪"},{"$f":"INDEX(入力フォーム!$N3:$BEQ3,1,MATCH(ALG7,入力フォーム!$N$5:$BEQ$5,0))","v":"関東向け⑪"},{"$f":"INDEX(入力フォーム!$N3:$BEQ3,1,MATCH(ALH7,入力フォーム!$N$5:$BEQ$5,0))","v":"関西向け⑪"},{"$f":"INDEX(入力フォーム!$N3:$BEQ3,1,MATCH(ALI7,入力フォーム!$N$5:$BEQ$5,0))","v":"8%⑪"},{"$f":"INDEX(入力フォーム!$N3:$BEQ3,1,MATCH(ALJ7,入力フォーム!$N$5:$BEQ$5,0))","v":"10%⑪"},{"$f":"INDEX(入力フォーム!$N3:$BEQ3,1,MATCH(ALK7,入力フォーム!$N$5:$BEQ$5,0))","v":"常温⑪"},{"$f":"INDEX(入力フォーム!$N3:$BEQ3,1,MATCH(ALL7,入力フォーム!$N$5:$BEQ$5,0))","v":"冷蔵⑪"},{"$f":"INDEX(入力フォーム!$N3:$BEQ3,1,MATCH(ALM7,入力フォーム!$N$5:$BEQ$5,0))","v":"冷凍⑪"},{"$f":"INDEX(入力フォーム!$N3:$BEQ3,1,MATCH(ALN7,入力フォーム!$N$5:$BEQ$5,0))","v":"外食⑪"},{"$f":"INDEX(入力フォーム!$N3:$BEQ3,1,MATCH(ALO7,入力フォーム!$N$5:$BEQ$5,0))","v":"中食⑪"},{"$f":"INDEX(入力フォーム!$N3:$BEQ3,1,MATCH(ALP7,入力フォーム!$N$5:$BEQ$5,0))","v":"商社・卸売⑪"},{"$f":"INDEX(入力フォーム!$N3:$BEQ3,1,MATCH(ALQ7,入力フォーム!$N$5:$BEQ$5,0))","v":"メーカー⑪"},{"$f":"INDEX(入力フォーム!$N3:$BEQ3,1,MATCH(ALR7,入力フォーム!$N$5:$BEQ$5,0))","v":"スーパーマーケット⑪"},{"$f":"INDEX(入力フォーム!$N3:$BEQ3,1,MATCH(ALS7,入力フォーム!$N$5:$BEQ$5,0))","v":"百貨店⑪"},{"$f":"INDEX(入力フォーム!$N3:$BEQ3,1,MATCH(ALT7,入力フォーム!$N$5:$BEQ$5,0))","v":"その他小売⑪"},{"$f":"INDEX(入力フォーム!$N3:$BEQ3,1,MATCH(ALU7,入力フォーム!$N$5:$BEQ$5,0))","v":"ホテル・宴会・レジャー⑪"},{"$f":"INDEX(入力フォーム!$N3:$BEQ3,1,MATCH(ALV7,入力フォーム!$N$5:$BEQ$5,0))","v":"その他・ターゲット⑪"},{"$f":"INDEX(入力フォーム!$N3:$BEQ3,1,MATCH(ALW7,入力フォーム!$N$5:$BEQ$5,0))","v":"その他・ターゲット・⑪"},{"$f":"INDEX(入力フォーム!$N3:$BEQ3,1,MATCH(ALX7,入力フォーム!$N$5:$BEQ$5,0))","v":"業務用対応可能⑪"},{"$f":"INDEX(入力フォーム!$N3:$BEQ3,1,MATCH(ALY7,入力フォーム!$N$5:$BEQ$5,0))","v":"ギフト対応可能⑪"},{"$f":"INDEX(入力フォーム!$N3:$BEQ3,1,MATCH(ALZ7,入力フォーム!$N$5:$BEQ$5,0))","v":"ターゲット⑪"},{"$f":"INDEX(入力フォーム!$N3:$BEQ3,1,MATCH(AMA7,入力フォーム!$N$5:$BEQ$5,0))","v":"利用シーン⑪"},{"$f":"INDEX(入力フォーム!$N3:$BEQ3,1,MATCH(AMB7,入力フォーム!$N$5:$BEQ$5,0))","v":"商品特徴⑪"},{"$f":"INDEX(入力フォーム!$N3:$BEQ3,1,MATCH(AMC7,入力フォーム!$N$5:$BEQ$5,0))","v":"えび⑪"},{"$f":"INDEX(入力フォーム!$N3:$BEQ3,1,MATCH(AMD7,入力フォーム!$N$5:$BEQ$5,0))","v":"かに⑪"},{"$f":"INDEX(入力フォーム!$N3:$BEQ3,1,MATCH(AME7,入力フォーム!$N$5:$BEQ$5,0))","v":"小麦⑪"},{"$f":"INDEX(入力フォーム!$N3:$BEQ3,1,MATCH(AMF7,入力フォーム!$N$5:$BEQ$5,0))","v":"そば⑪"},{"$f":"INDEX(入力フォーム!$N3:$BEQ3,1,MATCH(AMG7,入力フォーム!$N$5:$BEQ$5,0))","v":"卵⑪"},{"$f":"INDEX(入力フォーム!$N3:$BEQ3,1,MATCH(AMH7,入力フォーム!$N$5:$BEQ$5,0))","v":"乳⑪"},{"$f":"INDEX(入力フォーム!$N3:$BEQ3,1,MATCH(AMI7,入力フォーム!$N$5:$BEQ$5,0))","v":"落花生⑪"},{"$f":"INDEX(入力フォーム!$N3:$BEQ3,1,MATCH(AMJ7,入力フォーム!$N$5:$BEQ$5,0))","v":"あわび⑪"},{"$f":"INDEX(入力フォーム!$N3:$BEQ3,1,MATCH(AMK7,入力フォーム!$N$5:$BEQ$5,0))","v":"いか⑪"},{"$f":"INDEX(入力フォーム!$N3:$BEQ3,1,MATCH(AML7,入力フォーム!$N$5:$BEQ$5,0))","v":"いくら⑪"},{"$f":"INDEX(入力フォーム!$N3:$BEQ3,1,MATCH(AMM7,入力フォーム!$N$5:$BEQ$5,0))","v":"オレンジ⑪"},{"$f":"INDEX(入力フォーム!$N3:$BEQ3,1,MATCH(AMN7,入力フォーム!$N$5:$BEQ$5,0))","v":"カシューナッツ⑪"},{"$f":"INDEX(入力フォーム!$N3:$BEQ3,1,MATCH(AMO7,入力フォーム!$N$5:$BEQ$5,0))","v":"キウイフルーツ⑪"},{"$f":"INDEX(入力フォーム!$N3:$BEQ3,1,MATCH(AMP7,入力フォーム!$N$5:$BEQ$5,0))","v":"牛肉⑪"},{"$f":"INDEX(入力フォーム!$N3:$BEQ3,1,MATCH(AMQ7,入力フォーム!$N$5:$BEQ$5,0))","v":"くるみ⑪"},{"$f":"INDEX(入力フォーム!$N3:$BEQ3,1,MATCH(AMR7,入力フォーム!$N$5:$BEQ$5,0))","v":"ごま⑪"},{"$f":"INDEX(入力フォーム!$N3:$BEQ3,1,MATCH(AMS7,入力フォーム!$N$5:$BEQ$5,0))","v":"さけ⑪"},{"$f":"INDEX(入力フォーム!$N3:$BEQ3,1,MATCH(AMT7,入力フォーム!$N$5:$BEQ$5,0))","v":"さば⑪"},{"$f":"INDEX(入力フォーム!$N3:$BEQ3,1,MATCH(AMU7,入力フォーム!$N$5:$BEQ$5,0))","v":"大豆⑪"},{"$f":"INDEX(入力フォーム!$N3:$BEQ3,1,MATCH(AMV7,入力フォーム!$N$5:$BEQ$5,0))","v":"鶏肉⑪"},{"$f":"INDEX(入力フォーム!$N3:$BEQ3,1,MATCH(AMW7,入力フォーム!$N$5:$BEQ$5,0))","v":"バナナ⑪"},{"$f":"INDEX(入力フォーム!$N3:$BEQ3,1,MATCH(AMX7,入力フォーム!$N$5:$BEQ$5,0))","v":"豚肉⑪"},{"$f":"INDEX(入力フォーム!$N3:$BEQ3,1,MATCH(AMY7,入力フォーム!$N$5:$BEQ$5,0))","v":"まつたけ⑪"},{"$f":"INDEX(入力フォーム!$N3:$BEQ3,1,MATCH(AMZ7,入力フォーム!$N$5:$BEQ$5,0))","v":"もも⑪"},{"$f":"INDEX(入力フォーム!$N3:$BEQ3,1,MATCH(ANA7,入力フォーム!$N$5:$BEQ$5,0))","v":"やまいも⑪"},{"$f":"INDEX(入力フォーム!$N3:$BEQ3,1,MATCH(ANB7,入力フォーム!$N$5:$BEQ$5,0))","v":"りんご⑪"},{"$f":"INDEX(入力フォーム!$N3:$BEQ3,1,MATCH(ANC7,入力フォーム!$N$5:$BEQ$5,0))","v":"ゼラチン⑪"},{"$f":"INDEX(入力フォーム!$N3:$BEQ3,1,MATCH(AND7,入力フォーム!$N$5:$BEQ$5,0))","v":"備考⑪"},{"$f":"INDEX(入力フォーム!$N3:$BEQ3,1,MATCH(ANE7,入力フォーム!$N$5:$BEQ$5,0))","v":0},{"$f":"INDEX(入力フォーム!$N3:$BEQ3,1,MATCH(ANF7,入力フォーム!$N$5:$BEQ$5,0))","v":"商品名⑫"},{"$f":"INDEX(入力フォーム!$N3:$BEQ3,1,MATCH(ANG7,入力フォーム!$N$5:$BEQ$5,0))","v":"提供可能時期⑫"},{"$f":"INDEX(入力フォーム!$N3:$BEQ3,1,MATCH(ANH7,入力フォーム!$N$5:$BEQ$5,0))","v":"主原料産地⑫"},{"$f":"INDEX(入力フォーム!$N3:$BEQ3,1,MATCH(ANI7,入力フォーム!$N$5:$BEQ$5,0))","v":"内容量⑫"},{"$f":"INDEX(入力フォーム!$N3:$BEQ3,1,MATCH(ANJ7,入力フォーム!$N$5:$BEQ$5,0))","v":"1ケースあたり⑫"},{"$f":"INDEX(入力フォーム!$N3:$BEQ3,1,MATCH(ANK7,入力フォーム!$N$5:$BEQ$5,0))","v":"発注リードタイム⑫"},{"$f":"INDEX(入力フォーム!$N3:$BEQ3,1,MATCH(ANL7,入力フォーム!$N$5:$BEQ$5,0))","v":"最大ケース⑫"},{"$f":"INDEX(入力フォーム!$N3:$BEQ3,1,MATCH(ANM7,入力フォーム!$N$5:$BEQ$5,0))","v":"最小ケース⑫"},{"$f":"INDEX(入力フォーム!$N3:$BEQ3,1,MATCH(ANN7,入力フォーム!$N$5:$BEQ$5,0))","v":"縦⑫"},{"$f":"INDEX(入力フォーム!$N3:$BEQ3,1,MATCH(ANO7,入力フォーム!$N$5:$BEQ$5,0))","v":"横⑫"},{"$f":"INDEX(入力フォーム!$N3:$BEQ3,1,MATCH(ANP7,入力フォーム!$N$5:$BEQ$5,0))","v":"高さ⑫"},{"$f":"INDEX(入力フォーム!$N3:$BEQ3,1,MATCH(ANQ7,入力フォーム!$N$5:$BEQ$5,0))","v":"重量⑫"},{"$f":"INDEX(入力フォーム!$N3:$BEQ3,1,MATCH(ANR7,入力フォーム!$N$5:$BEQ$5,0))","v":"賞味期限⑫"},{"$f":"INDEX(入力フォーム!$N3:$BEQ3,1,MATCH(ANS7,入力フォーム!$N$5:$BEQ$5,0))","v":"消費期限⑫"},{"$f":"INDEX(入力フォーム!$N3:$BEQ3,1,MATCH(ANT7,入力フォーム!$N$5:$BEQ$5,0))","v":"JANコード⑫"},{"$f":"INDEX(入力フォーム!$N3:$BEQ3,1,MATCH(ANU7,入力フォーム!$N$5:$BEQ$5,0))","v":"希望小売⑫"},{"$f":"INDEX(入力フォーム!$N3:$BEQ3,1,MATCH(ANV7,入力フォーム!$N$5:$BEQ$5,0))","v":"仕切単価⑫"},{"$f":"INDEX(入力フォーム!$N3:$BEQ3,1,MATCH(ANW7,入力フォーム!$N$5:$BEQ$5,0))","v":"工場出し⑫"},{"$f":"INDEX(入力フォーム!$N3:$BEQ3,1,MATCH(ANX7,入力フォーム!$N$5:$BEQ$5,0))","v":"関東向け⑫"},{"$f":"INDEX(入力フォーム!$N3:$BEQ3,1,MATCH(ANY7,入力フォーム!$N$5:$BEQ$5,0))","v":"関西向け⑫"},{"$f":"INDEX(入力フォーム!$N3:$BEQ3,1,MATCH(ANZ7,入力フォーム!$N$5:$BEQ$5,0))","v":"8%⑫"},{"$f":"INDEX(入力フォーム!$N3:$BEQ3,1,MATCH(AOA7,入力フォーム!$N$5:$BEQ$5,0))","v":"10%⑫"},{"$f":"INDEX(入力フォーム!$N3:$BEQ3,1,MATCH(AOB7,入力フォーム!$N$5:$BEQ$5,0))","v":"常温⑫"},{"$f":"INDEX(入力フォーム!$N3:$BEQ3,1,MATCH(AOC7,入力フォーム!$N$5:$BEQ$5,0))","v":"冷蔵⑫"},{"$f":"INDEX(入力フォーム!$N3:$BEQ3,1,MATCH(AOD7,入力フォーム!$N$5:$BEQ$5,0))","v":"冷凍⑫"},{"$f":"INDEX(入力フォーム!$N3:$BEQ3,1,MATCH(AOE7,入力フォーム!$N$5:$BEQ$5,0))","v":"外食⑫"},{"$f":"INDEX(入力フォーム!$N3:$BEQ3,1,MATCH(AOF7,入力フォーム!$N$5:$BEQ$5,0))","v":"中食⑫"},{"$f":"INDEX(入力フォーム!$N3:$BEQ3,1,MATCH(AOG7,入力フォーム!$N$5:$BEQ$5,0))","v":"商社・卸売⑫"},{"$f":"INDEX(入力フォーム!$N3:$BEQ3,1,MATCH(AOH7,入力フォーム!$N$5:$BEQ$5,0))","v":"メーカー⑫"},{"$f":"INDEX(入力フォーム!$N3:$BEQ3,1,MATCH(AOI7,入力フォーム!$N$5:$BEQ$5,0))","v":"スーパーマーケット⑫"},{"$f":"INDEX(入力フォーム!$N3:$BEQ3,1,MATCH(AOJ7,入力フォーム!$N$5:$BEQ$5,0))","v":"百貨店⑫"},{"$f":"INDEX(入力フォーム!$N3:$BEQ3,1,MATCH(AOK7,入力フォーム!$N$5:$BEQ$5,0))","v":"その他小売⑫"},{"$f":"INDEX(入力フォーム!$N3:$BEQ3,1,MATCH(AOL7,入力フォーム!$N$5:$BEQ$5,0))","v":"ホテル・宴会・レジャー⑫"},{"$f":"INDEX(入力フォーム!$N3:$BEQ3,1,MATCH(AOM7,入力フォーム!$N$5:$BEQ$5,0))","v":"その他・ターゲット⑫"},{"$f":"INDEX(入力フォーム!$N3:$BEQ3,1,MATCH(AON7,入力フォーム!$N$5:$BEQ$5,0))","v":"その他・ターゲット・⑫"},{"$f":"INDEX(入力フォーム!$N3:$BEQ3,1,MATCH(AOO7,入力フォーム!$N$5:$BEQ$5,0))","v":"業務用対応可能⑫"},{"$f":"INDEX(入力フォーム!$N3:$BEQ3,1,MATCH(AOP7,入力フォーム!$N$5:$BEQ$5,0))","v":"ギフト対応可能⑫"},{"$f":"INDEX(入力フォーム!$N3:$BEQ3,1,MATCH(AOQ7,入力フォーム!$N$5:$BEQ$5,0))","v":"ターゲット⑫"},{"$f":"INDEX(入力フォーム!$N3:$BEQ3,1,MATCH(AOR7,入力フォーム!$N$5:$BEQ$5,0))","v":"利用シーン⑫"},{"$f":"INDEX(入力フォーム!$N3:$BEQ3,1,MATCH(AOS7,入力フォーム!$N$5:$BEQ$5,0))","v":"商品特徴⑫"},{"$f":"INDEX(入力フォーム!$N3:$BEQ3,1,MATCH(AOT7,入力フォーム!$N$5:$BEQ$5,0))","v":"えび⑫"},{"$f":"INDEX(入力フォーム!$N3:$BEQ3,1,MATCH(AOU7,入力フォーム!$N$5:$BEQ$5,0))","v":"かに⑫"},{"$f":"INDEX(入力フォーム!$N3:$BEQ3,1,MATCH(AOV7,入力フォーム!$N$5:$BEQ$5,0))","v":"小麦⑫"},{"$f":"INDEX(入力フォーム!$N3:$BEQ3,1,MATCH(AOW7,入力フォーム!$N$5:$BEQ$5,0))","v":"そば⑫"},{"$f":"INDEX(入力フォーム!$N3:$BEQ3,1,MATCH(AOX7,入力フォーム!$N$5:$BEQ$5,0))","v":"卵⑫"},{"$f":"INDEX(入力フォーム!$N3:$BEQ3,1,MATCH(AOY7,入力フォーム!$N$5:$BEQ$5,0))","v":"乳⑫"},{"$f":"INDEX(入力フォーム!$N3:$BEQ3,1,MATCH(AOZ7,入力フォーム!$N$5:$BEQ$5,0))","v":"落花生⑫"},{"$f":"INDEX(入力フォーム!$N3:$BEQ3,1,MATCH(APA7,入力フォーム!$N$5:$BEQ$5,0))","v":"あわび⑫"},{"$f":"INDEX(入力フォーム!$N3:$BEQ3,1,MATCH(APB7,入力フォーム!$N$5:$BEQ$5,0))","v":"いか⑫"},{"$f":"INDEX(入力フォーム!$N3:$BEQ3,1,MATCH(APC7,入力フォーム!$N$5:$BEQ$5,0))","v":"いくら⑫"},{"$f":"INDEX(入力フォーム!$N3:$BEQ3,1,MATCH(APD7,入力フォーム!$N$5:$BEQ$5,0))","v":"オレンジ⑫"},{"$f":"INDEX(入力フォーム!$N3:$BEQ3,1,MATCH(APE7,入力フォーム!$N$5:$BEQ$5,0))","v":"カシューナッツ⑫"},{"$f":"INDEX(入力フォーム!$N3:$BEQ3,1,MATCH(APF7,入力フォーム!$N$5:$BEQ$5,0))","v":"キウイフルーツ⑫"},{"$f":"INDEX(入力フォーム!$N3:$BEQ3,1,MATCH(APG7,入力フォーム!$N$5:$BEQ$5,0))","v":"牛肉⑫"},{"$f":"INDEX(入力フォーム!$N3:$BEQ3,1,MATCH(APH7,入力フォーム!$N$5:$BEQ$5,0))","v":"くるみ⑫"},{"$f":"INDEX(入力フォーム!$N3:$BEQ3,1,MATCH(API7,入力フォーム!$N$5:$BEQ$5,0))","v":"ごま⑫"},{"$f":"INDEX(入力フォーム!$N3:$BEQ3,1,MATCH(APJ7,入力フォーム!$N$5:$BEQ$5,0))","v":"さけ⑫"},{"$f":"INDEX(入力フォーム!$N3:$BEQ3,1,MATCH(APK7,入力フォーム!$N$5:$BEQ$5,0))","v":"さば⑫"},{"$f":"INDEX(入力フォーム!$N3:$BEQ3,1,MATCH(APL7,入力フォーム!$N$5:$BEQ$5,0))","v":"大豆⑫"},{"$f":"INDEX(入力フォーム!$N3:$BEQ3,1,MATCH(APM7,入力フォーム!$N$5:$BEQ$5,0))","v":"鶏肉⑫"},{"$f":"INDEX(入力フォーム!$N3:$BEQ3,1,MATCH(APN7,入力フォーム!$N$5:$BEQ$5,0))","v":"バナナ⑫"},{"$f":"INDEX(入力フォーム!$N3:$BEQ3,1,MATCH(APO7,入力フォーム!$N$5:$BEQ$5,0))","v":"豚肉⑫"},{"$f":"INDEX(入力フォーム!$N3:$BEQ3,1,MATCH(APP7,入力フォーム!$N$5:$BEQ$5,0))","v":"まつたけ⑫"},{"$f":"INDEX(入力フォーム!$N3:$BEQ3,1,MATCH(APQ7,入力フォーム!$N$5:$BEQ$5,0))","v":"もも⑫"},{"$f":"INDEX(入力フォーム!$N3:$BEQ3,1,MATCH(APR7,入力フォーム!$N$5:$BEQ$5,0))","v":"やまいも⑫"},{"$f":"INDEX(入力フォーム!$N3:$BEQ3,1,MATCH(APS7,入力フォーム!$N$5:$BEQ$5,0))","v":"りんご⑫"},{"$f":"INDEX(入力フォーム!$N3:$BEQ3,1,MATCH(APT7,入力フォーム!$N$5:$BEQ$5,0))","v":"ゼラチン⑫"},{"$f":"INDEX(入力フォーム!$N3:$BEQ3,1,MATCH(APU7,入力フォーム!$N$5:$BEQ$5,0))","v":"備考⑫"},{"$f":"INDEX(入力フォーム!$N3:$BEQ3,1,MATCH(APV7,入力フォーム!$N$5:$BEQ$5,0))","v":0},{"$f":"INDEX(入力フォーム!$N3:$BEQ3,1,MATCH(APW7,入力フォーム!$N$5:$BEQ$5,0))","v":"商品名⑬"},{"$f":"INDEX(入力フォーム!$N3:$BEQ3,1,MATCH(APX7,入力フォーム!$N$5:$BEQ$5,0))","v":"提供可能時期⑬"},{"$f":"INDEX(入力フォーム!$N3:$BEQ3,1,MATCH(APY7,入力フォーム!$N$5:$BEQ$5,0))","v":"主原料産地⑬"},{"$f":"INDEX(入力フォーム!$N3:$BEQ3,1,MATCH(APZ7,入力フォーム!$N$5:$BEQ$5,0))","v":"内容量⑬"},{"$f":"INDEX(入力フォーム!$N3:$BEQ3,1,MATCH(AQA7,入力フォーム!$N$5:$BEQ$5,0))","v":"1ケースあたり⑬"},{"$f":"INDEX(入力フォーム!$N3:$BEQ3,1,MATCH(AQB7,入力フォーム!$N$5:$BEQ$5,0))","v":"発注リードタイム⑬"},{"$f":"INDEX(入力フォーム!$N3:$BEQ3,1,MATCH(AQC7,入力フォーム!$N$5:$BEQ$5,0))","v":"最大ケース⑬"},{"$f":"INDEX(入力フォーム!$N3:$BEQ3,1,MATCH(AQD7,入力フォーム!$N$5:$BEQ$5,0))","v":"最小ケース⑬"},{"$f":"INDEX(入力フォーム!$N3:$BEQ3,1,MATCH(AQE7,入力フォーム!$N$5:$BEQ$5,0))","v":"縦⑬"},{"$f":"INDEX(入力フォーム!$N3:$BEQ3,1,MATCH(AQF7,入力フォーム!$N$5:$BEQ$5,0))","v":"横⑬"},{"$f":"INDEX(入力フォーム!$N3:$BEQ3,1,MATCH(AQG7,入力フォーム!$N$5:$BEQ$5,0))","v":"高さ⑬"},{"$f":"INDEX(入力フォーム!$N3:$BEQ3,1,MATCH(AQH7,入力フォーム!$N$5:$BEQ$5,0))","v":"重量⑬"},{"$f":"INDEX(入力フォーム!$N3:$BEQ3,1,MATCH(AQI7,入力フォーム!$N$5:$BEQ$5,0))","v":"賞味期限⑬"},{"$f":"INDEX(入力フォーム!$N3:$BEQ3,1,MATCH(AQJ7,入力フォーム!$N$5:$BEQ$5,0))","v":"消費期限⑬"},{"$f":"INDEX(入力フォーム!$N3:$BEQ3,1,MATCH(AQK7,入力フォーム!$N$5:$BEQ$5,0))","v":"JANコード⑬"},{"$f":"INDEX(入力フォーム!$N3:$BEQ3,1,MATCH(AQL7,入力フォーム!$N$5:$BEQ$5,0))","v":"希望小売⑬"},{"$f":"INDEX(入力フォーム!$N3:$BEQ3,1,MATCH(AQM7,入力フォーム!$N$5:$BEQ$5,0))","v":"仕切単価⑬"},{"$f":"INDEX(入力フォーム!$N3:$BEQ3,1,MATCH(AQN7,入力フォーム!$N$5:$BEQ$5,0))","v":"工場出し⑬"},{"$f":"INDEX(入力フォーム!$N3:$BEQ3,1,MATCH(AQO7,入力フォーム!$N$5:$BEQ$5,0))","v":"関東向け⑬"},{"$f":"INDEX(入力フォーム!$N3:$BEQ3,1,MATCH(AQP7,入力フォーム!$N$5:$BEQ$5,0))","v":"関西向け⑬"},{"$f":"INDEX(入力フォーム!$N3:$BEQ3,1,MATCH(AQQ7,入力フォーム!$N$5:$BEQ$5,0))","v":"8%⑬"},{"$f":"INDEX(入力フォーム!$N3:$BEQ3,1,MATCH(AQR7,入力フォーム!$N$5:$BEQ$5,0))","v":"10%⑬"},{"$f":"INDEX(入力フォーム!$N3:$BEQ3,1,MATCH(AQS7,入力フォーム!$N$5:$BEQ$5,0))","v":"常温⑬"},{"$f":"INDEX(入力フォーム!$N3:$BEQ3,1,MATCH(AQT7,入力フォーム!$N$5:$BEQ$5,0))","v":"冷蔵⑬"},{"$f":"INDEX(入力フォーム!$N3:$BEQ3,1,MATCH(AQU7,入力フォーム!$N$5:$BEQ$5,0))","v":"冷凍⑬"},{"$f":"INDEX(入力フォーム!$N3:$BEQ3,1,MATCH(AQV7,入力フォーム!$N$5:$BEQ$5,0))","v":"外食⑬"},{"$f":"INDEX(入力フォーム!$N3:$BEQ3,1,MATCH(AQW7,入力フォーム!$N$5:$BEQ$5,0))","v":"中食⑬"},{"$f":"INDEX(入力フォーム!$N3:$BEQ3,1,MATCH(AQX7,入力フォーム!$N$5:$BEQ$5,0))","v":"商社・卸売⑬"},{"$f":"INDEX(入力フォーム!$N3:$BEQ3,1,MATCH(AQY7,入力フォーム!$N$5:$BEQ$5,0))","v":"メーカー⑬"},{"$f":"INDEX(入力フォーム!$N3:$BEQ3,1,MATCH(AQZ7,入力フォーム!$N$5:$BEQ$5,0))","v":"スーパーマーケット⑬"},{"$f":"INDEX(入力フォーム!$N3:$BEQ3,1,MATCH(ARA7,入力フォーム!$N$5:$BEQ$5,0))","v":"百貨店⑬"},{"$f":"INDEX(入力フォーム!$N3:$BEQ3,1,MATCH(ARB7,入力フォーム!$N$5:$BEQ$5,0))","v":"その他小売⑬"},{"$f":"INDEX(入力フォーム!$N3:$BEQ3,1,MATCH(ARC7,入力フォーム!$N$5:$BEQ$5,0))","v":"ホテル・宴会・レジャー⑬"},{"$f":"INDEX(入力フォーム!$N3:$BEQ3,1,MATCH(ARD7,入力フォーム!$N$5:$BEQ$5,0))","v":"その他・ターゲット⑬"},{"$f":"INDEX(入力フォーム!$N3:$BEQ3,1,MATCH(ARE7,入力フォーム!$N$5:$BEQ$5,0))","v":"その他・ターゲット・⑬"},{"$f":"INDEX(入力フォーム!$N3:$BEQ3,1,MATCH(ARF7,入力フォーム!$N$5:$BEQ$5,0))","v":"業務用対応可能⑬"},{"$f":"INDEX(入力フォーム!$N3:$BEQ3,1,MATCH(ARG7,入力フォーム!$N$5:$BEQ$5,0))","v":"ギフト対応可能⑬"},{"$f":"INDEX(入力フォーム!$N3:$BEQ3,1,MATCH(ARH7,入力フォーム!$N$5:$BEQ$5,0))","v":"ターゲット⑬"},{"$f":"INDEX(入力フォーム!$N3:$BEQ3,1,MATCH(ARI7,入力フォーム!$N$5:$BEQ$5,0))","v":"利用シーン⑬"},{"$f":"INDEX(入力フォーム!$N3:$BEQ3,1,MATCH(ARJ7,入力フォーム!$N$5:$BEQ$5,0))","v":"商品特徴⑬"},{"$f":"INDEX(入力フォーム!$N3:$BEQ3,1,MATCH(ARK7,入力フォーム!$N$5:$BEQ$5,0))","v":"えび⑬"},{"$f":"INDEX(入力フォーム!$N3:$BEQ3,1,MATCH(ARL7,入力フォーム!$N$5:$BEQ$5,0))","v":"かに⑬"},{"$f":"INDEX(入力フォーム!$N3:$BEQ3,1,MATCH(ARM7,入力フォーム!$N$5:$BEQ$5,0))","v":"小麦⑬"},{"$f":"INDEX(入力フォーム!$N3:$BEQ3,1,MATCH(ARN7,入力フォーム!$N$5:$BEQ$5,0))","v":"そば⑬"},{"$f":"INDEX(入力フォーム!$N3:$BEQ3,1,MATCH(ARO7,入力フォーム!$N$5:$BEQ$5,0))","v":"卵⑬"},{"$f":"INDEX(入力フォーム!$N3:$BEQ3,1,MATCH(ARP7,入力フォーム!$N$5:$BEQ$5,0))","v":"乳⑬"},{"$f":"INDEX(入力フォーム!$N3:$BEQ3,1,MATCH(ARQ7,入力フォーム!$N$5:$BEQ$5,0))","v":"落花生⑬"},{"$f":"INDEX(入力フォーム!$N3:$BEQ3,1,MATCH(ARR7,入力フォーム!$N$5:$BEQ$5,0))","v":"あわび⑬"},{"$f":"INDEX(入力フォーム!$N3:$BEQ3,1,MATCH(ARS7,入力フォーム!$N$5:$BEQ$5,0))","v":"いか⑬"},{"$f":"INDEX(入力フォーム!$N3:$BEQ3,1,MATCH(ART7,入力フォーム!$N$5:$BEQ$5,0))","v":"いくら⑬"},{"$f":"INDEX(入力フォーム!$N3:$BEQ3,1,MATCH(ARU7,入力フォーム!$N$5:$BEQ$5,0))","v":"オレンジ⑬"},{"$f":"INDEX(入力フォーム!$N3:$BEQ3,1,MATCH(ARV7,入力フォーム!$N$5:$BEQ$5,0))","v":"カシューナッツ⑬"},{"$f":"INDEX(入力フォーム!$N3:$BEQ3,1,MATCH(ARW7,入力フォーム!$N$5:$BEQ$5,0))","v":"キウイフルーツ⑬"},{"$f":"INDEX(入力フォーム!$N3:$BEQ3,1,MATCH(ARX7,入力フォーム!$N$5:$BEQ$5,0))","v":"牛肉⑬"},{"$f":"INDEX(入力フォーム!$N3:$BEQ3,1,MATCH(ARY7,入力フォーム!$N$5:$BEQ$5,0))","v":"くるみ⑬"},{"$f":"INDEX(入力フォーム!$N3:$BEQ3,1,MATCH(ARZ7,入力フォーム!$N$5:$BEQ$5,0))","v":"ごま⑬"},{"$f":"INDEX(入力フォーム!$N3:$BEQ3,1,MATCH(ASA7,入力フォーム!$N$5:$BEQ$5,0))","v":"さけ⑬"},{"$f":"INDEX(入力フォーム!$N3:$BEQ3,1,MATCH(ASB7,入力フォーム!$N$5:$BEQ$5,0))","v":"さば⑬"},{"$f":"INDEX(入力フォーム!$N3:$BEQ3,1,MATCH(ASC7,入力フォーム!$N$5:$BEQ$5,0))","v":"大豆⑬"},{"$f":"INDEX(入力フォーム!$N3:$BEQ3,1,MATCH(ASD7,入力フォーム!$N$5:$BEQ$5,0))","v":"鶏肉⑬"},{"$f":"INDEX(入力フォーム!$N3:$BEQ3,1,MATCH(ASE7,入力フォーム!$N$5:$BEQ$5,0))","v":"バナナ⑬"},{"$f":"INDEX(入力フォーム!$N3:$BEQ3,1,MATCH(ASF7,入力フォーム!$N$5:$BEQ$5,0))","v":"豚肉⑬"},{"$f":"INDEX(入力フォーム!$N3:$BEQ3,1,MATCH(ASG7,入力フォーム!$N$5:$BEQ$5,0))","v":"まつたけ⑬"},{"$f":"INDEX(入力フォーム!$N3:$BEQ3,1,MATCH(ASH7,入力フォーム!$N$5:$BEQ$5,0))","v":"もも⑬"},{"$f":"INDEX(入力フォーム!$N3:$BEQ3,1,MATCH(ASI7,入力フォーム!$N$5:$BEQ$5,0))","v":"やまいも⑬"},{"$f":"INDEX(入力フォーム!$N3:$BEQ3,1,MATCH(ASJ7,入力フォーム!$N$5:$BEQ$5,0))","v":"りんご⑬"},{"$f":"INDEX(入力フォーム!$N3:$BEQ3,1,MATCH(ASK7,入力フォーム!$N$5:$BEQ$5,0))","v":"ゼラチン⑬"},{"$f":"INDEX(入力フォーム!$N3:$BEQ3,1,MATCH(ASL7,入力フォーム!$N$5:$BEQ$5,0))","v":"備考⑬"},{"$f":"INDEX(入力フォーム!$N3:$BEQ3,1,MATCH(ASM7,入力フォーム!$N$5:$BEQ$5,0))","v":0},{"$f":"INDEX(入力フォーム!$N3:$BEQ3,1,MATCH(ASN7,入力フォーム!$N$5:$BEQ$5,0))","v":"商品名⑭"},{"$f":"INDEX(入力フォーム!$N3:$BEQ3,1,MATCH(ASO7,入力フォーム!$N$5:$BEQ$5,0))","v":"提供可能時期⑭"},{"$f":"INDEX(入力フォーム!$N3:$BEQ3,1,MATCH(ASP7,入力フォーム!$N$5:$BEQ$5,0))","v":"主原料産地⑭"},{"$f":"INDEX(入力フォーム!$N3:$BEQ3,1,MATCH(ASQ7,入力フォーム!$N$5:$BEQ$5,0))","v":"内容量⑭"},{"$f":"INDEX(入力フォーム!$N3:$BEQ3,1,MATCH(ASR7,入力フォーム!$N$5:$BEQ$5,0))","v":"1ケースあたり⑭"},{"$f":"INDEX(入力フォーム!$N3:$BEQ3,1,MATCH(ASS7,入力フォーム!$N$5:$BEQ$5,0))","v":"発注リードタイム⑭"},{"$f":"INDEX(入力フォーム!$N3:$BEQ3,1,MATCH(AST7,入力フォーム!$N$5:$BEQ$5,0))","v":"最大ケース⑭"},{"$f":"INDEX(入力フォーム!$N3:$BEQ3,1,MATCH(ASU7,入力フォーム!$N$5:$BEQ$5,0))","v":"最小ケース⑭"},{"$f":"INDEX(入力フォーム!$N3:$BEQ3,1,MATCH(ASV7,入力フォーム!$N$5:$BEQ$5,0))","v":"縦⑭"},{"$f":"INDEX(入力フォーム!$N3:$BEQ3,1,MATCH(ASW7,入力フォーム!$N$5:$BEQ$5,0))","v":"横⑭"},{"$f":"INDEX(入力フォーム!$N3:$BEQ3,1,MATCH(ASX7,入力フォーム!$N$5:$BEQ$5,0))","v":"高さ⑭"},{"$f":"INDEX(入力フォーム!$N3:$BEQ3,1,MATCH(ASY7,入力フォーム!$N$5:$BEQ$5,0))","v":"重量⑭"},{"$f":"INDEX(入力フォーム!$N3:$BEQ3,1,MATCH(ASZ7,入力フォーム!$N$5:$BEQ$5,0))","v":"賞味期限⑭"},{"$f":"INDEX(入力フォーム!$N3:$BEQ3,1,MATCH(ATA7,入力フォーム!$N$5:$BEQ$5,0))","v":"消費期限⑭"},{"$f":"INDEX(入力フォーム!$N3:$BEQ3,1,MATCH(ATB7,入力フォーム!$N$5:$BEQ$5,0))","v":"JANコード⑭"},{"$f":"INDEX(入力フォーム!$N3:$BEQ3,1,MATCH(ATC7,入力フォーム!$N$5:$BEQ$5,0))","v":"希望小売⑭"},{"$f":"INDEX(入力フォーム!$N3:$BEQ3,1,MATCH(ATD7,入力フォーム!$N$5:$BEQ$5,0))","v":"仕切単価⑭"},{"$f":"INDEX(入力フォーム!$N3:$BEQ3,1,MATCH(ATE7,入力フォーム!$N$5:$BEQ$5,0))","v":"工場出し⑭"},{"$f":"INDEX(入力フォーム!$N3:$BEQ3,1,MATCH(ATF7,入力フォーム!$N$5:$BEQ$5,0))","v":"関東向け⑭"},{"$f":"INDEX(入力フォーム!$N3:$BEQ3,1,MATCH(ATG7,入力フォーム!$N$5:$BEQ$5,0))","v":"関西向け⑭"},{"$f":"INDEX(入力フォーム!$N3:$BEQ3,1,MATCH(ATH7,入力フォーム!$N$5:$BEQ$5,0))","v":"8%⑭"},{"$f":"INDEX(入力フォーム!$N3:$BEQ3,1,MATCH(ATI7,入力フォーム!$N$5:$BEQ$5,0))","v":"10%⑭"},{"$f":"INDEX(入力フォーム!$N3:$BEQ3,1,MATCH(ATJ7,入力フォーム!$N$5:$BEQ$5,0))","v":"常温⑭"},{"$f":"INDEX(入力フォーム!$N3:$BEQ3,1,MATCH(ATK7,入力フォーム!$N$5:$BEQ$5,0))","v":"冷蔵⑭"},{"$f":"INDEX(入力フォーム!$N3:$BEQ3,1,MATCH(ATL7,入力フォーム!$N$5:$BEQ$5,0))","v":"冷凍⑭"},{"$f":"INDEX(入力フォーム!$N3:$BEQ3,1,MATCH(ATM7,入力フォーム!$N$5:$BEQ$5,0))","v":"外食⑭"},{"$f":"INDEX(入力フォーム!$N3:$BEQ3,1,MATCH(ATN7,入力フォーム!$N$5:$BEQ$5,0))","v":"中食⑭"},{"$f":"INDEX(入力フォーム!$N3:$BEQ3,1,MATCH(ATO7,入力フォーム!$N$5:$BEQ$5,0))","v":"商社・卸売⑭"},{"$f":"INDEX(入力フォーム!$N3:$BEQ3,1,MATCH(ATP7,入力フォーム!$N$5:$BEQ$5,0))","v":"メーカー⑭"},{"$f":"INDEX(入力フォーム!$N3:$BEQ3,1,MATCH(ATQ7,入力フォーム!$N$5:$BEQ$5,0))","v":"スーパーマーケット⑭"},{"$f":"INDEX(入力フォーム!$N3:$BEQ3,1,MATCH(ATR7,入力フォーム!$N$5:$BEQ$5,0))","v":"百貨店⑭"},{"$f":"INDEX(入力フォーム!$N3:$BEQ3,1,MATCH(ATS7,入力フォーム!$N$5:$BEQ$5,0))","v":"その他小売⑭"},{"$f":"INDEX(入力フォーム!$N3:$BEQ3,1,MATCH(ATT7,入力フォーム!$N$5:$BEQ$5,0))","v":"ホテル・宴会・レジャー⑭"},{"$f":"INDEX(入力フォーム!$N3:$BEQ3,1,MATCH(ATU7,入力フォーム!$N$5:$BEQ$5,0))","v":"その他・ターゲット⑭"},{"$f":"INDEX(入力フォーム!$N3:$BEQ3,1,MATCH(ATV7,入力フォーム!$N$5:$BEQ$5,0))","v":"その他・ターゲット・⑭"},{"$f":"INDEX(入力フォーム!$N3:$BEQ3,1,MATCH(ATW7,入力フォーム!$N$5:$BEQ$5,0))","v":"業務用対応可能⑭"},{"$f":"INDEX(入力フォーム!$N3:$BEQ3,1,MATCH(ATX7,入力フォーム!$N$5:$BEQ$5,0))","v":"ギフト対応可能⑭"},{"$f":"INDEX(入力フォーム!$N3:$BEQ3,1,MATCH(ATY7,入力フォーム!$N$5:$BEQ$5,0))","v":"ターゲット⑭"},{"$f":"INDEX(入力フォーム!$N3:$BEQ3,1,MATCH(ATZ7,入力フォーム!$N$5:$BEQ$5,0))","v":"利用シーン⑭"},{"$f":"INDEX(入力フォーム!$N3:$BEQ3,1,MATCH(AUA7,入力フォーム!$N$5:$BEQ$5,0))","v":"商品特徴⑭"},{"$f":"INDEX(入力フォーム!$N3:$BEQ3,1,MATCH(AUB7,入力フォーム!$N$5:$BEQ$5,0))","v":"えび⑭"},{"$f":"INDEX(入力フォーム!$N3:$BEQ3,1,MATCH(AUC7,入力フォーム!$N$5:$BEQ$5,0))","v":"かに⑭"},{"$f":"INDEX(入力フォーム!$N3:$BEQ3,1,MATCH(AUD7,入力フォーム!$N$5:$BEQ$5,0))","v":"小麦⑭"},{"$f":"INDEX(入力フォーム!$N3:$BEQ3,1,MATCH(AUE7,入力フォーム!$N$5:$BEQ$5,0))","v":"そば⑭"},{"$f":"INDEX(入力フォーム!$N3:$BEQ3,1,MATCH(AUF7,入力フォーム!$N$5:$BEQ$5,0))","v":"卵⑭"},{"$f":"INDEX(入力フォーム!$N3:$BEQ3,1,MATCH(AUG7,入力フォーム!$N$5:$BEQ$5,0))","v":"乳⑭"},{"$f":"INDEX(入力フォーム!$N3:$BEQ3,1,MATCH(AUH7,入力フォーム!$N$5:$BEQ$5,0))","v":"落花生⑭"},{"$f":"INDEX(入力フォーム!$N3:$BEQ3,1,MATCH(AUI7,入力フォーム!$N$5:$BEQ$5,0))","v":"あわび⑭"},{"$f":"INDEX(入力フォーム!$N3:$BEQ3,1,MATCH(AUJ7,入力フォーム!$N$5:$BEQ$5,0))","v":"いか⑭"},{"$f":"INDEX(入力フォーム!$N3:$BEQ3,1,MATCH(AUK7,入力フォーム!$N$5:$BEQ$5,0))","v":"いくら⑭"},{"$f":"INDEX(入力フォーム!$N3:$BEQ3,1,MATCH(AUL7,入力フォーム!$N$5:$BEQ$5,0))","v":"オレンジ⑭"},{"$f":"INDEX(入力フォーム!$N3:$BEQ3,1,MATCH(AUM7,入力フォーム!$N$5:$BEQ$5,0))","v":"カシューナッツ⑭"},{"$f":"INDEX(入力フォーム!$N3:$BEQ3,1,MATCH(AUN7,入力フォーム!$N$5:$BEQ$5,0))","v":"キウイフルーツ⑭"},{"$f":"INDEX(入力フォーム!$N3:$BEQ3,1,MATCH(AUO7,入力フォーム!$N$5:$BEQ$5,0))","v":"牛肉⑭"},{"$f":"INDEX(入力フォーム!$N3:$BEQ3,1,MATCH(AUP7,入力フォーム!$N$5:$BEQ$5,0))","v":"くるみ⑭"},{"$f":"INDEX(入力フォーム!$N3:$BEQ3,1,MATCH(AUQ7,入力フォーム!$N$5:$BEQ$5,0))","v":"ごま⑭"},{"$f":"INDEX(入力フォーム!$N3:$BEQ3,1,MATCH(AUR7,入力フォーム!$N$5:$BEQ$5,0))","v":"さけ⑭"},{"$f":"INDEX(入力フォーム!$N3:$BEQ3,1,MATCH(AUS7,入力フォーム!$N$5:$BEQ$5,0))","v":"さば⑭"},{"$f":"INDEX(入力フォーム!$N3:$BEQ3,1,MATCH(AUT7,入力フォーム!$N$5:$BEQ$5,0))","v":"大豆⑭"},{"$f":"INDEX(入力フォーム!$N3:$BEQ3,1,MATCH(AUU7,入力フォーム!$N$5:$BEQ$5,0))","v":"鶏肉⑭"},{"$f":"INDEX(入力フォーム!$N3:$BEQ3,1,MATCH(AUV7,入力フォーム!$N$5:$BEQ$5,0))","v":"バナナ⑭"},{"$f":"INDEX(入力フォーム!$N3:$BEQ3,1,MATCH(AUW7,入力フォーム!$N$5:$BEQ$5,0))","v":"豚肉⑭"},{"$f":"INDEX(入力フォーム!$N3:$BEQ3,1,MATCH(AUX7,入力フォーム!$N$5:$BEQ$5,0))","v":"まつたけ⑭"},{"$f":"INDEX(入力フォーム!$N3:$BEQ3,1,MATCH(AUY7,入力フォーム!$N$5:$BEQ$5,0))","v":"もも⑭"},{"$f":"INDEX(入力フォーム!$N3:$BEQ3,1,MATCH(AUZ7,入力フォーム!$N$5:$BEQ$5,0))","v":"やまいも⑭"},{"$f":"INDEX(入力フォーム!$N3:$BEQ3,1,MATCH(AVA7,入力フォーム!$N$5:$BEQ$5,0))","v":"りんご⑭"},{"$f":"INDEX(入力フォーム!$N3:$BEQ3,1,MATCH(AVB7,入力フォーム!$N$5:$BEQ$5,0))","v":"ゼラチン⑭"},{"$f":"INDEX(入力フォーム!$N3:$BEQ3,1,MATCH(AVC7,入力フォーム!$N$5:$BEQ$5,0))","v":"備考⑭"},{"$f":"INDEX(入力フォーム!$N3:$BEQ3,1,MATCH(AVD7,入力フォーム!$N$5:$BEQ$5,0))","v":0},{"$f":"INDEX(入力フォーム!$N3:$BEQ3,1,MATCH(AVE7,入力フォーム!$N$5:$BEQ$5,0))","v":"商品名⑮"},{"$f":"INDEX(入力フォーム!$N3:$BEQ3,1,MATCH(AVF7,入力フォーム!$N$5:$BEQ$5,0))","v":"提供可能時期⑮"},{"$f":"INDEX(入力フォーム!$N3:$BEQ3,1,MATCH(AVG7,入力フォーム!$N$5:$BEQ$5,0))","v":"主原料産地⑮"},{"$f":"INDEX(入力フォーム!$N3:$BEQ3,1,MATCH(AVH7,入力フォーム!$N$5:$BEQ$5,0))","v":"内容量⑮"},{"$f":"INDEX(入力フォーム!$N3:$BEQ3,1,MATCH(AVI7,入力フォーム!$N$5:$BEQ$5,0))","v":"1ケースあたり⑮"},{"$f":"INDEX(入力フォーム!$N3:$BEQ3,1,MATCH(AVJ7,入力フォーム!$N$5:$BEQ$5,0))","v":"発注リードタイム⑮"},{"$f":"INDEX(入力フォーム!$N3:$BEQ3,1,MATCH(AVK7,入力フォーム!$N$5:$BEQ$5,0))","v":"最大ケース⑮"},{"$f":"INDEX(入力フォーム!$N3:$BEQ3,1,MATCH(AVL7,入力フォーム!$N$5:$BEQ$5,0))","v":"最小ケース⑮"},{"$f":"INDEX(入力フォーム!$N3:$BEQ3,1,MATCH(AVM7,入力フォーム!$N$5:$BEQ$5,0))","v":"縦⑮"},{"$f":"INDEX(入力フォーム!$N3:$BEQ3,1,MATCH(AVN7,入力フォーム!$N$5:$BEQ$5,0))","v":"横⑮"},{"$f":"INDEX(入力フォーム!$N3:$BEQ3,1,MATCH(AVO7,入力フォーム!$N$5:$BEQ$5,0))","v":"高さ⑮"},{"$f":"INDEX(入力フォーム!$N3:$BEQ3,1,MATCH(AVP7,入力フォーム!$N$5:$BEQ$5,0))","v":"重量⑮"},{"$f":"INDEX(入力フォーム!$N3:$BEQ3,1,MATCH(AVQ7,入力フォーム!$N$5:$BEQ$5,0))","v":"賞味期限⑮"},{"$f":"INDEX(入力フォーム!$N3:$BEQ3,1,MATCH(AVR7,入力フォーム!$N$5:$BEQ$5,0))","v":"消費期限⑮"},{"$f":"INDEX(入力フォーム!$N3:$BEQ3,1,MATCH(AVS7,入力フォーム!$N$5:$BEQ$5,0))","v":"JANコード⑮"},{"$f":"INDEX(入力フォーム!$N3:$BEQ3,1,MATCH(AVT7,入力フォーム!$N$5:$BEQ$5,0))","v":"希望小売⑮"},{"$f":"INDEX(入力フォーム!$N3:$BEQ3,1,MATCH(AVU7,入力フォーム!$N$5:$BEQ$5,0))","v":"仕切単価⑮"},{"$f":"INDEX(入力フォーム!$N3:$BEQ3,1,MATCH(AVV7,入力フォーム!$N$5:$BEQ$5,0))","v":"工場出し⑮"},{"$f":"INDEX(入力フォーム!$N3:$BEQ3,1,MATCH(AVW7,入力フォーム!$N$5:$BEQ$5,0))","v":"関東向け⑮"},{"$f":"INDEX(入力フォーム!$N3:$BEQ3,1,MATCH(AVX7,入力フォーム!$N$5:$BEQ$5,0))","v":"関西向け⑮"},{"$f":"INDEX(入力フォーム!$N3:$BEQ3,1,MATCH(AVY7,入力フォーム!$N$5:$BEQ$5,0))","v":"8%⑮"},{"$f":"INDEX(入力フォーム!$N3:$BEQ3,1,MATCH(AVZ7,入力フォーム!$N$5:$BEQ$5,0))","v":"10%⑮"},{"$f":"INDEX(入力フォーム!$N3:$BEQ3,1,MATCH(AWA7,入力フォーム!$N$5:$BEQ$5,0))","v":"常温⑮"},{"$f":"INDEX(入力フォーム!$N3:$BEQ3,1,MATCH(AWB7,入力フォーム!$N$5:$BEQ$5,0))","v":"冷蔵⑮"},{"$f":"INDEX(入力フォーム!$N3:$BEQ3,1,MATCH(AWC7,入力フォーム!$N$5:$BEQ$5,0))","v":"冷凍⑮"},{"$f":"INDEX(入力フォーム!$N3:$BEQ3,1,MATCH(AWD7,入力フォーム!$N$5:$BEQ$5,0))","v":"外食⑮"},{"$f":"INDEX(入力フォーム!$N3:$BEQ3,1,MATCH(AWE7,入力フォーム!$N$5:$BEQ$5,0))","v":"中食⑮"},{"$f":"INDEX(入力フォーム!$N3:$BEQ3,1,MATCH(AWF7,入力フォーム!$N$5:$BEQ$5,0))","v":"商社・卸売⑮"},{"$f":"INDEX(入力フォーム!$N3:$BEQ3,1,MATCH(AWG7,入力フォーム!$N$5:$BEQ$5,0))","v":"メーカー⑮"},{"$f":"INDEX(入力フォーム!$N3:$BEQ3,1,MATCH(AWH7,入力フォーム!$N$5:$BEQ$5,0))","v":"スーパーマーケット⑮"},{"$f":"INDEX(入力フォーム!$N3:$BEQ3,1,MATCH(AWI7,入力フォーム!$N$5:$BEQ$5,0))","v":"百貨店⑮"},{"$f":"INDEX(入力フォーム!$N3:$BEQ3,1,MATCH(AWJ7,入力フォーム!$N$5:$BEQ$5,0))","v":"その他小売⑮"},{"$f":"INDEX(入力フォーム!$N3:$BEQ3,1,MATCH(AWK7,入力フォーム!$N$5:$BEQ$5,0))","v":"ホテル・宴会・レジャー⑮"},{"$f":"INDEX(入力フォーム!$N3:$BEQ3,1,MATCH(AWL7,入力フォーム!$N$5:$BEQ$5,0))","v":"その他・ターゲット⑮"},{"$f":"INDEX(入力フォーム!$N3:$BEQ3,1,MATCH(AWM7,入力フォーム!$N$5:$BEQ$5,0))","v":"その他・ターゲット・⑮"},{"$f":"INDEX(入力フォーム!$N3:$BEQ3,1,MATCH(AWN7,入力フォーム!$N$5:$BEQ$5,0))","v":"業務用対応可能⑮"},{"$f":"INDEX(入力フォーム!$N3:$BEQ3,1,MATCH(AWO7,入力フォーム!$N$5:$BEQ$5,0))","v":"ギフト対応可能⑮"},{"$f":"INDEX(入力フォーム!$N3:$BEQ3,1,MATCH(AWP7,入力フォーム!$N$5:$BEQ$5,0))","v":"ターゲット⑮"},{"$f":"INDEX(入力フォーム!$N3:$BEQ3,1,MATCH(AWQ7,入力フォーム!$N$5:$BEQ$5,0))","v":"利用シーン⑮"},{"$f":"INDEX(入力フォーム!$N3:$BEQ3,1,MATCH(AWR7,入力フォーム!$N$5:$BEQ$5,0))","v":"商品特徴⑮"},{"$f":"INDEX(入力フォーム!$N3:$BEQ3,1,MATCH(AWS7,入力フォーム!$N$5:$BEQ$5,0))","v":"えび⑮"},{"$f":"INDEX(入力フォーム!$N3:$BEQ3,1,MATCH(AWT7,入力フォーム!$N$5:$BEQ$5,0))","v":"かに⑮"},{"$f":"INDEX(入力フォーム!$N3:$BEQ3,1,MATCH(AWU7,入力フォーム!$N$5:$BEQ$5,0))","v":"小麦⑮"},{"$f":"INDEX(入力フォーム!$N3:$BEQ3,1,MATCH(AWV7,入力フォーム!$N$5:$BEQ$5,0))","v":"そば⑮"},{"$f":"INDEX(入力フォーム!$N3:$BEQ3,1,MATCH(AWW7,入力フォーム!$N$5:$BEQ$5,0))","v":"卵⑮"},{"$f":"INDEX(入力フォーム!$N3:$BEQ3,1,MATCH(AWX7,入力フォーム!$N$5:$BEQ$5,0))","v":"乳⑮"},{"$f":"INDEX(入力フォーム!$N3:$BEQ3,1,MATCH(AWY7,入力フォーム!$N$5:$BEQ$5,0))","v":"落花生⑮"},{"$f":"INDEX(入力フォーム!$N3:$BEQ3,1,MATCH(AWZ7,入力フォーム!$N$5:$BEQ$5,0))","v":"あわび⑮"},{"$f":"INDEX(入力フォーム!$N3:$BEQ3,1,MATCH(AXA7,入力フォーム!$N$5:$BEQ$5,0))","v":"いか⑮"},{"$f":"INDEX(入力フォーム!$N3:$BEQ3,1,MATCH(AXB7,入力フォーム!$N$5:$BEQ$5,0))","v":"いくら⑮"},{"$f":"INDEX(入力フォーム!$N3:$BEQ3,1,MATCH(AXC7,入力フォーム!$N$5:$BEQ$5,0))","v":"オレンジ⑮"},{"$f":"INDEX(入力フォーム!$N3:$BEQ3,1,MATCH(AXD7,入力フォーム!$N$5:$BEQ$5,0))","v":"カシューナッツ⑮"},{"$f":"INDEX(入力フォーム!$N3:$BEQ3,1,MATCH(AXE7,入力フォーム!$N$5:$BEQ$5,0))","v":"キウイフルーツ⑮"},{"$f":"INDEX(入力フォーム!$N3:$BEQ3,1,MATCH(AXF7,入力フォーム!$N$5:$BEQ$5,0))","v":"牛肉⑮"},{"$f":"INDEX(入力フォーム!$N3:$BEQ3,1,MATCH(AXG7,入力フォーム!$N$5:$BEQ$5,0))","v":"くるみ⑮"},{"$f":"INDEX(入力フォーム!$N3:$BEQ3,1,MATCH(AXH7,入力フォーム!$N$5:$BEQ$5,0))","v":"ごま⑮"},{"$f":"INDEX(入力フォーム!$N3:$BEQ3,1,MATCH(AXI7,入力フォーム!$N$5:$BEQ$5,0))","v":"さけ⑮"},{"$f":"INDEX(入力フォーム!$N3:$BEQ3,1,MATCH(AXJ7,入力フォーム!$N$5:$BEQ$5,0))","v":"さば⑮"},{"$f":"INDEX(入力フォーム!$N3:$BEQ3,1,MATCH(AXK7,入力フォーム!$N$5:$BEQ$5,0))","v":"大豆⑮"},{"$f":"INDEX(入力フォーム!$N3:$BEQ3,1,MATCH(AXL7,入力フォーム!$N$5:$BEQ$5,0))","v":"鶏肉⑮"},{"$f":"INDEX(入力フォーム!$N3:$BEQ3,1,MATCH(AXM7,入力フォーム!$N$5:$BEQ$5,0))","v":"バナナ⑮"},{"$f":"INDEX(入力フォーム!$N3:$BEQ3,1,MATCH(AXN7,入力フォーム!$N$5:$BEQ$5,0))","v":"豚肉⑮"},{"$f":"INDEX(入力フォーム!$N3:$BEQ3,1,MATCH(AXO7,入力フォーム!$N$5:$BEQ$5,0))","v":"まつたけ⑮"},{"$f":"INDEX(入力フォーム!$N3:$BEQ3,1,MATCH(AXP7,入力フォーム!$N$5:$BEQ$5,0))","v":"もも⑮"},{"$f":"INDEX(入力フォーム!$N3:$BEQ3,1,MATCH(AXQ7,入力フォーム!$N$5:$BEQ$5,0))","v":"やまいも⑮"},{"$f":"INDEX(入力フォーム!$N3:$BEQ3,1,MATCH(AXR7,入力フォーム!$N$5:$BEQ$5,0))","v":"りんご⑮"},{"$f":"INDEX(入力フォーム!$N3:$BEQ3,1,MATCH(AXS7,入力フォーム!$N$5:$BEQ$5,0))","v":"ゼラチン⑮"},{"$f":"INDEX(入力フォーム!$N3:$BEQ3,1,MATCH(AXT7,入力フォーム!$N$5:$BEQ$5,0))","v":"備考⑮"},{"$f":"INDEX(入力フォーム!$N3:$BEQ3,1,MATCH(AXU7,入力フォーム!$N$5:$BEQ$5,0))","v":0},{"$f":"INDEX(入力フォーム!$N3:$BEQ3,1,MATCH(AXV7,入力フォーム!$N$5:$BEQ$5,0))","v":"商品名⑯"},{"$f":"INDEX(入力フォーム!$N3:$BEQ3,1,MATCH(AXW7,入力フォーム!$N$5:$BEQ$5,0))","v":"提供可能時期⑯"},{"$f":"INDEX(入力フォーム!$N3:$BEQ3,1,MATCH(AXX7,入力フォーム!$N$5:$BEQ$5,0))","v":"主原料産地⑯"},{"$f":"INDEX(入力フォーム!$N3:$BEQ3,1,MATCH(AXY7,入力フォーム!$N$5:$BEQ$5,0))","v":"内容量⑯"},{"$f":"INDEX(入力フォーム!$N3:$BEQ3,1,MATCH(AXZ7,入力フォーム!$N$5:$BEQ$5,0))","v":"1ケースあたり⑯"},{"$f":"INDEX(入力フォーム!$N3:$BEQ3,1,MATCH(AYA7,入力フォーム!$N$5:$BEQ$5,0))","v":"発注リードタイム⑯"},{"$f":"INDEX(入力フォーム!$N3:$BEQ3,1,MATCH(AYB7,入力フォーム!$N$5:$BEQ$5,0))","v":"最大ケース⑯"},{"$f":"INDEX(入力フォーム!$N3:$BEQ3,1,MATCH(AYC7,入力フォーム!$N$5:$BEQ$5,0))","v":"最小ケース⑯"},{"$f":"INDEX(入力フォーム!$N3:$BEQ3,1,MATCH(AYD7,入力フォーム!$N$5:$BEQ$5,0))","v":"縦⑯"},{"$f":"INDEX(入力フォーム!$N3:$BEQ3,1,MATCH(AYE7,入力フォーム!$N$5:$BEQ$5,0))","v":"横⑯"},{"$f":"INDEX(入力フォーム!$N3:$BEQ3,1,MATCH(AYF7,入力フォーム!$N$5:$BEQ$5,0))","v":"高さ⑯"},{"$f":"INDEX(入力フォーム!$N3:$BEQ3,1,MATCH(AYG7,入力フォーム!$N$5:$BEQ$5,0))","v":"重量⑯"},{"$f":"INDEX(入力フォーム!$N3:$BEQ3,1,MATCH(AYH7,入力フォーム!$N$5:$BEQ$5,0))","v":"賞味期限⑯"},{"$f":"INDEX(入力フォーム!$N3:$BEQ3,1,MATCH(AYI7,入力フォーム!$N$5:$BEQ$5,0))","v":"消費期限⑯"},{"$f":"INDEX(入力フォーム!$N3:$BEQ3,1,MATCH(AYJ7,入力フォーム!$N$5:$BEQ$5,0))","v":"JANコード⑯"},{"$f":"INDEX(入力フォーム!$N3:$BEQ3,1,MATCH(AYK7,入力フォーム!$N$5:$BEQ$5,0))","v":"希望小売⑯"},{"$f":"INDEX(入力フォーム!$N3:$BEQ3,1,MATCH(AYL7,入力フォーム!$N$5:$BEQ$5,0))","v":"仕切単価⑯"},{"$f":"INDEX(入力フォーム!$N3:$BEQ3,1,MATCH(AYM7,入力フォーム!$N$5:$BEQ$5,0))","v":"工場出し⑯"},{"$f":"INDEX(入力フォーム!$N3:$BEQ3,1,MATCH(AYN7,入力フォーム!$N$5:$BEQ$5,0))","v":"関東向け⑯"},{"$f":"INDEX(入力フォーム!$N3:$BEQ3,1,MATCH(AYO7,入力フォーム!$N$5:$BEQ$5,0))","v":"関西向け⑯"},{"$f":"INDEX(入力フォーム!$N3:$BEQ3,1,MATCH(AYP7,入力フォーム!$N$5:$BEQ$5,0))","v":"8%⑯"},{"$f":"INDEX(入力フォーム!$N3:$BEQ3,1,MATCH(AYQ7,入力フォーム!$N$5:$BEQ$5,0))","v":"10%⑯"},{"$f":"INDEX(入力フォーム!$N3:$BEQ3,1,MATCH(AYR7,入力フォーム!$N$5:$BEQ$5,0))","v":"常温⑯"},{"$f":"INDEX(入力フォーム!$N3:$BEQ3,1,MATCH(AYS7,入力フォーム!$N$5:$BEQ$5,0))","v":"冷蔵⑯"},{"$f":"INDEX(入力フォーム!$N3:$BEQ3,1,MATCH(AYT7,入力フォーム!$N$5:$BEQ$5,0))","v":"冷凍⑯"},{"$f":"INDEX(入力フォーム!$N3:$BEQ3,1,MATCH(AYU7,入力フォーム!$N$5:$BEQ$5,0))","v":"外食⑯"},{"$f":"INDEX(入力フォーム!$N3:$BEQ3,1,MATCH(AYV7,入力フォーム!$N$5:$BEQ$5,0))","v":"中食⑯"},{"$f":"INDEX(入力フォーム!$N3:$BEQ3,1,MATCH(AYW7,入力フォーム!$N$5:$BEQ$5,0))","v":"商社・卸売⑯"},{"$f":"INDEX(入力フォーム!$N3:$BEQ3,1,MATCH(AYX7,入力フォーム!$N$5:$BEQ$5,0))","v":"メーカー⑯"},{"$f":"INDEX(入力フォーム!$N3:$BEQ3,1,MATCH(AYY7,入力フォーム!$N$5:$BEQ$5,0))","v":"スーパーマーケット⑯"},{"$f":"INDEX(入力フォーム!$N3:$BEQ3,1,MATCH(AYZ7,入力フォーム!$N$5:$BEQ$5,0))","v":"百貨店⑯"},{"$f":"INDEX(入力フォーム!$N3:$BEQ3,1,MATCH(AZA7,入力フォーム!$N$5:$BEQ$5,0))","v":"その他小売⑯"},{"$f":"INDEX(入力フォーム!$N3:$BEQ3,1,MATCH(AZB7,入力フォーム!$N$5:$BEQ$5,0))","v":"ホテル・宴会・レジャー⑯"},{"$f":"INDEX(入力フォーム!$N3:$BEQ3,1,MATCH(AZC7,入力フォーム!$N$5:$BEQ$5,0))","v":"その他・ターゲット⑯"},{"$f":"INDEX(入力フォーム!$N3:$BEQ3,1,MATCH(AZD7,入力フォーム!$N$5:$BEQ$5,0))","v":"その他・ターゲット・⑯"},{"$f":"INDEX(入力フォーム!$N3:$BEQ3,1,MATCH(AZE7,入力フォーム!$N$5:$BEQ$5,0))","v":"業務用対応可能⑯"},{"$f":"INDEX(入力フォーム!$N3:$BEQ3,1,MATCH(AZF7,入力フォーム!$N$5:$BEQ$5,0))","v":"ギフト対応可能⑯"},{"$f":"INDEX(入力フォーム!$N3:$BEQ3,1,MATCH(AZG7,入力フォーム!$N$5:$BEQ$5,0))","v":"ターゲット⑯"},{"$f":"INDEX(入力フォーム!$N3:$BEQ3,1,MATCH(AZH7,入力フォーム!$N$5:$BEQ$5,0))","v":"利用シーン⑯"},{"$f":"INDEX(入力フォーム!$N3:$BEQ3,1,MATCH(AZI7,入力フォーム!$N$5:$BEQ$5,0))","v":"商品特徴⑯"},{"$f":"INDEX(入力フォーム!$N3:$BEQ3,1,MATCH(AZJ7,入力フォーム!$N$5:$BEQ$5,0))","v":"えび⑯"},{"$f":"INDEX(入力フォーム!$N3:$BEQ3,1,MATCH(AZK7,入力フォーム!$N$5:$BEQ$5,0))","v":"かに⑯"},{"$f":"INDEX(入力フォーム!$N3:$BEQ3,1,MATCH(AZL7,入力フォーム!$N$5:$BEQ$5,0))","v":"小麦⑯"},{"$f":"INDEX(入力フォーム!$N3:$BEQ3,1,MATCH(AZM7,入力フォーム!$N$5:$BEQ$5,0))","v":"そば⑯"},{"$f":"INDEX(入力フォーム!$N3:$BEQ3,1,MATCH(AZN7,入力フォーム!$N$5:$BEQ$5,0))","v":"卵⑯"},{"$f":"INDEX(入力フォーム!$N3:$BEQ3,1,MATCH(AZO7,入力フォーム!$N$5:$BEQ$5,0))","v":"乳⑯"},{"$f":"INDEX(入力フォーム!$N3:$BEQ3,1,MATCH(AZP7,入力フォーム!$N$5:$BEQ$5,0))","v":"落花生⑯"},{"$f":"INDEX(入力フォーム!$N3:$BEQ3,1,MATCH(AZQ7,入力フォーム!$N$5:$BEQ$5,0))","v":"あわび⑯"},{"$f":"INDEX(入力フォーム!$N3:$BEQ3,1,MATCH(AZR7,入力フォーム!$N$5:$BEQ$5,0))","v":"いか⑯"},{"$f":"INDEX(入力フォーム!$N3:$BEQ3,1,MATCH(AZS7,入力フォーム!$N$5:$BEQ$5,0))","v":"いくら⑯"},{"$f":"INDEX(入力フォーム!$N3:$BEQ3,1,MATCH(AZT7,入力フォーム!$N$5:$BEQ$5,0))","v":"オレンジ⑯"},{"$f":"INDEX(入力フォーム!$N3:$BEQ3,1,MATCH(AZU7,入力フォーム!$N$5:$BEQ$5,0))","v":"カシューナッツ⑯"},{"$f":"INDEX(入力フォーム!$N3:$BEQ3,1,MATCH(AZV7,入力フォーム!$N$5:$BEQ$5,0))","v":"キウイフルーツ⑯"},{"$f":"INDEX(入力フォーム!$N3:$BEQ3,1,MATCH(AZW7,入力フォーム!$N$5:$BEQ$5,0))","v":"牛肉⑯"},{"$f":"INDEX(入力フォーム!$N3:$BEQ3,1,MATCH(AZX7,入力フォーム!$N$5:$BEQ$5,0))","v":"くるみ⑯"},{"$f":"INDEX(入力フォーム!$N3:$BEQ3,1,MATCH(AZY7,入力フォーム!$N$5:$BEQ$5,0))","v":"ごま⑯"},{"$f":"INDEX(入力フォーム!$N3:$BEQ3,1,MATCH(AZZ7,入力フォーム!$N$5:$BEQ$5,0))","v":"さけ⑯"},{"$f":"INDEX(入力フォーム!$N3:$BEQ3,1,MATCH(BAA7,入力フォーム!$N$5:$BEQ$5,0))","v":"さば⑯"},{"$f":"INDEX(入力フォーム!$N3:$BEQ3,1,MATCH(BAB7,入力フォーム!$N$5:$BEQ$5,0))","v":"大豆⑯"},{"$f":"INDEX(入力フォーム!$N3:$BEQ3,1,MATCH(BAC7,入力フォーム!$N$5:$BEQ$5,0))","v":"鶏肉⑯"},{"$f":"INDEX(入力フォーム!$N3:$BEQ3,1,MATCH(BAD7,入力フォーム!$N$5:$BEQ$5,0))","v":"バナナ⑯"},{"$f":"INDEX(入力フォーム!$N3:$BEQ3,1,MATCH(BAE7,入力フォーム!$N$5:$BEQ$5,0))","v":"豚肉⑯"},{"$f":"INDEX(入力フォーム!$N3:$BEQ3,1,MATCH(BAF7,入力フォーム!$N$5:$BEQ$5,0))","v":"まつたけ⑯"},{"$f":"INDEX(入力フォーム!$N3:$BEQ3,1,MATCH(BAG7,入力フォーム!$N$5:$BEQ$5,0))","v":"もも⑯"},{"$f":"INDEX(入力フォーム!$N3:$BEQ3,1,MATCH(BAH7,入力フォーム!$N$5:$BEQ$5,0))","v":"やまいも⑯"},{"$f":"INDEX(入力フォーム!$N3:$BEQ3,1,MATCH(BAI7,入力フォーム!$N$5:$BEQ$5,0))","v":"りんご⑯"},{"$f":"INDEX(入力フォーム!$N3:$BEQ3,1,MATCH(BAJ7,入力フォーム!$N$5:$BEQ$5,0))","v":"ゼラチン⑯"},{"$f":"INDEX(入力フォーム!$N3:$BEQ3,1,MATCH(BAK7,入力フォーム!$N$5:$BEQ$5,0))","v":"備考⑯"},{"$f":"INDEX(入力フォーム!$N3:$BEQ3,1,MATCH(BAL7,入力フォーム!$N$5:$BEQ$5,0))","v":0},{"$f":"INDEX(入力フォーム!$N3:$BEQ3,1,MATCH(BAM7,入力フォーム!$N$5:$BEQ$5,0))","v":"商品名⑰"},{"$f":"INDEX(入力フォーム!$N3:$BEQ3,1,MATCH(BAN7,入力フォーム!$N$5:$BEQ$5,0))","v":"提供可能時期⑰"},{"$f":"INDEX(入力フォーム!$N3:$BEQ3,1,MATCH(BAO7,入力フォーム!$N$5:$BEQ$5,0))","v":"主原料産地⑰"},{"$f":"INDEX(入力フォーム!$N3:$BEQ3,1,MATCH(BAP7,入力フォーム!$N$5:$BEQ$5,0))","v":"内容量⑰"},{"$f":"INDEX(入力フォーム!$N3:$BEQ3,1,MATCH(BAQ7,入力フォーム!$N$5:$BEQ$5,0))","v":"1ケースあたり⑰"},{"$f":"INDEX(入力フォーム!$N3:$BEQ3,1,MATCH(BAR7,入力フォーム!$N$5:$BEQ$5,0))","v":"発注リードタイム⑰"},{"$f":"INDEX(入力フォーム!$N3:$BEQ3,1,MATCH(BAS7,入力フォーム!$N$5:$BEQ$5,0))","v":"最大ケース⑰"},{"$f":"INDEX(入力フォーム!$N3:$BEQ3,1,MATCH(BAT7,入力フォーム!$N$5:$BEQ$5,0))","v":"最小ケース⑰"},{"$f":"INDEX(入力フォーム!$N3:$BEQ3,1,MATCH(BAU7,入力フォーム!$N$5:$BEQ$5,0))","v":"縦⑰"},{"$f":"INDEX(入力フォーム!$N3:$BEQ3,1,MATCH(BAV7,入力フォーム!$N$5:$BEQ$5,0))","v":"横⑰"},{"$f":"INDEX(入力フォーム!$N3:$BEQ3,1,MATCH(BAW7,入力フォーム!$N$5:$BEQ$5,0))","v":"高さ⑰"},{"$f":"INDEX(入力フォーム!$N3:$BEQ3,1,MATCH(BAX7,入力フォーム!$N$5:$BEQ$5,0))","v":"重量⑰"},{"$f":"INDEX(入力フォーム!$N3:$BEQ3,1,MATCH(BAY7,入力フォーム!$N$5:$BEQ$5,0))","v":"賞味期限⑰"},{"$f":"INDEX(入力フォーム!$N3:$BEQ3,1,MATCH(BAZ7,入力フォーム!$N$5:$BEQ$5,0))","v":"消費期限⑰"},{"$f":"INDEX(入力フォーム!$N3:$BEQ3,1,MATCH(BBA7,入力フォーム!$N$5:$BEQ$5,0))","v":"JANコード⑰"},{"$f":"INDEX(入力フォーム!$N3:$BEQ3,1,MATCH(BBB7,入力フォーム!$N$5:$BEQ$5,0))","v":"希望小売⑰"},{"$f":"INDEX(入力フォーム!$N3:$BEQ3,1,MATCH(BBC7,入力フォーム!$N$5:$BEQ$5,0))","v":"仕切単価⑰"},{"$f":"INDEX(入力フォーム!$N3:$BEQ3,1,MATCH(BBD7,入力フォーム!$N$5:$BEQ$5,0))","v":"工場出し⑰"},{"$f":"INDEX(入力フォーム!$N3:$BEQ3,1,MATCH(BBE7,入力フォーム!$N$5:$BEQ$5,0))","v":"関東向け⑰"},{"$f":"INDEX(入力フォーム!$N3:$BEQ3,1,MATCH(BBF7,入力フォーム!$N$5:$BEQ$5,0))","v":"関西向け⑰"},{"$f":"INDEX(入力フォーム!$N3:$BEQ3,1,MATCH(BBG7,入力フォーム!$N$5:$BEQ$5,0))","v":"8%⑰"},{"$f":"INDEX(入力フォーム!$N3:$BEQ3,1,MATCH(BBH7,入力フォーム!$N$5:$BEQ$5,0))","v":"10%⑰"},{"$f":"INDEX(入力フォーム!$N3:$BEQ3,1,MATCH(BBI7,入力フォーム!$N$5:$BEQ$5,0))","v":"常温⑰"},{"$f":"INDEX(入力フォーム!$N3:$BEQ3,1,MATCH(BBJ7,入力フォーム!$N$5:$BEQ$5,0))","v":"冷蔵⑰"},{"$f":"INDEX(入力フォーム!$N3:$BEQ3,1,MATCH(BBK7,入力フォーム!$N$5:$BEQ$5,0))","v":"冷凍⑰"},{"$f":"INDEX(入力フォーム!$N3:$BEQ3,1,MATCH(BBL7,入力フォーム!$N$5:$BEQ$5,0))","v":"外食⑰"},{"$f":"INDEX(入力フォーム!$N3:$BEQ3,1,MATCH(BBM7,入力フォーム!$N$5:$BEQ$5,0))","v":"中食⑰"},{"$f":"INDEX(入力フォーム!$N3:$BEQ3,1,MATCH(BBN7,入力フォーム!$N$5:$BEQ$5,0))","v":"商社・卸売⑰"},{"$f":"INDEX(入力フォーム!$N3:$BEQ3,1,MATCH(BBO7,入力フォーム!$N$5:$BEQ$5,0))","v":"メーカー⑰"},{"$f":"INDEX(入力フォーム!$N3:$BEQ3,1,MATCH(BBP7,入力フォーム!$N$5:$BEQ$5,0))","v":"スーパーマーケット⑰"},{"$f":"INDEX(入力フォーム!$N3:$BEQ3,1,MATCH(BBQ7,入力フォーム!$N$5:$BEQ$5,0))","v":"百貨店⑰"},{"$f":"INDEX(入力フォーム!$N3:$BEQ3,1,MATCH(BBR7,入力フォーム!$N$5:$BEQ$5,0))","v":"その他小売⑰"},{"$f":"INDEX(入力フォーム!$N3:$BEQ3,1,MATCH(BBS7,入力フォーム!$N$5:$BEQ$5,0))","v":"ホテル・宴会・レジャー⑰"},{"$f":"INDEX(入力フォーム!$N3:$BEQ3,1,MATCH(BBT7,入力フォーム!$N$5:$BEQ$5,0))","v":"その他・ターゲット⑰"},{"$f":"INDEX(入力フォーム!$N3:$BEQ3,1,MATCH(BBU7,入力フォーム!$N$5:$BEQ$5,0))","v":"その他・ターゲット・⑰"},{"$f":"INDEX(入力フォーム!$N3:$BEQ3,1,MATCH(BBV7,入力フォーム!$N$5:$BEQ$5,0))","v":"業務用対応可能⑰"},{"$f":"INDEX(入力フォーム!$N3:$BEQ3,1,MATCH(BBW7,入力フォーム!$N$5:$BEQ$5,0))","v":"ギフト対応可能⑰"},{"$f":"INDEX(入力フォーム!$N3:$BEQ3,1,MATCH(BBX7,入力フォーム!$N$5:$BEQ$5,0))","v":"ターゲット⑰"},{"$f":"INDEX(入力フォーム!$N3:$BEQ3,1,MATCH(BBY7,入力フォーム!$N$5:$BEQ$5,0))","v":"利用シーン⑰"},{"$f":"INDEX(入力フォーム!$N3:$BEQ3,1,MATCH(BBZ7,入力フォーム!$N$5:$BEQ$5,0))","v":"商品特徴⑰"},{"$f":"INDEX(入力フォーム!$N3:$BEQ3,1,MATCH(BCA7,入力フォーム!$N$5:$BEQ$5,0))","v":"えび⑰"},{"$f":"INDEX(入力フォーム!$N3:$BEQ3,1,MATCH(BCB7,入力フォーム!$N$5:$BEQ$5,0))","v":"かに⑰"},{"$f":"INDEX(入力フォーム!$N3:$BEQ3,1,MATCH(BCC7,入力フォーム!$N$5:$BEQ$5,0))","v":"小麦⑰"},{"$f":"INDEX(入力フォーム!$N3:$BEQ3,1,MATCH(BCD7,入力フォーム!$N$5:$BEQ$5,0))","v":"そば⑰"},{"$f":"INDEX(入力フォーム!$N3:$BEQ3,1,MATCH(BCE7,入力フォーム!$N$5:$BEQ$5,0))","v":"卵⑰"},{"$f":"INDEX(入力フォーム!$N3:$BEQ3,1,MATCH(BCF7,入力フォーム!$N$5:$BEQ$5,0))","v":"乳⑰"},{"$f":"INDEX(入力フォーム!$N3:$BEQ3,1,MATCH(BCG7,入力フォーム!$N$5:$BEQ$5,0))","v":"落花生⑰"},{"$f":"INDEX(入力フォーム!$N3:$BEQ3,1,MATCH(BCH7,入力フォーム!$N$5:$BEQ$5,0))","v":"あわび⑰"},{"$f":"INDEX(入力フォーム!$N3:$BEQ3,1,MATCH(BCI7,入力フォーム!$N$5:$BEQ$5,0))","v":"いか⑰"},{"$f":"INDEX(入力フォーム!$N3:$BEQ3,1,MATCH(BCJ7,入力フォーム!$N$5:$BEQ$5,0))","v":"いくら⑰"},{"$f":"INDEX(入力フォーム!$N3:$BEQ3,1,MATCH(BCK7,入力フォーム!$N$5:$BEQ$5,0))","v":"オレンジ⑰"},{"$f":"INDEX(入力フォーム!$N3:$BEQ3,1,MATCH(BCL7,入力フォーム!$N$5:$BEQ$5,0))","v":"カシューナッツ⑰"},{"$f":"INDEX(入力フォーム!$N3:$BEQ3,1,MATCH(BCM7,入力フォーム!$N$5:$BEQ$5,0))","v":"キウイフルーツ⑰"},{"$f":"INDEX(入力フォーム!$N3:$BEQ3,1,MATCH(BCN7,入力フォーム!$N$5:$BEQ$5,0))","v":"牛肉⑰"},{"$f":"INDEX(入力フォーム!$N3:$BEQ3,1,MATCH(BCO7,入力フォーム!$N$5:$BEQ$5,0))","v":"くるみ⑰"},{"$f":"INDEX(入力フォーム!$N3:$BEQ3,1,MATCH(BCP7,入力フォーム!$N$5:$BEQ$5,0))","v":"ごま⑰"},{"$f":"INDEX(入力フォーム!$N3:$BEQ3,1,MATCH(BCQ7,入力フォーム!$N$5:$BEQ$5,0))","v":"さけ⑰"},{"$f":"INDEX(入力フォーム!$N3:$BEQ3,1,MATCH(BCR7,入力フォーム!$N$5:$BEQ$5,0))","v":"さば⑰"},{"$f":"INDEX(入力フォーム!$N3:$BEQ3,1,MATCH(BCS7,入力フォーム!$N$5:$BEQ$5,0))","v":"大豆⑰"},{"$f":"INDEX(入力フォーム!$N3:$BEQ3,1,MATCH(BCT7,入力フォーム!$N$5:$BEQ$5,0))","v":"鶏肉⑰"},{"$f":"INDEX(入力フォーム!$N3:$BEQ3,1,MATCH(BCU7,入力フォーム!$N$5:$BEQ$5,0))","v":"バナナ⑰"},{"$f":"INDEX(入力フォーム!$N3:$BEQ3,1,MATCH(BCV7,入力フォーム!$N$5:$BEQ$5,0))","v":"豚肉⑰"},{"$f":"INDEX(入力フォーム!$N3:$BEQ3,1,MATCH(BCW7,入力フォーム!$N$5:$BEQ$5,0))","v":"まつたけ⑰"},{"$f":"INDEX(入力フォーム!$N3:$BEQ3,1,MATCH(BCX7,入力フォーム!$N$5:$BEQ$5,0))","v":"もも⑰"},{"$f":"INDEX(入力フォーム!$N3:$BEQ3,1,MATCH(BCY7,入力フォーム!$N$5:$BEQ$5,0))","v":"やまいも⑰"},{"$f":"INDEX(入力フォーム!$N3:$BEQ3,1,MATCH(BCZ7,入力フォーム!$N$5:$BEQ$5,0))","v":"りんご⑰"},{"$f":"INDEX(入力フォーム!$N3:$BEQ3,1,MATCH(BDA7,入力フォーム!$N$5:$BEQ$5,0))","v":"ゼラチン⑰"},{"$f":"INDEX(入力フォーム!$N3:$BEQ3,1,MATCH(BDB7,入力フォーム!$N$5:$BEQ$5,0))","v":"備考⑰"},{"$f":"INDEX(入力フォーム!$N3:$BEQ3,1,MATCH(BDC7,入力フォーム!$N$5:$BEQ$5,0))","v":0},{"$f":"INDEX(入力フォーム!$N3:$BEQ3,1,MATCH(BDD7,入力フォーム!$N$5:$BEQ$5,0))","v":"商品名⑱"},{"$f":"INDEX(入力フォーム!$N3:$BEQ3,1,MATCH(BDE7,入力フォーム!$N$5:$BEQ$5,0))","v":"提供可能時期⑱"},{"$f":"INDEX(入力フォーム!$N3:$BEQ3,1,MATCH(BDF7,入力フォーム!$N$5:$BEQ$5,0))","v":"主原料産地⑱"},{"$f":"INDEX(入力フォーム!$N3:$BEQ3,1,MATCH(BDG7,入力フォーム!$N$5:$BEQ$5,0))","v":"内容量⑱"},{"$f":"INDEX(入力フォーム!$N3:$BEQ3,1,MATCH(BDH7,入力フォーム!$N$5:$BEQ$5,0))","v":"1ケースあたり⑱"},{"$f":"INDEX(入力フォーム!$N3:$BEQ3,1,MATCH(BDI7,入力フォーム!$N$5:$BEQ$5,0))","v":"発注リードタイム⑱"},{"$f":"INDEX(入力フォーム!$N3:$BEQ3,1,MATCH(BDJ7,入力フォーム!$N$5:$BEQ$5,0))","v":"最大ケース⑱"},{"$f":"INDEX(入力フォーム!$N3:$BEQ3,1,MATCH(BDK7,入力フォーム!$N$5:$BEQ$5,0))","v":"最小ケース⑱"},{"$f":"INDEX(入力フォーム!$N3:$BEQ3,1,MATCH(BDL7,入力フォーム!$N$5:$BEQ$5,0))","v":"縦⑱"},{"$f":"INDEX(入力フォーム!$N3:$BEQ3,1,MATCH(BDM7,入力フォーム!$N$5:$BEQ$5,0))","v":"横⑱"},{"$f":"INDEX(入力フォーム!$N3:$BEQ3,1,MATCH(BDN7,入力フォーム!$N$5:$BEQ$5,0))","v":"高さ⑱"},{"$f":"INDEX(入力フォーム!$N3:$BEQ3,1,MATCH(BDO7,入力フォーム!$N$5:$BEQ$5,0))","v":"重量⑱"},{"$f":"INDEX(入力フォーム!$N3:$BEQ3,1,MATCH(BDP7,入力フォーム!$N$5:$BEQ$5,0))","v":"賞味期限⑱"},{"$f":"INDEX(入力フォーム!$N3:$BEQ3,1,MATCH(BDQ7,入力フォーム!$N$5:$BEQ$5,0))","v":"消費期限⑱"},{"$f":"INDEX(入力フォーム!$N3:$BEQ3,1,MATCH(BDR7,入力フォーム!$N$5:$BEQ$5,0))","v":"JANコード⑱"},{"$f":"INDEX(入力フォーム!$N3:$BEQ3,1,MATCH(BDS7,入力フォーム!$N$5:$BEQ$5,0))","v":"希望小売⑱"},{"$f":"INDEX(入力フォーム!$N3:$BEQ3,1,MATCH(BDT7,入力フォーム!$N$5:$BEQ$5,0))","v":"仕切単価⑱"},{"$f":"INDEX(入力フォーム!$N3:$BEQ3,1,MATCH(BDU7,入力フォーム!$N$5:$BEQ$5,0))","v":"工場出し⑱"},{"$f":"INDEX(入力フォーム!$N3:$BEQ3,1,MATCH(BDV7,入力フォーム!$N$5:$BEQ$5,0))","v":"関東向け⑱"},{"$f":"INDEX(入力フォーム!$N3:$BEQ3,1,MATCH(BDW7,入力フォーム!$N$5:$BEQ$5,0))","v":"関西向け⑱"},{"$f":"INDEX(入力フォーム!$N3:$BEQ3,1,MATCH(BDX7,入力フォーム!$N$5:$BEQ$5,0))","v":"8%⑱"},{"$f":"INDEX(入力フォーム!$N3:$BEQ3,1,MATCH(BDY7,入力フォーム!$N$5:$BEQ$5,0))","v":"10%⑱"},{"$f":"INDEX(入力フォーム!$N3:$BEQ3,1,MATCH(BDZ7,入力フォーム!$N$5:$BEQ$5,0))","v":"常温⑱"},{"$f":"INDEX(入力フォーム!$N3:$BEQ3,1,MATCH(BEA7,入力フォーム!$N$5:$BEQ$5,0))","v":"冷蔵⑱"},{"$f":"INDEX(入力フォーム!$N3:$BEQ3,1,MATCH(BEB7,入力フォーム!$N$5:$BEQ$5,0))","v":"冷凍⑱"},{"$f":"INDEX(入力フォーム!$N3:$BEQ3,1,MATCH(BEC7,入力フォーム!$N$5:$BEQ$5,0))","v":"外食⑱"},{"$f":"INDEX(入力フォーム!$N3:$BEQ3,1,MATCH(BED7,入力フォーム!$N$5:$BEQ$5,0))","v":"中食⑱"},{"$f":"INDEX(入力フォーム!$N3:$BEQ3,1,MATCH(BEE7,入力フォーム!$N$5:$BEQ$5,0))","v":"商社・卸売⑱"},{"$f":"INDEX(入力フォーム!$N3:$BEQ3,1,MATCH(BEF7,入力フォーム!$N$5:$BEQ$5,0))","v":"メーカー⑱"},{"$f":"INDEX(入力フォーム!$N3:$BEQ3,1,MATCH(BEG7,入力フォーム!$N$5:$BEQ$5,0))","v":"スーパーマーケット⑱"},{"$f":"INDEX(入力フォーム!$N3:$BEQ3,1,MATCH(BEH7,入力フォーム!$N$5:$BEQ$5,0))","v":"百貨店⑱"},{"$f":"INDEX(入力フォーム!$N3:$BEQ3,1,MATCH(BEI7,入力フォーム!$N$5:$BEQ$5,0))","v":"その他小売⑱"},{"$f":"INDEX(入力フォーム!$N3:$BEQ3,1,MATCH(BEJ7,入力フォーム!$N$5:$BEQ$5,0))","v":"ホテル・宴会・レジャー⑱"},{"$f":"INDEX(入力フォーム!$N3:$BEQ3,1,MATCH(BEK7,入力フォーム!$N$5:$BEQ$5,0))","v":"その他・ターゲット⑱"},{"$f":"INDEX(入力フォーム!$N3:$BEQ3,1,MATCH(BEL7,入力フォーム!$N$5:$BEQ$5,0))","v":"その他・ターゲット・⑱"},{"$f":"INDEX(入力フォーム!$N3:$BEQ3,1,MATCH(BEM7,入力フォーム!$N$5:$BEQ$5,0))","v":"業務用対応可能⑱"},{"$f":"INDEX(入力フォーム!$N3:$BEQ3,1,MATCH(BEN7,入力フォーム!$N$5:$BEQ$5,0))","v":"ギフト対応可能⑱"},{"$f":"INDEX(入力フォーム!$N3:$BEQ3,1,MATCH(BEO7,入力フォーム!$N$5:$BEQ$5,0))","v":"ターゲット⑱"},{"$f":"INDEX(入力フォーム!$N3:$BEQ3,1,MATCH(BEP7,入力フォーム!$N$5:$BEQ$5,0))","v":"利用シーン⑱"},{"$f":"INDEX(入力フォーム!$N3:$BEQ3,1,MATCH(BEQ7,入力フォーム!$N$5:$BEQ$5,0))","v":"商品特徴⑱"},{"$f":"INDEX(入力フォーム!$N3:$BEQ3,1,MATCH(BER7,入力フォーム!$N$5:$BEQ$5,0))","v":"えび⑱"},{"$f":"INDEX(入力フォーム!$N3:$BEQ3,1,MATCH(BES7,入力フォーム!$N$5:$BEQ$5,0))","v":"かに⑱"},{"$f":"INDEX(入力フォーム!$N3:$BEQ3,1,MATCH(BET7,入力フォーム!$N$5:$BEQ$5,0))","v":"小麦⑱"},{"$f":"INDEX(入力フォーム!$N3:$BEQ3,1,MATCH(BEU7,入力フォーム!$N$5:$BEQ$5,0))","v":"そば⑱"},{"$f":"INDEX(入力フォーム!$N3:$BEQ3,1,MATCH(BEV7,入力フォーム!$N$5:$BEQ$5,0))","v":"卵⑱"},{"$f":"INDEX(入力フォーム!$N3:$BEQ3,1,MATCH(BEW7,入力フォーム!$N$5:$BEQ$5,0))","v":"乳⑱"},{"$f":"INDEX(入力フォーム!$N3:$BEQ3,1,MATCH(BEX7,入力フォーム!$N$5:$BEQ$5,0))","v":"落花生⑱"},{"$f":"INDEX(入力フォーム!$N3:$BEQ3,1,MATCH(BEY7,入力フォーム!$N$5:$BEQ$5,0))","v":"あわび⑱"},{"$f":"INDEX(入力フォーム!$N3:$BEQ3,1,MATCH(BEZ7,入力フォーム!$N$5:$BEQ$5,0))","v":"いか⑱"},{"$f":"INDEX(入力フォーム!$N3:$BEQ3,1,MATCH(BFA7,入力フォーム!$N$5:$BEQ$5,0))","v":"いくら⑱"},{"$f":"INDEX(入力フォーム!$N3:$BEQ3,1,MATCH(BFB7,入力フォーム!$N$5:$BEQ$5,0))","v":"オレンジ⑱"},{"$f":"INDEX(入力フォーム!$N3:$BEQ3,1,MATCH(BFC7,入力フォーム!$N$5:$BEQ$5,0))","v":"カシューナッツ⑱"},{"$f":"INDEX(入力フォーム!$N3:$BEQ3,1,MATCH(BFD7,入力フォーム!$N$5:$BEQ$5,0))","v":"キウイフルーツ⑱"},{"$f":"INDEX(入力フォーム!$N3:$BEQ3,1,MATCH(BFE7,入力フォーム!$N$5:$BEQ$5,0))","v":"牛肉⑱"},{"$f":"INDEX(入力フォーム!$N3:$BEQ3,1,MATCH(BFF7,入力フォーム!$N$5:$BEQ$5,0))","v":"くるみ⑱"},{"$f":"INDEX(入力フォーム!$N3:$BEQ3,1,MATCH(BFG7,入力フォーム!$N$5:$BEQ$5,0))","v":"ごま⑱"},{"$f":"INDEX(入力フォーム!$N3:$BEQ3,1,MATCH(BFH7,入力フォーム!$N$5:$BEQ$5,0))","v":"さけ⑱"},{"$f":"INDEX(入力フォーム!$N3:$BEQ3,1,MATCH(BFI7,入力フォーム!$N$5:$BEQ$5,0))","v":"さば⑱"},{"$f":"INDEX(入力フォーム!$N3:$BEQ3,1,MATCH(BFJ7,入力フォーム!$N$5:$BEQ$5,0))","v":"大豆⑱"},{"$f":"INDEX(入力フォーム!$N3:$BEQ3,1,MATCH(BFK7,入力フォーム!$N$5:$BEQ$5,0))","v":"鶏肉⑱"},{"$f":"INDEX(入力フォーム!$N3:$BEQ3,1,MATCH(BFL7,入力フォーム!$N$5:$BEQ$5,0))","v":"バナナ⑱"},{"$f":"INDEX(入力フォーム!$N3:$BEQ3,1,MATCH(BFM7,入力フォーム!$N$5:$BEQ$5,0))","v":"豚肉⑱"},{"$f":"INDEX(入力フォーム!$N3:$BEQ3,1,MATCH(BFN7,入力フォーム!$N$5:$BEQ$5,0))","v":"まつたけ⑱"},{"$f":"INDEX(入力フォーム!$N3:$BEQ3,1,MATCH(BFO7,入力フォーム!$N$5:$BEQ$5,0))","v":"もも⑱"},{"$f":"INDEX(入力フォーム!$N3:$BEQ3,1,MATCH(BFP7,入力フォーム!$N$5:$BEQ$5,0))","v":"やまいも⑱"},{"$f":"INDEX(入力フォーム!$N3:$BEQ3,1,MATCH(BFQ7,入力フォーム!$N$5:$BEQ$5,0))","v":"りんご⑱"},{"$f":"INDEX(入力フォーム!$N3:$BEQ3,1,MATCH(BFR7,入力フォーム!$N$5:$BEQ$5,0))","v":"ゼラチン⑱"},{"$f":"INDEX(入力フォーム!$N3:$BEQ3,1,MATCH(BFS7,入力フォーム!$N$5:$BEQ$5,0))","v":"備考⑱"},{"$f":"INDEX(入力フォーム!$N3:$BEQ3,1,MATCH(BFT7,入力フォーム!$N$5:$BEQ$5,0))","v":0},{"$f":"INDEX(入力フォーム!$N3:$BEQ3,1,MATCH(BFU7,入力フォーム!$N$5:$BEQ$5,0))","v":"商品名⑲"},{"$f":"INDEX(入力フォーム!$N3:$BEQ3,1,MATCH(BFV7,入力フォーム!$N$5:$BEQ$5,0))","v":"提供可能時期⑲"},{"$f":"INDEX(入力フォーム!$N3:$BEQ3,1,MATCH(BFW7,入力フォーム!$N$5:$BEQ$5,0))","v":"主原料産地⑲"},{"$f":"INDEX(入力フォーム!$N3:$BEQ3,1,MATCH(BFX7,入力フォーム!$N$5:$BEQ$5,0))","v":"内容量⑲"},{"$f":"INDEX(入力フォーム!$N3:$BEQ3,1,MATCH(BFY7,入力フォーム!$N$5:$BEQ$5,0))","v":"1ケースあたり⑲"},{"$f":"INDEX(入力フォーム!$N3:$BEQ3,1,MATCH(BFZ7,入力フォーム!$N$5:$BEQ$5,0))","v":"発注リードタイム⑲"},{"$f":"INDEX(入力フォーム!$N3:$BEQ3,1,MATCH(BGA7,入力フォーム!$N$5:$BEQ$5,0))","v":"最大ケース⑲"},{"$f":"INDEX(入力フォーム!$N3:$BEQ3,1,MATCH(BGB7,入力フォーム!$N$5:$BEQ$5,0))","v":"最小ケース⑲"},{"$f":"INDEX(入力フォーム!$N3:$BEQ3,1,MATCH(BGC7,入力フォーム!$N$5:$BEQ$5,0))","v":"縦⑲"},{"$f":"INDEX(入力フォーム!$N3:$BEQ3,1,MATCH(BGD7,入力フォーム!$N$5:$BEQ$5,0))","v":"横⑲"},{"$f":"INDEX(入力フォーム!$N3:$BEQ3,1,MATCH(BGE7,入力フォーム!$N$5:$BEQ$5,0))","v":"高さ⑲"},{"$f":"INDEX(入力フォーム!$N3:$BEQ3,1,MATCH(BGF7,入力フォーム!$N$5:$BEQ$5,0))","v":"重量⑲"},{"$f":"INDEX(入力フォーム!$N3:$BEQ3,1,MATCH(BGG7,入力フォーム!$N$5:$BEQ$5,0))","v":"賞味期限⑲"},{"$f":"INDEX(入力フォーム!$N3:$BEQ3,1,MATCH(BGH7,入力フォーム!$N$5:$BEQ$5,0))","v":"消費期限⑲"},{"$f":"INDEX(入力フォーム!$N3:$BEQ3,1,MATCH(BGI7,入力フォーム!$N$5:$BEQ$5,0))","v":"JANコード⑲"},{"$f":"INDEX(入力フォーム!$N3:$BEQ3,1,MATCH(BGJ7,入力フォーム!$N$5:$BEQ$5,0))","v":"希望小売⑲"},{"$f":"INDEX(入力フォーム!$N3:$BEQ3,1,MATCH(BGK7,入力フォーム!$N$5:$BEQ$5,0))","v":"仕切単価⑲"},{"$f":"INDEX(入力フォーム!$N3:$BEQ3,1,MATCH(BGL7,入力フォーム!$N$5:$BEQ$5,0))","v":"工場出し⑲"},{"$f":"INDEX(入力フォーム!$N3:$BEQ3,1,MATCH(BGM7,入力フォーム!$N$5:$BEQ$5,0))","v":"関東向け⑲"},{"$f":"INDEX(入力フォーム!$N3:$BEQ3,1,MATCH(BGN7,入力フォーム!$N$5:$BEQ$5,0))","v":"関西向け⑲"},{"$f":"INDEX(入力フォーム!$N3:$BEQ3,1,MATCH(BGO7,入力フォーム!$N$5:$BEQ$5,0))","v":"8%⑲"},{"$f":"INDEX(入力フォーム!$N3:$BEQ3,1,MATCH(BGP7,入力フォーム!$N$5:$BEQ$5,0))","v":"10%⑲"},{"$f":"INDEX(入力フォーム!$N3:$BEQ3,1,MATCH(BGQ7,入力フォーム!$N$5:$BEQ$5,0))","v":"常温⑲"},{"$f":"INDEX(入力フォーム!$N3:$BEQ3,1,MATCH(BGR7,入力フォーム!$N$5:$BEQ$5,0))","v":"冷蔵⑲"},{"$f":"INDEX(入力フォーム!$N3:$BEQ3,1,MATCH(BGS7,入力フォーム!$N$5:$BEQ$5,0))","v":"冷凍⑲"},{"$f":"INDEX(入力フォーム!$N3:$BEQ3,1,MATCH(BGT7,入力フォーム!$N$5:$BEQ$5,0))","v":"外食⑲"},{"$f":"INDEX(入力フォーム!$N3:$BEQ3,1,MATCH(BGU7,入力フォーム!$N$5:$BEQ$5,0))","v":"中食⑲"},{"$f":"INDEX(入力フォーム!$N3:$BEQ3,1,MATCH(BGV7,入力フォーム!$N$5:$BEQ$5,0))","v":"商社・卸売⑲"},{"$f":"INDEX(入力フォーム!$N3:$BEQ3,1,MATCH(BGW7,入力フォーム!$N$5:$BEQ$5,0))","v":"メーカー⑲"},{"$f":"INDEX(入力フォーム!$N3:$BEQ3,1,MATCH(BGX7,入力フォーム!$N$5:$BEQ$5,0))","v":"スーパーマーケット⑲"},{"$f":"INDEX(入力フォーム!$N3:$BEQ3,1,MATCH(BGY7,入力フォーム!$N$5:$BEQ$5,0))","v":"百貨店⑲"},{"$f":"INDEX(入力フォーム!$N3:$BEQ3,1,MATCH(BGZ7,入力フォーム!$N$5:$BEQ$5,0))","v":"その他小売⑲"},{"$f":"INDEX(入力フォーム!$N3:$BEQ3,1,MATCH(BHA7,入力フォーム!$N$5:$BEQ$5,0))","v":"ホテル・宴会・レジャー⑲"},{"$f":"INDEX(入力フォーム!$N3:$BEQ3,1,MATCH(BHB7,入力フォーム!$N$5:$BEQ$5,0))","v":"その他・ターゲット⑲"},{"$f":"INDEX(入力フォーム!$N3:$BEQ3,1,MATCH(BHC7,入力フォーム!$N$5:$BEQ$5,0))","v":"その他・ターゲット・⑲"},{"$f":"INDEX(入力フォーム!$N3:$BEQ3,1,MATCH(BHD7,入力フォーム!$N$5:$BEQ$5,0))","v":"業務用対応可能⑲"},{"$f":"INDEX(入力フォーム!$N3:$BEQ3,1,MATCH(BHE7,入力フォーム!$N$5:$BEQ$5,0))","v":"ギフト対応可能⑲"},{"$f":"INDEX(入力フォーム!$N3:$BEQ3,1,MATCH(BHF7,入力フォーム!$N$5:$BEQ$5,0))","v":"ターゲット⑲"},{"$f":"INDEX(入力フォーム!$N3:$BEQ3,1,MATCH(BHG7,入力フォーム!$N$5:$BEQ$5,0))","v":"利用シーン⑲"},{"$f":"INDEX(入力フォーム!$N3:$BEQ3,1,MATCH(BHH7,入力フォーム!$N$5:$BEQ$5,0))","v":"商品特徴⑲"},{"$f":"INDEX(入力フォーム!$N3:$BEQ3,1,MATCH(BHI7,入力フォーム!$N$5:$BEQ$5,0))","v":"えび⑲"},{"$f":"INDEX(入力フォーム!$N3:$BEQ3,1,MATCH(BHJ7,入力フォーム!$N$5:$BEQ$5,0))","v":"かに⑲"},{"$f":"INDEX(入力フォーム!$N3:$BEQ3,1,MATCH(BHK7,入力フォーム!$N$5:$BEQ$5,0))","v":"小麦⑲"},{"$f":"INDEX(入力フォーム!$N3:$BEQ3,1,MATCH(BHL7,入力フォーム!$N$5:$BEQ$5,0))","v":"そば⑲"},{"$f":"INDEX(入力フォーム!$N3:$BEQ3,1,MATCH(BHM7,入力フォーム!$N$5:$BEQ$5,0))","v":"卵⑲"},{"$f":"INDEX(入力フォーム!$N3:$BEQ3,1,MATCH(BHN7,入力フォーム!$N$5:$BEQ$5,0))","v":"乳⑲"},{"$f":"INDEX(入力フォーム!$N3:$BEQ3,1,MATCH(BHO7,入力フォーム!$N$5:$BEQ$5,0))","v":"落花生⑲"},{"$f":"INDEX(入力フォーム!$N3:$BEQ3,1,MATCH(BHP7,入力フォーム!$N$5:$BEQ$5,0))","v":"あわび⑲"},{"$f":"INDEX(入力フォーム!$N3:$BEQ3,1,MATCH(BHQ7,入力フォーム!$N$5:$BEQ$5,0))","v":"いか⑲"},{"$f":"INDEX(入力フォーム!$N3:$BEQ3,1,MATCH(BHR7,入力フォーム!$N$5:$BEQ$5,0))","v":"いくら⑲"},{"$f":"INDEX(入力フォーム!$N3:$BEQ3,1,MATCH(BHS7,入力フォーム!$N$5:$BEQ$5,0))","v":"オレンジ⑲"},{"$f":"INDEX(入力フォーム!$N3:$BEQ3,1,MATCH(BHT7,入力フォーム!$N$5:$BEQ$5,0))","v":"カシューナッツ⑲"},{"$f":"INDEX(入力フォーム!$N3:$BEQ3,1,MATCH(BHU7,入力フォーム!$N$5:$BEQ$5,0))","v":"キウイフルーツ⑲"},{"$f":"INDEX(入力フォーム!$N3:$BEQ3,1,MATCH(BHV7,入力フォーム!$N$5:$BEQ$5,0))","v":"牛肉⑲"},{"$f":"INDEX(入力フォーム!$N3:$BEQ3,1,MATCH(BHW7,入力フォーム!$N$5:$BEQ$5,0))","v":"くるみ⑲"},{"$f":"INDEX(入力フォーム!$N3:$BEQ3,1,MATCH(BHX7,入力フォーム!$N$5:$BEQ$5,0))","v":"ごま⑲"},{"$f":"INDEX(入力フォーム!$N3:$BEQ3,1,MATCH(BHY7,入力フォーム!$N$5:$BEQ$5,0))","v":"さけ⑲"},{"$f":"INDEX(入力フォーム!$N3:$BEQ3,1,MATCH(BHZ7,入力フォーム!$N$5:$BEQ$5,0))","v":"さば⑲"},{"$f":"INDEX(入力フォーム!$N3:$BEQ3,1,MATCH(BIA7,入力フォーム!$N$5:$BEQ$5,0))","v":"大豆⑲"},{"$f":"INDEX(入力フォーム!$N3:$BEQ3,1,MATCH(BIB7,入力フォーム!$N$5:$BEQ$5,0))","v":"鶏肉⑲"},{"$f":"INDEX(入力フォーム!$N3:$BEQ3,1,MATCH(BIC7,入力フォーム!$N$5:$BEQ$5,0))","v":"バナナ⑲"},{"$f":"INDEX(入力フォーム!$N3:$BEQ3,1,MATCH(BID7,入力フォーム!$N$5:$BEQ$5,0))","v":"豚肉⑲"},{"$f":"INDEX(入力フォーム!$N3:$BEQ3,1,MATCH(BIE7,入力フォーム!$N$5:$BEQ$5,0))","v":"まつたけ⑲"},{"$f":"INDEX(入力フォーム!$N3:$BEQ3,1,MATCH(BIF7,入力フォーム!$N$5:$BEQ$5,0))","v":"もも⑲"},{"$f":"INDEX(入力フォーム!$N3:$BEQ3,1,MATCH(BIG7,入力フォーム!$N$5:$BEQ$5,0))","v":"やまいも⑲"},{"$f":"INDEX(入力フォーム!$N3:$BEQ3,1,MATCH(BIH7,入力フォーム!$N$5:$BEQ$5,0))","v":"りんご⑲"},{"$f":"INDEX(入力フォーム!$N3:$BEQ3,1,MATCH(BII7,入力フォーム!$N$5:$BEQ$5,0))","v":"ゼラチン⑲"},{"$f":"INDEX(入力フォーム!$N3:$BEQ3,1,MATCH(BIJ7,入力フォーム!$N$5:$BEQ$5,0))","v":"備考⑲"},{"$f":"INDEX(入力フォーム!$N3:$BEQ3,1,MATCH(BIK7,入力フォーム!$N$5:$BEQ$5,0))","v":0},{"$f":"INDEX(入力フォーム!$N3:$BEQ3,1,MATCH(BIL7,入力フォーム!$N$5:$BEQ$5,0))","v":"商品名⑳"},{"$f":"INDEX(入力フォーム!$N3:$BEQ3,1,MATCH(BIM7,入力フォーム!$N$5:$BEQ$5,0))","v":"提供可能時期⑳"},{"$f":"INDEX(入力フォーム!$N3:$BEQ3,1,MATCH(BIN7,入力フォーム!$N$5:$BEQ$5,0))","v":"主原料産地⑳"},{"$f":"INDEX(入力フォーム!$N3:$BEQ3,1,MATCH(BIO7,入力フォーム!$N$5:$BEQ$5,0))","v":"内容量⑳"},{"$f":"INDEX(入力フォーム!$N3:$BEQ3,1,MATCH(BIP7,入力フォーム!$N$5:$BEQ$5,0))","v":"1ケースあたり⑳"},{"$f":"INDEX(入力フォーム!$N3:$BEQ3,1,MATCH(BIQ7,入力フォーム!$N$5:$BEQ$5,0))","v":"発注リードタイム⑳"},{"$f":"INDEX(入力フォーム!$N3:$BEQ3,1,MATCH(BIR7,入力フォーム!$N$5:$BEQ$5,0))","v":"最大ケース⑳"},{"$f":"INDEX(入力フォーム!$N3:$BEQ3,1,MATCH(BIS7,入力フォーム!$N$5:$BEQ$5,0))","v":"最小ケース⑳"},{"$f":"INDEX(入力フォーム!$N3:$BEQ3,1,MATCH(BIT7,入力フォーム!$N$5:$BEQ$5,0))","v":"縦⑳"},{"$f":"INDEX(入力フォーム!$N3:$BEQ3,1,MATCH(BIU7,入力フォーム!$N$5:$BEQ$5,0))","v":"横⑳"},{"$f":"INDEX(入力フォーム!$N3:$BEQ3,1,MATCH(BIV7,入力フォーム!$N$5:$BEQ$5,0))","v":"高さ⑳"},{"$f":"INDEX(入力フォーム!$N3:$BEQ3,1,MATCH(BIW7,入力フォーム!$N$5:$BEQ$5,0))","v":"重量⑳"},{"$f":"INDEX(入力フォーム!$N3:$BEQ3,1,MATCH(BIX7,入力フォーム!$N$5:$BEQ$5,0))","v":"賞味期限⑳"},{"$f":"INDEX(入力フォーム!$N3:$BEQ3,1,MATCH(BIY7,入力フォーム!$N$5:$BEQ$5,0))","v":"消費期限⑳"},{"$f":"INDEX(入力フォーム!$N3:$BEQ3,1,MATCH(BIZ7,入力フォーム!$N$5:$BEQ$5,0))","v":"JANコード⑳"},{"$f":"INDEX(入力フォーム!$N3:$BEQ3,1,MATCH(BJA7,入力フォーム!$N$5:$BEQ$5,0))","v":"希望小売⑳"},{"$f":"INDEX(入力フォーム!$N3:$BEQ3,1,MATCH(BJB7,入力フォーム!$N$5:$BEQ$5,0))","v":"仕切単価⑳"},{"$f":"INDEX(入力フォーム!$N3:$BEQ3,1,MATCH(BJC7,入力フォーム!$N$5:$BEQ$5,0))","v":"工場出し⑳"},{"$f":"INDEX(入力フォーム!$N3:$BEQ3,1,MATCH(BJD7,入力フォーム!$N$5:$BEQ$5,0))","v":"関東向け⑳"},{"$f":"INDEX(入力フォーム!$N3:$BEQ3,1,MATCH(BJE7,入力フォーム!$N$5:$BEQ$5,0))","v":"関西向け⑳"},{"$f":"INDEX(入力フォーム!$N3:$BEQ3,1,MATCH(BJF7,入力フォーム!$N$5:$BEQ$5,0))","v":"8%⑳"},{"$f":"INDEX(入力フォーム!$N3:$BEQ3,1,MATCH(BJG7,入力フォーム!$N$5:$BEQ$5,0))","v":"10%⑳"},{"$f":"INDEX(入力フォーム!$N3:$BEQ3,1,MATCH(BJH7,入力フォーム!$N$5:$BEQ$5,0))","v":"常温⑳"},{"$f":"INDEX(入力フォーム!$N3:$BEQ3,1,MATCH(BJI7,入力フォーム!$N$5:$BEQ$5,0))","v":"冷蔵⑳"},{"$f":"INDEX(入力フォーム!$N3:$BEQ3,1,MATCH(BJJ7,入力フォーム!$N$5:$BEQ$5,0))","v":"冷凍⑳"},{"$f":"INDEX(入力フォーム!$N3:$BEQ3,1,MATCH(BJK7,入力フォーム!$N$5:$BEQ$5,0))","v":"外食⑳"},{"$f":"INDEX(入力フォーム!$N3:$BEQ3,1,MATCH(BJL7,入力フォーム!$N$5:$BEQ$5,0))","v":"中食⑳"},{"$f":"INDEX(入力フォーム!$N3:$BEQ3,1,MATCH(BJM7,入力フォーム!$N$5:$BEQ$5,0))","v":"商社・卸売⑳"},{"$f":"INDEX(入力フォーム!$N3:$BEQ3,1,MATCH(BJN7,入力フォーム!$N$5:$BEQ$5,0))","v":"メーカー⑳"},{"$f":"INDEX(入力フォーム!$N3:$BEQ3,1,MATCH(BJO7,入力フォーム!$N$5:$BEQ$5,0))","v":"スーパーマーケット⑳"},{"$f":"INDEX(入力フォーム!$N3:$BEQ3,1,MATCH(BJP7,入力フォーム!$N$5:$BEQ$5,0))","v":"百貨店⑳"},{"$f":"INDEX(入力フォーム!$N3:$BEQ3,1,MATCH(BJQ7,入力フォーム!$N$5:$BEQ$5,0))","v":"その他小売⑳"},{"$f":"INDEX(入力フォーム!$N3:$BEQ3,1,MATCH(BJR7,入力フォーム!$N$5:$BEQ$5,0))","v":"ホテル・宴会・レジャー⑳"},{"$f":"INDEX(入力フォーム!$N3:$BEQ3,1,MATCH(BJS7,入力フォーム!$N$5:$BEQ$5,0))","v":"その他・ターゲット⑳"},{"$f":"INDEX(入力フォーム!$N3:$BEQ3,1,MATCH(BJT7,入力フォーム!$N$5:$BEQ$5,0))","v":"その他・ターゲット・⑳"},{"$f":"INDEX(入力フォーム!$N3:$BEQ3,1,MATCH(BJU7,入力フォーム!$N$5:$BEQ$5,0))","v":"業務用対応可能⑳"},{"$f":"INDEX(入力フォーム!$N3:$BEQ3,1,MATCH(BJV7,入力フォーム!$N$5:$BEQ$5,0))","v":"ギフト対応可能⑳"},{"$f":"INDEX(入力フォーム!$N3:$BEQ3,1,MATCH(BJW7,入力フォーム!$N$5:$BEQ$5,0))","v":"ターゲット⑳"},{"$f":"INDEX(入力フォーム!$N3:$BEQ3,1,MATCH(BJX7,入力フォーム!$N$5:$BEQ$5,0))","v":"利用シーン⑳"},{"$f":"INDEX(入力フォーム!$N3:$BEQ3,1,MATCH(BJY7,入力フォーム!$N$5:$BEQ$5,0))","v":"商品特徴⑳"},{"$f":"INDEX(入力フォーム!$N3:$BEQ3,1,MATCH(BJZ7,入力フォーム!$N$5:$BEQ$5,0))","v":"えび⑳"},{"$f":"INDEX(入力フォーム!$N3:$BEQ3,1,MATCH(BKA7,入力フォーム!$N$5:$BEQ$5,0))","v":"かに⑳"},{"$f":"INDEX(入力フォーム!$N3:$BEQ3,1,MATCH(BKB7,入力フォーム!$N$5:$BEQ$5,0))","v":"小麦⑳"},{"$f":"INDEX(入力フォーム!$N3:$BEQ3,1,MATCH(BKC7,入力フォーム!$N$5:$BEQ$5,0))","v":"そば⑳"},{"$f":"INDEX(入力フォーム!$N3:$BEQ3,1,MATCH(BKD7,入力フォーム!$N$5:$BEQ$5,0))","v":"卵⑳"},{"$f":"INDEX(入力フォーム!$N3:$BEQ3,1,MATCH(BKE7,入力フォーム!$N$5:$BEQ$5,0))","v":"乳⑳"},{"$f":"INDEX(入力フォーム!$N3:$BEQ3,1,MATCH(BKF7,入力フォーム!$N$5:$BEQ$5,0))","v":"落花生⑳"},{"$f":"INDEX(入力フォーム!$N3:$BEQ3,1,MATCH(BKG7,入力フォーム!$N$5:$BEQ$5,0))","v":"あわび⑳"},{"$f":"INDEX(入力フォーム!$N3:$BEQ3,1,MATCH(BKH7,入力フォーム!$N$5:$BEQ$5,0))","v":"いか⑳"},{"$f":"INDEX(入力フォーム!$N3:$BEQ3,1,MATCH(BKI7,入力フォーム!$N$5:$BEQ$5,0))","v":"いくら⑳"},{"$f":"INDEX(入力フォーム!$N3:$BEQ3,1,MATCH(BKJ7,入力フォーム!$N$5:$BEQ$5,0))","v":"オレンジ⑳"},{"$f":"INDEX(入力フォーム!$N3:$BEQ3,1,MATCH(BKK7,入力フォーム!$N$5:$BEQ$5,0))","v":"カシューナッツ⑳"},{"$f":"INDEX(入力フォーム!$N3:$BEQ3,1,MATCH(BKL7,入力フォーム!$N$5:$BEQ$5,0))","v":"キウイフルーツ⑳"},{"$f":"INDEX(入力フォーム!$N3:$BEQ3,1,MATCH(BKM7,入力フォーム!$N$5:$BEQ$5,0))","v":"牛肉⑳"},{"$f":"INDEX(入力フォーム!$N3:$BEQ3,1,MATCH(BKN7,入力フォーム!$N$5:$BEQ$5,0))","v":"くるみ⑳"},{"$f":"INDEX(入力フォーム!$N3:$BEQ3,1,MATCH(BKO7,入力フォーム!$N$5:$BEQ$5,0))","v":"ごま⑳"},{"$f":"INDEX(入力フォーム!$N3:$BEQ3,1,MATCH(BKP7,入力フォーム!$N$5:$BEQ$5,0))","v":"さけ⑳"},{"$f":"INDEX(入力フォーム!$N3:$BEQ3,1,MATCH(BKQ7,入力フォーム!$N$5:$BEQ$5,0))","v":"さば⑳"},{"$f":"INDEX(入力フォーム!$N3:$BEQ3,1,MATCH(BKR7,入力フォーム!$N$5:$BEQ$5,0))","v":"大豆⑳"},{"$f":"INDEX(入力フォーム!$N3:$BEQ3,1,MATCH(BKS7,入力フォーム!$N$5:$BEQ$5,0))","v":"鶏肉⑳"},{"$f":"INDEX(入力フォーム!$N3:$BEQ3,1,MATCH(BKT7,入力フォーム!$N$5:$BEQ$5,0))","v":"バナナ⑳"},{"$f":"INDEX(入力フォーム!$N3:$BEQ3,1,MATCH(BKU7,入力フォーム!$N$5:$BEQ$5,0))","v":"豚肉⑳"},{"$f":"INDEX(入力フォーム!$N3:$BEQ3,1,MATCH(BKV7,入力フォーム!$N$5:$BEQ$5,0))","v":"まつたけ⑳"},{"$f":"INDEX(入力フォーム!$N3:$BEQ3,1,MATCH(BKW7,入力フォーム!$N$5:$BEQ$5,0))","v":"もも⑳"},{"$f":"INDEX(入力フォーム!$N3:$BEQ3,1,MATCH(BKX7,入力フォーム!$N$5:$BEQ$5,0))","v":"やまいも⑳"},{"$f":"INDEX(入力フォーム!$N3:$BEQ3,1,MATCH(BKY7,入力フォーム!$N$5:$BEQ$5,0))","v":"りんご⑳"},{"$f":"INDEX(入力フォーム!$N3:$BEQ3,1,MATCH(BKZ7,入力フォーム!$N$5:$BEQ$5,0))","v":"ゼラチン⑳"},{"$f":"INDEX(入力フォーム!$N3:$BEQ3,1,MATCH(BLA7,入力フォーム!$N$5:$BEQ$5,0))","v":"備考⑳"},{"$f":"INDEX(入力フォーム!$N3:$BEQ3,1,MATCH(BLB7,入力フォーム!$N$5:$BEQ$5,0))","v":0},{"$f":"INDEX(入力フォーム!$N3:$BEQ3,1,MATCH(BLC7,入力フォーム!$N$5:$BEQ$5,0))","v":0},{"$f":"INDEX(入力フォーム!$N3:$BEQ3,1,MATCH(BLD7,入力フォーム!$N$5:$BEQ$5,0))","v":0},{"$f":"INDEX(入力フォーム!$N3:$BEQ3,1,MATCH(BLE7,入力フォーム!$N$5:$BEQ$5,0))","v":0},{"$f":"INDEX(入力フォーム!$N3:$BEQ3,1,MATCH(BLF7,入力フォーム!$N$5:$BEQ$5,0))","v":0},{"$f":"INDEX(入力フォーム!$N3:$BEQ3,1,MATCH(BLG7,入力フォーム!$N$5:$BEQ$5,0))","v":0},{"$f":"INDEX(入力フォーム!$N3:$BEQ3,1,MATCH(BLH7,入力フォーム!$N$5:$BEQ$5,0))","v":0},{"$f":"INDEX(入力フォーム!$N3:$BEQ3,1,MATCH(BLI7,入力フォーム!$N$5:$BEQ$5,0))","v":0},{"$f":"INDEX(入力フォーム!$N3:$BEQ3,1,MATCH(BLJ7,入力フォーム!$N$5:$BEQ$5,0))","v":0},{"$f":"INDEX(入力フォーム!$N3:$BEQ3,1,MATCH(BLK7,入力フォーム!$N$5:$BEQ$5,0))","v":0},{"$f":"INDEX(入力フォーム!$N3:$BEQ3,1,MATCH(BLL7,入力フォーム!$N$5:$BEQ$5,0))","v":0}]
[{"$nulls":3},"フリガナ",{"$nulls":9},{"$f":"DB5","v":""},{"$nulls":36},"  会社写真２枚程度\n（生産・製造工程や工場、事務所の外観等）\n　\n　貼付してください",{"$nulls":48},"会社名等(フリガナ)",null,null,{"$f":"IFERROR(INDEX($GJ$6:$BLM$6,1,MATCH(CV5,$GJ$4:$BLM$4,0),1),\"\")","v":""},null,null,{"$f":"IF(CY5=0,\"\",CY5)","v":""},{"$nulls":86},{"$f":"INDEX(入力フォーム!$N4:$BEQ4,1,MATCH(GK7,入力フォーム!$N$5:$BEQ$5,0))","v":"★"},{"$f":"INDEX(入力フォーム!$N4:$BEQ4,1,MATCH(GL7,入力フォーム!$N$5:$BEQ$5,0))","v":"★"},{"$f":"INDEX(入力フォーム!$N4:$BEQ4,1,MATCH(GM7,入力フォーム!$N$5:$BEQ$5,0))","v":"★"},{"$f":"INDEX(入力フォーム!$N4:$BEQ4,1,MATCH(GN7,入力フォーム!$N$5:$BEQ$5,0))","v":"★"},{"$f":"INDEX(入力フォーム!$N4:$BEQ4,1,MATCH(GO7,入力フォーム!$N$5:$BEQ$5,0))","v":"★"},{"$f":"INDEX(入力フォーム!$N4:$BEQ4,1,MATCH(GP7,入力フォーム!$N$5:$BEQ$5,0))","v":"★"},{"$f":"INDEX(入力フォーム!$N4:$BEQ4,1,MATCH(GQ7,入力フォーム!$N$5:$BEQ$5,0))","v":"★"},{"$f":"INDEX(入力フォーム!$N4:$BEQ4,1,MATCH(GR7,入力フォーム!$N$5:$BEQ$5,0))","v":"★"},{"$f":"INDEX(入力フォーム!$N4:$BEQ4,1,MATCH(GS7,入力フォーム!$N$5:$BEQ$5,0))","v":"★"},{"$f":"INDEX(入力フォーム!$N4:$BEQ4,1,MATCH(GT7,入力フォーム!$N$5:$BEQ$5,0))","v":"★"},{"$f":"INDEX(入力フォーム!$N4:$BEQ4,1,MATCH(GU7,入力フォーム!$N$5:$BEQ$5,0))","v":"★"},{"$f":"INDEX(入力フォーム!$N4:$BEQ4,1,MATCH(GV7,入力フォーム!$N$5:$BEQ$5,0))","v":"★"},{"$f":"INDEX(入力フォーム!$N4:$BEQ4,1,MATCH(GW7,入力フォーム!$N$5:$BEQ$5,0))","v":"★"},{"$f":"INDEX(入力フォーム!$N4:$BEQ4,1,MATCH(GX7,入力フォーム!$N$5:$BEQ$5,0))","v":"★"},{"$f":"INDEX(入力フォーム!$N4:$BEQ4,1,MATCH(GY7,入力フォーム!$N$5:$BEQ$5,0))","v":"★"},{"$f":"INDEX(入力フォーム!$N4:$BEQ4,1,MATCH(GZ7,入力フォーム!$N$5:$BEQ$5,0))","v":"★"},{"$f":"INDEX(入力フォーム!$N4:$BEQ4,1,MATCH(HA7,入力フォーム!$N$5:$BEQ$5,0))","v":"★"},{"$f":"INDEX(入力フォーム!$N4:$BEQ4,1,MATCH(HB7,入力フォーム!$N$5:$BEQ$5,0))","v":"★"},{"$f":"INDEX(入力フォーム!$N4:$BEQ4,1,MATCH(HC7,入力フォーム!$N$5:$BEQ$5,0))","v":"★"},{"$f":"INDEX(入力フォーム!$N4:$BEQ4,1,MATCH(HD7,入力フォーム!$N$5:$BEQ$5,0))","v":"★"},{"$f":"INDEX(入力フォーム!$N4:$BEQ4,1,MATCH(HE7,入力フォーム!$N$5:$BEQ$5,0))","v":"★"},{"$f":"INDEX(入力フォーム!$N4:$BEQ4,1,MATCH(HF7,入力フォーム!$N$5:$BEQ$5,0))","v":"★"},{"$f":"INDEX(入力フォーム!$N4:$BEQ4,1,MATCH(HG7,入力フォーム!$N$5:$BEQ$5,0))","v":"★"},{"$f":"INDEX(入力フォーム!$N4:$BEQ4,1,MATCH(HH7,入力フォーム!$N$5:$BEQ$5,0))","v":"★"},{"$f":"INDEX(入力フォーム!$N4:$BEQ4,1,MATCH(HI7,入力フォーム!$N$5:$BEQ$5,0))","v":"★"},{"$f":"INDEX(入力フォーム!$N4:$BEQ4,1,MATCH(HJ7,入力フォーム!$N$5:$BEQ$5,0))","v":"★"},{"$f":"INDEX(入力フォーム!$N4:$BEQ4,1,MATCH(HK7,入力フォーム!$N$5:$BEQ$5,0))","v":"★"},{"$f":"INDEX(入力フォーム!$N4:$BEQ4,1,MATCH(HL7,入力フォーム!$N$5:$BEQ$5,0))","v":"★"},{"$f":"INDEX(入力フォーム!$N4:$BEQ4,1,MATCH(HM7,入力フォーム!$N$5:$BEQ$5,0))","v":"★"},{"$f":"INDEX(入力フォーム!$N4:$BEQ4,1,MATCH(HN7,入力フォーム!$N$5:$BEQ$5,0))","v":"★"},{"$f":"INDEX(入力フォーム!$N4:$BEQ4,1,MATCH(HO7,入力フォーム!$N$5:$BEQ$5,0))","v":"★"},{"$f":"INDEX(入力フォーム!$N4:$BEQ4,1,MATCH(HP7,入力フォーム!$N$5:$BEQ$5,0))","v":"★"},{"$f":"INDEX(入力フォーム!$N4:$BEQ4,1,MATCH(HQ7,入力フォーム!$N$5:$BEQ$5,0))","v":"★"},{"$f":"INDEX(入力フォーム!$N4:$BEQ4,1,MATCH(HR7,入力フォーム!$N$5:$BEQ$5,0))","v":"★"},{"$f":"INDEX(入力フォーム!$N4:$BEQ4,1,MATCH(HS7,入力フォーム!$N$5:$BEQ$5,0))","v":"★"},{"$f":"INDEX(入力フォーム!$N4:$BEQ4,1,MATCH(HT7,入力フォーム!$N$5:$BEQ$5,0))","v":"★"},{"$f":"INDEX(入力フォーム!$N4:$BEQ4,1,MATCH(HU7,入力フォーム!$N$5:$BEQ$5,0))","v":"★"},{"$f":"INDEX(入力フォーム!$N4:$BEQ4,1,MATCH(HV7,入力フォーム!$N$5:$BEQ$5,0))","v":"★"},{"$f":"INDEX(入力フォーム!$N4:$BEQ4,1,MATCH(HW7,入力フォーム!$N$5:$BEQ$5,0))","v":"★"},{"$f":"INDEX(入力フォーム!$N4:$BEQ4,1,MATCH(HX7,入力フォーム!$N$5:$BEQ$5,0))","v":"★"},{"$f":"INDEX(入力フォーム!$N4:$BEQ4,1,MATCH(HY7,入力フォーム!$N$5:$BEQ$5,0))","v":"★"},{"$f":"INDEX(入力フォーム!$N4:$BEQ4,1,MATCH(HZ7,入力フォーム!$N$5:$BEQ$5,0))","v":"★"},{"$f":"INDEX(入力フォーム!$N4:$BEQ4,1,MATCH(IA7,入力フォーム!$N$5:$BEQ$5,0))","v":"★"},{"$f":"INDEX(入力フォーム!$N4:$BEQ4,1,MATCH(IB7,入力フォーム!$N$5:$BEQ$5,0))","v":"★"},{"$f":"INDEX(入力フォーム!$N4:$BEQ4,1,MATCH(IC7,入力フォーム!$N$5:$BEQ$5,0))","v":"★"},{"$f":"INDEX(入力フォーム!$N4:$BEQ4,1,MATCH(ID7,入力フォーム!$N$5:$BEQ$5,0))","v":"★"},{"$f":"INDEX(入力フォーム!$N4:$BEQ4,1,MATCH(IE7,入力フォーム!$N$5:$BEQ$5,0))","v":"★"},{"$f":"INDEX(入力フォーム!$N4:$BEQ4,1,MATCH(IF7,入力フォーム!$N$5:$BEQ$5,0))","v":"★"},{"$f":"INDEX(入力フォーム!$N4:$BEQ4,1,MATCH(IG7,入力フォーム!$N$5:$BEQ$5,0))","v":"★"},{"$f":"INDEX(入力フォーム!$N4:$BEQ4,1,MATCH(IH7,入力フォーム!$N$5:$BEQ$5,0))","v":"★"},{"$f":"INDEX(入力フォーム!$N4:$BEQ4,1,MATCH(II7,入力フォーム!$N$5:$BEQ$5,0))","v":"★"},{"$f":"INDEX(入力フォーム!$N4:$BEQ4,1,MATCH(IJ7,入力フォーム!$N$5:$BEQ$5,0))","v":"★"},{"$f":"INDEX(入力フォーム!$N4:$BEQ4,1,MATCH(IK7,入力フォーム!$N$5:$BEQ$5,0))","v":"★"},{"$f":"INDEX(入力フォーム!$N4:$BEQ4,1,MATCH(IL7,入力フォーム!$N$5:$BEQ$5,0))","v":"★"},{"$f":"INDEX(入力フォーム!$N4:$BEQ4,1,MATCH(IM7,入力フォーム!$N$5:$BEQ$5,0))","v":"★"},{"$f":"INDEX(入力フォーム!$N4:$BEQ4,1,MATCH(IN7,入力フォーム!$N$5:$BEQ$5,0))","v":"★"},{"$f":"INDEX(入力フォーム!$N4:$BEQ4,1,MATCH(IO7,入力フォーム!$N$5:$BEQ$5,0))","v":"★"},{"$f":"INDEX(入力フォーム!$N4:$BEQ4,1,MATCH(IP7,入力フォーム!$N$5:$BEQ$5,0))","v":"★"},{"$f":"INDEX(入力フォーム!$N4:$BEQ4,1,MATCH(IQ7,入力フォーム!$N$5:$BEQ$5,0))","v":"★"},{"$f":"INDEX(入力フォーム!$N4:$BEQ4,1,MATCH(IR7,入力フォーム!$N$5:$BEQ$5,0))","v":"★"},{"$f":"INDEX(入力フォーム!$N4:$BEQ4,1,MATCH(IS7,入力フォーム!$N$5:$BEQ$5,0))","v":"★"},{"$f":"INDEX(入力フォーム!$N4:$BEQ4,1,MATCH(IT7,入力フォーム!$N$5:$BEQ$5,0))","v":"★"},{"$f":"INDEX(入力フォーム!$N4:$BEQ4,1,MATCH(IU7,入力フォーム!$N$5:$BEQ$5,0))","v":"★"},{"$f":"INDEX(入力フォーム!$N4:$BEQ4,1,MATCH(IV7,入力フォーム!$N$5:$BEQ$5,0))","v":"★"},{"$f":"INDEX(入力フォーム!$N4:$BEQ4,1,MATCH(IW7,入力フォーム!$N$5:$BEQ$5,0))","v":"★"},{"$f":"INDEX(入力フォーム!$N4:$BEQ4,1,MATCH(IX7,入力フォーム!$N$5:$BEQ$5,0))","v":"★"},{"$f":"INDEX(入力フォーム!$N4:$BEQ4,1,MATCH(IY7,入力フォーム!$N$5:$BEQ$5,0))","v":"★"},{"$f":"INDEX(入力フォーム!$N4:$BEQ4,1,MATCH(IZ7,入力フォーム!$N$5:$BEQ$5,0))","v":"★"},{"$f":"INDEX(入力フォーム!$N4:$BEQ4,1,MATCH(JA7,入力フォーム!$N$5:$BEQ$5,0))","v":"★"},{"$f":"INDEX(入力フォーム!$N4:$BEQ4,1,MATCH(JB7,入力フォーム!$N$5:$BEQ$5,0))","v":"★"},{"$f":"INDEX(入力フォーム!$N4:$BEQ4,1,MATCH(JC7,入力フォーム!$N$5:$BEQ$5,0))","v":"★"},{"$f":"INDEX(入力フォーム!$N4:$BEQ4,1,MATCH(JD7,入力フォーム!$N$5:$BEQ$5,0))","v":"★"},{"$f":"INDEX(入力フォーム!$N4:$BEQ4,1,MATCH(JE7,入力フォーム!$N$5:$BEQ$5,0))","v":"★"},{"$f":"INDEX(入力フォーム!$N4:$BEQ4,1,MATCH(JF7,入力フォーム!$N$5:$BEQ$5,0))","v":"★"},{"$f":"INDEX(入力フォーム!$N4:$BEQ4,1,MATCH(JG7,入力フォーム!$N$5:$BEQ$5,0))","v":""},{"$f":"INDEX(入力フォーム!$N4:$BEQ4,1,MATCH(JH7,入力フォーム!$N$5:$BEQ$5,0))","v":"★"},{"$f":"INDEX(入力フォーム!$N4:$BEQ4,1,MATCH(JI7,入力フォーム!$N$5:$BEQ$5,0))","v":"★"},{"$f":"INDEX(入力フォーム!$N4:$BEQ4,1,MATCH(JJ7,入力フォーム!$N$5:$BEQ$5,0))","v":"★"},{"$f":"INDEX(入力フォーム!$N4:$BEQ4,1,MATCH(JK7,入力フォーム!$N$5:$BEQ$5,0))","v":"★"},{"$f":"INDEX(入力フォーム!$N4:$BEQ4,1,MATCH(JL7,入力フォーム!$N$5:$BEQ$5,0))","v":"★"},{"$f":"INDEX(入力フォーム!$N4:$BEQ4,1,MATCH(JM7,入力フォーム!$N$5:$BEQ$5,0))","v":"★"},{"$f":"INDEX(入力フォーム!$N4:$BEQ4,1,MATCH(JN7,入力フォーム!$N$5:$BEQ$5,0))","v":"★"},{"$f":"INDEX(入力フォーム!$N4:$BEQ4,1,MATCH(JO7,入力フォーム!$N$5:$BEQ$5,0))","v":"★"},{"$f":"INDEX(入力フォーム!$N4:$BEQ4,1,MATCH(JP7,入力フォーム!$N$5:$BEQ$5,0))","v":"★"},{"$f":"INDEX(入力フォーム!$N4:$BEQ4,1,MATCH(JQ7,入力フォーム!$N$5:$BEQ$5,0))","v":"★"},{"$f":"INDEX(入力フォーム!$N4:$BEQ4,1,MATCH(JR7,入力フォーム!$N$5:$BEQ$5,0))","v":"★"},{"$f":"INDEX(入力フォーム!$N4:$BEQ4,1,MATCH(JS7,入力フォーム!$N$5:$BEQ$5,0))","v":"★"},{"$f":"INDEX(入力フォーム!$N4:$BEQ4,1,MATCH(JT7,入力フォーム!$N$5:$BEQ$5,0))","v":"★"},{"$f":"INDEX(入力フォーム!$N4:$BEQ4,1,MATCH(JU7,入力フォーム!$N$5:$BEQ$5,0))","v":"★"},{"$f":"INDEX(入力フォーム!$N4:$BEQ4,1,MATCH(JV7,入力フォーム!$N$5:$BEQ$5,0))","v":"★"},{"$f":"INDEX(入力フォーム!$N4:$BEQ4,1,MATCH(JW7,入力フォーム!$N$5:$BEQ$5,0))","v":"★"},{"$f":"INDEX(入力フォーム!$N4:$BEQ4,1,MATCH(JX7,入力フォーム!$N$5:$BEQ$5,0))","v":"★"},{"$f":"INDEX(入力フォーム!$N4:$BEQ4,1,MATCH(JY7,入力フォーム!$N$5:$BEQ$5,0))","v":"★"},{"$f":"INDEX(入力フォーム!$N4:$BEQ4,1,MATCH(JZ7,入力フォーム!$N$5:$BEQ$5,0))","v":"★"},{"$f":"INDEX(入力フォーム!$N4:$BEQ4,1,MATCH(KA7,入力フォーム!$N$5:$BEQ$5,0))","v":"★"},{"$f":"INDEX(入力フォーム!$N4:$BEQ4,1,MATCH(KB7,入力フォーム!$N$5:$BEQ$5,0))","v":"★"},{"$f":"INDEX(入力フォーム!$N4:$BEQ4,1,MATCH(KC7,入力フォーム!$N$5:$BEQ$5,0))","v":"★"},{"$f":"INDEX(入力フォーム!$N4:$BEQ4,1,MATCH(KD7,入力フォーム!$N$5:$BEQ$5,0))","v":"★"},{"$f":"INDEX(入力フォーム!$N4:$BEQ4,1,MATCH(KE7,入力フォーム!$N$5:$BEQ$5,0))","v":"★"},{"$f":"INDEX(入力フォーム!$N4:$BEQ4,1,MATCH(KF7,入力フォーム!$N$5:$BEQ$5,0))","v":"★"},{"$f":"INDEX(入力フォーム!$N4:$BEQ4,1,MATCH(KG7,入力フォーム!$N$5:$BEQ$5,0))","v":"★"},{"$f":"INDEX(入力フォーム!$N4:$BEQ4,1,MATCH(KH7,入力フォーム!$N$5:$BEQ$5,0))","v":"★"},{"$f":"INDEX(入力フォーム!$N4:$BEQ4,1,MATCH(KI7,入力フォーム!$N$5:$BEQ$5,0))","v":"★"},{"$f":"INDEX(入力フォーム!$N4:$BEQ4,1,MATCH(KJ7,入力フォーム!$N$5:$BEQ$5,0))","v":"★"},{"$f":"INDEX(入力フォーム!$N4:$BEQ4,1,MATCH(KK7,入力フォーム!$N$5:$BEQ$5,0))","v":"★"},{"$f":"INDEX(入力フォーム!$N4:$BEQ4,1,MATCH(KL7,入力フォーム!$N$5:$BEQ$5,0))","v":"★"},{"$f":"INDEX(入力フォーム!$N4:$BEQ4,1,MATCH(KM7,入力フォーム!$N$5:$BEQ$5,0))","v":"★"},{"$f":"INDEX(入力フォーム!$N4:$BEQ4,1,MATCH(KN7,入力フォーム!$N$5:$BEQ$5,0))","v":"★"},{"$f":"INDEX(入力フォーム!$N4:$BEQ4,1,MATCH(KO7,入力フォーム!$N$5:$BEQ$5,0))","v":"★"},{"$f":"INDEX(入力フォーム!$N4:$BEQ4,1,MATCH(KP7,入力フォーム!$N$5:$BEQ$5,0))","v":"★"},{"$f":"INDEX(入力フォーム!$N4:$BEQ4,1,MATCH(KQ7,入力フォーム!$N$5:$BEQ$5,0))","v":"★"},{"$f":"INDEX(入力フォーム!$N4:$BEQ4,1,MATCH(KR7,入力フォーム!$N$5:$BEQ$5,0))","v":"★"},{"$f":"INDEX(入力フォーム!$N4:$BEQ4,1,MATCH(KS7,入力フォーム!$N$5:$BEQ$5,0))","v":"★"},{"$f":"INDEX(入力フォーム!$N4:$BEQ4,1,MATCH(KT7,入力フォーム!$N$5:$BEQ$5,0))","v":"★"},{"$f":"INDEX(入力フォーム!$N4:$BEQ4,1,MATCH(KU7,入力フォーム!$N$5:$BEQ$5,0))","v":"★"},{"$f":"INDEX(入力フォーム!$N4:$BEQ4,1,MATCH(KV7,入力フォーム!$N$5:$BEQ$5,0))","v":"★"},{"$f":"INDEX(入力フォーム!$N4:$BEQ4,1,MATCH(KW7,入力フォーム!$N$5:$BEQ$5,0))","v":"★"},{"$f":"INDEX(入力フォーム!$N4:$BEQ4,1,MATCH(KX7,入力フォーム!$N$5:$BEQ$5,0))","v":"★"},{"$f":"INDEX(入力フォーム!$N4:$BEQ4,1,MATCH(KY7,入力フォーム!$N$5:$BEQ$5,0))","v":"★"},{"$f":"INDEX(入力フォーム!$N4:$BEQ4,1,MATCH(KZ7,入力フォーム!$N$5:$BEQ$5,0))","v":"★"},{"$f":"INDEX(入力フォーム!$N4:$BEQ4,1,MATCH(LA7,入力フォーム!$N$5:$BEQ$5,0))","v":"★"},{"$f":"INDEX(入力フォーム!$N4:$BEQ4,1,MATCH(LB7,入力フォーム!$N$5:$BEQ$5,0))","v":"★"},{"$f":"INDEX(入力フォーム!$N4:$BEQ4,1,MATCH(LC7,入力フォーム!$N$5:$BEQ$5,0))","v":"★"},{"$f":"INDEX(入力フォーム!$N4:$BEQ4,1,MATCH(LD7,入力フォーム!$N$5:$BEQ$5,0))","v":"★"},{"$f":"INDEX(入力フォーム!$N4:$BEQ4,1,MATCH(LE7,入力フォーム!$N$5:$BEQ$5,0))","v":"★"},{"$f":"INDEX(入力フォーム!$N4:$BEQ4,1,MATCH(LF7,入力フォーム!$N$5:$BEQ$5,0))","v":"★"},{"$f":"INDEX(入力フォーム!$N4:$BEQ4,1,MATCH(LG7,入力フォーム!$N$5:$BEQ$5,0))","v":"★"},{"$f":"INDEX(入力フォーム!$N4:$BEQ4,1,MATCH(LH7,入力フォーム!$N$5:$BEQ$5,0))","v":"★"},{"$f":"INDEX(入力フォーム!$N4:$BEQ4,1,MATCH(LI7,入力フォーム!$N$5:$BEQ$5,0))","v":"★"},{"$f":"INDEX(入力フォーム!$N4:$BEQ4,1,MATCH(LJ7,入力フォーム!$N$5:$BEQ$5,0))","v":"★"},{"$f":"INDEX(入力フォーム!$N4:$BEQ4,1,MATCH(LK7,入力フォーム!$N$5:$BEQ$5,0))","v":"★"},{"$f":"INDEX(入力フォーム!$N4:$BEQ4,1,MATCH(LL7,入力フォーム!$N$5:$BEQ$5,0))","v":"★"},{"$f":"INDEX(入力フォーム!$N4:$BEQ4,1,MATCH(LM7,入力フォーム!$N$5:$BEQ$5,0))","v":"★"},{"$f":"INDEX(入力フォーム!$N4:$BEQ4,1,MATCH(LN7,入力フォーム!$N$5:$BEQ$5,0))","v":"★"},{"$f":"INDEX(入力フォーム!$N4:$BEQ4,1,MATCH(LO7,入力フォーム!$N$5:$BEQ$5,0))","v":"★"},{"$f":"INDEX(入力フォーム!$N4:$BEQ4,1,MATCH(LP7,入力フォーム!$N$5:$BEQ$5,0))","v":"★"},{"$f":"INDEX(入力フォーム!$N4:$BEQ4,1,MATCH(LQ7,入力フォーム!$N$5:$BEQ$5,0))","v":"★"},{"$f":"INDEX(入力フォーム!$N4:$BEQ4,1,MATCH(LR7,入力フォーム!$N$5:$BEQ$5,0))","v":"★"},{"$f":"INDEX(入力フォーム!$N4:$BEQ4,1,MATCH(LS7,入力フォーム!$N$5:$BEQ$5,0))","v":"★"},{"$f":"INDEX(入力フォーム!$N4:$BEQ4,1,MATCH(LT7,入力フォーム!$N$5:$BEQ$5,0))","v":"★"},{"$f":"INDEX(入力フォーム!$N4:$BEQ4,1,MATCH(LU7,入力フォーム!$N$5:$BEQ$5,0))","v":"★"},{"$f":"INDEX(入力フォーム!$N4:$BEQ4,1,MATCH(LV7,入力フォーム!$N$5:$BEQ$5,0))","v":"★"},{"$f":"INDEX(入力フォーム!$N4:$BEQ4,1,MATCH(LW7,入力フォーム!$N$5:$BEQ$5,0))","v":"★"},{"$f":"INDEX(入力フォーム!$N4:$BEQ4,1,MATCH(LX7,入力フォーム!$N$5:$BEQ$5,0))","v":"★"},{"$f":"INDEX(入力フォーム!$N4:$BEQ4,1,MATCH(LY7,入力フォーム!$N$5:$BEQ$5,0))","v":"★"},{"$f":"INDEX(入力フォーム!$N4:$BEQ4,1,MATCH(LZ7,入力フォーム!$N$5:$BEQ$5,0))","v":"★"},{"$f":"INDEX(入力フォーム!$N4:$BEQ4,1,MATCH(MA7,入力フォーム!$N$5:$BEQ$5,0))","v":"★"},{"$f":"INDEX(入力フォーム!$N4:$BEQ4,1,MATCH(MB7,入力フォーム!$N$5:$BEQ$5,0))","v":"★"},{"$f":"INDEX(入力フォーム!$N4:$BEQ4,1,MATCH(MC7,入力フォーム!$N$5:$BEQ$5,0))","v":"★"},{"$f":"INDEX(入力フォーム!$N4:$BEQ4,1,MATCH(MD7,入力フォーム!$N$5:$BEQ$5,0))","v":"★"},{"$f":"INDEX(入力フォーム!$N4:$BEQ4,1,MATCH(ME7,入力フォーム!$N$5:$BEQ$5,0))","v":"★"},{"$f":"INDEX(入力フォーム!$N4:$BEQ4,1,MATCH(MF7,入力フォーム!$N$5:$BEQ$5,0))","v":"★"},{"$f":"INDEX(入力フォーム!$N4:$BEQ4,1,MATCH(MG7,入力フォーム!$N$5:$BEQ$5,0))","v":"★"},{"$f":"INDEX(入力フォーム!$N4:$BEQ4,1,MATCH(MH7,入力フォーム!$N$5:$BEQ$5,0))","v":"★"},{"$f":"INDEX(入力フォーム!$N4:$BEQ4,1,MATCH(MI7,入力フォーム!$N$5:$BEQ$5,0))","v":"★"},{"$f":"INDEX(入力フォーム!$N4:$BEQ4,1,MATCH(MJ7,入力フォーム!$N$5:$BEQ$5,0))","v":"★"},{"$f":"INDEX(入力フォーム!$N4:$BEQ4,1,MATCH(MK7,入力フォーム!$N$5:$BEQ$5,0))","v":"★"},{"$f":"INDEX(入力フォーム!$N4:$BEQ4,1,MATCH(ML7,入力フォーム!$N$5:$BEQ$5,0))","v":"★"},{"$f":"INDEX(入力フォーム!$N4:$BEQ4,1,MATCH(MM7,入力フォーム!$N$5:$BEQ$5,0))","v":"★"},{"$f":"INDEX(入力フォーム!$N4:$BEQ4,1,MATCH(MN7,入力フォーム!$N$5:$BEQ$5,0))","v":"★"},{"$f":"INDEX(入力フォーム!$N4:$BEQ4,1,MATCH(MO7,入力フォーム!$N$5:$BEQ$5,0))","v":"★"},{"$f":"INDEX(入力フォーム!$N4:$BEQ4,1,MATCH(MP7,入力フォーム!$N$5:$BEQ$5,0))","v":"★"},{"$f":"INDEX(入力フォーム!$N4:$BEQ4,1,MATCH(MQ7,入力フォーム!$N$5:$BEQ$5,0))","v":"★"},{"$f":"INDEX(入力フォーム!$N4:$BEQ4,1,MATCH(MR7,入力フォーム!$N$5:$BEQ$5,0))","v":"★"},{"$f":"INDEX(入力フォーム!$N4:$BEQ4,1,MATCH(MS7,入力フォーム!$N$5:$BEQ$5,0))","v":"★"},{"$f":"INDEX(入力フォーム!$N4:$BEQ4,1,MATCH(MT7,入力フォーム!$N$5:$BEQ$5,0))","v":"★"},{"$f":"INDEX(入力フォーム!$N4:$BEQ4,1,MATCH(MU7,入力フォーム!$N$5:$BEQ$5,0))","v":"★"},{"$f":"INDEX(入力フォーム!$N4:$BEQ4,1,MATCH(MV7,入力フォーム!$N$5:$BEQ$5,0))","v":"★"},{"$f":"INDEX(入力フォーム!$N4:$BEQ4,1,MATCH(MW7,入力フォーム!$N$5:$BEQ$5,0))","v":"★"},{"$f":"INDEX(入力フォーム!$N4:$BEQ4,1,MATCH(MX7,入力フォーム!$N$5:$BEQ$5,0))","v":"★"},{"$f":"INDEX(入力フォーム!$N4:$BEQ4,1,MATCH(MY7,入力フォーム!$N$5:$BEQ$5,0))","v":"★"},{"$f":"INDEX(入力フォーム!$N4:$BEQ4,1,MATCH(MZ7,入力フォーム!$N$5:$BEQ$5,0))","v":"★"},{"$f":"INDEX(入力フォーム!$N4:$BEQ4,1,MATCH(NA7,入力フォーム!$N$5:$BEQ$5,0))","v":"★"},{"$f":"INDEX(入力フォーム!$N4:$BEQ4,1,MATCH(NB7,入力フォーム!$N$5:$BEQ$5,0))","v":"★"},{"$f":"INDEX(入力フォーム!$N4:$BEQ4,1,MATCH(NC7,入力フォーム!$N$5:$BEQ$5,0))","v":"★"},{"$f":"INDEX(入力フォーム!$N4:$BEQ4,1,MATCH(ND7,入力フォーム!$N$5:$BEQ$5,0))","v":"★"},{"$f":"INDEX(入力フォーム!$N4:$BEQ4,1,MATCH(NE7,入力フォーム!$N$5:$BEQ$5,0))","v":"★"},{"$f":"INDEX(入力フォーム!$N4:$BEQ4,1,MATCH(NF7,入力フォーム!$N$5:$BEQ$5,0))","v":"★"},{"$f":"INDEX(入力フォーム!$N4:$BEQ4,1,MATCH(NG7,入力フォーム!$N$5:$BEQ$5,0))","v":"★"},{"$f":"INDEX(入力フォーム!$N4:$BEQ4,1,MATCH(NH7,入力フォーム!$N$5:$BEQ$5,0))","v":"★"},{"$f":"INDEX(入力フォーム!$N4:$BEQ4,1,MATCH(NI7,入力フォーム!$N$5:$BEQ$5,0))","v":"★"},{"$f":"INDEX(入力フォーム!$N4:$BEQ4,1,MATCH(NJ7,入力フォーム!$N$5:$BEQ$5,0))","v":"★"},{"$f":"INDEX(入力フォーム!$N4:$BEQ4,1,MATCH(NK7,入力フォーム!$N$5:$BEQ$5,0))","v":"★"},{"$f":"INDEX(入力フォーム!$N4:$BEQ4,1,MATCH(NL7,入力フォーム!$N$5:$BEQ$5,0))","v":"★"},{"$f":"INDEX(入力フォーム!$N4:$BEQ4,1,MATCH(NM7,入力フォーム!$N$5:$BEQ$5,0))","v":"★"},{"$f":"INDEX(入力フォーム!$N4:$BEQ4,1,MATCH(NN7,入力フォーム!$N$5:$BEQ$5,0))","v":"★"},{"$f":"INDEX(入力フォーム!$N4:$BEQ4,1,MATCH(NO7,入力フォーム!$N$5:$BEQ$5,0))","v":"★"},{"$f":"INDEX(入力フォーム!$N4:$BEQ4,1,MATCH(NP7,入力フォーム!$N$5:$BEQ$5,0))","v":"★"},{"$f":"INDEX(入力フォーム!$N4:$BEQ4,1,MATCH(NQ7,入力フォーム!$N$5:$BEQ$5,0))","v":"★"},{"$f":"INDEX(入力フォーム!$N4:$BEQ4,1,MATCH(NR7,入力フォーム!$N$5:$BEQ$5,0))","v":"★"},{"$f":"INDEX(入力フォーム!$N4:$BEQ4,1,MATCH(NS7,入力フォーム!$N$5:$BEQ$5,0))","v":"★"},{"$f":"INDEX(入力フォーム!$N4:$BEQ4,1,MATCH(NT7,入力フォーム!$N$5:$BEQ$5,0))","v":"★"},{"$f":"INDEX(入力フォーム!$N4:$BEQ4,1,MATCH(NU7,入力フォーム!$N$5:$BEQ$5,0))","v":"★"},{"$f":"INDEX(入力フォーム!$N4:$BEQ4,1,MATCH(NV7,入力フォーム!$N$5:$BEQ$5,0))","v":"★"},{"$f":"INDEX(入力フォーム!$N4:$BEQ4,1,MATCH(NW7,入力フォーム!$N$5:$BEQ$5,0))","v":"★"},{"$f":"INDEX(入力フォーム!$N4:$BEQ4,1,MATCH(NX7,入力フォーム!$N$5:$BEQ$5,0))","v":"★"},{"$f":"INDEX(入力フォーム!$N4:$BEQ4,1,MATCH(NY7,入力フォーム!$N$5:$BEQ$5,0))","v":"★"},{"$f":"INDEX(入力フォーム!$N4:$BEQ4,1,MATCH(NZ7,入力フォーム!$N$5:$BEQ$5,0))","v":"★"},{"$f":"INDEX(入力フォーム!$N4:$BEQ4,1,MATCH(OA7,入力フォーム!$N$5:$BEQ$5,0))","v":"★"},{"$f":"INDEX(入力フォーム!$N4:$BEQ4,1,MATCH(OB7,入力フォーム!$N$5:$BEQ$5,0))","v":"★"},{"$f":"INDEX(入力フォーム!$N4:$BEQ4,1,MATCH(OC7,入力フォーム!$N$5:$BEQ$5,0))","v":"★"},{"$f":"INDEX(入力フォーム!$N4:$BEQ4,1,MATCH(OD7,入力フォーム!$N$5:$BEQ$5,0))","v":"★"},{"$f":"INDEX(入力フォーム!$N4:$BEQ4,1,MATCH(OE7,入力フォーム!$N$5:$BEQ$5,0))","v":"★"},{"$f":"INDEX(入力フォーム!$N4:$BEQ4,1,MATCH(OF7,入力フォーム!$N$5:$BEQ$5,0))","v":"★"},{"$f":"INDEX(入力フォーム!$N4:$BEQ4,1,MATCH(OG7,入力フォーム!$N$5:$BEQ$5,0))","v":"★"},{"$f":"INDEX(入力フォーム!$N4:$BEQ4,1,MATCH(OH7,入力フォーム!$N$5:$BEQ$5,0))","v":"★"},{"$f":"INDEX(入力フォーム!$N4:$BEQ4,1,MATCH(OI7,入力フォーム!$N$5:$BEQ$5,0))","v":"★"},{"$f":"INDEX(入力フォーム!$N4:$BEQ4,1,MATCH(OJ7,入力フォーム!$N$5:$BEQ$5,0))","v":"★"},{"$f":"INDEX(入力フォーム!$N4:$BEQ4,1,MATCH(OK7,入力フォーム!$N$5:$BEQ$5,0))","v":"★"},{"$f":"INDEX(入力フォーム!$N4:$BEQ4,1,MATCH(OL7,入力フォーム!$N$5:$BEQ$5,0))","v":"★"},{"$f":"INDEX(入力フォーム!$N4:$BEQ4,1,MATCH(OM7,入力フォーム!$N$5:$BEQ$5,0))","v":"★"},{"$f":"INDEX(入力フォーム!$N4:$BEQ4,1,MATCH(ON7,入力フォーム!$N$5:$BEQ$5,0))","v":"★"},{"$f":"INDEX(入力フォーム!$N4:$BEQ4,1,MATCH(OO7,入力フォーム!$N$5:$BEQ$5,0))","v":"★"},{"$f":"INDEX(入力フォーム!$N4:$BEQ4,1,MATCH(OP7,入力フォーム!$N$5:$BEQ$5,0))","v":"★"},{"$f":"INDEX(入力フォーム!$N4:$BEQ4,1,MATCH(OQ7,入力フォーム!$N$5:$BEQ$5,0))","v":"★"},{"$f":"INDEX(入力フォーム!$N4:$BEQ4,1,MATCH(OR7,入力フォーム!$N$5:$BEQ$5,0))","v":"★"},{"$f":"INDEX(入力フォーム!$N4:$BEQ4,1,MATCH(OS7,入力フォーム!$N$5:$BEQ$5,0))","v":"★"},{"$f":"INDEX(入力フォーム!$N4:$BEQ4,1,MATCH(OT7,入力フォーム!$N$5:$BEQ$5,0))","v":"★"},{"$f":"INDEX(入力フォーム!$N4:$BEQ4,1,MATCH(OU7,入力フォーム!$N$5:$BEQ$5,0))","v":"★"},{"$f":"INDEX(入力フォーム!$N4:$BEQ4,1,MATCH(OV7,入力フォーム!$N$5:$BEQ$5,0))","v":"★"},{"$f":"INDEX(入力フォーム!$N4:$BEQ4,1,MATCH(OW7,入力フォーム!$N$5:$BEQ$5,0))","v":"★"},{"$f":"INDEX(入力フォーム!$N4:$BEQ4,1,MATCH(OX7,入力フォーム!$N$5:$BEQ$5,0))","v":"★"},{"$f":"INDEX(入力フォーム!$N4:$BEQ4,1,MATCH(OY7,入力フォーム!$N$5:$BEQ$5,0))","v":"★"},{"$f":"INDEX(入力フォーム!$N4:$BEQ4,1,MATCH(OZ7,入力フォーム!$N$5:$BEQ$5,0))","v":"★"},{"$f":"INDEX(入力フォーム!$N4:$BEQ4,1,MATCH(PA7,入力フォーム!$N$5:$BEQ$5,0))","v":"★"},{"$f":"INDEX(入力フォーム!$N4:$BEQ4,1,MATCH(PB7,入力フォーム!$N$5:$BEQ$5,0))","v":"★"},{"$f":"INDEX(入力フォーム!$N4:$BEQ4,1,MATCH(PC7,入力フォーム!$N$5:$BEQ$5,0))","v":"★"},{"$f":"INDEX(入力フォーム!$N4:$BEQ4,1,MATCH(PD7,入力フォーム!$N$5:$BEQ$5,0))","v":"★"},{"$f":"INDEX(入力フォーム!$N4:$BEQ4,1,MATCH(PE7,入力フォーム!$N$5:$BEQ$5,0))","v":"★"},{"$f":"INDEX(入力フォーム!$N4:$BEQ4,1,MATCH(PF7,入力フォーム!$N$5:$BEQ$5,0))","v":"★"},{"$f":"INDEX(入力フォーム!$N4:$BEQ4,1,MATCH(PG7,入力フォーム!$N$5:$BEQ$5,0))","v":"★"},{"$f":"INDEX(入力フォーム!$N4:$BEQ4,1,MATCH(PH7,入力フォーム!$N$5:$BEQ$5,0))","v":"★"},{"$f":"INDEX(入力フォーム!$N4:$BEQ4,1,MATCH(PI7,入力フォーム!$N$5:$BEQ$5,0))","v":"★"},{"$f":"INDEX(入力フォーム!$N4:$BEQ4,1,MATCH(PJ7,入力フォーム!$N$5:$BEQ$5,0))","v":"★"},{"$f":"INDEX(入力フォーム!$N4:$BEQ4,1,MATCH(PK7,入力フォーム!$N$5:$BEQ$5,0))","v":"★"},{"$f":"INDEX(入力フォーム!$N4:$BEQ4,1,MATCH(PL7,入力フォーム!$N$5:$BEQ$5,0))","v":"★"},{"$f":"INDEX(入力フォーム!$N4:$BEQ4,1,MATCH(PM7,入力フォーム!$N$5:$BEQ$5,0))","v":"★"},{"$f":"INDEX(入力フォーム!$N4:$BEQ4,1,MATCH(PN7,入力フォーム!$N$5:$BEQ$5,0))","v":"★"},{"$f":"INDEX(入力フォーム!$N4:$BEQ4,1,MATCH(PO7,入力フォーム!$N$5:$BEQ$5,0))","v":"★"},{"$f":"INDEX(入力フォーム!$N4:$BEQ4,1,MATCH(PP7,入力フォーム!$N$5:$BEQ$5,0))","v":"★"},{"$f":"INDEX(入力フォーム!$N4:$BEQ4,1,MATCH(PQ7,入力フォーム!$N$5:$BEQ$5,0))","v":"★"},{"$f":"INDEX(入力フォーム!$N4:$BEQ4,1,MATCH(PR7,入力フォーム!$N$5:$BEQ$5,0))","v":"★"},{"$f":"INDEX(入力フォーム!$N4:$BEQ4,1,MATCH(PS7,入力フォーム!$N$5:$BEQ$5,0))","v":"★"},{"$f":"INDEX(入力フォーム!$N4:$BEQ4,1,MATCH(PT7,入力フォーム!$N$5:$BEQ$5,0))","v":"★"},{"$f":"INDEX(入力フォーム!$N4:$BEQ4,1,MATCH(PU7,入力フォーム!$N$5:$BEQ$5,0))","v":"★"},{"$f":"INDEX(入力フォーム!$N4:$BEQ4,1,MATCH(PV7,入力フォーム!$N$5:$BEQ$5,0))","v":"★"},{"$f":"INDEX(入力フォーム!$N4:$BEQ4,1,MATCH(PW7,入力フォーム!$N$5:$BEQ$5,0))","v":"★"},{"$f":"INDEX(入力フォーム!$N4:$BEQ4,1,MATCH(PX7,入力フォーム!$N$5:$BEQ$5,0))","v":"★"},{"$f":"INDEX(入力フォーム!$N4:$BEQ4,1,MATCH(PY7,入力フォーム!$N$5:$BEQ$5,0))","v":"★"},{"$f":"INDEX(入力フォーム!$N4:$BEQ4,1,MATCH(PZ7,入力フォーム!$N$5:$BEQ$5,0))","v":"★"},{"$f":"INDEX(入力フォーム!$N4:$BEQ4,1,MATCH(QA7,入力フォーム!$N$5:$BEQ$5,0))","v":"★"},{"$f":"INDEX(入力フォーム!$N4:$BEQ4,1,MATCH(QB7,入力フォーム!$N$5:$BEQ$5,0))","v":"★"},{"$f":"INDEX(入力フォーム!$N4:$BEQ4,1,MATCH(QC7,入力フォーム!$N$5:$BEQ$5,0))","v":"★"},{"$f":"INDEX(入力フォーム!$N4:$BEQ4,1,MATCH(QD7,入力フォーム!$N$5:$BEQ$5,0))","v":"★"},{"$f":"INDEX(入力フォーム!$N4:$BEQ4,1,MATCH(QE7,入力フォーム!$N$5:$BEQ$5,0))","v":"★"},{"$f":"INDEX(入力フォーム!$N4:$BEQ4,1,MATCH(QF7,入力フォーム!$N$5:$BEQ$5,0))","v":"★"},{"$f":"INDEX(入力フォーム!$N4:$BEQ4,1,MATCH(QG7,入力フォーム!$N$5:$BEQ$5,0))","v":"★"},{"$f":"INDEX(入力フォーム!$N4:$BEQ4,1,MATCH(QH7,入力フォーム!$N$5:$BEQ$5,0))","v":"★"},{"$f":"INDEX(入力フォーム!$N4:$BEQ4,1,MATCH(QI7,入力フォーム!$N$5:$BEQ$5,0))","v":"★"},{"$f":"INDEX(入力フォーム!$N4:$BEQ4,1,MATCH(QJ7,入力フォーム!$N$5:$BEQ$5,0))","v":"★"},{"$f":"INDEX(入力フォーム!$N4:$BEQ4,1,MATCH(QK7,入力フォーム!$N$5:$BEQ$5,0))","v":"★"},{"$f":"INDEX(入力フォーム!$N4:$BEQ4,1,MATCH(QL7,入力フォーム!$N$5:$BEQ$5,0))","v":"★"},{"$f":"INDEX(入力フォーム!$N4:$BEQ4,1,MATCH(QM7,入力フォーム!$N$5:$BEQ$5,0))","v":"★"},{"$f":"INDEX(入力フォーム!$N4:$BEQ4,1,MATCH(QN7,入力フォーム!$N$5:$BEQ$5,0))","v":"★"},{"$f":"INDEX(入力フォーム!$N4:$BEQ4,1,MATCH(QO7,入力フォーム!$N$5:$BEQ$5,0))","v":"★"},{"$f":"INDEX(入力フォーム!$N4:$BEQ4,1,MATCH(QP7,入力フォーム!$N$5:$BEQ$5,0))","v":"★"},{"$f":"INDEX(入力フォーム!$N4:$BEQ4,1,MATCH(QQ7,入力フォーム!$N$5:$BEQ$5,0))","v":"★"},{"$f":"INDEX(入力フォーム!$N4:$BEQ4,1,MATCH(QR7,入力フォーム!$N$5:$BEQ$5,0))","v":"★"},{"$f":"INDEX(入力フォーム!$N4:$BEQ4,1,MATCH(QS7,入力フォーム!$N$5:$BEQ$5,0))","v":"★"},{"$f":"INDEX(入力フォーム!$N4:$BEQ4,1,MATCH(QT7,入力フォーム!$N$5:$BEQ$5,0))","v":"★"},{"$f":"INDEX(入力フォーム!$N4:$BEQ4,1,MATCH(QU7,入力フォーム!$N$5:$BEQ$5,0))","v":"★"},{"$f":"INDEX(入力フォーム!$N4:$BEQ4,1,MATCH(QV7,入力フォーム!$N$5:$BEQ$5,0))","v":"★"},{"$f":"INDEX(入力フォーム!$N4:$BEQ4,1,MATCH(QW7,入力フォーム!$N$5:$BEQ$5,0))","v":"★"},{"$f":"INDEX(入力フォーム!$N4:$BEQ4,1,MATCH(QX7,入力フォーム!$N$5:$BEQ$5,0))","v":"★"},{"$f":"INDEX(入力フォーム!$N4:$BEQ4,1,MATCH(QY7,入力フォーム!$N$5:$BEQ$5,0))","v":"★"},{"$f":"INDEX(入力フォーム!$N4:$BEQ4,1,MATCH(QZ7,入力フォーム!$N$5:$BEQ$5,0))","v":"★"},{"$f":"INDEX(入力フォーム!$N4:$BEQ4,1,MATCH(RA7,入力フォーム!$N$5:$BEQ$5,0))","v":"★"},{"$f":"INDEX(入力フォーム!$N4:$BEQ4,1,MATCH(RB7,入力フォーム!$N$5:$BEQ$5,0))","v":"★"},{"$f":"INDEX(入力フォーム!$N4:$BEQ4,1,MATCH(RC7,入力フォーム!$N$5:$BEQ$5,0))","v":"★"},{"$f":"INDEX(入力フォーム!$N4:$BEQ4,1,MATCH(RD7,入力フォーム!$N$5:$BEQ$5,0))","v":"★"},{"$f":"INDEX(入力フォーム!$N4:$BEQ4,1,MATCH(RE7,入力フォーム!$N$5:$BEQ$5,0))","v":"★"},{"$f":"INDEX(入力フォーム!$N4:$BEQ4,1,MATCH(RF7,入力フォーム!$N$5:$BEQ$5,0))","v":"★"},{"$f":"INDEX(入力フォーム!$N4:$BEQ4,1,MATCH(RG7,入力フォーム!$N$5:$BEQ$5,0))","v":"★"},{"$f":"INDEX(入力フォーム!$N4:$BEQ4,1,MATCH(RH7,入力フォーム!$N$5:$BEQ$5,0))","v":"★"},{"$f":"INDEX(入力フォーム!$N4:$BEQ4,1,MATCH(RI7,入力フォーム!$N$5:$BEQ$5,0))","v":"★"},{"$f":"INDEX(入力フォーム!$N4:$BEQ4,1,MATCH(RJ7,入力フォーム!$N$5:$BEQ$5,0))","v":"★"},{"$f":"INDEX(入力フォーム!$N4:$BEQ4,1,MATCH(RK7,入力フォーム!$N$5:$BEQ$5,0))","v":"★"},{"$f":"INDEX(入力フォーム!$N4:$BEQ4,1,MATCH(RL7,入力フォーム!$N$5:$BEQ$5,0))","v":"★"},{"$f":"INDEX(入力フォーム!$N4:$BEQ4,1,MATCH(RM7,入力フォーム!$N$5:$BEQ$5,0))","v":"★"},{"$f":"INDEX(入力フォーム!$N4:$BEQ4,1,MATCH(RN7,入力フォーム!$N$5:$BEQ$5,0))","v":"★"},{"$f":"INDEX(入力フォーム!$N4:$BEQ4,1,MATCH(RO7,入力フォーム!$N$5:$BEQ$5,0))","v":"★"},{"$f":"INDEX(入力フォーム!$N4:$BEQ4,1,MATCH(RP7,入力フォーム!$N$5:$BEQ$5,0))","v":"★"},{"$f":"INDEX(入力フォーム!$N4:$BEQ4,1,MATCH(RQ7,入力フォーム!$N$5:$BEQ$5,0))","v":"★"},{"$f":"INDEX(入力フォーム!$N4:$BEQ4,1,MATCH(RR7,入力フォーム!$N$5:$BEQ$5,0))","v":"★"},{"$f":"INDEX(入力フォーム!$N4:$BEQ4,1,MATCH(RS7,入力フォーム!$N$5:$BEQ$5,0))","v":"★"},{"$f":"INDEX(入力フォーム!$N4:$BEQ4,1,MATCH(RT7,入力フォーム!$N$5:$BEQ$5,0))","v":"★"},{"$f":"INDEX(入力フォーム!$N4:$BEQ4,1,MATCH(RU7,入力フォーム!$N$5:$BEQ$5,0))","v":"★"},{"$f":"INDEX(入力フォーム!$N4:$BEQ4,1,MATCH(RV7,入力フォーム!$N$5:$BEQ$5,0))","v":"★"},{"$f":"INDEX(入力フォーム!$N4:$BEQ4,1,MATCH(RW7,入力フォーム!$N$5:$BEQ$5,0))","v":"★"},{"$f":"INDEX(入力フォーム!$N4:$BEQ4,1,MATCH(RX7,入力フォーム!$N$5:$BEQ$5,0))","v":"★"},{"$f":"INDEX(入力フォーム!$N4:$BEQ4,1,MATCH(RY7,入力フォーム!$N$5:$BEQ$5,0))","v":"★"},{"$f":"INDEX(入力フォーム!$N4:$BEQ4,1,MATCH(RZ7,入力フォーム!$N$5:$BEQ$5,0))","v":"★"},{"$f":"INDEX(入力フォーム!$N4:$BEQ4,1,MATCH(SA7,入力フォーム!$N$5:$BEQ$5,0))","v":"★"},{"$f":"INDEX(入力フォーム!$N4:$BEQ4,1,MATCH(SB7,入力フォーム!$N$5:$BEQ$5,0))","v":"★"},{"$f":"INDEX(入力フォーム!$N4:$BEQ4,1,MATCH(SC7,入力フォーム!$N$5:$BEQ$5,0))","v":"★"},{"$f":"INDEX(入力フォーム!$N4:$BEQ4,1,MATCH(SD7,入力フォーム!$N$5:$BEQ$5,0))","v":"★"},{"$f":"INDEX(入力フォーム!$N4:$BEQ4,1,MATCH(SE7,入力フォーム!$N$5:$BEQ$5,0))","v":"★"},{"$f":"INDEX(入力フォーム!$N4:$BEQ4,1,MATCH(SF7,入力フォーム!$N$5:$BEQ$5,0))","v":"★"},{"$f":"INDEX(入力フォーム!$N4:$BEQ4,1,MATCH(SG7,入力フォーム!$N$5:$BEQ$5,0))","v":"★"},{"$f":"INDEX(入力フォーム!$N4:$BEQ4,1,MATCH(SH7,入力フォーム!$N$5:$BEQ$5,0))","v":"★"},{"$f":"INDEX(入力フォーム!$N4:$BEQ4,1,MATCH(SI7,入力フォーム!$N$5:$BEQ$5,0))","v":"★"},{"$f":"INDEX(入力フォーム!$N4:$BEQ4,1,MATCH(SJ7,入力フォーム!$N$5:$BEQ$5,0))","v":"★"},{"$f":"INDEX(入力フォーム!$N4:$BEQ4,1,MATCH(SK7,入力フォーム!$N$5:$BEQ$5,0))","v":"★"},{"$f":"INDEX(入力フォーム!$N4:$BEQ4,1,MATCH(SL7,入力フォーム!$N$5:$BEQ$5,0))","v":"★"},{"$f":"INDEX(入力フォーム!$N4:$BEQ4,1,MATCH(SM7,入力フォーム!$N$5:$BEQ$5,0))","v":"★"},{"$f":"INDEX(入力フォーム!$N4:$BEQ4,1,MATCH(SN7,入力フォーム!$N$5:$BEQ$5,0))","v":"★"},{"$f":"INDEX(入力フォーム!$N4:$BEQ4,1,MATCH(SO7,入力フォーム!$N$5:$BEQ$5,0))","v":"★"},{"$f":"INDEX(入力フォーム!$N4:$BEQ4,1,MATCH(SP7,入力フォーム!$N$5:$BEQ$5,0))","v":"★"},{"$f":"INDEX(入力フォーム!$N4:$BEQ4,1,MATCH(SQ7,入力フォーム!$N$5:$BEQ$5,0))","v":"★"},{"$f":"INDEX(入力フォーム!$N4:$BEQ4,1,MATCH(SR7,入力フォーム!$N$5:$BEQ$5,0))","v":"★"},{"$f":"INDEX(入力フォーム!$N4:$BEQ4,1,MATCH(SS7,入力フォーム!$N$5:$BEQ$5,0))","v":"★"},{"$f":"INDEX(入力フォーム!$N4:$BEQ4,1,MATCH(ST7,入力フォーム!$N$5:$BEQ$5,0))","v":"★"},{"$f":"INDEX(入力フォーム!$N4:$BEQ4,1,MATCH(SU7,入力フォーム!$N$5:$BEQ$5,0))","v":"★"},{"$f":"INDEX(入力フォーム!$N4:$BEQ4,1,MATCH(SV7,入力フォーム!$N$5:$BEQ$5,0))","v":"★"},{"$f":"INDEX(入力フォーム!$N4:$BEQ4,1,MATCH(SW7,入力フォーム!$N$5:$BEQ$5,0))","v":"★"},{"$f":"INDEX(入力フォーム!$N4:$BEQ4,1,MATCH(SX7,入力フォーム!$N$5:$BEQ$5,0))","v":"★"},{"$f":"INDEX(入力フォーム!$N4:$BEQ4,1,MATCH(SY7,入力フォーム!$N$5:$BEQ$5,0))","v":"★"},{"$f":"INDEX(入力フォーム!$N4:$BEQ4,1,MATCH(SZ7,入力フォーム!$N$5:$BEQ$5,0))","v":"★"},{"$f":"INDEX(入力フォーム!$N4:$BEQ4,1,MATCH(TA7,入力フォーム!$N$5:$BEQ$5,0))","v":"★"},{"$f":"INDEX(入力フォーム!$N4:$BEQ4,1,MATCH(TB7,入力フォーム!$N$5:$BEQ$5,0))","v":"★"},{"$f":"INDEX(入力フォーム!$N4:$BEQ4,1,MATCH(TC7,入力フォーム!$N$5:$BEQ$5,0))","v":"★"},{"$f":"INDEX(入力フォーム!$N4:$BEQ4,1,MATCH(TD7,入力フォーム!$N$5:$BEQ$5,0))","v":"★"},{"$f":"INDEX(入力フォーム!$N4:$BEQ4,1,MATCH(TE7,入力フォーム!$N$5:$BEQ$5,0))","v":"★"},{"$f":"INDEX(入力フォーム!$N4:$BEQ4,1,MATCH(TF7,入力フォーム!$N$5:$BEQ$5,0))","v":"★"},{"$f":"INDEX(入力フォーム!$N4:$BEQ4,1,MATCH(TG7,入力フォーム!$N$5:$BEQ$5,0))","v":"★"},{"$f":"INDEX(入力フォーム!$N4:$BEQ4,1,MATCH(TH7,入力フォーム!$N$5:$BEQ$5,0))","v":"★"},{"$f":"INDEX(入力フォーム!$N4:$BEQ4,1,MATCH(TI7,入力フォーム!$N$5:$BEQ$5,0))","v":"★"},{"$f":"INDEX(入力フォーム!$N4:$BEQ4,1,MATCH(TJ7,入力フォーム!$N$5:$BEQ$5,0))","v":"★"},{"$f":"INDEX(入力フォーム!$N4:$BEQ4,1,MATCH(TK7,入力フォーム!$N$5:$BEQ$5,0))","v":"★"},{"$f":"INDEX(入力フォーム!$N4:$BEQ4,1,MATCH(TL7,入力フォーム!$N$5:$BEQ$5,0))","v":"★"},{"$f":"INDEX(入力フォーム!$N4:$BEQ4,1,MATCH(TM7,入力フォーム!$N$5:$BEQ$5,0))","v":"★"},{"$f":"INDEX(入力フォーム!$N4:$BEQ4,1,MATCH(TN7,入力フォーム!$N$5:$BEQ$5,0))","v":"★"},{"$f":"INDEX(入力フォーム!$N4:$BEQ4,1,MATCH(TO7,入力フォーム!$N$5:$BEQ$5,0))","v":"★"},{"$f":"INDEX(入力フォーム!$N4:$BEQ4,1,MATCH(TP7,入力フォーム!$N$5:$BEQ$5,0))","v":"★"},{"$f":"INDEX(入力フォーム!$N4:$BEQ4,1,MATCH(TQ7,入力フォーム!$N$5:$BEQ$5,0))","v":"★"},{"$f":"INDEX(入力フォーム!$N4:$BEQ4,1,MATCH(TR7,入力フォーム!$N$5:$BEQ$5,0))","v":"★"},{"$f":"INDEX(入力フォーム!$N4:$BEQ4,1,MATCH(TS7,入力フォーム!$N$5:$BEQ$5,0))","v":"★"},{"$f":"INDEX(入力フォーム!$N4:$BEQ4,1,MATCH(TT7,入力フォーム!$N$5:$BEQ$5,0))","v":"★"},{"$f":"INDEX(入力フォーム!$N4:$BEQ4,1,MATCH(TU7,入力フォーム!$N$5:$BEQ$5,0))","v":"★"},{"$f":"INDEX(入力フォーム!$N4:$BEQ4,1,MATCH(TV7,入力フォーム!$N$5:$BEQ$5,0))","v":"★"},{"$f":"INDEX(入力フォーム!$N4:$BEQ4,1,MATCH(TW7,入力フォーム!$N$5:$BEQ$5,0))","v":"★"},{"$f":"INDEX(入力フォーム!$N4:$BEQ4,1,MATCH(TX7,入力フォーム!$N$5:$BEQ$5,0))","v":"★"},{"$f":"INDEX(入力フォーム!$N4:$BEQ4,1,MATCH(TY7,入力フォーム!$N$5:$BEQ$5,0))","v":"★"},{"$f":"INDEX(入力フォーム!$N4:$BEQ4,1,MATCH(TZ7,入力フォーム!$N$5:$BEQ$5,0))","v":"★"},{"$f":"INDEX(入力フォーム!$N4:$BEQ4,1,MATCH(UA7,入力フォーム!$N$5:$BEQ$5,0))","v":"★"},{"$f":"INDEX(入力フォーム!$N4:$BEQ4,1,MATCH(UB7,入力フォーム!$N$5:$BEQ$5,0))","v":"★"},{"$f":"INDEX(入力フォーム!$N4:$BEQ4,1,MATCH(UC7,入力フォーム!$N$5:$BEQ$5,0))","v":"★"},{"$f":"INDEX(入力フォーム!$N4:$BEQ4,1,MATCH(UD7,入力フォーム!$N$5:$BEQ$5,0))","v":"★"},{"$f":"INDEX(入力フォーム!$N4:$BEQ4,1,MATCH(UE7,入力フォーム!$N$5:$BEQ$5,0))","v":"★"},{"$f":"INDEX(入力フォーム!$N4:$BEQ4,1,MATCH(UF7,入力フォーム!$N$5:$BEQ$5,0))","v":"★"},{"$f":"INDEX(入力フォーム!$N4:$BEQ4,1,MATCH(UG7,入力フォーム!$N$5:$BEQ$5,0))","v":"★"},{"$f":"INDEX(入力フォーム!$N4:$BEQ4,1,MATCH(UH7,入力フォーム!$N$5:$BEQ$5,0))","v":"★"},{"$f":"INDEX(入力フォーム!$N4:$BEQ4,1,MATCH(UI7,入力フォーム!$N$5:$BEQ$5,0))","v":"★"},{"$f":"INDEX(入力フォーム!$N4:$BEQ4,1,MATCH(UJ7,入力フォーム!$N$5:$BEQ$5,0))","v":"★"},{"$f":"INDEX(入力フォーム!$N4:$BEQ4,1,MATCH(UK7,入力フォーム!$N$5:$BEQ$5,0))","v":"★"},{"$f":"INDEX(入力フォーム!$N4:$BEQ4,1,MATCH(UL7,入力フォーム!$N$5:$BEQ$5,0))","v":"★"},{"$f":"INDEX(入力フォーム!$N4:$BEQ4,1,MATCH(UM7,入力フォーム!$N$5:$BEQ$5,0))","v":"★"},{"$f":"INDEX(入力フォーム!$N4:$BEQ4,1,MATCH(UN7,入力フォーム!$N$5:$BEQ$5,0))","v":"★"},{"$f":"INDEX(入力フォーム!$N4:$BEQ4,1,MATCH(UO7,入力フォーム!$N$5:$BEQ$5,0))","v":"★"},{"$f":"INDEX(入力フォーム!$N4:$BEQ4,1,MATCH(UP7,入力フォーム!$N$5:$BEQ$5,0))","v":"★"},{"$f":"INDEX(入力フォーム!$N4:$BEQ4,1,MATCH(UQ7,入力フォーム!$N$5:$BEQ$5,0))","v":"★"},{"$f":"INDEX(入力フォーム!$N4:$BEQ4,1,MATCH(UR7,入力フォーム!$N$5:$BEQ$5,0))","v":"★"},{"$f":"INDEX(入力フォーム!$N4:$BEQ4,1,MATCH(US7,入力フォーム!$N$5:$BEQ$5,0))","v":"★"},{"$f":"INDEX(入力フォーム!$N4:$BEQ4,1,MATCH(UT7,入力フォーム!$N$5:$BEQ$5,0))","v":"★"},{"$f":"INDEX(入力フォーム!$N4:$BEQ4,1,MATCH(UU7,入力フォーム!$N$5:$BEQ$5,0))","v":"★"},{"$f":"INDEX(入力フォーム!$N4:$BEQ4,1,MATCH(UV7,入力フォーム!$N$5:$BEQ$5,0))","v":"★"},{"$f":"INDEX(入力フォーム!$N4:$BEQ4,1,MATCH(UW7,入力フォーム!$N$5:$BEQ$5,0))","v":"★"},{"$f":"INDEX(入力フォーム!$N4:$BEQ4,1,MATCH(UX7,入力フォーム!$N$5:$BEQ$5,0))","v":"★"},{"$f":"INDEX(入力フォーム!$N4:$BEQ4,1,MATCH(UY7,入力フォーム!$N$5:$BEQ$5,0))","v":"★"},{"$f":"INDEX(入力フォーム!$N4:$BEQ4,1,MATCH(UZ7,入力フォーム!$N$5:$BEQ$5,0))","v":"★"},{"$f":"INDEX(入力フォーム!$N4:$BEQ4,1,MATCH(VA7,入力フォーム!$N$5:$BEQ$5,0))","v":"★"},{"$f":"INDEX(入力フォーム!$N4:$BEQ4,1,MATCH(VB7,入力フォーム!$N$5:$BEQ$5,0))","v":"★"},{"$f":"INDEX(入力フォーム!$N4:$BEQ4,1,MATCH(VC7,入力フォーム!$N$5:$BEQ$5,0))","v":"★"},{"$f":"INDEX(入力フォーム!$N4:$BEQ4,1,MATCH(VD7,入力フォーム!$N$5:$BEQ$5,0))","v":"★"},{"$f":"INDEX(入力フォーム!$N4:$BEQ4,1,MATCH(VE7,入力フォーム!$N$5:$BEQ$5,0))","v":"★"},{"$f":"INDEX(入力フォーム!$N4:$BEQ4,1,MATCH(VF7,入力フォーム!$N$5:$BEQ$5,0))","v":"★"},{"$f":"INDEX(入力フォーム!$N4:$BEQ4,1,MATCH(VG7,入力フォーム!$N$5:$BEQ$5,0))","v":"★"},{"$f":"INDEX(入力フォーム!$N4:$BEQ4,1,MATCH(VH7,入力フォーム!$N$5:$BEQ$5,0))","v":"★"},{"$f":"INDEX(入力フォーム!$N4:$BEQ4,1,MATCH(VI7,入力フォーム!$N$5:$BEQ$5,0))","v":"★"},{"$f":"INDEX(入力フォーム!$N4:$BEQ4,1,MATCH(VJ7,入力フォーム!$N$5:$BEQ$5,0))","v":"★"},{"$f":"INDEX(入力フォーム!$N4:$BEQ4,1,MATCH(VK7,入力フォーム!$N$5:$BEQ$5,0))","v":"★"},{"$f":"INDEX(入力フォーム!$N4:$BEQ4,1,MATCH(VL7,入力フォーム!$N$5:$BEQ$5,0))","v":"★"},{"$f":"INDEX(入力フォーム!$N4:$BEQ4,1,MATCH(VM7,入力フォーム!$N$5:$BEQ$5,0))","v":"★"},{"$f":"INDEX(入力フォーム!$N4:$BEQ4,1,MATCH(VN7,入力フォーム!$N$5:$BEQ$5,0))","v":"★"},{"$f":"INDEX(入力フォーム!$N4:$BEQ4,1,MATCH(VO7,入力フォーム!$N$5:$BEQ$5,0))","v":"★"},{"$f":"INDEX(入力フォーム!$N4:$BEQ4,1,MATCH(VP7,入力フォーム!$N$5:$BEQ$5,0))","v":"★"},{"$f":"INDEX(入力フォーム!$N4:$BEQ4,1,MATCH(VQ7,入力フォーム!$N$5:$BEQ$5,0))","v":"★"},{"$f":"INDEX(入力フォーム!$N4:$BEQ4,1,MATCH(VR7,入力フォーム!$N$5:$BEQ$5,0))","v":"★"},{"$f":"INDEX(入力フォーム!$N4:$BEQ4,1,MATCH(VS7,入力フォーム!$N$5:$BEQ$5,0))","v":"★"},{"$f":"INDEX(入力フォーム!$N4:$BEQ4,1,MATCH(VT7,入力フォーム!$N$5:$BEQ$5,0))","v":"★"},{"$f":"INDEX(入力フォーム!$N4:$BEQ4,1,MATCH(VU7,入力フォーム!$N$5:$BEQ$5,0))","v":"★"},{"$f":"INDEX(入力フォーム!$N4:$BEQ4,1,MATCH(VV7,入力フォーム!$N$5:$BEQ$5,0))","v":"★"},{"$f":"INDEX(入力フォーム!$N4:$BEQ4,1,MATCH(VW7,入力フォーム!$N$5:$BEQ$5,0))","v":"★"},{"$f":"INDEX(入力フォーム!$N4:$BEQ4,1,MATCH(VX7,入力フォーム!$N$5:$BEQ$5,0))","v":"★"},{"$f":"INDEX(入力フォーム!$N4:$BEQ4,1,MATCH(VY7,入力フォーム!$N$5:$BEQ$5,0))","v":"★"},{"$f":"INDEX(入力フォーム!$N4:$BEQ4,1,MATCH(VZ7,入力フォーム!$N$5:$BEQ$5,0))","v":"★"},{"$f":"INDEX(入力フォーム!$N4:$BEQ4,1,MATCH(WA7,入力フォーム!$N$5:$BEQ$5,0))","v":"★"},{"$f":"INDEX(入力フォーム!$N4:$BEQ4,1,MATCH(WB7,入力フォーム!$N$5:$BEQ$5,0))","v":"★"},{"$f":"INDEX(入力フォーム!$N4:$BEQ4,1,MATCH(WC7,入力フォーム!$N$5:$BEQ$5,0))","v":"★"},{"$f":"INDEX(入力フォーム!$N4:$BEQ4,1,MATCH(WD7,入力フォーム!$N$5:$BEQ$5,0))","v":"★"},{"$f":"INDEX(入力フォーム!$N4:$BEQ4,1,MATCH(WE7,入力フォーム!$N$5:$BEQ$5,0))","v":"★"},{"$f":"INDEX(入力フォーム!$N4:$BEQ4,1,MATCH(WF7,入力フォーム!$N$5:$BEQ$5,0))","v":"★"},{"$f":"INDEX(入力フォーム!$N4:$BEQ4,1,MATCH(WG7,入力フォーム!$N$5:$BEQ$5,0))","v":"★"},{"$f":"INDEX(入力フォーム!$N4:$BEQ4,1,MATCH(WH7,入力フォーム!$N$5:$BEQ$5,0))","v":"★"},{"$f":"INDEX(入力フォーム!$N4:$BEQ4,1,MATCH(WI7,入力フォーム!$N$5:$BEQ$5,0))","v":"★"},{"$f":"INDEX(入力フォーム!$N4:$BEQ4,1,MATCH(WJ7,入力フォーム!$N$5:$BEQ$5,0))","v":"★"},{"$f":"INDEX(入力フォーム!$N4:$BEQ4,1,MATCH(WK7,入力フォーム!$N$5:$BEQ$5,0))","v":"★"},{"$f":"INDEX(入力フォーム!$N4:$BEQ4,1,MATCH(WL7,入力フォーム!$N$5:$BEQ$5,0))","v":"★"},{"$f":"INDEX(入力フォーム!$N4:$BEQ4,1,MATCH(WM7,入力フォーム!$N$5:$BEQ$5,0))","v":"★"},{"$f":"INDEX(入力フォーム!$N4:$BEQ4,1,MATCH(WN7,入力フォーム!$N$5:$BEQ$5,0))","v":"★"},{"$f":"INDEX(入力フォーム!$N4:$BEQ4,1,MATCH(WO7,入力フォーム!$N$5:$BEQ$5,0))","v":"★"},{"$f":"INDEX(入力フォーム!$N4:$BEQ4,1,MATCH(WP7,入力フォーム!$N$5:$BEQ$5,0))","v":"★"},{"$f":"INDEX(入力フォーム!$N4:$BEQ4,1,MATCH(WQ7,入力フォーム!$N$5:$BEQ$5,0))","v":"★"},{"$f":"INDEX(入力フォーム!$N4:$BEQ4,1,MATCH(WR7,入力フォーム!$N$5:$BEQ$5,0))","v":"★"},{"$f":"INDEX(入力フォーム!$N4:$BEQ4,1,MATCH(WS7,入力フォーム!$N$5:$BEQ$5,0))","v":"★"},{"$f":"INDEX(入力フォーム!$N4:$BEQ4,1,MATCH(WT7,入力フォーム!$N$5:$BEQ$5,0))","v":"★"},{"$f":"INDEX(入力フォーム!$N4:$BEQ4,1,MATCH(WU7,入力フォーム!$N$5:$BEQ$5,0))","v":"★"},{"$f":"INDEX(入力フォーム!$N4:$BEQ4,1,MATCH(WV7,入力フォーム!$N$5:$BEQ$5,0))","v":"★"},{"$f":"INDEX(入力フォーム!$N4:$BEQ4,1,MATCH(WW7,入力フォーム!$N$5:$BEQ$5,0))","v":"★"},{"$f":"INDEX(入力フォーム!$N4:$BEQ4,1,MATCH(WX7,入力フォーム!$N$5:$BEQ$5,0))","v":"★"},{"$f":"INDEX(入力フォーム!$N4:$BEQ4,1,MATCH(WY7,入力フォーム!$N$5:$BEQ$5,0))","v":"★"},{"$f":"INDEX(入力フォーム!$N4:$BEQ4,1,MATCH(WZ7,入力フォーム!$N$5:$BEQ$5,0))","v":"★"},{"$f":"INDEX(入力フォーム!$N4:$BEQ4,1,MATCH(XA7,入力フォーム!$N$5:$BEQ$5,0))","v":"★"},{"$f":"INDEX(入力フォーム!$N4:$BEQ4,1,MATCH(XB7,入力フォーム!$N$5:$BEQ$5,0))","v":"★"},{"$f":"INDEX(入力フォーム!$N4:$BEQ4,1,MATCH(XC7,入力フォーム!$N$5:$BEQ$5,0))","v":"★"},{"$f":"INDEX(入力フォーム!$N4:$BEQ4,1,MATCH(XD7,入力フォーム!$N$5:$BEQ$5,0))","v":"★"},{"$f":"INDEX(入力フォーム!$N4:$BEQ4,1,MATCH(XE7,入力フォーム!$N$5:$BEQ$5,0))","v":"★"},{"$f":"INDEX(入力フォーム!$N4:$BEQ4,1,MATCH(XF7,入力フォーム!$N$5:$BEQ$5,0))","v":"★"},{"$f":"INDEX(入力フォーム!$N4:$BEQ4,1,MATCH(XG7,入力フォーム!$N$5:$BEQ$5,0))","v":"★"},{"$f":"INDEX(入力フォーム!$N4:$BEQ4,1,MATCH(XH7,入力フォーム!$N$5:$BEQ$5,0))","v":"★"},{"$f":"INDEX(入力フォーム!$N4:$BEQ4,1,MATCH(XI7,入力フォーム!$N$5:$BEQ$5,0))","v":"★"},{"$f":"INDEX(入力フォーム!$N4:$BEQ4,1,MATCH(XJ7,入力フォーム!$N$5:$BEQ$5,0))","v":"★"},{"$f":"INDEX(入力フォーム!$N4:$BEQ4,1,MATCH(XK7,入力フォーム!$N$5:$BEQ$5,0))","v":"★"},{"$f":"INDEX(入力フォーム!$N4:$BEQ4,1,MATCH(XL7,入力フォーム!$N$5:$BEQ$5,0))","v":"★"},{"$f":"INDEX(入力フォーム!$N4:$BEQ4,1,MATCH(XM7,入力フォーム!$N$5:$BEQ$5,0))","v":"★"},{"$f":"INDEX(入力フォーム!$N4:$BEQ4,1,MATCH(XN7,入力フォーム!$N$5:$BEQ$5,0))","v":"★"},{"$f":"INDEX(入力フォーム!$N4:$BEQ4,1,MATCH(XO7,入力フォーム!$N$5:$BEQ$5,0))","v":"★"},{"$f":"INDEX(入力フォーム!$N4:$BEQ4,1,MATCH(XP7,入力フォーム!$N$5:$BEQ$5,0))","v":"★"},{"$f":"INDEX(入力フォーム!$N4:$BEQ4,1,MATCH(XQ7,入力フォーム!$N$5:$BEQ$5,0))","v":"★"},{"$f":"INDEX(入力フォーム!$N4:$BEQ4,1,MATCH(XR7,入力フォーム!$N$5:$BEQ$5,0))","v":"★"},{"$f":"INDEX(入力フォーム!$N4:$BEQ4,1,MATCH(XS7,入力フォーム!$N$5:$BEQ$5,0))","v":"★"},{"$f":"INDEX(入力フォーム!$N4:$BEQ4,1,MATCH(XT7,入力フォーム!$N$5:$BEQ$5,0))","v":"★"},{"$f":"INDEX(入力フォーム!$N4:$BEQ4,1,MATCH(XU7,入力フォーム!$N$5:$BEQ$5,0))","v":"★"},{"$f":"INDEX(入力フォーム!$N4:$BEQ4,1,MATCH(XV7,入力フォーム!$N$5:$BEQ$5,0))","v":"★"},{"$f":"INDEX(入力フォーム!$N4:$BEQ4,1,MATCH(XW7,入力フォーム!$N$5:$BEQ$5,0))","v":"★"},{"$f":"INDEX(入力フォーム!$N4:$BEQ4,1,MATCH(XX7,入力フォーム!$N$5:$BEQ$5,0))","v":"★"},{"$f":"INDEX(入力フォーム!$N4:$BEQ4,1,MATCH(XY7,入力フォーム!$N$5:$BEQ$5,0))","v":"★"},{"$f":"INDEX(入力フォーム!$N4:$BEQ4,1,MATCH(XZ7,入力フォーム!$N$5:$BEQ$5,0))","v":"★"},{"$f":"INDEX(入力フォーム!$N4:$BEQ4,1,MATCH(YA7,入力フォーム!$N$5:$BEQ$5,0))","v":"★"},{"$f":"INDEX(入力フォーム!$N4:$BEQ4,1,MATCH(YB7,入力フォーム!$N$5:$BEQ$5,0))","v":"★"},{"$f":"INDEX(入力フォーム!$N4:$BEQ4,1,MATCH(YC7,入力フォーム!$N$5:$BEQ$5,0))","v":"★"},{"$f":"INDEX(入力フォーム!$N4:$BEQ4,1,MATCH(YD7,入力フォーム!$N$5:$BEQ$5,0))","v":"★"},{"$f":"INDEX(入力フォーム!$N4:$BEQ4,1,MATCH(YE7,入力フォーム!$N$5:$BEQ$5,0))","v":"★"},{"$f":"INDEX(入力フォーム!$N4:$BEQ4,1,MATCH(YF7,入力フォーム!$N$5:$BEQ$5,0))","v":"★"},{"$f":"INDEX(入力フォーム!$N4:$BEQ4,1,MATCH(YG7,入力フォーム!$N$5:$BEQ$5,0))","v":"★"},{"$f":"INDEX(入力フォーム!$N4:$BEQ4,1,MATCH(YH7,入力フォーム!$N$5:$BEQ$5,0))","v":"★"},{"$f":"INDEX(入力フォーム!$N4:$BEQ4,1,MATCH(YI7,入力フォーム!$N$5:$BEQ$5,0))","v":"★"},{"$f":"INDEX(入力フォーム!$N4:$BEQ4,1,MATCH(YJ7,入力フォーム!$N$5:$BEQ$5,0))","v":"★"},{"$f":"INDEX(入力フォーム!$N4:$BEQ4,1,MATCH(YK7,入力フォーム!$N$5:$BEQ$5,0))","v":"★"},{"$f":"INDEX(入力フォーム!$N4:$BEQ4,1,MATCH(YL7,入力フォーム!$N$5:$BEQ$5,0))","v":"★"},{"$f":"INDEX(入力フォーム!$N4:$BEQ4,1,MATCH(YM7,入力フォーム!$N$5:$BEQ$5,0))","v":"★"},{"$f":"INDEX(入力フォーム!$N4:$BEQ4,1,MATCH(YN7,入力フォーム!$N$5:$BEQ$5,0))","v":"★"},{"$f":"INDEX(入力フォーム!$N4:$BEQ4,1,MATCH(YO7,入力フォーム!$N$5:$BEQ$5,0))","v":"★"},{"$f":"INDEX(入力フォーム!$N4:$BEQ4,1,MATCH(YP7,入力フォーム!$N$5:$BEQ$5,0))","v":"★"},{"$f":"INDEX(入力フォーム!$N4:$BEQ4,1,MATCH(YQ7,入力フォーム!$N$5:$BEQ$5,0))","v":"★"},{"$f":"INDEX(入力フォーム!$N4:$BEQ4,1,MATCH(YR7,入力フォーム!$N$5:$BEQ$5,0))","v":"★"},{"$f":"INDEX(入力フォーム!$N4:$BEQ4,1,MATCH(YS7,入力フォーム!$N$5:$BEQ$5,0))","v":"★"},{"$f":"INDEX(入力フォーム!$N4:$BEQ4,1,MATCH(YT7,入力フォーム!$N$5:$BEQ$5,0))","v":"★"},{"$f":"INDEX(入力フォーム!$N4:$BEQ4,1,MATCH(YU7,入力フォーム!$N$5:$BEQ$5,0))","v":"★"},{"$f":"INDEX(入力フォーム!$N4:$BEQ4,1,MATCH(YV7,入力フォーム!$N$5:$BEQ$5,0))","v":"★"},{"$f":"INDEX(入力フォーム!$N4:$BEQ4,1,MATCH(YW7,入力フォーム!$N$5:$BEQ$5,0))","v":"★"},{"$f":"INDEX(入力フォーム!$N4:$BEQ4,1,MATCH(YX7,入力フォーム!$N$5:$BEQ$5,0))","v":"★"},{"$f":"INDEX(入力フォーム!$N4:$BEQ4,1,MATCH(YY7,入力フォーム!$N$5:$BEQ$5,0))","v":"★"},{"$f":"INDEX(入力フォーム!$N4:$BEQ4,1,MATCH(YZ7,入力フォーム!$N$5:$BEQ$5,0))","v":"★"},{"$f":"INDEX(入力フォーム!$N4:$BEQ4,1,MATCH(ZA7,入力フォーム!$N$5:$BEQ$5,0))","v":"★"},{"$f":"INDEX(入力フォーム!$N4:$BEQ4,1,MATCH(ZB7,入力フォーム!$N$5:$BEQ$5,0))","v":"★"},{"$f":"INDEX(入力フォーム!$N4:$BEQ4,1,MATCH(ZC7,入力フォーム!$N$5:$BEQ$5,0))","v":"★"},{"$f":"INDEX(入力フォーム!$N4:$BEQ4,1,MATCH(ZD7,入力フォーム!$N$5:$BEQ$5,0))","v":"★"},{"$f":"INDEX(入力フォーム!$N4:$BEQ4,1,MATCH(ZE7,入力フォーム!$N$5:$BEQ$5,0))","v":"★"},{"$f":"INDEX(入力フォーム!$N4:$BEQ4,1,MATCH(ZF7,入力フォーム!$N$5:$BEQ$5,0))","v":"★"},{"$f":"INDEX(入力フォーム!$N4:$BEQ4,1,MATCH(ZG7,入力フォーム!$N$5:$BEQ$5,0))","v":"★"},{"$f":"INDEX(入力フォーム!$N4:$BEQ4,1,MATCH(ZH7,入力フォーム!$N$5:$BEQ$5,0))","v":"★"},{"$f":"INDEX(入力フォーム!$N4:$BEQ4,1,MATCH(ZI7,入力フォーム!$N$5:$BEQ$5,0))","v":"★"},{"$f":"INDEX(入力フォーム!$N4:$BEQ4,1,MATCH(ZJ7,入力フォーム!$N$5:$BEQ$5,0))","v":"★"},{"$f":"INDEX(入力フォーム!$N4:$BEQ4,1,MATCH(ZK7,入力フォーム!$N$5:$BEQ$5,0))","v":"★"},{"$f":"INDEX(入力フォーム!$N4:$BEQ4,1,MATCH(ZL7,入力フォーム!$N$5:$BEQ$5,0))","v":"★"},{"$f":"INDEX(入力フォーム!$N4:$BEQ4,1,MATCH(ZM7,入力フォーム!$N$5:$BEQ$5,0))","v":"★"},{"$f":"INDEX(入力フォーム!$N4:$BEQ4,1,MATCH(ZN7,入力フォーム!$N$5:$BEQ$5,0))","v":"★"},{"$f":"INDEX(入力フォーム!$N4:$BEQ4,1,MATCH(ZO7,入力フォーム!$N$5:$BEQ$5,0))","v":"★"},{"$f":"INDEX(入力フォーム!$N4:$BEQ4,1,MATCH(ZP7,入力フォーム!$N$5:$BEQ$5,0))","v":"★"},{"$f":"INDEX(入力フォーム!$N4:$BEQ4,1,MATCH(ZQ7,入力フォーム!$N$5:$BEQ$5,0))","v":"★"},{"$f":"INDEX(入力フォーム!$N4:$BEQ4,1,MATCH(ZR7,入力フォーム!$N$5:$BEQ$5,0))","v":"★"},{"$f":"INDEX(入力フォーム!$N4:$BEQ4,1,MATCH(ZS7,入力フォーム!$N$5:$BEQ$5,0))","v":"★"},{"$f":"INDEX(入力フォーム!$N4:$BEQ4,1,MATCH(ZT7,入力フォーム!$N$5:$BEQ$5,0))","v":"★"},{"$f":"INDEX(入力フォーム!$N4:$BEQ4,1,MATCH(ZU7,入力フォーム!$N$5:$BEQ$5,0))","v":"★"},{"$f":"INDEX(入力フォーム!$N4:$BEQ4,1,MATCH(ZV7,入力フォーム!$N$5:$BEQ$5,0))","v":"★"},{"$f":"INDEX(入力フォーム!$N4:$BEQ4,1,MATCH(ZW7,入力フォーム!$N$5:$BEQ$5,0))","v":"★"},{"$f":"INDEX(入力フォーム!$N4:$BEQ4,1,MATCH(ZX7,入力フォーム!$N$5:$BEQ$5,0))","v":"★"},{"$f":"INDEX(入力フォーム!$N4:$BEQ4,1,MATCH(ZY7,入力フォーム!$N$5:$BEQ$5,0))","v":"★"},{"$f":"INDEX(入力フォーム!$N4:$BEQ4,1,MATCH(ZZ7,入力フォーム!$N$5:$BEQ$5,0))","v":"★"},{"$f":"INDEX(入力フォーム!$N4:$BEQ4,1,MATCH(AAA7,入力フォーム!$N$5:$BEQ$5,0))","v":"★"},{"$f":"INDEX(入力フォーム!$N4:$BEQ4,1,MATCH(AAB7,入力フォーム!$N$5:$BEQ$5,0))","v":"★"},{"$f":"INDEX(入力フォーム!$N4:$BEQ4,1,MATCH(AAC7,入力フォーム!$N$5:$BEQ$5,0))","v":"★"},{"$f":"INDEX(入力フォーム!$N4:$BEQ4,1,MATCH(AAD7,入力フォーム!$N$5:$BEQ$5,0))","v":"★"},{"$f":"INDEX(入力フォーム!$N4:$BEQ4,1,MATCH(AAE7,入力フォーム!$N$5:$BEQ$5,0))","v":"★"},{"$f":"INDEX(入力フォーム!$N4:$BEQ4,1,MATCH(AAF7,入力フォーム!$N$5:$BEQ$5,0))","v":"★"},{"$f":"INDEX(入力フォーム!$N4:$BEQ4,1,MATCH(AAG7,入力フォーム!$N$5:$BEQ$5,0))","v":"★"},{"$f":"INDEX(入力フォーム!$N4:$BEQ4,1,MATCH(AAH7,入力フォーム!$N$5:$BEQ$5,0))","v":"★"},{"$f":"INDEX(入力フォーム!$N4:$BEQ4,1,MATCH(AAI7,入力フォーム!$N$5:$BEQ$5,0))","v":"★"},{"$f":"INDEX(入力フォーム!$N4:$BEQ4,1,MATCH(AAJ7,入力フォーム!$N$5:$BEQ$5,0))","v":"★"},{"$f":"INDEX(入力フォーム!$N4:$BEQ4,1,MATCH(AAK7,入力フォーム!$N$5:$BEQ$5,0))","v":"★"},{"$f":"INDEX(入力フォーム!$N4:$BEQ4,1,MATCH(AAL7,入力フォーム!$N$5:$BEQ$5,0))","v":"★"},{"$f":"INDEX(入力フォーム!$N4:$BEQ4,1,MATCH(AAM7,入力フォーム!$N$5:$BEQ$5,0))","v":"★"},{"$f":"INDEX(入力フォーム!$N4:$BEQ4,1,MATCH(AAN7,入力フォーム!$N$5:$BEQ$5,0))","v":"★"},{"$f":"INDEX(入力フォーム!$N4:$BEQ4,1,MATCH(AAO7,入力フォーム!$N$5:$BEQ$5,0))","v":"★"},{"$f":"INDEX(入力フォーム!$N4:$BEQ4,1,MATCH(AAP7,入力フォーム!$N$5:$BEQ$5,0))","v":"★"},{"$f":"INDEX(入力フォーム!$N4:$BEQ4,1,MATCH(AAQ7,入力フォーム!$N$5:$BEQ$5,0))","v":"★"},{"$f":"INDEX(入力フォーム!$N4:$BEQ4,1,MATCH(AAR7,入力フォーム!$N$5:$BEQ$5,0))","v":"★"},{"$f":"INDEX(入力フォーム!$N4:$BEQ4,1,MATCH(AAS7,入力フォーム!$N$5:$BEQ$5,0))","v":"★"},{"$f":"INDEX(入力フォーム!$N4:$BEQ4,1,MATCH(AAT7,入力フォーム!$N$5:$BEQ$5,0))","v":"★"},{"$f":"INDEX(入力フォーム!$N4:$BEQ4,1,MATCH(AAU7,入力フォーム!$N$5:$BEQ$5,0))","v":"★"},{"$f":"INDEX(入力フォーム!$N4:$BEQ4,1,MATCH(AAV7,入力フォーム!$N$5:$BEQ$5,0))","v":"★"},{"$f":"INDEX(入力フォーム!$N4:$BEQ4,1,MATCH(AAW7,入力フォーム!$N$5:$BEQ$5,0))","v":"★"},{"$f":"INDEX(入力フォーム!$N4:$BEQ4,1,MATCH(AAX7,入力フォーム!$N$5:$BEQ$5,0))","v":"★"},{"$f":"INDEX(入力フォーム!$N4:$BEQ4,1,MATCH(AAY7,入力フォーム!$N$5:$BEQ$5,0))","v":"★"},{"$f":"INDEX(入力フォーム!$N4:$BEQ4,1,MATCH(AAZ7,入力フォーム!$N$5:$BEQ$5,0))","v":"★"},{"$f":"INDEX(入力フォーム!$N4:$BEQ4,1,MATCH(ABA7,入力フォーム!$N$5:$BEQ$5,0))","v":"★"},{"$f":"INDEX(入力フォーム!$N4:$BEQ4,1,MATCH(ABB7,入力フォーム!$N$5:$BEQ$5,0))","v":"★"},{"$f":"INDEX(入力フォーム!$N4:$BEQ4,1,MATCH(ABC7,入力フォーム!$N$5:$BEQ$5,0))","v":"★"},{"$f":"INDEX(入力フォーム!$N4:$BEQ4,1,MATCH(ABD7,入力フォーム!$N$5:$BEQ$5,0))","v":"★"},{"$f":"INDEX(入力フォーム!$N4:$BEQ4,1,MATCH(ABE7,入力フォーム!$N$5:$BEQ$5,0))","v":"★"},{"$f":"INDEX(入力フォーム!$N4:$BEQ4,1,MATCH(ABF7,入力フォーム!$N$5:$BEQ$5,0))","v":"★"},{"$f":"INDEX(入力フォーム!$N4:$BEQ4,1,MATCH(ABG7,入力フォーム!$N$5:$BEQ$5,0))","v":"★"},{"$f":"INDEX(入力フォーム!$N4:$BEQ4,1,MATCH(ABH7,入力フォーム!$N$5:$BEQ$5,0))","v":"★"},{"$f":"INDEX(入力フォーム!$N4:$BEQ4,1,MATCH(ABI7,入力フォーム!$N$5:$BEQ$5,0))","v":"★"},{"$f":"INDEX(入力フォーム!$N4:$BEQ4,1,MATCH(ABJ7,入力フォーム!$N$5:$BEQ$5,0))","v":"★"},{"$f":"INDEX(入力フォーム!$N4:$BEQ4,1,MATCH(ABK7,入力フォーム!$N$5:$BEQ$5,0))","v":"★"},{"$f":"INDEX(入力フォーム!$N4:$BEQ4,1,MATCH(ABL7,入力フォーム!$N$5:$BEQ$5,0))","v":"★"},{"$f":"INDEX(入力フォーム!$N4:$BEQ4,1,MATCH(ABM7,入力フォーム!$N$5:$BEQ$5,0))","v":"★"},{"$f":"INDEX(入力フォーム!$N4:$BEQ4,1,MATCH(ABN7,入力フォーム!$N$5:$BEQ$5,0))","v":"★"},{"$f":"INDEX(入力フォーム!$N4:$BEQ4,1,MATCH(ABO7,入力フォーム!$N$5:$BEQ$5,0))","v":"★"},{"$f":"INDEX(入力フォーム!$N4:$BEQ4,1,MATCH(ABP7,入力フォーム!$N$5:$BEQ$5,0))","v":"★"},{"$f":"INDEX(入力フォーム!$N4:$BEQ4,1,MATCH(ABQ7,入力フォーム!$N$5:$BEQ$5,0))","v":"★"},{"$f":"INDEX(入力フォーム!$N4:$BEQ4,1,MATCH(ABR7,入力フォーム!$N$5:$BEQ$5,0))","v":"★"},{"$f":"INDEX(入力フォーム!$N4:$BEQ4,1,MATCH(ABS7,入力フォーム!$N$5:$BEQ$5,0))","v":"★"},{"$f":"INDEX(入力フォーム!$N4:$BEQ4,1,MATCH(ABT7,入力フォーム!$N$5:$BEQ$5,0))","v":"★"},{"$f":"INDEX(入力フォーム!$N4:$BEQ4,1,MATCH(ABU7,入力フォーム!$N$5:$BEQ$5,0))","v":"★"},{"$f":"INDEX(入力フォーム!$N4:$BEQ4,1,MATCH(ABV7,入力フォーム!$N$5:$BEQ$5,0))","v":"★"},{"$f":"INDEX(入力フォーム!$N4:$BEQ4,1,MATCH(ABW7,入力フォーム!$N$5:$BEQ$5,0))","v":"★"},{"$f":"INDEX(入力フォーム!$N4:$BEQ4,1,MATCH(ABX7,入力フォーム!$N$5:$BEQ$5,0))","v":"★"},{"$f":"INDEX(入力フォーム!$N4:$BEQ4,1,MATCH(ABY7,入力フォーム!$N$5:$BEQ$5,0))","v":"★"},{"$f":"INDEX(入力フォーム!$N4:$BEQ4,1,MATCH(ABZ7,入力フォーム!$N$5:$BEQ$5,0))","v":"★"},{"$f":"INDEX(入力フォーム!$N4:$BEQ4,1,MATCH(ACA7,入力フォーム!$N$5:$BEQ$5,0))","v":"★"},{"$f":"INDEX(入力フォーム!$N4:$BEQ4,1,MATCH(ACB7,入力フォーム!$N$5:$BEQ$5,0))","v":"★"},{"$f":"INDEX(入力フォーム!$N4:$BEQ4,1,MATCH(ACC7,入力フォーム!$N$5:$BEQ$5,0))","v":"★"},{"$f":"INDEX(入力フォーム!$N4:$BEQ4,1,MATCH(ACD7,入力フォーム!$N$5:$BEQ$5,0))","v":"★"},{"$f":"INDEX(入力フォーム!$N4:$BEQ4,1,MATCH(ACE7,入力フォーム!$N$5:$BEQ$5,0))","v":"★"},{"$f":"INDEX(入力フォーム!$N4:$BEQ4,1,MATCH(ACF7,入力フォーム!$N$5:$BEQ$5,0))","v":"★"},{"$f":"INDEX(入力フォーム!$N4:$BEQ4,1,MATCH(ACG7,入力フォーム!$N$5:$BEQ$5,0))","v":"★"},{"$f":"INDEX(入力フォーム!$N4:$BEQ4,1,MATCH(ACH7,入力フォーム!$N$5:$BEQ$5,0))","v":"★"},{"$f":"INDEX(入力フォーム!$N4:$BEQ4,1,MATCH(ACI7,入力フォーム!$N$5:$BEQ$5,0))","v":"★"},{"$f":"INDEX(入力フォーム!$N4:$BEQ4,1,MATCH(ACJ7,入力フォーム!$N$5:$BEQ$5,0))","v":"★"},{"$f":"INDEX(入力フォーム!$N4:$BEQ4,1,MATCH(ACK7,入力フォーム!$N$5:$BEQ$5,0))","v":"★"},{"$f":"INDEX(入力フォーム!$N4:$BEQ4,1,MATCH(ACL7,入力フォーム!$N$5:$BEQ$5,0))","v":"★"},{"$f":"INDEX(入力フォーム!$N4:$BEQ4,1,MATCH(ACM7,入力フォーム!$N$5:$BEQ$5,0))","v":"★"},{"$f":"INDEX(入力フォーム!$N4:$BEQ4,1,MATCH(ACN7,入力フォーム!$N$5:$BEQ$5,0))","v":"★"},{"$f":"INDEX(入力フォーム!$N4:$BEQ4,1,MATCH(ACO7,入力フォーム!$N$5:$BEQ$5,0))","v":"★"},{"$f":"INDEX(入力フォーム!$N4:$BEQ4,1,MATCH(ACP7,入力フォーム!$N$5:$BEQ$5,0))","v":"★"},{"$f":"INDEX(入力フォーム!$N4:$BEQ4,1,MATCH(ACQ7,入力フォーム!$N$5:$BEQ$5,0))","v":"★"},{"$f":"INDEX(入力フォーム!$N4:$BEQ4,1,MATCH(ACR7,入力フォーム!$N$5:$BEQ$5,0))","v":"★"},{"$f":"INDEX(入力フォーム!$N4:$BEQ4,1,MATCH(ACS7,入力フォーム!$N$5:$BEQ$5,0))","v":"★"},{"$f":"INDEX(入力フォーム!$N4:$BEQ4,1,MATCH(ACT7,入力フォーム!$N$5:$BEQ$5,0))","v":"★"},{"$f":"INDEX(入力フォーム!$N4:$BEQ4,1,MATCH(ACU7,入力フォーム!$N$5:$BEQ$5,0))","v":"★"},{"$f":"INDEX(入力フォーム!$N4:$BEQ4,1,MATCH(ACV7,入力フォーム!$N$5:$BEQ$5,0))","v":"★"},{"$f":"INDEX(入力フォーム!$N4:$BEQ4,1,MATCH(ACW7,入力フォーム!$N$5:$BEQ$5,0))","v":"★"},{"$f":"INDEX(入力フォーム!$N4:$BEQ4,1,MATCH(ACX7,入力フォーム!$N$5:$BEQ$5,0))","v":"★"},{"$f":"INDEX(入力フォーム!$N4:$BEQ4,1,MATCH(ACY7,入力フォーム!$N$5:$BEQ$5,0))","v":"★"},{"$f":"INDEX(入力フォーム!$N4:$BEQ4,1,MATCH(ACZ7,入力フォーム!$N$5:$BEQ$5,0))","v":"★"},{"$f":"INDEX(入力フォーム!$N4:$BEQ4,1,MATCH(ADA7,入力フォーム!$N$5:$BEQ$5,0))","v":"★"},{"$f":"INDEX(入力フォーム!$N4:$BEQ4,1,MATCH(ADB7,入力フォーム!$N$5:$BEQ$5,0))","v":"★"},{"$f":"INDEX(入力フォーム!$N4:$BEQ4,1,MATCH(ADC7,入力フォーム!$N$5:$BEQ$5,0))","v":"★"},{"$f":"INDEX(入力フォーム!$N4:$BEQ4,1,MATCH(ADD7,入力フォーム!$N$5:$BEQ$5,0))","v":"★"},{"$f":"INDEX(入力フォーム!$N4:$BEQ4,1,MATCH(ADE7,入力フォーム!$N$5:$BEQ$5,0))","v":"★"},{"$f":"INDEX(入力フォーム!$N4:$BEQ4,1,MATCH(ADF7,入力フォーム!$N$5:$BEQ$5,0))","v":"★"},{"$f":"INDEX(入力フォーム!$N4:$BEQ4,1,MATCH(ADG7,入力フォーム!$N$5:$BEQ$5,0))","v":"★"},{"$f":"INDEX(入力フォーム!$N4:$BEQ4,1,MATCH(ADH7,入力フォーム!$N$5:$BEQ$5,0))","v":"★"},{"$f":"INDEX(入力フォーム!$N4:$BEQ4,1,MATCH(ADI7,入力フォーム!$N$5:$BEQ$5,0))","v":"★"},{"$f":"INDEX(入力フォーム!$N4:$BEQ4,1,MATCH(ADJ7,入力フォーム!$N$5:$BEQ$5,0))","v":"★"},{"$f":"INDEX(入力フォーム!$N4:$BEQ4,1,MATCH(ADK7,入力フォーム!$N$5:$BEQ$5,0))","v":"★"},{"$f":"INDEX(入力フォーム!$N4:$BEQ4,1,MATCH(ADL7,入力フォーム!$N$5:$BEQ$5,0))","v":"★"},{"$f":"INDEX(入力フォーム!$N4:$BEQ4,1,MATCH(ADM7,入力フォーム!$N$5:$BEQ$5,0))","v":"★"},{"$f":"INDEX(入力フォーム!$N4:$BEQ4,1,MATCH(ADN7,入力フォーム!$N$5:$BEQ$5,0))","v":"★"},{"$f":"INDEX(入力フォーム!$N4:$BEQ4,1,MATCH(ADO7,入力フォーム!$N$5:$BEQ$5,0))","v":"★"},{"$f":"INDEX(入力フォーム!$N4:$BEQ4,1,MATCH(ADP7,入力フォーム!$N$5:$BEQ$5,0))","v":"★"},{"$f":"INDEX(入力フォーム!$N4:$BEQ4,1,MATCH(ADQ7,入力フォーム!$N$5:$BEQ$5,0))","v":"★"},{"$f":"INDEX(入力フォーム!$N4:$BEQ4,1,MATCH(ADR7,入力フォーム!$N$5:$BEQ$5,0))","v":"★"},{"$f":"INDEX(入力フォーム!$N4:$BEQ4,1,MATCH(ADS7,入力フォーム!$N$5:$BEQ$5,0))","v":"★"},{"$f":"INDEX(入力フォーム!$N4:$BEQ4,1,MATCH(ADT7,入力フォーム!$N$5:$BEQ$5,0))","v":"★"},{"$f":"INDEX(入力フォーム!$N4:$BEQ4,1,MATCH(ADU7,入力フォーム!$N$5:$BEQ$5,0))","v":"★"},{"$f":"INDEX(入力フォーム!$N4:$BEQ4,1,MATCH(ADV7,入力フォーム!$N$5:$BEQ$5,0))","v":"★"},{"$f":"INDEX(入力フォーム!$N4:$BEQ4,1,MATCH(ADW7,入力フォーム!$N$5:$BEQ$5,0))","v":"★"},{"$f":"INDEX(入力フォーム!$N4:$BEQ4,1,MATCH(ADX7,入力フォーム!$N$5:$BEQ$5,0))","v":"★"},{"$f":"INDEX(入力フォーム!$N4:$BEQ4,1,MATCH(ADY7,入力フォーム!$N$5:$BEQ$5,0))","v":"★"},{"$f":"INDEX(入力フォーム!$N4:$BEQ4,1,MATCH(ADZ7,入力フォーム!$N$5:$BEQ$5,0))","v":"★"},{"$f":"INDEX(入力フォーム!$N4:$BEQ4,1,MATCH(AEA7,入力フォーム!$N$5:$BEQ$5,0))","v":"★"},{"$f":"INDEX(入力フォーム!$N4:$BEQ4,1,MATCH(AEB7,入力フォーム!$N$5:$BEQ$5,0))","v":"★"},{"$f":"INDEX(入力フォーム!$N4:$BEQ4,1,MATCH(AEC7,入力フォーム!$N$5:$BEQ$5,0))","v":"★"},{"$f":"INDEX(入力フォーム!$N4:$BEQ4,1,MATCH(AED7,入力フォーム!$N$5:$BEQ$5,0))","v":"★"},{"$f":"INDEX(入力フォーム!$N4:$BEQ4,1,MATCH(AEE7,入力フォーム!$N$5:$BEQ$5,0))","v":"★"},{"$f":"INDEX(入力フォーム!$N4:$BEQ4,1,MATCH(AEF7,入力フォーム!$N$5:$BEQ$5,0))","v":"★"},{"$f":"INDEX(入力フォーム!$N4:$BEQ4,1,MATCH(AEG7,入力フォーム!$N$5:$BEQ$5,0))","v":"★"},{"$f":"INDEX(入力フォーム!$N4:$BEQ4,1,MATCH(AEH7,入力フォーム!$N$5:$BEQ$5,0))","v":"★"},{"$f":"INDEX(入力フォーム!$N4:$BEQ4,1,MATCH(AEI7,入力フォーム!$N$5:$BEQ$5,0))","v":"★"},{"$f":"INDEX(入力フォーム!$N4:$BEQ4,1,MATCH(AEJ7,入力フォーム!$N$5:$BEQ$5,0))","v":"★"},{"$f":"INDEX(入力フォーム!$N4:$BEQ4,1,MATCH(AEK7,入力フォーム!$N$5:$BEQ$5,0))","v":"★"},{"$f":"INDEX(入力フォーム!$N4:$BEQ4,1,MATCH(AEL7,入力フォーム!$N$5:$BEQ$5,0))","v":"★"},{"$f":"INDEX(入力フォーム!$N4:$BEQ4,1,MATCH(AEM7,入力フォーム!$N$5:$BEQ$5,0))","v":"★"},{"$f":"INDEX(入力フォーム!$N4:$BEQ4,1,MATCH(AEN7,入力フォーム!$N$5:$BEQ$5,0))","v":"★"},{"$f":"INDEX(入力フォーム!$N4:$BEQ4,1,MATCH(AEO7,入力フォーム!$N$5:$BEQ$5,0))","v":"★"},{"$f":"INDEX(入力フォーム!$N4:$BEQ4,1,MATCH(AEP7,入力フォーム!$N$5:$BEQ$5,0))","v":"★"},{"$f":"INDEX(入力フォーム!$N4:$BEQ4,1,MATCH(AEQ7,入力フォーム!$N$5:$BEQ$5,0))","v":"★"},{"$f":"INDEX(入力フォーム!$N4:$BEQ4,1,MATCH(AER7,入力フォーム!$N$5:$BEQ$5,0))","v":"★"},{"$f":"INDEX(入力フォーム!$N4:$BEQ4,1,MATCH(AES7,入力フォーム!$N$5:$BEQ$5,0))","v":"★"},{"$f":"INDEX(入力フォーム!$N4:$BEQ4,1,MATCH(AET7,入力フォーム!$N$5:$BEQ$5,0))","v":"★"},{"$f":"INDEX(入力フォーム!$N4:$BEQ4,1,MATCH(AEU7,入力フォーム!$N$5:$BEQ$5,0))","v":"★"},{"$f":"INDEX(入力フォーム!$N4:$BEQ4,1,MATCH(AEV7,入力フォーム!$N$5:$BEQ$5,0))","v":"★"},{"$f":"INDEX(入力フォーム!$N4:$BEQ4,1,MATCH(AEW7,入力フォーム!$N$5:$BEQ$5,0))","v":"★"},{"$f":"INDEX(入力フォーム!$N4:$BEQ4,1,MATCH(AEX7,入力フォーム!$N$5:$BEQ$5,0))","v":"★"},{"$f":"INDEX(入力フォーム!$N4:$BEQ4,1,MATCH(AEY7,入力フォーム!$N$5:$BEQ$5,0))","v":"★"},{"$f":"INDEX(入力フォーム!$N4:$BEQ4,1,MATCH(AEZ7,入力フォーム!$N$5:$BEQ$5,0))","v":"★"},{"$f":"INDEX(入力フォーム!$N4:$BEQ4,1,MATCH(AFA7,入力フォーム!$N$5:$BEQ$5,0))","v":"★"},{"$f":"INDEX(入力フォーム!$N4:$BEQ4,1,MATCH(AFB7,入力フォーム!$N$5:$BEQ$5,0))","v":"★"},{"$f":"INDEX(入力フォーム!$N4:$BEQ4,1,MATCH(AFC7,入力フォーム!$N$5:$BEQ$5,0))","v":"★"},{"$f":"INDEX(入力フォーム!$N4:$BEQ4,1,MATCH(AFD7,入力フォーム!$N$5:$BEQ$5,0))","v":"★"},{"$f":"INDEX(入力フォーム!$N4:$BEQ4,1,MATCH(AFE7,入力フォーム!$N$5:$BEQ$5,0))","v":"★"},{"$f":"INDEX(入力フォーム!$N4:$BEQ4,1,MATCH(AFF7,入力フォーム!$N$5:$BEQ$5,0))","v":"★"},{"$f":"INDEX(入力フォーム!$N4:$BEQ4,1,MATCH(AFG7,入力フォーム!$N$5:$BEQ$5,0))","v":"★"},{"$f":"INDEX(入力フォーム!$N4:$BEQ4,1,MATCH(AFH7,入力フォーム!$N$5:$BEQ$5,0))","v":"★"},{"$f":"INDEX(入力フォーム!$N4:$BEQ4,1,MATCH(AFI7,入力フォーム!$N$5:$BEQ$5,0))","v":"★"},{"$f":"INDEX(入力フォーム!$N4:$BEQ4,1,MATCH(AFJ7,入力フォーム!$N$5:$BEQ$5,0))","v":"★"},{"$f":"INDEX(入力フォーム!$N4:$BEQ4,1,MATCH(AFK7,入力フォーム!$N$5:$BEQ$5,0))","v":"★"},{"$f":"INDEX(入力フォーム!$N4:$BEQ4,1,MATCH(AFL7,入力フォーム!$N$5:$BEQ$5,0))","v":"★"},{"$f":"INDEX(入力フォーム!$N4:$BEQ4,1,MATCH(AFM7,入力フォーム!$N$5:$BEQ$5,0))","v":"★"},{"$f":"INDEX(入力フォーム!$N4:$BEQ4,1,MATCH(AFN7,入力フォーム!$N$5:$BEQ$5,0))","v":"★"},{"$f":"INDEX(入力フォーム!$N4:$BEQ4,1,MATCH(AFO7,入力フォーム!$N$5:$BEQ$5,0))","v":"★"},{"$f":"INDEX(入力フォーム!$N4:$BEQ4,1,MATCH(AFP7,入力フォーム!$N$5:$BEQ$5,0))","v":"★"},{"$f":"INDEX(入力フォーム!$N4:$BEQ4,1,MATCH(AFQ7,入力フォーム!$N$5:$BEQ$5,0))","v":"★"},{"$f":"INDEX(入力フォーム!$N4:$BEQ4,1,MATCH(AFR7,入力フォーム!$N$5:$BEQ$5,0))","v":"★"},{"$f":"INDEX(入力フォーム!$N4:$BEQ4,1,MATCH(AFS7,入力フォーム!$N$5:$BEQ$5,0))","v":"★"},{"$f":"INDEX(入力フォーム!$N4:$BEQ4,1,MATCH(AFT7,入力フォーム!$N$5:$BEQ$5,0))","v":"★"},{"$f":"INDEX(入力フォーム!$N4:$BEQ4,1,MATCH(AFU7,入力フォーム!$N$5:$BEQ$5,0))","v":"★"},{"$f":"INDEX(入力フォーム!$N4:$BEQ4,1,MATCH(AFV7,入力フォーム!$N$5:$BEQ$5,0))","v":"★"},{"$f":"INDEX(入力フォーム!$N4:$BEQ4,1,MATCH(AFW7,入力フォーム!$N$5:$BEQ$5,0))","v":"★"},{"$f":"INDEX(入力フォーム!$N4:$BEQ4,1,MATCH(AFX7,入力フォーム!$N$5:$BEQ$5,0))","v":"★"},{"$f":"INDEX(入力フォーム!$N4:$BEQ4,1,MATCH(AFY7,入力フォーム!$N$5:$BEQ$5,0))","v":"★"},{"$f":"INDEX(入力フォーム!$N4:$BEQ4,1,MATCH(AFZ7,入力フォーム!$N$5:$BEQ$5,0))","v":"★"},{"$f":"INDEX(入力フォーム!$N4:$BEQ4,1,MATCH(AGA7,入力フォーム!$N$5:$BEQ$5,0))","v":"★"},{"$f":"INDEX(入力フォーム!$N4:$BEQ4,1,MATCH(AGB7,入力フォーム!$N$5:$BEQ$5,0))","v":"★"},{"$f":"INDEX(入力フォーム!$N4:$BEQ4,1,MATCH(AGC7,入力フォーム!$N$5:$BEQ$5,0))","v":"★"},{"$f":"INDEX(入力フォーム!$N4:$BEQ4,1,MATCH(AGD7,入力フォーム!$N$5:$BEQ$5,0))","v":"★"},{"$f":"INDEX(入力フォーム!$N4:$BEQ4,1,MATCH(AGE7,入力フォーム!$N$5:$BEQ$5,0))","v":"★"},{"$f":"INDEX(入力フォーム!$N4:$BEQ4,1,MATCH(AGF7,入力フォーム!$N$5:$BEQ$5,0))","v":"★"},{"$f":"INDEX(入力フォーム!$N4:$BEQ4,1,MATCH(AGG7,入力フォーム!$N$5:$BEQ$5,0))","v":"★"},{"$f":"INDEX(入力フォーム!$N4:$BEQ4,1,MATCH(AGH7,入力フォーム!$N$5:$BEQ$5,0))","v":"★"},{"$f":"INDEX(入力フォーム!$N4:$BEQ4,1,MATCH(AGI7,入力フォーム!$N$5:$BEQ$5,0))","v":"★"},{"$f":"INDEX(入力フォーム!$N4:$BEQ4,1,MATCH(AGJ7,入力フォーム!$N$5:$BEQ$5,0))","v":"★"},{"$f":"INDEX(入力フォーム!$N4:$BEQ4,1,MATCH(AGK7,入力フォーム!$N$5:$BEQ$5,0))","v":"★"},{"$f":"INDEX(入力フォーム!$N4:$BEQ4,1,MATCH(AGL7,入力フォーム!$N$5:$BEQ$5,0))","v":"★"},{"$f":"INDEX(入力フォーム!$N4:$BEQ4,1,MATCH(AGM7,入力フォーム!$N$5:$BEQ$5,0))","v":"★"},{"$f":"INDEX(入力フォーム!$N4:$BEQ4,1,MATCH(AGN7,入力フォーム!$N$5:$BEQ$5,0))","v":"★"},{"$f":"INDEX(入力フォーム!$N4:$BEQ4,1,MATCH(AGO7,入力フォーム!$N$5:$BEQ$5,0))","v":"★"},{"$f":"INDEX(入力フォーム!$N4:$BEQ4,1,MATCH(AGP7,入力フォーム!$N$5:$BEQ$5,0))","v":"★"},{"$f":"INDEX(入力フォーム!$N4:$BEQ4,1,MATCH(AGQ7,入力フォーム!$N$5:$BEQ$5,0))","v":"★"},{"$f":"INDEX(入力フォーム!$N4:$BEQ4,1,MATCH(AGR7,入力フォーム!$N$5:$BEQ$5,0))","v":"★"},{"$f":"INDEX(入力フォーム!$N4:$BEQ4,1,MATCH(AGS7,入力フォーム!$N$5:$BEQ$5,0))","v":"★"},{"$f":"INDEX(入力フォーム!$N4:$BEQ4,1,MATCH(AGT7,入力フォーム!$N$5:$BEQ$5,0))","v":"★"},{"$f":"INDEX(入力フォーム!$N4:$BEQ4,1,MATCH(AGU7,入力フォーム!$N$5:$BEQ$5,0))","v":"★"},{"$f":"INDEX(入力フォーム!$N4:$BEQ4,1,MATCH(AGV7,入力フォーム!$N$5:$BEQ$5,0))","v":"★"},{"$f":"INDEX(入力フォーム!$N4:$BEQ4,1,MATCH(AGW7,入力フォーム!$N$5:$BEQ$5,0))","v":"★"},{"$f":"INDEX(入力フォーム!$N4:$BEQ4,1,MATCH(AGX7,入力フォーム!$N$5:$BEQ$5,0))","v":"★"},{"$f":"INDEX(入力フォーム!$N4:$BEQ4,1,MATCH(AGY7,入力フォーム!$N$5:$BEQ$5,0))","v":"★"},{"$f":"INDEX(入力フォーム!$N4:$BEQ4,1,MATCH(AGZ7,入力フォーム!$N$5:$BEQ$5,0))","v":"★"},{"$f":"INDEX(入力フォーム!$N4:$BEQ4,1,MATCH(AHA7,入力フォーム!$N$5:$BEQ$5,0))","v":"★"},{"$f":"INDEX(入力フォーム!$N4:$BEQ4,1,MATCH(AHB7,入力フォーム!$N$5:$BEQ$5,0))","v":"★"},{"$f":"INDEX(入力フォーム!$N4:$BEQ4,1,MATCH(AHC7,入力フォーム!$N$5:$BEQ$5,0))","v":"★"},{"$f":"INDEX(入力フォーム!$N4:$BEQ4,1,MATCH(AHD7,入力フォーム!$N$5:$BEQ$5,0))","v":"★"},{"$f":"INDEX(入力フォーム!$N4:$BEQ4,1,MATCH(AHE7,入力フォーム!$N$5:$BEQ$5,0))","v":"★"},{"$f":"INDEX(入力フォーム!$N4:$BEQ4,1,MATCH(AHF7,入力フォーム!$N$5:$BEQ$5,0))","v":"★"},{"$f":"INDEX(入力フォーム!$N4:$BEQ4,1,MATCH(AHG7,入力フォーム!$N$5:$BEQ$5,0))","v":"★"},{"$f":"INDEX(入力フォーム!$N4:$BEQ4,1,MATCH(AHH7,入力フォーム!$N$5:$BEQ$5,0))","v":"★"},{"$f":"INDEX(入力フォーム!$N4:$BEQ4,1,MATCH(AHI7,入力フォーム!$N$5:$BEQ$5,0))","v":"★"},{"$f":"INDEX(入力フォーム!$N4:$BEQ4,1,MATCH(AHJ7,入力フォーム!$N$5:$BEQ$5,0))","v":"★"},{"$f":"INDEX(入力フォーム!$N4:$BEQ4,1,MATCH(AHK7,入力フォーム!$N$5:$BEQ$5,0))","v":"★"},{"$f":"INDEX(入力フォーム!$N4:$BEQ4,1,MATCH(AHL7,入力フォーム!$N$5:$BEQ$5,0))","v":"★"},{"$f":"INDEX(入力フォーム!$N4:$BEQ4,1,MATCH(AHM7,入力フォーム!$N$5:$BEQ$5,0))","v":"★"},{"$f":"INDEX(入力フォーム!$N4:$BEQ4,1,MATCH(AHN7,入力フォーム!$N$5:$BEQ$5,0))","v":"★"},{"$f":"INDEX(入力フォーム!$N4:$BEQ4,1,MATCH(AHO7,入力フォーム!$N$5:$BEQ$5,0))","v":"★"},{"$f":"INDEX(入力フォーム!$N4:$BEQ4,1,MATCH(AHP7,入力フォーム!$N$5:$BEQ$5,0))","v":"★"},{"$f":"INDEX(入力フォーム!$N4:$BEQ4,1,MATCH(AHQ7,入力フォーム!$N$5:$BEQ$5,0))","v":"★"},{"$f":"INDEX(入力フォーム!$N4:$BEQ4,1,MATCH(AHR7,入力フォーム!$N$5:$BEQ$5,0))","v":"★"},{"$f":"INDEX(入力フォーム!$N4:$BEQ4,1,MATCH(AHS7,入力フォーム!$N$5:$BEQ$5,0))","v":"★"},{"$f":"INDEX(入力フォーム!$N4:$BEQ4,1,MATCH(AHT7,入力フォーム!$N$5:$BEQ$5,0))","v":"★"},{"$f":"INDEX(入力フォーム!$N4:$BEQ4,1,MATCH(AHU7,入力フォーム!$N$5:$BEQ$5,0))","v":"★"},{"$f":"INDEX(入力フォーム!$N4:$BEQ4,1,MATCH(AHV7,入力フォーム!$N$5:$BEQ$5,0))","v":"★"},{"$f":"INDEX(入力フォーム!$N4:$BEQ4,1,MATCH(AHW7,入力フォーム!$N$5:$BEQ$5,0))","v":"★"},{"$f":"INDEX(入力フォーム!$N4:$BEQ4,1,MATCH(AHX7,入力フォーム!$N$5:$BEQ$5,0))","v":"★"},{"$f":"INDEX(入力フォーム!$N4:$BEQ4,1,MATCH(AHY7,入力フォーム!$N$5:$BEQ$5,0))","v":"★"},{"$f":"INDEX(入力フォーム!$N4:$BEQ4,1,MATCH(AHZ7,入力フォーム!$N$5:$BEQ$5,0))","v":"★"},{"$f":"INDEX(入力フォーム!$N4:$BEQ4,1,MATCH(AIA7,入力フォーム!$N$5:$BEQ$5,0))","v":"★"},{"$f":"INDEX(入力フォーム!$N4:$BEQ4,1,MATCH(AIB7,入力フォーム!$N$5:$BEQ$5,0))","v":"★"},{"$f":"INDEX(入力フォーム!$N4:$BEQ4,1,MATCH(AIC7,入力フォーム!$N$5:$BEQ$5,0))","v":"★"},{"$f":"INDEX(入力フォーム!$N4:$BEQ4,1,MATCH(AID7,入力フォーム!$N$5:$BEQ$5,0))","v":"★"},{"$f":"INDEX(入力フォーム!$N4:$BEQ4,1,MATCH(AIE7,入力フォーム!$N$5:$BEQ$5,0))","v":"★"},{"$f":"INDEX(入力フォーム!$N4:$BEQ4,1,MATCH(AIF7,入力フォーム!$N$5:$BEQ$5,0))","v":"★"},{"$f":"INDEX(入力フォーム!$N4:$BEQ4,1,MATCH(AIG7,入力フォーム!$N$5:$BEQ$5,0))","v":"★"},{"$f":"INDEX(入力フォーム!$N4:$BEQ4,1,MATCH(AIH7,入力フォーム!$N$5:$BEQ$5,0))","v":"★"},{"$f":"INDEX(入力フォーム!$N4:$BEQ4,1,MATCH(AII7,入力フォーム!$N$5:$BEQ$5,0))","v":"★"},{"$f":"INDEX(入力フォーム!$N4:$BEQ4,1,MATCH(AIJ7,入力フォーム!$N$5:$BEQ$5,0))","v":"★"},{"$f":"INDEX(入力フォーム!$N4:$BEQ4,1,MATCH(AIK7,入力フォーム!$N$5:$BEQ$5,0))","v":"★"},{"$f":"INDEX(入力フォーム!$N4:$BEQ4,1,MATCH(AIL7,入力フォーム!$N$5:$BEQ$5,0))","v":"★"},{"$f":"INDEX(入力フォーム!$N4:$BEQ4,1,MATCH(AIM7,入力フォーム!$N$5:$BEQ$5,0))","v":"★"},{"$f":"INDEX(入力フォーム!$N4:$BEQ4,1,MATCH(AIN7,入力フォーム!$N$5:$BEQ$5,0))","v":"★"},{"$f":"INDEX(入力フォーム!$N4:$BEQ4,1,MATCH(AIO7,入力フォーム!$N$5:$BEQ$5,0))","v":"★"},{"$f":"INDEX(入力フォーム!$N4:$BEQ4,1,MATCH(AIP7,入力フォーム!$N$5:$BEQ$5,0))","v":"★"},{"$f":"INDEX(入力フォーム!$N4:$BEQ4,1,MATCH(AIQ7,入力フォーム!$N$5:$BEQ$5,0))","v":"★"},{"$f":"INDEX(入力フォーム!$N4:$BEQ4,1,MATCH(AIR7,入力フォーム!$N$5:$BEQ$5,0))","v":"★"},{"$f":"INDEX(入力フォーム!$N4:$BEQ4,1,MATCH(AIS7,入力フォーム!$N$5:$BEQ$5,0))","v":"★"},{"$f":"INDEX(入力フォーム!$N4:$BEQ4,1,MATCH(AIT7,入力フォーム!$N$5:$BEQ$5,0))","v":"★"},{"$f":"INDEX(入力フォーム!$N4:$BEQ4,1,MATCH(AIU7,入力フォーム!$N$5:$BEQ$5,0))","v":"★"},{"$f":"INDEX(入力フォーム!$N4:$BEQ4,1,MATCH(AIV7,入力フォーム!$N$5:$BEQ$5,0))","v":"★"},{"$f":"INDEX(入力フォーム!$N4:$BEQ4,1,MATCH(AIW7,入力フォーム!$N$5:$BEQ$5,0))","v":"★"},{"$f":"INDEX(入力フォーム!$N4:$BEQ4,1,MATCH(AIX7,入力フォーム!$N$5:$BEQ$5,0))","v":"★"},{"$f":"INDEX(入力フォーム!$N4:$BEQ4,1,MATCH(AIY7,入力フォーム!$N$5:$BEQ$5,0))","v":"★"},{"$f":"INDEX(入力フォーム!$N4:$BEQ4,1,MATCH(AIZ7,入力フォーム!$N$5:$BEQ$5,0))","v":"★"},{"$f":"INDEX(入力フォーム!$N4:$BEQ4,1,MATCH(AJA7,入力フォーム!$N$5:$BEQ$5,0))","v":"★"},{"$f":"INDEX(入力フォーム!$N4:$BEQ4,1,MATCH(AJB7,入力フォーム!$N$5:$BEQ$5,0))","v":"★"},{"$f":"INDEX(入力フォーム!$N4:$BEQ4,1,MATCH(AJC7,入力フォーム!$N$5:$BEQ$5,0))","v":"★"},{"$f":"INDEX(入力フォーム!$N4:$BEQ4,1,MATCH(AJD7,入力フォーム!$N$5:$BEQ$5,0))","v":"★"},{"$f":"INDEX(入力フォーム!$N4:$BEQ4,1,MATCH(AJE7,入力フォーム!$N$5:$BEQ$5,0))","v":"★"},{"$f":"INDEX(入力フォーム!$N4:$BEQ4,1,MATCH(AJF7,入力フォーム!$N$5:$BEQ$5,0))","v":"★"},{"$f":"INDEX(入力フォーム!$N4:$BEQ4,1,MATCH(AJG7,入力フォーム!$N$5:$BEQ$5,0))","v":"★"},{"$f":"INDEX(入力フォーム!$N4:$BEQ4,1,MATCH(AJH7,入力フォーム!$N$5:$BEQ$5,0))","v":"★"},{"$f":"INDEX(入力フォーム!$N4:$BEQ4,1,MATCH(AJI7,入力フォーム!$N$5:$BEQ$5,0))","v":"★"},{"$f":"INDEX(入力フォーム!$N4:$BEQ4,1,MATCH(AJJ7,入力フォーム!$N$5:$BEQ$5,0))","v":"★"},{"$f":"INDEX(入力フォーム!$N4:$BEQ4,1,MATCH(AJK7,入力フォーム!$N$5:$BEQ$5,0))","v":"★"},{"$f":"INDEX(入力フォーム!$N4:$BEQ4,1,MATCH(AJL7,入力フォーム!$N$5:$BEQ$5,0))","v":"★"},{"$f":"INDEX(入力フォーム!$N4:$BEQ4,1,MATCH(AJM7,入力フォーム!$N$5:$BEQ$5,0))","v":"★"},{"$f":"INDEX(入力フォーム!$N4:$BEQ4,1,MATCH(AJN7,入力フォーム!$N$5:$BEQ$5,0))","v":"★"},{"$f":"INDEX(入力フォーム!$N4:$BEQ4,1,MATCH(AJO7,入力フォーム!$N$5:$BEQ$5,0))","v":"★"},{"$f":"INDEX(入力フォーム!$N4:$BEQ4,1,MATCH(AJP7,入力フォーム!$N$5:$BEQ$5,0))","v":"★"},{"$f":"INDEX(入力フォーム!$N4:$BEQ4,1,MATCH(AJQ7,入力フォーム!$N$5:$BEQ$5,0))","v":"★"},{"$f":"INDEX(入力フォーム!$N4:$BEQ4,1,MATCH(AJR7,入力フォーム!$N$5:$BEQ$5,0))","v":"★"},{"$f":"INDEX(入力フォーム!$N4:$BEQ4,1,MATCH(AJS7,入力フォーム!$N$5:$BEQ$5,0))","v":"★"},{"$f":"INDEX(入力フォーム!$N4:$BEQ4,1,MATCH(AJT7,入力フォーム!$N$5:$BEQ$5,0))","v":"★"},{"$f":"INDEX(入力フォーム!$N4:$BEQ4,1,MATCH(AJU7,入力フォーム!$N$5:$BEQ$5,0))","v":"★"},{"$f":"INDEX(入力フォーム!$N4:$BEQ4,1,MATCH(AJV7,入力フォーム!$N$5:$BEQ$5,0))","v":"★"},{"$f":"INDEX(入力フォーム!$N4:$BEQ4,1,MATCH(AJW7,入力フォーム!$N$5:$BEQ$5,0))","v":"★"},{"$f":"INDEX(入力フォーム!$N4:$BEQ4,1,MATCH(AJX7,入力フォーム!$N$5:$BEQ$5,0))","v":"★"},{"$f":"INDEX(入力フォーム!$N4:$BEQ4,1,MATCH(AJY7,入力フォーム!$N$5:$BEQ$5,0))","v":"★"},{"$f":"INDEX(入力フォーム!$N4:$BEQ4,1,MATCH(AJZ7,入力フォーム!$N$5:$BEQ$5,0))","v":"★"},{"$f":"INDEX(入力フォーム!$N4:$BEQ4,1,MATCH(AKA7,入力フォーム!$N$5:$BEQ$5,0))","v":"★"},{"$f":"INDEX(入力フォーム!$N4:$BEQ4,1,MATCH(AKB7,入力フォーム!$N$5:$BEQ$5,0))","v":"★"},{"$f":"INDEX(入力フォーム!$N4:$BEQ4,1,MATCH(AKC7,入力フォーム!$N$5:$BEQ$5,0))","v":"★"},{"$f":"INDEX(入力フォーム!$N4:$BEQ4,1,MATCH(AKD7,入力フォーム!$N$5:$BEQ$5,0))","v":"★"},{"$f":"INDEX(入力フォーム!$N4:$BEQ4,1,MATCH(AKE7,入力フォーム!$N$5:$BEQ$5,0))","v":"★"},{"$f":"INDEX(入力フォーム!$N4:$BEQ4,1,MATCH(AKF7,入力フォーム!$N$5:$BEQ$5,0))","v":"★"},{"$f":"INDEX(入力フォーム!$N4:$BEQ4,1,MATCH(AKG7,入力フォーム!$N$5:$BEQ$5,0))","v":"★"},{"$f":"INDEX(入力フォーム!$N4:$BEQ4,1,MATCH(AKH7,入力フォーム!$N$5:$BEQ$5,0))","v":"★"},{"$f":"INDEX(入力フォーム!$N4:$BEQ4,1,MATCH(AKI7,入力フォーム!$N$5:$BEQ$5,0))","v":"★"},{"$f":"INDEX(入力フォーム!$N4:$BEQ4,1,MATCH(AKJ7,入力フォーム!$N$5:$BEQ$5,0))","v":"★"},{"$f":"INDEX(入力フォーム!$N4:$BEQ4,1,MATCH(AKK7,入力フォーム!$N$5:$BEQ$5,0))","v":"★"},{"$f":"INDEX(入力フォーム!$N4:$BEQ4,1,MATCH(AKL7,入力フォーム!$N$5:$BEQ$5,0))","v":"★"},{"$f":"INDEX(入力フォーム!$N4:$BEQ4,1,MATCH(AKM7,入力フォーム!$N$5:$BEQ$5,0))","v":"★"},{"$f":"INDEX(入力フォーム!$N4:$BEQ4,1,MATCH(AKN7,入力フォーム!$N$5:$BEQ$5,0))","v":"★"},{"$f":"INDEX(入力フォーム!$N4:$BEQ4,1,MATCH(AKO7,入力フォーム!$N$5:$BEQ$5,0))","v":"★"},{"$f":"INDEX(入力フォーム!$N4:$BEQ4,1,MATCH(AKP7,入力フォーム!$N$5:$BEQ$5,0))","v":"★"},{"$f":"INDEX(入力フォーム!$N4:$BEQ4,1,MATCH(AKQ7,入力フォーム!$N$5:$BEQ$5,0))","v":"★"},{"$f":"INDEX(入力フォーム!$N4:$BEQ4,1,MATCH(AKR7,入力フォーム!$N$5:$BEQ$5,0))","v":"★"},{"$f":"INDEX(入力フォーム!$N4:$BEQ4,1,MATCH(AKS7,入力フォーム!$N$5:$BEQ$5,0))","v":"★"},{"$f":"INDEX(入力フォーム!$N4:$BEQ4,1,MATCH(AKT7,入力フォーム!$N$5:$BEQ$5,0))","v":"★"},{"$f":"INDEX(入力フォーム!$N4:$BEQ4,1,MATCH(AKU7,入力フォーム!$N$5:$BEQ$5,0))","v":"★"},{"$f":"INDEX(入力フォーム!$N4:$BEQ4,1,MATCH(AKV7,入力フォーム!$N$5:$BEQ$5,0))","v":"★"},{"$f":"INDEX(入力フォーム!$N4:$BEQ4,1,MATCH(AKW7,入力フォーム!$N$5:$BEQ$5,0))","v":"★"},{"$f":"INDEX(入力フォーム!$N4:$BEQ4,1,MATCH(AKX7,入力フォーム!$N$5:$BEQ$5,0))","v":"★"},{"$f":"INDEX(入力フォーム!$N4:$BEQ4,1,MATCH(AKY7,入力フォーム!$N$5:$BEQ$5,0))","v":"★"},{"$f":"INDEX(入力フォーム!$N4:$BEQ4,1,MATCH(AKZ7,入力フォーム!$N$5:$BEQ$5,0))","v":"★"},{"$f":"INDEX(入力フォーム!$N4:$BEQ4,1,MATCH(ALA7,入力フォーム!$N$5:$BEQ$5,0))","v":"★"},{"$f":"INDEX(入力フォーム!$N4:$BEQ4,1,MATCH(ALB7,入力フォーム!$N$5:$BEQ$5,0))","v":"★"},{"$f":"INDEX(入力フォーム!$N4:$BEQ4,1,MATCH(ALC7,入力フォーム!$N$5:$BEQ$5,0))","v":"★"},{"$f":"INDEX(入力フォーム!$N4:$BEQ4,1,MATCH(ALD7,入力フォーム!$N$5:$BEQ$5,0))","v":"★"},{"$f":"INDEX(入力フォーム!$N4:$BEQ4,1,MATCH(ALE7,入力フォーム!$N$5:$BEQ$5,0))","v":"★"},{"$f":"INDEX(入力フォーム!$N4:$BEQ4,1,MATCH(ALF7,入力フォーム!$N$5:$BEQ$5,0))","v":"★"},{"$f":"INDEX(入力フォーム!$N4:$BEQ4,1,MATCH(ALG7,入力フォーム!$N$5:$BEQ$5,0))","v":"★"},{"$f":"INDEX(入力フォーム!$N4:$BEQ4,1,MATCH(ALH7,入力フォーム!$N$5:$BEQ$5,0))","v":"★"},{"$f":"INDEX(入力フォーム!$N4:$BEQ4,1,MATCH(ALI7,入力フォーム!$N$5:$BEQ$5,0))","v":"★"},{"$f":"INDEX(入力フォーム!$N4:$BEQ4,1,MATCH(ALJ7,入力フォーム!$N$5:$BEQ$5,0))","v":"★"},{"$f":"INDEX(入力フォーム!$N4:$BEQ4,1,MATCH(ALK7,入力フォーム!$N$5:$BEQ$5,0))","v":"★"},{"$f":"INDEX(入力フォーム!$N4:$BEQ4,1,MATCH(ALL7,入力フォーム!$N$5:$BEQ$5,0))","v":"★"},{"$f":"INDEX(入力フォーム!$N4:$BEQ4,1,MATCH(ALM7,入力フォーム!$N$5:$BEQ$5,0))","v":"★"},{"$f":"INDEX(入力フォーム!$N4:$BEQ4,1,MATCH(ALN7,入力フォーム!$N$5:$BEQ$5,0))","v":"★"},{"$f":"INDEX(入力フォーム!$N4:$BEQ4,1,MATCH(ALO7,入力フォーム!$N$5:$BEQ$5,0))","v":"★"},{"$f":"INDEX(入力フォーム!$N4:$BEQ4,1,MATCH(ALP7,入力フォーム!$N$5:$BEQ$5,0))","v":"★"},{"$f":"INDEX(入力フォーム!$N4:$BEQ4,1,MATCH(ALQ7,入力フォーム!$N$5:$BEQ$5,0))","v":"★"},{"$f":"INDEX(入力フォーム!$N4:$BEQ4,1,MATCH(ALR7,入力フォーム!$N$5:$BEQ$5,0))","v":"★"},{"$f":"INDEX(入力フォーム!$N4:$BEQ4,1,MATCH(ALS7,入力フォーム!$N$5:$BEQ$5,0))","v":"★"},{"$f":"INDEX(入力フォーム!$N4:$BEQ4,1,MATCH(ALT7,入力フォーム!$N$5:$BEQ$5,0))","v":"★"},{"$f":"INDEX(入力フォーム!$N4:$BEQ4,1,MATCH(ALU7,入力フォーム!$N$5:$BEQ$5,0))","v":"★"},{"$f":"INDEX(入力フォーム!$N4:$BEQ4,1,MATCH(ALV7,入力フォーム!$N$5:$BEQ$5,0))","v":"★"},{"$f":"INDEX(入力フォーム!$N4:$BEQ4,1,MATCH(ALW7,入力フォーム!$N$5:$BEQ$5,0))","v":"★"},{"$f":"INDEX(入力フォーム!$N4:$BEQ4,1,MATCH(ALX7,入力フォーム!$N$5:$BEQ$5,0))","v":"★"},{"$f":"INDEX(入力フォーム!$N4:$BEQ4,1,MATCH(ALY7,入力フォーム!$N$5:$BEQ$5,0))","v":"★"},{"$f":"INDEX(入力フォーム!$N4:$BEQ4,1,MATCH(ALZ7,入力フォーム!$N$5:$BEQ$5,0))","v":"★"},{"$f":"INDEX(入力フォーム!$N4:$BEQ4,1,MATCH(AMA7,入力フォーム!$N$5:$BEQ$5,0))","v":"★"},{"$f":"INDEX(入力フォーム!$N4:$BEQ4,1,MATCH(AMB7,入力フォーム!$N$5:$BEQ$5,0))","v":"★"},{"$f":"INDEX(入力フォーム!$N4:$BEQ4,1,MATCH(AMC7,入力フォーム!$N$5:$BEQ$5,0))","v":"★"},{"$f":"INDEX(入力フォーム!$N4:$BEQ4,1,MATCH(AMD7,入力フォーム!$N$5:$BEQ$5,0))","v":"★"},{"$f":"INDEX(入力フォーム!$N4:$BEQ4,1,MATCH(AME7,入力フォーム!$N$5:$BEQ$5,0))","v":"★"},{"$f":"INDEX(入力フォーム!$N4:$BEQ4,1,MATCH(AMF7,入力フォーム!$N$5:$BEQ$5,0))","v":"★"},{"$f":"INDEX(入力フォーム!$N4:$BEQ4,1,MATCH(AMG7,入力フォーム!$N$5:$BEQ$5,0))","v":"★"},{"$f":"INDEX(入力フォーム!$N4:$BEQ4,1,MATCH(AMH7,入力フォーム!$N$5:$BEQ$5,0))","v":"★"},{"$f":"INDEX(入力フォーム!$N4:$BEQ4,1,MATCH(AMI7,入力フォーム!$N$5:$BEQ$5,0))","v":"★"},{"$f":"INDEX(入力フォーム!$N4:$BEQ4,1,MATCH(AMJ7,入力フォーム!$N$5:$BEQ$5,0))","v":"★"},{"$f":"INDEX(入力フォーム!$N4:$BEQ4,1,MATCH(AMK7,入力フォーム!$N$5:$BEQ$5,0))","v":"★"},{"$f":"INDEX(入力フォーム!$N4:$BEQ4,1,MATCH(AML7,入力フォーム!$N$5:$BEQ$5,0))","v":"★"},{"$f":"INDEX(入力フォーム!$N4:$BEQ4,1,MATCH(AMM7,入力フォーム!$N$5:$BEQ$5,0))","v":"★"},{"$f":"INDEX(入力フォーム!$N4:$BEQ4,1,MATCH(AMN7,入力フォーム!$N$5:$BEQ$5,0))","v":"★"},{"$f":"INDEX(入力フォーム!$N4:$BEQ4,1,MATCH(AMO7,入力フォーム!$N$5:$BEQ$5,0))","v":"★"},{"$f":"INDEX(入力フォーム!$N4:$BEQ4,1,MATCH(AMP7,入力フォーム!$N$5:$BEQ$5,0))","v":"★"},{"$f":"INDEX(入力フォーム!$N4:$BEQ4,1,MATCH(AMQ7,入力フォーム!$N$5:$BEQ$5,0))","v":"★"},{"$f":"INDEX(入力フォーム!$N4:$BEQ4,1,MATCH(AMR7,入力フォーム!$N$5:$BEQ$5,0))","v":"★"},{"$f":"INDEX(入力フォーム!$N4:$BEQ4,1,MATCH(AMS7,入力フォーム!$N$5:$BEQ$5,0))","v":"★"},{"$f":"INDEX(入力フォーム!$N4:$BEQ4,1,MATCH(AMT7,入力フォーム!$N$5:$BEQ$5,0))","v":"★"},{"$f":"INDEX(入力フォーム!$N4:$BEQ4,1,MATCH(AMU7,入力フォーム!$N$5:$BEQ$5,0))","v":"★"},{"$f":"INDEX(入力フォーム!$N4:$BEQ4,1,MATCH(AMV7,入力フォーム!$N$5:$BEQ$5,0))","v":"★"},{"$f":"INDEX(入力フォーム!$N4:$BEQ4,1,MATCH(AMW7,入力フォーム!$N$5:$BEQ$5,0))","v":"★"},{"$f":"INDEX(入力フォーム!$N4:$BEQ4,1,MATCH(AMX7,入力フォーム!$N$5:$BEQ$5,0))","v":"★"},{"$f":"INDEX(入力フォーム!$N4:$BEQ4,1,MATCH(AMY7,入力フォーム!$N$5:$BEQ$5,0))","v":"★"},{"$f":"INDEX(入力フォーム!$N4:$BEQ4,1,MATCH(AMZ7,入力フォーム!$N$5:$BEQ$5,0))","v":"★"},{"$f":"INDEX(入力フォーム!$N4:$BEQ4,1,MATCH(ANA7,入力フォーム!$N$5:$BEQ$5,0))","v":"★"},{"$f":"INDEX(入力フォーム!$N4:$BEQ4,1,MATCH(ANB7,入力フォーム!$N$5:$BEQ$5,0))","v":"★"},{"$f":"INDEX(入力フォーム!$N4:$BEQ4,1,MATCH(ANC7,入力フォーム!$N$5:$BEQ$5,0))","v":"★"},{"$f":"INDEX(入力フォーム!$N4:$BEQ4,1,MATCH(AND7,入力フォーム!$N$5:$BEQ$5,0))","v":"★"},{"$f":"INDEX(入力フォーム!$N4:$BEQ4,1,MATCH(ANE7,入力フォーム!$N$5:$BEQ$5,0))","v":"★"},{"$f":"INDEX(入力フォーム!$N4:$BEQ4,1,MATCH(ANF7,入力フォーム!$N$5:$BEQ$5,0))","v":"★"},{"$f":"INDEX(入力フォーム!$N4:$BEQ4,1,MATCH(ANG7,入力フォーム!$N$5:$BEQ$5,0))","v":"★"},{"$f":"INDEX(入力フォーム!$N4:$BEQ4,1,MATCH(ANH7,入力フォーム!$N$5:$BEQ$5,0))","v":"★"},{"$f":"INDEX(入力フォーム!$N4:$BEQ4,1,MATCH(ANI7,入力フォーム!$N$5:$BEQ$5,0))","v":"★"},{"$f":"INDEX(入力フォーム!$N4:$BEQ4,1,MATCH(ANJ7,入力フォーム!$N$5:$BEQ$5,0))","v":"★"},{"$f":"INDEX(入力フォーム!$N4:$BEQ4,1,MATCH(ANK7,入力フォーム!$N$5:$BEQ$5,0))","v":"★"},{"$f":"INDEX(入力フォーム!$N4:$BEQ4,1,MATCH(ANL7,入力フォーム!$N$5:$BEQ$5,0))","v":"★"},{"$f":"INDEX(入力フォーム!$N4:$BEQ4,1,MATCH(ANM7,入力フォーム!$N$5:$BEQ$5,0))","v":"★"},{"$f":"INDEX(入力フォーム!$N4:$BEQ4,1,MATCH(ANN7,入力フォーム!$N$5:$BEQ$5,0))","v":"★"},{"$f":"INDEX(入力フォーム!$N4:$BEQ4,1,MATCH(ANO7,入力フォーム!$N$5:$BEQ$5,0))","v":"★"},{"$f":"INDEX(入力フォーム!$N4:$BEQ4,1,MATCH(ANP7,入力フォーム!$N$5:$BEQ$5,0))","v":"★"},{"$f":"INDEX(入力フォーム!$N4:$BEQ4,1,MATCH(ANQ7,入力フォーム!$N$5:$BEQ$5,0))","v":"★"},{"$f":"INDEX(入力フォーム!$N4:$BEQ4,1,MATCH(ANR7,入力フォーム!$N$5:$BEQ$5,0))","v":"★"},{"$f":"INDEX(入力フォーム!$N4:$BEQ4,1,MATCH(ANS7,入力フォーム!$N$5:$BEQ$5,0))","v":"★"},{"$f":"INDEX(入力フォーム!$N4:$BEQ4,1,MATCH(ANT7,入力フォーム!$N$5:$BEQ$5,0))","v":"★"},{"$f":"INDEX(入力フォーム!$N4:$BEQ4,1,MATCH(ANU7,入力フォーム!$N$5:$BEQ$5,0))","v":"★"},{"$f":"INDEX(入力フォーム!$N4:$BEQ4,1,MATCH(ANV7,入力フォーム!$N$5:$BEQ$5,0))","v":"★"},{"$f":"INDEX(入力フォーム!$N4:$BEQ4,1,MATCH(ANW7,入力フォーム!$N$5:$BEQ$5,0))","v":"★"},{"$f":"INDEX(入力フォーム!$N4:$BEQ4,1,MATCH(ANX7,入力フォーム!$N$5:$BEQ$5,0))","v":"★"},{"$f":"INDEX(入力フォーム!$N4:$BEQ4,1,MATCH(ANY7,入力フォーム!$N$5:$BEQ$5,0))","v":"★"},{"$f":"INDEX(入力フォーム!$N4:$BEQ4,1,MATCH(ANZ7,入力フォーム!$N$5:$BEQ$5,0))","v":"★"},{"$f":"INDEX(入力フォーム!$N4:$BEQ4,1,MATCH(AOA7,入力フォーム!$N$5:$BEQ$5,0))","v":"★"},{"$f":"INDEX(入力フォーム!$N4:$BEQ4,1,MATCH(AOB7,入力フォーム!$N$5:$BEQ$5,0))","v":"★"},{"$f":"INDEX(入力フォーム!$N4:$BEQ4,1,MATCH(AOC7,入力フォーム!$N$5:$BEQ$5,0))","v":"★"},{"$f":"INDEX(入力フォーム!$N4:$BEQ4,1,MATCH(AOD7,入力フォーム!$N$5:$BEQ$5,0))","v":"★"},{"$f":"INDEX(入力フォーム!$N4:$BEQ4,1,MATCH(AOE7,入力フォーム!$N$5:$BEQ$5,0))","v":"★"},{"$f":"INDEX(入力フォーム!$N4:$BEQ4,1,MATCH(AOF7,入力フォーム!$N$5:$BEQ$5,0))","v":"★"},{"$f":"INDEX(入力フォーム!$N4:$BEQ4,1,MATCH(AOG7,入力フォーム!$N$5:$BEQ$5,0))","v":"★"},{"$f":"INDEX(入力フォーム!$N4:$BEQ4,1,MATCH(AOH7,入力フォーム!$N$5:$BEQ$5,0))","v":"★"},{"$f":"INDEX(入力フォーム!$N4:$BEQ4,1,MATCH(AOI7,入力フォーム!$N$5:$BEQ$5,0))","v":"★"},{"$f":"INDEX(入力フォーム!$N4:$BEQ4,1,MATCH(AOJ7,入力フォーム!$N$5:$BEQ$5,0))","v":"★"},{"$f":"INDEX(入力フォーム!$N4:$BEQ4,1,MATCH(AOK7,入力フォーム!$N$5:$BEQ$5,0))","v":"★"},{"$f":"INDEX(入力フォーム!$N4:$BEQ4,1,MATCH(AOL7,入力フォーム!$N$5:$BEQ$5,0))","v":"★"},{"$f":"INDEX(入力フォーム!$N4:$BEQ4,1,MATCH(AOM7,入力フォーム!$N$5:$BEQ$5,0))","v":"★"},{"$f":"INDEX(入力フォーム!$N4:$BEQ4,1,MATCH(AON7,入力フォーム!$N$5:$BEQ$5,0))","v":"★"},{"$f":"INDEX(入力フォーム!$N4:$BEQ4,1,MATCH(AOO7,入力フォーム!$N$5:$BEQ$5,0))","v":"★"},{"$f":"INDEX(入力フォーム!$N4:$BEQ4,1,MATCH(AOP7,入力フォーム!$N$5:$BEQ$5,0))","v":"★"},{"$f":"INDEX(入力フォーム!$N4:$BEQ4,1,MATCH(AOQ7,入力フォーム!$N$5:$BEQ$5,0))","v":"★"},{"$f":"INDEX(入力フォーム!$N4:$BEQ4,1,MATCH(AOR7,入力フォーム!$N$5:$BEQ$5,0))","v":"★"},{"$f":"INDEX(入力フォーム!$N4:$BEQ4,1,MATCH(AOS7,入力フォーム!$N$5:$BEQ$5,0))","v":"★"},{"$f":"INDEX(入力フォーム!$N4:$BEQ4,1,MATCH(AOT7,入力フォーム!$N$5:$BEQ$5,0))","v":"★"},{"$f":"INDEX(入力フォーム!$N4:$BEQ4,1,MATCH(AOU7,入力フォーム!$N$5:$BEQ$5,0))","v":"★"},{"$f":"INDEX(入力フォーム!$N4:$BEQ4,1,MATCH(AOV7,入力フォーム!$N$5:$BEQ$5,0))","v":"★"},{"$f":"INDEX(入力フォーム!$N4:$BEQ4,1,MATCH(AOW7,入力フォーム!$N$5:$BEQ$5,0))","v":"★"},{"$f":"INDEX(入力フォーム!$N4:$BEQ4,1,MATCH(AOX7,入力フォーム!$N$5:$BEQ$5,0))","v":"★"},{"$f":"INDEX(入力フォーム!$N4:$BEQ4,1,MATCH(AOY7,入力フォーム!$N$5:$BEQ$5,0))","v":"★"},{"$f":"INDEX(入力フォーム!$N4:$BEQ4,1,MATCH(AOZ7,入力フォーム!$N$5:$BEQ$5,0))","v":"★"},{"$f":"INDEX(入力フォーム!$N4:$BEQ4,1,MATCH(APA7,入力フォーム!$N$5:$BEQ$5,0))","v":"★"},{"$f":"INDEX(入力フォーム!$N4:$BEQ4,1,MATCH(APB7,入力フォーム!$N$5:$BEQ$5,0))","v":"★"},{"$f":"INDEX(入力フォーム!$N4:$BEQ4,1,MATCH(APC7,入力フォーム!$N$5:$BEQ$5,0))","v":"★"},{"$f":"INDEX(入力フォーム!$N4:$BEQ4,1,MATCH(APD7,入力フォーム!$N$5:$BEQ$5,0))","v":"★"},{"$f":"INDEX(入力フォーム!$N4:$BEQ4,1,MATCH(APE7,入力フォーム!$N$5:$BEQ$5,0))","v":"★"},{"$f":"INDEX(入力フォーム!$N4:$BEQ4,1,MATCH(APF7,入力フォーム!$N$5:$BEQ$5,0))","v":"★"},{"$f":"INDEX(入力フォーム!$N4:$BEQ4,1,MATCH(APG7,入力フォーム!$N$5:$BEQ$5,0))","v":"★"},{"$f":"INDEX(入力フォーム!$N4:$BEQ4,1,MATCH(APH7,入力フォーム!$N$5:$BEQ$5,0))","v":"★"},{"$f":"INDEX(入力フォーム!$N4:$BEQ4,1,MATCH(API7,入力フォーム!$N$5:$BEQ$5,0))","v":"★"},{"$f":"INDEX(入力フォーム!$N4:$BEQ4,1,MATCH(APJ7,入力フォーム!$N$5:$BEQ$5,0))","v":"★"},{"$f":"INDEX(入力フォーム!$N4:$BEQ4,1,MATCH(APK7,入力フォーム!$N$5:$BEQ$5,0))","v":"★"},{"$f":"INDEX(入力フォーム!$N4:$BEQ4,1,MATCH(APL7,入力フォーム!$N$5:$BEQ$5,0))","v":"★"},{"$f":"INDEX(入力フォーム!$N4:$BEQ4,1,MATCH(APM7,入力フォーム!$N$5:$BEQ$5,0))","v":"★"},{"$f":"INDEX(入力フォーム!$N4:$BEQ4,1,MATCH(APN7,入力フォーム!$N$5:$BEQ$5,0))","v":"★"},{"$f":"INDEX(入力フォーム!$N4:$BEQ4,1,MATCH(APO7,入力フォーム!$N$5:$BEQ$5,0))","v":"★"},{"$f":"INDEX(入力フォーム!$N4:$BEQ4,1,MATCH(APP7,入力フォーム!$N$5:$BEQ$5,0))","v":"★"},{"$f":"INDEX(入力フォーム!$N4:$BEQ4,1,MATCH(APQ7,入力フォーム!$N$5:$BEQ$5,0))","v":"★"},{"$f":"INDEX(入力フォーム!$N4:$BEQ4,1,MATCH(APR7,入力フォーム!$N$5:$BEQ$5,0))","v":"★"},{"$f":"INDEX(入力フォーム!$N4:$BEQ4,1,MATCH(APS7,入力フォーム!$N$5:$BEQ$5,0))","v":"★"},{"$f":"INDEX(入力フォーム!$N4:$BEQ4,1,MATCH(APT7,入力フォーム!$N$5:$BEQ$5,0))","v":"★"},{"$f":"INDEX(入力フォーム!$N4:$BEQ4,1,MATCH(APU7,入力フォーム!$N$5:$BEQ$5,0))","v":"★"},{"$f":"INDEX(入力フォーム!$N4:$BEQ4,1,MATCH(APV7,入力フォーム!$N$5:$BEQ$5,0))","v":"★"},{"$f":"INDEX(入力フォーム!$N4:$BEQ4,1,MATCH(APW7,入力フォーム!$N$5:$BEQ$5,0))","v":"★"},{"$f":"INDEX(入力フォーム!$N4:$BEQ4,1,MATCH(APX7,入力フォーム!$N$5:$BEQ$5,0))","v":"★"},{"$f":"INDEX(入力フォーム!$N4:$BEQ4,1,MATCH(APY7,入力フォーム!$N$5:$BEQ$5,0))","v":"★"},{"$f":"INDEX(入力フォーム!$N4:$BEQ4,1,MATCH(APZ7,入力フォーム!$N$5:$BEQ$5,0))","v":"★"},{"$f":"INDEX(入力フォーム!$N4:$BEQ4,1,MATCH(AQA7,入力フォーム!$N$5:$BEQ$5,0))","v":"★"},{"$f":"INDEX(入力フォーム!$N4:$BEQ4,1,MATCH(AQB7,入力フォーム!$N$5:$BEQ$5,0))","v":"★"},{"$f":"INDEX(入力フォーム!$N4:$BEQ4,1,MATCH(AQC7,入力フォーム!$N$5:$BEQ$5,0))","v":"★"},{"$f":"INDEX(入力フォーム!$N4:$BEQ4,1,MATCH(AQD7,入力フォーム!$N$5:$BEQ$5,0))","v":"★"},{"$f":"INDEX(入力フォーム!$N4:$BEQ4,1,MATCH(AQE7,入力フォーム!$N$5:$BEQ$5,0))","v":"★"},{"$f":"INDEX(入力フォーム!$N4:$BEQ4,1,MATCH(AQF7,入力フォーム!$N$5:$BEQ$5,0))","v":"★"},{"$f":"INDEX(入力フォーム!$N4:$BEQ4,1,MATCH(AQG7,入力フォーム!$N$5:$BEQ$5,0))","v":"★"},{"$f":"INDEX(入力フォーム!$N4:$BEQ4,1,MATCH(AQH7,入力フォーム!$N$5:$BEQ$5,0))","v":"★"},{"$f":"INDEX(入力フォーム!$N4:$BEQ4,1,MATCH(AQI7,入力フォーム!$N$5:$BEQ$5,0))","v":"★"},{"$f":"INDEX(入力フォーム!$N4:$BEQ4,1,MATCH(AQJ7,入力フォーム!$N$5:$BEQ$5,0))","v":"★"},{"$f":"INDEX(入力フォーム!$N4:$BEQ4,1,MATCH(AQK7,入力フォーム!$N$5:$BEQ$5,0))","v":"★"},{"$f":"INDEX(入力フォーム!$N4:$BEQ4,1,MATCH(AQL7,入力フォーム!$N$5:$BEQ$5,0))","v":"★"},{"$f":"INDEX(入力フォーム!$N4:$BEQ4,1,MATCH(AQM7,入力フォーム!$N$5:$BEQ$5,0))","v":"★"},{"$f":"INDEX(入力フォーム!$N4:$BEQ4,1,MATCH(AQN7,入力フォーム!$N$5:$BEQ$5,0))","v":"★"},{"$f":"INDEX(入力フォーム!$N4:$BEQ4,1,MATCH(AQO7,入力フォーム!$N$5:$BEQ$5,0))","v":"★"},{"$f":"INDEX(入力フォーム!$N4:$BEQ4,1,MATCH(AQP7,入力フォーム!$N$5:$BEQ$5,0))","v":"★"},{"$f":"INDEX(入力フォーム!$N4:$BEQ4,1,MATCH(AQQ7,入力フォーム!$N$5:$BEQ$5,0))","v":"★"},{"$f":"INDEX(入力フォーム!$N4:$BEQ4,1,MATCH(AQR7,入力フォーム!$N$5:$BEQ$5,0))","v":"★"},{"$f":"INDEX(入力フォーム!$N4:$BEQ4,1,MATCH(AQS7,入力フォーム!$N$5:$BEQ$5,0))","v":"★"},{"$f":"INDEX(入力フォーム!$N4:$BEQ4,1,MATCH(AQT7,入力フォーム!$N$5:$BEQ$5,0))","v":"★"},{"$f":"INDEX(入力フォーム!$N4:$BEQ4,1,MATCH(AQU7,入力フォーム!$N$5:$BEQ$5,0))","v":"★"},{"$f":"INDEX(入力フォーム!$N4:$BEQ4,1,MATCH(AQV7,入力フォーム!$N$5:$BEQ$5,0))","v":"★"},{"$f":"INDEX(入力フォーム!$N4:$BEQ4,1,MATCH(AQW7,入力フォーム!$N$5:$BEQ$5,0))","v":"★"},{"$f":"INDEX(入力フォーム!$N4:$BEQ4,1,MATCH(AQX7,入力フォーム!$N$5:$BEQ$5,0))","v":"★"},{"$f":"INDEX(入力フォーム!$N4:$BEQ4,1,MATCH(AQY7,入力フォーム!$N$5:$BEQ$5,0))","v":"★"},{"$f":"INDEX(入力フォーム!$N4:$BEQ4,1,MATCH(AQZ7,入力フォーム!$N$5:$BEQ$5,0))","v":"★"},{"$f":"INDEX(入力フォーム!$N4:$BEQ4,1,MATCH(ARA7,入力フォーム!$N$5:$BEQ$5,0))","v":"★"},{"$f":"INDEX(入力フォーム!$N4:$BEQ4,1,MATCH(ARB7,入力フォーム!$N$5:$BEQ$5,0))","v":"★"},{"$f":"INDEX(入力フォーム!$N4:$BEQ4,1,MATCH(ARC7,入力フォーム!$N$5:$BEQ$5,0))","v":"★"},{"$f":"INDEX(入力フォーム!$N4:$BEQ4,1,MATCH(ARD7,入力フォーム!$N$5:$BEQ$5,0))","v":"★"},{"$f":"INDEX(入力フォーム!$N4:$BEQ4,1,MATCH(ARE7,入力フォーム!$N$5:$BEQ$5,0))","v":"★"},{"$f":"INDEX(入力フォーム!$N4:$BEQ4,1,MATCH(ARF7,入力フォーム!$N$5:$BEQ$5,0))","v":"★"},{"$f":"INDEX(入力フォーム!$N4:$BEQ4,1,MATCH(ARG7,入力フォーム!$N$5:$BEQ$5,0))","v":"★"},{"$f":"INDEX(入力フォーム!$N4:$BEQ4,1,MATCH(ARH7,入力フォーム!$N$5:$BEQ$5,0))","v":"★"},{"$f":"INDEX(入力フォーム!$N4:$BEQ4,1,MATCH(ARI7,入力フォーム!$N$5:$BEQ$5,0))","v":"★"},{"$f":"INDEX(入力フォーム!$N4:$BEQ4,1,MATCH(ARJ7,入力フォーム!$N$5:$BEQ$5,0))","v":"★"},{"$f":"INDEX(入力フォーム!$N4:$BEQ4,1,MATCH(ARK7,入力フォーム!$N$5:$BEQ$5,0))","v":"★"},{"$f":"INDEX(入力フォーム!$N4:$BEQ4,1,MATCH(ARL7,入力フォーム!$N$5:$BEQ$5,0))","v":"★"},{"$f":"INDEX(入力フォーム!$N4:$BEQ4,1,MATCH(ARM7,入力フォーム!$N$5:$BEQ$5,0))","v":"★"},{"$f":"INDEX(入力フォーム!$N4:$BEQ4,1,MATCH(ARN7,入力フォーム!$N$5:$BEQ$5,0))","v":"★"},{"$f":"INDEX(入力フォーム!$N4:$BEQ4,1,MATCH(ARO7,入力フォーム!$N$5:$BEQ$5,0))","v":"★"},{"$f":"INDEX(入力フォーム!$N4:$BEQ4,1,MATCH(ARP7,入力フォーム!$N$5:$BEQ$5,0))","v":"★"},{"$f":"INDEX(入力フォーム!$N4:$BEQ4,1,MATCH(ARQ7,入力フォーム!$N$5:$BEQ$5,0))","v":"★"},{"$f":"INDEX(入力フォーム!$N4:$BEQ4,1,MATCH(ARR7,入力フォーム!$N$5:$BEQ$5,0))","v":"★"},{"$f":"INDEX(入力フォーム!$N4:$BEQ4,1,MATCH(ARS7,入力フォーム!$N$5:$BEQ$5,0))","v":"★"},{"$f":"INDEX(入力フォーム!$N4:$BEQ4,1,MATCH(ART7,入力フォーム!$N$5:$BEQ$5,0))","v":"★"},{"$f":"INDEX(入力フォーム!$N4:$BEQ4,1,MATCH(ARU7,入力フォーム!$N$5:$BEQ$5,0))","v":"★"},{"$f":"INDEX(入力フォーム!$N4:$BEQ4,1,MATCH(ARV7,入力フォーム!$N$5:$BEQ$5,0))","v":"★"},{"$f":"INDEX(入力フォーム!$N4:$BEQ4,1,MATCH(ARW7,入力フォーム!$N$5:$BEQ$5,0))","v":"★"},{"$f":"INDEX(入力フォーム!$N4:$BEQ4,1,MATCH(ARX7,入力フォーム!$N$5:$BEQ$5,0))","v":"★"},{"$f":"INDEX(入力フォーム!$N4:$BEQ4,1,MATCH(ARY7,入力フォーム!$N$5:$BEQ$5,0))","v":"★"},{"$f":"INDEX(入力フォーム!$N4:$BEQ4,1,MATCH(ARZ7,入力フォーム!$N$5:$BEQ$5,0))","v":"★"},{"$f":"INDEX(入力フォーム!$N4:$BEQ4,1,MATCH(ASA7,入力フォーム!$N$5:$BEQ$5,0))","v":"★"},{"$f":"INDEX(入力フォーム!$N4:$BEQ4,1,MATCH(ASB7,入力フォーム!$N$5:$BEQ$5,0))","v":"★"},{"$f":"INDEX(入力フォーム!$N4:$BEQ4,1,MATCH(ASC7,入力フォーム!$N$5:$BEQ$5,0))","v":"★"},{"$f":"INDEX(入力フォーム!$N4:$BEQ4,1,MATCH(ASD7,入力フォーム!$N$5:$BEQ$5,0))","v":"★"},{"$f":"INDEX(入力フォーム!$N4:$BEQ4,1,MATCH(ASE7,入力フォーム!$N$5:$BEQ$5,0))","v":"★"},{"$f":"INDEX(入力フォーム!$N4:$BEQ4,1,MATCH(ASF7,入力フォーム!$N$5:$BEQ$5,0))","v":"★"},{"$f":"INDEX(入力フォーム!$N4:$BEQ4,1,MATCH(ASG7,入力フォーム!$N$5:$BEQ$5,0))","v":"★"},{"$f":"INDEX(入力フォーム!$N4:$BEQ4,1,MATCH(ASH7,入力フォーム!$N$5:$BEQ$5,0))","v":"★"},{"$f":"INDEX(入力フォーム!$N4:$BEQ4,1,MATCH(ASI7,入力フォーム!$N$5:$BEQ$5,0))","v":"★"},{"$f":"INDEX(入力フォーム!$N4:$BEQ4,1,MATCH(ASJ7,入力フォーム!$N$5:$BEQ$5,0))","v":"★"},{"$f":"INDEX(入力フォーム!$N4:$BEQ4,1,MATCH(ASK7,入力フォーム!$N$5:$BEQ$5,0))","v":"★"},{"$f":"INDEX(入力フォーム!$N4:$BEQ4,1,MATCH(ASL7,入力フォーム!$N$5:$BEQ$5,0))","v":"★"},{"$f":"INDEX(入力フォーム!$N4:$BEQ4,1,MATCH(ASM7,入力フォーム!$N$5:$BEQ$5,0))","v":"★"},{"$f":"INDEX(入力フォーム!$N4:$BEQ4,1,MATCH(ASN7,入力フォーム!$N$5:$BEQ$5,0))","v":"★"},{"$f":"INDEX(入力フォーム!$N4:$BEQ4,1,MATCH(ASO7,入力フォーム!$N$5:$BEQ$5,0))","v":"★"},{"$f":"INDEX(入力フォーム!$N4:$BEQ4,1,MATCH(ASP7,入力フォーム!$N$5:$BEQ$5,0))","v":"★"},{"$f":"INDEX(入力フォーム!$N4:$BEQ4,1,MATCH(ASQ7,入力フォーム!$N$5:$BEQ$5,0))","v":"★"},{"$f":"INDEX(入力フォーム!$N4:$BEQ4,1,MATCH(ASR7,入力フォーム!$N$5:$BEQ$5,0))","v":"★"},{"$f":"INDEX(入力フォーム!$N4:$BEQ4,1,MATCH(ASS7,入力フォーム!$N$5:$BEQ$5,0))","v":"★"},{"$f":"INDEX(入力フォーム!$N4:$BEQ4,1,MATCH(AST7,入力フォーム!$N$5:$BEQ$5,0))","v":"★"},{"$f":"INDEX(入力フォーム!$N4:$BEQ4,1,MATCH(ASU7,入力フォーム!$N$5:$BEQ$5,0))","v":"★"},{"$f":"INDEX(入力フォーム!$N4:$BEQ4,1,MATCH(ASV7,入力フォーム!$N$5:$BEQ$5,0))","v":"★"},{"$f":"INDEX(入力フォーム!$N4:$BEQ4,1,MATCH(ASW7,入力フォーム!$N$5:$BEQ$5,0))","v":"★"},{"$f":"INDEX(入力フォーム!$N4:$BEQ4,1,MATCH(ASX7,入力フォーム!$N$5:$BEQ$5,0))","v":"★"},{"$f":"INDEX(入力フォーム!$N4:$BEQ4,1,MATCH(ASY7,入力フォーム!$N$5:$BEQ$5,0))","v":"★"},{"$f":"INDEX(入力フォーム!$N4:$BEQ4,1,MATCH(ASZ7,入力フォーム!$N$5:$BEQ$5,0))","v":"★"},{"$f":"INDEX(入力フォーム!$N4:$BEQ4,1,MATCH(ATA7,入力フォーム!$N$5:$BEQ$5,0))","v":"★"},{"$f":"INDEX(入力フォーム!$N4:$BEQ4,1,MATCH(ATB7,入力フォーム!$N$5:$BEQ$5,0))","v":"★"},{"$f":"INDEX(入力フォーム!$N4:$BEQ4,1,MATCH(ATC7,入力フォーム!$N$5:$BEQ$5,0))","v":"★"},{"$f":"INDEX(入力フォーム!$N4:$BEQ4,1,MATCH(ATD7,入力フォーム!$N$5:$BEQ$5,0))","v":"★"},{"$f":"INDEX(入力フォーム!$N4:$BEQ4,1,MATCH(ATE7,入力フォーム!$N$5:$BEQ$5,0))","v":"★"},{"$f":"INDEX(入力フォーム!$N4:$BEQ4,1,MATCH(ATF7,入力フォーム!$N$5:$BEQ$5,0))","v":"★"},{"$f":"INDEX(入力フォーム!$N4:$BEQ4,1,MATCH(ATG7,入力フォーム!$N$5:$BEQ$5,0))","v":"★"},{"$f":"INDEX(入力フォーム!$N4:$BEQ4,1,MATCH(ATH7,入力フォーム!$N$5:$BEQ$5,0))","v":"★"},{"$f":"INDEX(入力フォーム!$N4:$BEQ4,1,MATCH(ATI7,入力フォーム!$N$5:$BEQ$5,0))","v":"★"},{"$f":"INDEX(入力フォーム!$N4:$BEQ4,1,MATCH(ATJ7,入力フォーム!$N$5:$BEQ$5,0))","v":"★"},{"$f":"INDEX(入力フォーム!$N4:$BEQ4,1,MATCH(ATK7,入力フォーム!$N$5:$BEQ$5,0))","v":"★"},{"$f":"INDEX(入力フォーム!$N4:$BEQ4,1,MATCH(ATL7,入力フォーム!$N$5:$BEQ$5,0))","v":"★"},{"$f":"INDEX(入力フォーム!$N4:$BEQ4,1,MATCH(ATM7,入力フォーム!$N$5:$BEQ$5,0))","v":"★"},{"$f":"INDEX(入力フォーム!$N4:$BEQ4,1,MATCH(ATN7,入力フォーム!$N$5:$BEQ$5,0))","v":"★"},{"$f":"INDEX(入力フォーム!$N4:$BEQ4,1,MATCH(ATO7,入力フォーム!$N$5:$BEQ$5,0))","v":"★"},{"$f":"INDEX(入力フォーム!$N4:$BEQ4,1,MATCH(ATP7,入力フォーム!$N$5:$BEQ$5,0))","v":"★"},{"$f":"INDEX(入力フォーム!$N4:$BEQ4,1,MATCH(ATQ7,入力フォーム!$N$5:$BEQ$5,0))","v":"★"},{"$f":"INDEX(入力フォーム!$N4:$BEQ4,1,MATCH(ATR7,入力フォーム!$N$5:$BEQ$5,0))","v":"★"},{"$f":"INDEX(入力フォーム!$N4:$BEQ4,1,MATCH(ATS7,入力フォーム!$N$5:$BEQ$5,0))","v":"★"},{"$f":"INDEX(入力フォーム!$N4:$BEQ4,1,MATCH(ATT7,入力フォーム!$N$5:$BEQ$5,0))","v":"★"},{"$f":"INDEX(入力フォーム!$N4:$BEQ4,1,MATCH(ATU7,入力フォーム!$N$5:$BEQ$5,0))","v":"★"},{"$f":"INDEX(入力フォーム!$N4:$BEQ4,1,MATCH(ATV7,入力フォーム!$N$5:$BEQ$5,0))","v":"★"},{"$f":"INDEX(入力フォーム!$N4:$BEQ4,1,MATCH(ATW7,入力フォーム!$N$5:$BEQ$5,0))","v":"★"},{"$f":"INDEX(入力フォーム!$N4:$BEQ4,1,MATCH(ATX7,入力フォーム!$N$5:$BEQ$5,0))","v":"★"},{"$f":"INDEX(入力フォーム!$N4:$BEQ4,1,MATCH(ATY7,入力フォーム!$N$5:$BEQ$5,0))","v":"★"},{"$f":"INDEX(入力フォーム!$N4:$BEQ4,1,MATCH(ATZ7,入力フォーム!$N$5:$BEQ$5,0))","v":"★"},{"$f":"INDEX(入力フォーム!$N4:$BEQ4,1,MATCH(AUA7,入力フォーム!$N$5:$BEQ$5,0))","v":"★"},{"$f":"INDEX(入力フォーム!$N4:$BEQ4,1,MATCH(AUB7,入力フォーム!$N$5:$BEQ$5,0))","v":"★"},{"$f":"INDEX(入力フォーム!$N4:$BEQ4,1,MATCH(AUC7,入力フォーム!$N$5:$BEQ$5,0))","v":"★"},{"$f":"INDEX(入力フォーム!$N4:$BEQ4,1,MATCH(AUD7,入力フォーム!$N$5:$BEQ$5,0))","v":"★"},{"$f":"INDEX(入力フォーム!$N4:$BEQ4,1,MATCH(AUE7,入力フォーム!$N$5:$BEQ$5,0))","v":"★"},{"$f":"INDEX(入力フォーム!$N4:$BEQ4,1,MATCH(AUF7,入力フォーム!$N$5:$BEQ$5,0))","v":"★"},{"$f":"INDEX(入力フォーム!$N4:$BEQ4,1,MATCH(AUG7,入力フォーム!$N$5:$BEQ$5,0))","v":"★"},{"$f":"INDEX(入力フォーム!$N4:$BEQ4,1,MATCH(AUH7,入力フォーム!$N$5:$BEQ$5,0))","v":"★"},{"$f":"INDEX(入力フォーム!$N4:$BEQ4,1,MATCH(AUI7,入力フォーム!$N$5:$BEQ$5,0))","v":"★"},{"$f":"INDEX(入力フォーム!$N4:$BEQ4,1,MATCH(AUJ7,入力フォーム!$N$5:$BEQ$5,0))","v":"★"},{"$f":"INDEX(入力フォーム!$N4:$BEQ4,1,MATCH(AUK7,入力フォーム!$N$5:$BEQ$5,0))","v":"★"},{"$f":"INDEX(入力フォーム!$N4:$BEQ4,1,MATCH(AUL7,入力フォーム!$N$5:$BEQ$5,0))","v":"★"},{"$f":"INDEX(入力フォーム!$N4:$BEQ4,1,MATCH(AUM7,入力フォーム!$N$5:$BEQ$5,0))","v":"★"},{"$f":"INDEX(入力フォーム!$N4:$BEQ4,1,MATCH(AUN7,入力フォーム!$N$5:$BEQ$5,0))","v":"★"},{"$f":"INDEX(入力フォーム!$N4:$BEQ4,1,MATCH(AUO7,入力フォーム!$N$5:$BEQ$5,0))","v":"★"},{"$f":"INDEX(入力フォーム!$N4:$BEQ4,1,MATCH(AUP7,入力フォーム!$N$5:$BEQ$5,0))","v":"★"},{"$f":"INDEX(入力フォーム!$N4:$BEQ4,1,MATCH(AUQ7,入力フォーム!$N$5:$BEQ$5,0))","v":"★"},{"$f":"INDEX(入力フォーム!$N4:$BEQ4,1,MATCH(AUR7,入力フォーム!$N$5:$BEQ$5,0))","v":"★"},{"$f":"INDEX(入力フォーム!$N4:$BEQ4,1,MATCH(AUS7,入力フォーム!$N$5:$BEQ$5,0))","v":"★"},{"$f":"INDEX(入力フォーム!$N4:$BEQ4,1,MATCH(AUT7,入力フォーム!$N$5:$BEQ$5,0))","v":"★"},{"$f":"INDEX(入力フォーム!$N4:$BEQ4,1,MATCH(AUU7,入力フォーム!$N$5:$BEQ$5,0))","v":"★"},{"$f":"INDEX(入力フォーム!$N4:$BEQ4,1,MATCH(AUV7,入力フォーム!$N$5:$BEQ$5,0))","v":"★"},{"$f":"INDEX(入力フォーム!$N4:$BEQ4,1,MATCH(AUW7,入力フォーム!$N$5:$BEQ$5,0))","v":"★"},{"$f":"INDEX(入力フォーム!$N4:$BEQ4,1,MATCH(AUX7,入力フォーム!$N$5:$BEQ$5,0))","v":"★"},{"$f":"INDEX(入力フォーム!$N4:$BEQ4,1,MATCH(AUY7,入力フォーム!$N$5:$BEQ$5,0))","v":"★"},{"$f":"INDEX(入力フォーム!$N4:$BEQ4,1,MATCH(AUZ7,入力フォーム!$N$5:$BEQ$5,0))","v":"★"},{"$f":"INDEX(入力フォーム!$N4:$BEQ4,1,MATCH(AVA7,入力フォーム!$N$5:$BEQ$5,0))","v":"★"},{"$f":"INDEX(入力フォーム!$N4:$BEQ4,1,MATCH(AVB7,入力フォーム!$N$5:$BEQ$5,0))","v":"★"},{"$f":"INDEX(入力フォーム!$N4:$BEQ4,1,MATCH(AVC7,入力フォーム!$N$5:$BEQ$5,0))","v":"★"},{"$f":"INDEX(入力フォーム!$N4:$BEQ4,1,MATCH(AVD7,入力フォーム!$N$5:$BEQ$5,0))","v":"★"},{"$f":"INDEX(入力フォーム!$N4:$BEQ4,1,MATCH(AVE7,入力フォーム!$N$5:$BEQ$5,0))","v":"★"},{"$f":"INDEX(入力フォーム!$N4:$BEQ4,1,MATCH(AVF7,入力フォーム!$N$5:$BEQ$5,0))","v":"★"},{"$f":"INDEX(入力フォーム!$N4:$BEQ4,1,MATCH(AVG7,入力フォーム!$N$5:$BEQ$5,0))","v":"★"},{"$f":"INDEX(入力フォーム!$N4:$BEQ4,1,MATCH(AVH7,入力フォーム!$N$5:$BEQ$5,0))","v":"★"},{"$f":"INDEX(入力フォーム!$N4:$BEQ4,1,MATCH(AVI7,入力フォーム!$N$5:$BEQ$5,0))","v":"★"},{"$f":"INDEX(入力フォーム!$N4:$BEQ4,1,MATCH(AVJ7,入力フォーム!$N$5:$BEQ$5,0))","v":"★"},{"$f":"INDEX(入力フォーム!$N4:$BEQ4,1,MATCH(AVK7,入力フォーム!$N$5:$BEQ$5,0))","v":"★"},{"$f":"INDEX(入力フォーム!$N4:$BEQ4,1,MATCH(AVL7,入力フォーム!$N$5:$BEQ$5,0))","v":"★"},{"$f":"INDEX(入力フォーム!$N4:$BEQ4,1,MATCH(AVM7,入力フォーム!$N$5:$BEQ$5,0))","v":"★"},{"$f":"INDEX(入力フォーム!$N4:$BEQ4,1,MATCH(AVN7,入力フォーム!$N$5:$BEQ$5,0))","v":"★"},{"$f":"INDEX(入力フォーム!$N4:$BEQ4,1,MATCH(AVO7,入力フォーム!$N$5:$BEQ$5,0))","v":"★"},{"$f":"INDEX(入力フォーム!$N4:$BEQ4,1,MATCH(AVP7,入力フォーム!$N$5:$BEQ$5,0))","v":"★"},{"$f":"INDEX(入力フォーム!$N4:$BEQ4,1,MATCH(AVQ7,入力フォーム!$N$5:$BEQ$5,0))","v":"★"},{"$f":"INDEX(入力フォーム!$N4:$BEQ4,1,MATCH(AVR7,入力フォーム!$N$5:$BEQ$5,0))","v":"★"},{"$f":"INDEX(入力フォーム!$N4:$BEQ4,1,MATCH(AVS7,入力フォーム!$N$5:$BEQ$5,0))","v":"★"},{"$f":"INDEX(入力フォーム!$N4:$BEQ4,1,MATCH(AVT7,入力フォーム!$N$5:$BEQ$5,0))","v":"★"},{"$f":"INDEX(入力フォーム!$N4:$BEQ4,1,MATCH(AVU7,入力フォーム!$N$5:$BEQ$5,0))","v":"★"},{"$f":"INDEX(入力フォーム!$N4:$BEQ4,1,MATCH(AVV7,入力フォーム!$N$5:$BEQ$5,0))","v":"★"},{"$f":"INDEX(入力フォーム!$N4:$BEQ4,1,MATCH(AVW7,入力フォーム!$N$5:$BEQ$5,0))","v":"★"},{"$f":"INDEX(入力フォーム!$N4:$BEQ4,1,MATCH(AVX7,入力フォーム!$N$5:$BEQ$5,0))","v":"★"},{"$f":"INDEX(入力フォーム!$N4:$BEQ4,1,MATCH(AVY7,入力フォーム!$N$5:$BEQ$5,0))","v":"★"},{"$f":"INDEX(入力フォーム!$N4:$BEQ4,1,MATCH(AVZ7,入力フォーム!$N$5:$BEQ$5,0))","v":"★"},{"$f":"INDEX(入力フォーム!$N4:$BEQ4,1,MATCH(AWA7,入力フォーム!$N$5:$BEQ$5,0))","v":"★"},{"$f":"INDEX(入力フォーム!$N4:$BEQ4,1,MATCH(AWB7,入力フォーム!$N$5:$BEQ$5,0))","v":"★"},{"$f":"INDEX(入力フォーム!$N4:$BEQ4,1,MATCH(AWC7,入力フォーム!$N$5:$BEQ$5,0))","v":"★"},{"$f":"INDEX(入力フォーム!$N4:$BEQ4,1,MATCH(AWD7,入力フォーム!$N$5:$BEQ$5,0))","v":"★"},{"$f":"INDEX(入力フォーム!$N4:$BEQ4,1,MATCH(AWE7,入力フォーム!$N$5:$BEQ$5,0))","v":"★"},{"$f":"INDEX(入力フォーム!$N4:$BEQ4,1,MATCH(AWF7,入力フォーム!$N$5:$BEQ$5,0))","v":"★"},{"$f":"INDEX(入力フォーム!$N4:$BEQ4,1,MATCH(AWG7,入力フォーム!$N$5:$BEQ$5,0))","v":"★"},{"$f":"INDEX(入力フォーム!$N4:$BEQ4,1,MATCH(AWH7,入力フォーム!$N$5:$BEQ$5,0))","v":"★"},{"$f":"INDEX(入力フォーム!$N4:$BEQ4,1,MATCH(AWI7,入力フォーム!$N$5:$BEQ$5,0))","v":"★"},{"$f":"INDEX(入力フォーム!$N4:$BEQ4,1,MATCH(AWJ7,入力フォーム!$N$5:$BEQ$5,0))","v":"★"},{"$f":"INDEX(入力フォーム!$N4:$BEQ4,1,MATCH(AWK7,入力フォーム!$N$5:$BEQ$5,0))","v":"★"},{"$f":"INDEX(入力フォーム!$N4:$BEQ4,1,MATCH(AWL7,入力フォーム!$N$5:$BEQ$5,0))","v":"★"},{"$f":"INDEX(入力フォーム!$N4:$BEQ4,1,MATCH(AWM7,入力フォーム!$N$5:$BEQ$5,0))","v":"★"},{"$f":"INDEX(入力フォーム!$N4:$BEQ4,1,MATCH(AWN7,入力フォーム!$N$5:$BEQ$5,0))","v":"★"},{"$f":"INDEX(入力フォーム!$N4:$BEQ4,1,MATCH(AWO7,入力フォーム!$N$5:$BEQ$5,0))","v":"★"},{"$f":"INDEX(入力フォーム!$N4:$BEQ4,1,MATCH(AWP7,入力フォーム!$N$5:$BEQ$5,0))","v":"★"},{"$f":"INDEX(入力フォーム!$N4:$BEQ4,1,MATCH(AWQ7,入力フォーム!$N$5:$BEQ$5,0))","v":"★"},{"$f":"INDEX(入力フォーム!$N4:$BEQ4,1,MATCH(AWR7,入力フォーム!$N$5:$BEQ$5,0))","v":"★"},{"$f":"INDEX(入力フォーム!$N4:$BEQ4,1,MATCH(AWS7,入力フォーム!$N$5:$BEQ$5,0))","v":"★"},{"$f":"INDEX(入力フォーム!$N4:$BEQ4,1,MATCH(AWT7,入力フォーム!$N$5:$BEQ$5,0))","v":"★"},{"$f":"INDEX(入力フォーム!$N4:$BEQ4,1,MATCH(AWU7,入力フォーム!$N$5:$BEQ$5,0))","v":"★"},{"$f":"INDEX(入力フォーム!$N4:$BEQ4,1,MATCH(AWV7,入力フォーム!$N$5:$BEQ$5,0))","v":"★"},{"$f":"INDEX(入力フォーム!$N4:$BEQ4,1,MATCH(AWW7,入力フォーム!$N$5:$BEQ$5,0))","v":"★"},{"$f":"INDEX(入力フォーム!$N4:$BEQ4,1,MATCH(AWX7,入力フォーム!$N$5:$BEQ$5,0))","v":"★"},{"$f":"INDEX(入力フォーム!$N4:$BEQ4,1,MATCH(AWY7,入力フォーム!$N$5:$BEQ$5,0))","v":"★"},{"$f":"INDEX(入力フォーム!$N4:$BEQ4,1,MATCH(AWZ7,入力フォーム!$N$5:$BEQ$5,0))","v":"★"},{"$f":"INDEX(入力フォーム!$N4:$BEQ4,1,MATCH(AXA7,入力フォーム!$N$5:$BEQ$5,0))","v":"★"},{"$f":"INDEX(入力フォーム!$N4:$BEQ4,1,MATCH(AXB7,入力フォーム!$N$5:$BEQ$5,0))","v":"★"},{"$f":"INDEX(入力フォーム!$N4:$BEQ4,1,MATCH(AXC7,入力フォーム!$N$5:$BEQ$5,0))","v":"★"},{"$f":"INDEX(入力フォーム!$N4:$BEQ4,1,MATCH(AXD7,入力フォーム!$N$5:$BEQ$5,0))","v":"★"},{"$f":"INDEX(入力フォーム!$N4:$BEQ4,1,MATCH(AXE7,入力フォーム!$N$5:$BEQ$5,0))","v":"★"},{"$f":"INDEX(入力フォーム!$N4:$BEQ4,1,MATCH(AXF7,入力フォーム!$N$5:$BEQ$5,0))","v":"★"},{"$f":"INDEX(入力フォーム!$N4:$BEQ4,1,MATCH(AXG7,入力フォーム!$N$5:$BEQ$5,0))","v":"★"},{"$f":"INDEX(入力フォーム!$N4:$BEQ4,1,MATCH(AXH7,入力フォーム!$N$5:$BEQ$5,0))","v":"★"},{"$f":"INDEX(入力フォーム!$N4:$BEQ4,1,MATCH(AXI7,入力フォーム!$N$5:$BEQ$5,0))","v":"★"},{"$f":"INDEX(入力フォーム!$N4:$BEQ4,1,MATCH(AXJ7,入力フォーム!$N$5:$BEQ$5,0))","v":"★"},{"$f":"INDEX(入力フォーム!$N4:$BEQ4,1,MATCH(AXK7,入力フォーム!$N$5:$BEQ$5,0))","v":"★"},{"$f":"INDEX(入力フォーム!$N4:$BEQ4,1,MATCH(AXL7,入力フォーム!$N$5:$BEQ$5,0))","v":"★"},{"$f":"INDEX(入力フォーム!$N4:$BEQ4,1,MATCH(AXM7,入力フォーム!$N$5:$BEQ$5,0))","v":"★"},{"$f":"INDEX(入力フォーム!$N4:$BEQ4,1,MATCH(AXN7,入力フォーム!$N$5:$BEQ$5,0))","v":"★"},{"$f":"INDEX(入力フォーム!$N4:$BEQ4,1,MATCH(AXO7,入力フォーム!$N$5:$BEQ$5,0))","v":"★"},{"$f":"INDEX(入力フォーム!$N4:$BEQ4,1,MATCH(AXP7,入力フォーム!$N$5:$BEQ$5,0))","v":"★"},{"$f":"INDEX(入力フォーム!$N4:$BEQ4,1,MATCH(AXQ7,入力フォーム!$N$5:$BEQ$5,0))","v":"★"},{"$f":"INDEX(入力フォーム!$N4:$BEQ4,1,MATCH(AXR7,入力フォーム!$N$5:$BEQ$5,0))","v":"★"},{"$f":"INDEX(入力フォーム!$N4:$BEQ4,1,MATCH(AXS7,入力フォーム!$N$5:$BEQ$5,0))","v":"★"},{"$f":"INDEX(入力フォーム!$N4:$BEQ4,1,MATCH(AXT7,入力フォーム!$N$5:$BEQ$5,0))","v":"★"},{"$f":"INDEX(入力フォーム!$N4:$BEQ4,1,MATCH(AXU7,入力フォーム!$N$5:$BEQ$5,0))","v":"★"},{"$f":"INDEX(入力フォーム!$N4:$BEQ4,1,MATCH(AXV7,入力フォーム!$N$5:$BEQ$5,0))","v":"★"},{"$f":"INDEX(入力フォーム!$N4:$BEQ4,1,MATCH(AXW7,入力フォーム!$N$5:$BEQ$5,0))","v":"★"},{"$f":"INDEX(入力フォーム!$N4:$BEQ4,1,MATCH(AXX7,入力フォーム!$N$5:$BEQ$5,0))","v":"★"},{"$f":"INDEX(入力フォーム!$N4:$BEQ4,1,MATCH(AXY7,入力フォーム!$N$5:$BEQ$5,0))","v":"★"},{"$f":"INDEX(入力フォーム!$N4:$BEQ4,1,MATCH(AXZ7,入力フォーム!$N$5:$BEQ$5,0))","v":"★"},{"$f":"INDEX(入力フォーム!$N4:$BEQ4,1,MATCH(AYA7,入力フォーム!$N$5:$BEQ$5,0))","v":"★"},{"$f":"INDEX(入力フォーム!$N4:$BEQ4,1,MATCH(AYB7,入力フォーム!$N$5:$BEQ$5,0))","v":"★"},{"$f":"INDEX(入力フォーム!$N4:$BEQ4,1,MATCH(AYC7,入力フォーム!$N$5:$BEQ$5,0))","v":"★"},{"$f":"INDEX(入力フォーム!$N4:$BEQ4,1,MATCH(AYD7,入力フォーム!$N$5:$BEQ$5,0))","v":"★"},{"$f":"INDEX(入力フォーム!$N4:$BEQ4,1,MATCH(AYE7,入力フォーム!$N$5:$BEQ$5,0))","v":"★"},{"$f":"INDEX(入力フォーム!$N4:$BEQ4,1,MATCH(AYF7,入力フォーム!$N$5:$BEQ$5,0))","v":"★"},{"$f":"INDEX(入力フォーム!$N4:$BEQ4,1,MATCH(AYG7,入力フォーム!$N$5:$BEQ$5,0))","v":"★"},{"$f":"INDEX(入力フォーム!$N4:$BEQ4,1,MATCH(AYH7,入力フォーム!$N$5:$BEQ$5,0))","v":"★"},{"$f":"INDEX(入力フォーム!$N4:$BEQ4,1,MATCH(AYI7,入力フォーム!$N$5:$BEQ$5,0))","v":"★"},{"$f":"INDEX(入力フォーム!$N4:$BEQ4,1,MATCH(AYJ7,入力フォーム!$N$5:$BEQ$5,0))","v":"★"},{"$f":"INDEX(入力フォーム!$N4:$BEQ4,1,MATCH(AYK7,入力フォーム!$N$5:$BEQ$5,0))","v":"★"},{"$f":"INDEX(入力フォーム!$N4:$BEQ4,1,MATCH(AYL7,入力フォーム!$N$5:$BEQ$5,0))","v":"★"},{"$f":"INDEX(入力フォーム!$N4:$BEQ4,1,MATCH(AYM7,入力フォーム!$N$5:$BEQ$5,0))","v":"★"},{"$f":"INDEX(入力フォーム!$N4:$BEQ4,1,MATCH(AYN7,入力フォーム!$N$5:$BEQ$5,0))","v":"★"},{"$f":"INDEX(入力フォーム!$N4:$BEQ4,1,MATCH(AYO7,入力フォーム!$N$5:$BEQ$5,0))","v":"★"},{"$f":"INDEX(入力フォーム!$N4:$BEQ4,1,MATCH(AYP7,入力フォーム!$N$5:$BEQ$5,0))","v":"★"},{"$f":"INDEX(入力フォーム!$N4:$BEQ4,1,MATCH(AYQ7,入力フォーム!$N$5:$BEQ$5,0))","v":"★"},{"$f":"INDEX(入力フォーム!$N4:$BEQ4,1,MATCH(AYR7,入力フォーム!$N$5:$BEQ$5,0))","v":"★"},{"$f":"INDEX(入力フォーム!$N4:$BEQ4,1,MATCH(AYS7,入力フォーム!$N$5:$BEQ$5,0))","v":"★"},{"$f":"INDEX(入力フォーム!$N4:$BEQ4,1,MATCH(AYT7,入力フォーム!$N$5:$BEQ$5,0))","v":"★"},{"$f":"INDEX(入力フォーム!$N4:$BEQ4,1,MATCH(AYU7,入力フォーム!$N$5:$BEQ$5,0))","v":"★"},{"$f":"INDEX(入力フォーム!$N4:$BEQ4,1,MATCH(AYV7,入力フォーム!$N$5:$BEQ$5,0))","v":"★"},{"$f":"INDEX(入力フォーム!$N4:$BEQ4,1,MATCH(AYW7,入力フォーム!$N$5:$BEQ$5,0))","v":"★"},{"$f":"INDEX(入力フォーム!$N4:$BEQ4,1,MATCH(AYX7,入力フォーム!$N$5:$BEQ$5,0))","v":"★"},{"$f":"INDEX(入力フォーム!$N4:$BEQ4,1,MATCH(AYY7,入力フォーム!$N$5:$BEQ$5,0))","v":"★"},{"$f":"INDEX(入力フォーム!$N4:$BEQ4,1,MATCH(AYZ7,入力フォーム!$N$5:$BEQ$5,0))","v":"★"},{"$f":"INDEX(入力フォーム!$N4:$BEQ4,1,MATCH(AZA7,入力フォーム!$N$5:$BEQ$5,0))","v":"★"},{"$f":"INDEX(入力フォーム!$N4:$BEQ4,1,MATCH(AZB7,入力フォーム!$N$5:$BEQ$5,0))","v":"★"},{"$f":"INDEX(入力フォーム!$N4:$BEQ4,1,MATCH(AZC7,入力フォーム!$N$5:$BEQ$5,0))","v":"★"},{"$f":"INDEX(入力フォーム!$N4:$BEQ4,1,MATCH(AZD7,入力フォーム!$N$5:$BEQ$5,0))","v":"★"},{"$f":"INDEX(入力フォーム!$N4:$BEQ4,1,MATCH(AZE7,入力フォーム!$N$5:$BEQ$5,0))","v":"★"},{"$f":"INDEX(入力フォーム!$N4:$BEQ4,1,MATCH(AZF7,入力フォーム!$N$5:$BEQ$5,0))","v":"★"},{"$f":"INDEX(入力フォーム!$N4:$BEQ4,1,MATCH(AZG7,入力フォーム!$N$5:$BEQ$5,0))","v":"★"},{"$f":"INDEX(入力フォーム!$N4:$BEQ4,1,MATCH(AZH7,入力フォーム!$N$5:$BEQ$5,0))","v":"★"},{"$f":"INDEX(入力フォーム!$N4:$BEQ4,1,MATCH(AZI7,入力フォーム!$N$5:$BEQ$5,0))","v":"★"},{"$f":"INDEX(入力フォーム!$N4:$BEQ4,1,MATCH(AZJ7,入力フォーム!$N$5:$BEQ$5,0))","v":"★"},{"$f":"INDEX(入力フォーム!$N4:$BEQ4,1,MATCH(AZK7,入力フォーム!$N$5:$BEQ$5,0))","v":"★"},{"$f":"INDEX(入力フォーム!$N4:$BEQ4,1,MATCH(AZL7,入力フォーム!$N$5:$BEQ$5,0))","v":"★"},{"$f":"INDEX(入力フォーム!$N4:$BEQ4,1,MATCH(AZM7,入力フォーム!$N$5:$BEQ$5,0))","v":"★"},{"$f":"INDEX(入力フォーム!$N4:$BEQ4,1,MATCH(AZN7,入力フォーム!$N$5:$BEQ$5,0))","v":"★"},{"$f":"INDEX(入力フォーム!$N4:$BEQ4,1,MATCH(AZO7,入力フォーム!$N$5:$BEQ$5,0))","v":"★"},{"$f":"INDEX(入力フォーム!$N4:$BEQ4,1,MATCH(AZP7,入力フォーム!$N$5:$BEQ$5,0))","v":"★"},{"$f":"INDEX(入力フォーム!$N4:$BEQ4,1,MATCH(AZQ7,入力フォーム!$N$5:$BEQ$5,0))","v":"★"},{"$f":"INDEX(入力フォーム!$N4:$BEQ4,1,MATCH(AZR7,入力フォーム!$N$5:$BEQ$5,0))","v":"★"},{"$f":"INDEX(入力フォーム!$N4:$BEQ4,1,MATCH(AZS7,入力フォーム!$N$5:$BEQ$5,0))","v":"★"},{"$f":"INDEX(入力フォーム!$N4:$BEQ4,1,MATCH(AZT7,入力フォーム!$N$5:$BEQ$5,0))","v":"★"},{"$f":"INDEX(入力フォーム!$N4:$BEQ4,1,MATCH(AZU7,入力フォーム!$N$5:$BEQ$5,0))","v":"★"},{"$f":"INDEX(入力フォーム!$N4:$BEQ4,1,MATCH(AZV7,入力フォーム!$N$5:$BEQ$5,0))","v":"★"},{"$f":"INDEX(入力フォーム!$N4:$BEQ4,1,MATCH(AZW7,入力フォーム!$N$5:$BEQ$5,0))","v":"★"},{"$f":"INDEX(入力フォーム!$N4:$BEQ4,1,MATCH(AZX7,入力フォーム!$N$5:$BEQ$5,0))","v":"★"},{"$f":"INDEX(入力フォーム!$N4:$BEQ4,1,MATCH(AZY7,入力フォーム!$N$5:$BEQ$5,0))","v":"★"},{"$f":"INDEX(入力フォーム!$N4:$BEQ4,1,MATCH(AZZ7,入力フォーム!$N$5:$BEQ$5,0))","v":"★"},{"$f":"INDEX(入力フォーム!$N4:$BEQ4,1,MATCH(BAA7,入力フォーム!$N$5:$BEQ$5,0))","v":"★"},{"$f":"INDEX(入力フォーム!$N4:$BEQ4,1,MATCH(BAB7,入力フォーム!$N$5:$BEQ$5,0))","v":"★"},{"$f":"INDEX(入力フォーム!$N4:$BEQ4,1,MATCH(BAC7,入力フォーム!$N$5:$BEQ$5,0))","v":"★"},{"$f":"INDEX(入力フォーム!$N4:$BEQ4,1,MATCH(BAD7,入力フォーム!$N$5:$BEQ$5,0))","v":"★"},{"$f":"INDEX(入力フォーム!$N4:$BEQ4,1,MATCH(BAE7,入力フォーム!$N$5:$BEQ$5,0))","v":"★"},{"$f":"INDEX(入力フォーム!$N4:$BEQ4,1,MATCH(BAF7,入力フォーム!$N$5:$BEQ$5,0))","v":"★"},{"$f":"INDEX(入力フォーム!$N4:$BEQ4,1,MATCH(BAG7,入力フォーム!$N$5:$BEQ$5,0))","v":"★"},{"$f":"INDEX(入力フォーム!$N4:$BEQ4,1,MATCH(BAH7,入力フォーム!$N$5:$BEQ$5,0))","v":"★"},{"$f":"INDEX(入力フォーム!$N4:$BEQ4,1,MATCH(BAI7,入力フォーム!$N$5:$BEQ$5,0))","v":"★"},{"$f":"INDEX(入力フォーム!$N4:$BEQ4,1,MATCH(BAJ7,入力フォーム!$N$5:$BEQ$5,0))","v":"★"},{"$f":"INDEX(入力フォーム!$N4:$BEQ4,1,MATCH(BAK7,入力フォーム!$N$5:$BEQ$5,0))","v":"★"},{"$f":"INDEX(入力フォーム!$N4:$BEQ4,1,MATCH(BAL7,入力フォーム!$N$5:$BEQ$5,0))","v":"★"},{"$f":"INDEX(入力フォーム!$N4:$BEQ4,1,MATCH(BAM7,入力フォーム!$N$5:$BEQ$5,0))","v":"★"},{"$f":"INDEX(入力フォーム!$N4:$BEQ4,1,MATCH(BAN7,入力フォーム!$N$5:$BEQ$5,0))","v":"★"},{"$f":"INDEX(入力フォーム!$N4:$BEQ4,1,MATCH(BAO7,入力フォーム!$N$5:$BEQ$5,0))","v":"★"},{"$f":"INDEX(入力フォーム!$N4:$BEQ4,1,MATCH(BAP7,入力フォーム!$N$5:$BEQ$5,0))","v":"★"},{"$f":"INDEX(入力フォーム!$N4:$BEQ4,1,MATCH(BAQ7,入力フォーム!$N$5:$BEQ$5,0))","v":"★"},{"$f":"INDEX(入力フォーム!$N4:$BEQ4,1,MATCH(BAR7,入力フォーム!$N$5:$BEQ$5,0))","v":"★"},{"$f":"INDEX(入力フォーム!$N4:$BEQ4,1,MATCH(BAS7,入力フォーム!$N$5:$BEQ$5,0))","v":"★"},{"$f":"INDEX(入力フォーム!$N4:$BEQ4,1,MATCH(BAT7,入力フォーム!$N$5:$BEQ$5,0))","v":"★"},{"$f":"INDEX(入力フォーム!$N4:$BEQ4,1,MATCH(BAU7,入力フォーム!$N$5:$BEQ$5,0))","v":"★"},{"$f":"INDEX(入力フォーム!$N4:$BEQ4,1,MATCH(BAV7,入力フォーム!$N$5:$BEQ$5,0))","v":"★"},{"$f":"INDEX(入力フォーム!$N4:$BEQ4,1,MATCH(BAW7,入力フォーム!$N$5:$BEQ$5,0))","v":"★"},{"$f":"INDEX(入力フォーム!$N4:$BEQ4,1,MATCH(BAX7,入力フォーム!$N$5:$BEQ$5,0))","v":"★"},{"$f":"INDEX(入力フォーム!$N4:$BEQ4,1,MATCH(BAY7,入力フォーム!$N$5:$BEQ$5,0))","v":"★"},{"$f":"INDEX(入力フォーム!$N4:$BEQ4,1,MATCH(BAZ7,入力フォーム!$N$5:$BEQ$5,0))","v":"★"},{"$f":"INDEX(入力フォーム!$N4:$BEQ4,1,MATCH(BBA7,入力フォーム!$N$5:$BEQ$5,0))","v":"★"},{"$f":"INDEX(入力フォーム!$N4:$BEQ4,1,MATCH(BBB7,入力フォーム!$N$5:$BEQ$5,0))","v":"★"},{"$f":"INDEX(入力フォーム!$N4:$BEQ4,1,MATCH(BBC7,入力フォーム!$N$5:$BEQ$5,0))","v":"★"},{"$f":"INDEX(入力フォーム!$N4:$BEQ4,1,MATCH(BBD7,入力フォーム!$N$5:$BEQ$5,0))","v":"★"},{"$f":"INDEX(入力フォーム!$N4:$BEQ4,1,MATCH(BBE7,入力フォーム!$N$5:$BEQ$5,0))","v":"★"},{"$f":"INDEX(入力フォーム!$N4:$BEQ4,1,MATCH(BBF7,入力フォーム!$N$5:$BEQ$5,0))","v":"★"},{"$f":"INDEX(入力フォーム!$N4:$BEQ4,1,MATCH(BBG7,入力フォーム!$N$5:$BEQ$5,0))","v":"★"},{"$f":"INDEX(入力フォーム!$N4:$BEQ4,1,MATCH(BBH7,入力フォーム!$N$5:$BEQ$5,0))","v":"★"},{"$f":"INDEX(入力フォーム!$N4:$BEQ4,1,MATCH(BBI7,入力フォーム!$N$5:$BEQ$5,0))","v":"★"},{"$f":"INDEX(入力フォーム!$N4:$BEQ4,1,MATCH(BBJ7,入力フォーム!$N$5:$BEQ$5,0))","v":"★"},{"$f":"INDEX(入力フォーム!$N4:$BEQ4,1,MATCH(BBK7,入力フォーム!$N$5:$BEQ$5,0))","v":"★"},{"$f":"INDEX(入力フォーム!$N4:$BEQ4,1,MATCH(BBL7,入力フォーム!$N$5:$BEQ$5,0))","v":"★"},{"$f":"INDEX(入力フォーム!$N4:$BEQ4,1,MATCH(BBM7,入力フォーム!$N$5:$BEQ$5,0))","v":"★"},{"$f":"INDEX(入力フォーム!$N4:$BEQ4,1,MATCH(BBN7,入力フォーム!$N$5:$BEQ$5,0))","v":"★"},{"$f":"INDEX(入力フォーム!$N4:$BEQ4,1,MATCH(BBO7,入力フォーム!$N$5:$BEQ$5,0))","v":"★"},{"$f":"INDEX(入力フォーム!$N4:$BEQ4,1,MATCH(BBP7,入力フォーム!$N$5:$BEQ$5,0))","v":"★"},{"$f":"INDEX(入力フォーム!$N4:$BEQ4,1,MATCH(BBQ7,入力フォーム!$N$5:$BEQ$5,0))","v":"★"},{"$f":"INDEX(入力フォーム!$N4:$BEQ4,1,MATCH(BBR7,入力フォーム!$N$5:$BEQ$5,0))","v":"★"},{"$f":"INDEX(入力フォーム!$N4:$BEQ4,1,MATCH(BBS7,入力フォーム!$N$5:$BEQ$5,0))","v":"★"},{"$f":"INDEX(入力フォーム!$N4:$BEQ4,1,MATCH(BBT7,入力フォーム!$N$5:$BEQ$5,0))","v":"★"},{"$f":"INDEX(入力フォーム!$N4:$BEQ4,1,MATCH(BBU7,入力フォーム!$N$5:$BEQ$5,0))","v":"★"},{"$f":"INDEX(入力フォーム!$N4:$BEQ4,1,MATCH(BBV7,入力フォーム!$N$5:$BEQ$5,0))","v":"★"},{"$f":"INDEX(入力フォーム!$N4:$BEQ4,1,MATCH(BBW7,入力フォーム!$N$5:$BEQ$5,0))","v":"★"},{"$f":"INDEX(入力フォーム!$N4:$BEQ4,1,MATCH(BBX7,入力フォーム!$N$5:$BEQ$5,0))","v":"★"},{"$f":"INDEX(入力フォーム!$N4:$BEQ4,1,MATCH(BBY7,入力フォーム!$N$5:$BEQ$5,0))","v":"★"},{"$f":"INDEX(入力フォーム!$N4:$BEQ4,1,MATCH(BBZ7,入力フォーム!$N$5:$BEQ$5,0))","v":"★"},{"$f":"INDEX(入力フォーム!$N4:$BEQ4,1,MATCH(BCA7,入力フォーム!$N$5:$BEQ$5,0))","v":"★"},{"$f":"INDEX(入力フォーム!$N4:$BEQ4,1,MATCH(BCB7,入力フォーム!$N$5:$BEQ$5,0))","v":"★"},{"$f":"INDEX(入力フォーム!$N4:$BEQ4,1,MATCH(BCC7,入力フォーム!$N$5:$BEQ$5,0))","v":"★"},{"$f":"INDEX(入力フォーム!$N4:$BEQ4,1,MATCH(BCD7,入力フォーム!$N$5:$BEQ$5,0))","v":"★"},{"$f":"INDEX(入力フォーム!$N4:$BEQ4,1,MATCH(BCE7,入力フォーム!$N$5:$BEQ$5,0))","v":"★"},{"$f":"INDEX(入力フォーム!$N4:$BEQ4,1,MATCH(BCF7,入力フォーム!$N$5:$BEQ$5,0))","v":"★"},{"$f":"INDEX(入力フォーム!$N4:$BEQ4,1,MATCH(BCG7,入力フォーム!$N$5:$BEQ$5,0))","v":"★"},{"$f":"INDEX(入力フォーム!$N4:$BEQ4,1,MATCH(BCH7,入力フォーム!$N$5:$BEQ$5,0))","v":"★"},{"$f":"INDEX(入力フォーム!$N4:$BEQ4,1,MATCH(BCI7,入力フォーム!$N$5:$BEQ$5,0))","v":"★"},{"$f":"INDEX(入力フォーム!$N4:$BEQ4,1,MATCH(BCJ7,入力フォーム!$N$5:$BEQ$5,0))","v":"★"},{"$f":"INDEX(入力フォーム!$N4:$BEQ4,1,MATCH(BCK7,入力フォーム!$N$5:$BEQ$5,0))","v":"★"},{"$f":"INDEX(入力フォーム!$N4:$BEQ4,1,MATCH(BCL7,入力フォーム!$N$5:$BEQ$5,0))","v":"★"},{"$f":"INDEX(入力フォーム!$N4:$BEQ4,1,MATCH(BCM7,入力フォーム!$N$5:$BEQ$5,0))","v":"★"},{"$f":"INDEX(入力フォーム!$N4:$BEQ4,1,MATCH(BCN7,入力フォーム!$N$5:$BEQ$5,0))","v":"★"},{"$f":"INDEX(入力フォーム!$N4:$BEQ4,1,MATCH(BCO7,入力フォーム!$N$5:$BEQ$5,0))","v":"★"},{"$f":"INDEX(入力フォーム!$N4:$BEQ4,1,MATCH(BCP7,入力フォーム!$N$5:$BEQ$5,0))","v":"★"},{"$f":"INDEX(入力フォーム!$N4:$BEQ4,1,MATCH(BCQ7,入力フォーム!$N$5:$BEQ$5,0))","v":"★"},{"$f":"INDEX(入力フォーム!$N4:$BEQ4,1,MATCH(BCR7,入力フォーム!$N$5:$BEQ$5,0))","v":"★"},{"$f":"INDEX(入力フォーム!$N4:$BEQ4,1,MATCH(BCS7,入力フォーム!$N$5:$BEQ$5,0))","v":"★"},{"$f":"INDEX(入力フォーム!$N4:$BEQ4,1,MATCH(BCT7,入力フォーム!$N$5:$BEQ$5,0))","v":"★"},{"$f":"INDEX(入力フォーム!$N4:$BEQ4,1,MATCH(BCU7,入力フォーム!$N$5:$BEQ$5,0))","v":"★"},{"$f":"INDEX(入力フォーム!$N4:$BEQ4,1,MATCH(BCV7,入力フォーム!$N$5:$BEQ$5,0))","v":"★"},{"$f":"INDEX(入力フォーム!$N4:$BEQ4,1,MATCH(BCW7,入力フォーム!$N$5:$BEQ$5,0))","v":"★"},{"$f":"INDEX(入力フォーム!$N4:$BEQ4,1,MATCH(BCX7,入力フォーム!$N$5:$BEQ$5,0))","v":"★"},{"$f":"INDEX(入力フォーム!$N4:$BEQ4,1,MATCH(BCY7,入力フォーム!$N$5:$BEQ$5,0))","v":"★"},{"$f":"INDEX(入力フォーム!$N4:$BEQ4,1,MATCH(BCZ7,入力フォーム!$N$5:$BEQ$5,0))","v":"★"},{"$f":"INDEX(入力フォーム!$N4:$BEQ4,1,MATCH(BDA7,入力フォーム!$N$5:$BEQ$5,0))","v":"★"},{"$f":"INDEX(入力フォーム!$N4:$BEQ4,1,MATCH(BDB7,入力フォーム!$N$5:$BEQ$5,0))","v":"★"},{"$f":"INDEX(入力フォーム!$N4:$BEQ4,1,MATCH(BDC7,入力フォーム!$N$5:$BEQ$5,0))","v":"★"},{"$f":"INDEX(入力フォーム!$N4:$BEQ4,1,MATCH(BDD7,入力フォーム!$N$5:$BEQ$5,0))","v":"★"},{"$f":"INDEX(入力フォーム!$N4:$BEQ4,1,MATCH(BDE7,入力フォーム!$N$5:$BEQ$5,0))","v":"★"},{"$f":"INDEX(入力フォーム!$N4:$BEQ4,1,MATCH(BDF7,入力フォーム!$N$5:$BEQ$5,0))","v":"★"},{"$f":"INDEX(入力フォーム!$N4:$BEQ4,1,MATCH(BDG7,入力フォーム!$N$5:$BEQ$5,0))","v":"★"},{"$f":"INDEX(入力フォーム!$N4:$BEQ4,1,MATCH(BDH7,入力フォーム!$N$5:$BEQ$5,0))","v":"★"},{"$f":"INDEX(入力フォーム!$N4:$BEQ4,1,MATCH(BDI7,入力フォーム!$N$5:$BEQ$5,0))","v":"★"},{"$f":"INDEX(入力フォーム!$N4:$BEQ4,1,MATCH(BDJ7,入力フォーム!$N$5:$BEQ$5,0))","v":"★"},{"$f":"INDEX(入力フォーム!$N4:$BEQ4,1,MATCH(BDK7,入力フォーム!$N$5:$BEQ$5,0))","v":"★"},{"$f":"INDEX(入力フォーム!$N4:$BEQ4,1,MATCH(BDL7,入力フォーム!$N$5:$BEQ$5,0))","v":"★"},{"$f":"INDEX(入力フォーム!$N4:$BEQ4,1,MATCH(BDM7,入力フォーム!$N$5:$BEQ$5,0))","v":"★"},{"$f":"INDEX(入力フォーム!$N4:$BEQ4,1,MATCH(BDN7,入力フォーム!$N$5:$BEQ$5,0))","v":"★"},{"$f":"INDEX(入力フォーム!$N4:$BEQ4,1,MATCH(BDO7,入力フォーム!$N$5:$BEQ$5,0))","v":"★"},{"$f":"INDEX(入力フォーム!$N4:$BEQ4,1,MATCH(BDP7,入力フォーム!$N$5:$BEQ$5,0))","v":"★"},{"$f":"INDEX(入力フォーム!$N4:$BEQ4,1,MATCH(BDQ7,入力フォーム!$N$5:$BEQ$5,0))","v":"★"},{"$f":"INDEX(入力フォーム!$N4:$BEQ4,1,MATCH(BDR7,入力フォーム!$N$5:$BEQ$5,0))","v":"★"},{"$f":"INDEX(入力フォーム!$N4:$BEQ4,1,MATCH(BDS7,入力フォーム!$N$5:$BEQ$5,0))","v":"★"},{"$f":"INDEX(入力フォーム!$N4:$BEQ4,1,MATCH(BDT7,入力フォーム!$N$5:$BEQ$5,0))","v":"★"},{"$f":"INDEX(入力フォーム!$N4:$BEQ4,1,MATCH(BDU7,入力フォーム!$N$5:$BEQ$5,0))","v":"★"},{"$f":"INDEX(入力フォーム!$N4:$BEQ4,1,MATCH(BDV7,入力フォーム!$N$5:$BEQ$5,0))","v":"★"},{"$f":"INDEX(入力フォーム!$N4:$BEQ4,1,MATCH(BDW7,入力フォーム!$N$5:$BEQ$5,0))","v":"★"},{"$f":"INDEX(入力フォーム!$N4:$BEQ4,1,MATCH(BDX7,入力フォーム!$N$5:$BEQ$5,0))","v":"★"},{"$f":"INDEX(入力フォーム!$N4:$BEQ4,1,MATCH(BDY7,入力フォーム!$N$5:$BEQ$5,0))","v":"★"},{"$f":"INDEX(入力フォーム!$N4:$BEQ4,1,MATCH(BDZ7,入力フォーム!$N$5:$BEQ$5,0))","v":"★"},{"$f":"INDEX(入力フォーム!$N4:$BEQ4,1,MATCH(BEA7,入力フォーム!$N$5:$BEQ$5,0))","v":"★"},{"$f":"INDEX(入力フォーム!$N4:$BEQ4,1,MATCH(BEB7,入力フォーム!$N$5:$BEQ$5,0))","v":"★"},{"$f":"INDEX(入力フォーム!$N4:$BEQ4,1,MATCH(BEC7,入力フォーム!$N$5:$BEQ$5,0))","v":"★"},{"$f":"INDEX(入力フォーム!$N4:$BEQ4,1,MATCH(BED7,入力フォーム!$N$5:$BEQ$5,0))","v":"★"},{"$f":"INDEX(入力フォーム!$N4:$BEQ4,1,MATCH(BEE7,入力フォーム!$N$5:$BEQ$5,0))","v":"★"},{"$f":"INDEX(入力フォーム!$N4:$BEQ4,1,MATCH(BEF7,入力フォーム!$N$5:$BEQ$5,0))","v":"★"},{"$f":"INDEX(入力フォーム!$N4:$BEQ4,1,MATCH(BEG7,入力フォーム!$N$5:$BEQ$5,0))","v":"★"},{"$f":"INDEX(入力フォーム!$N4:$BEQ4,1,MATCH(BEH7,入力フォーム!$N$5:$BEQ$5,0))","v":"★"},{"$f":"INDEX(入力フォーム!$N4:$BEQ4,1,MATCH(BEI7,入力フォーム!$N$5:$BEQ$5,0))","v":"★"},{"$f":"INDEX(入力フォーム!$N4:$BEQ4,1,MATCH(BEJ7,入力フォーム!$N$5:$BEQ$5,0))","v":"★"},{"$f":"INDEX(入力フォーム!$N4:$BEQ4,1,MATCH(BEK7,入力フォーム!$N$5:$BEQ$5,0))","v":"★"},{"$f":"INDEX(入力フォーム!$N4:$BEQ4,1,MATCH(BEL7,入力フォーム!$N$5:$BEQ$5,0))","v":"★"},{"$f":"INDEX(入力フォーム!$N4:$BEQ4,1,MATCH(BEM7,入力フォーム!$N$5:$BEQ$5,0))","v":"★"},{"$f":"INDEX(入力フォーム!$N4:$BEQ4,1,MATCH(BEN7,入力フォーム!$N$5:$BEQ$5,0))","v":"★"},{"$f":"INDEX(入力フォーム!$N4:$BEQ4,1,MATCH(BEO7,入力フォーム!$N$5:$BEQ$5,0))","v":"★"},{"$f":"INDEX(入力フォーム!$N4:$BEQ4,1,MATCH(BEP7,入力フォーム!$N$5:$BEQ$5,0))","v":"★"},{"$f":"INDEX(入力フォーム!$N4:$BEQ4,1,MATCH(BEQ7,入力フォーム!$N$5:$BEQ$5,0))","v":"★"},{"$f":"INDEX(入力フォーム!$N4:$BEQ4,1,MATCH(BER7,入力フォーム!$N$5:$BEQ$5,0))","v":"★"},{"$f":"INDEX(入力フォーム!$N4:$BEQ4,1,MATCH(BES7,入力フォーム!$N$5:$BEQ$5,0))","v":"★"},{"$f":"INDEX(入力フォーム!$N4:$BEQ4,1,MATCH(BET7,入力フォーム!$N$5:$BEQ$5,0))","v":"★"},{"$f":"INDEX(入力フォーム!$N4:$BEQ4,1,MATCH(BEU7,入力フォーム!$N$5:$BEQ$5,0))","v":"★"},{"$f":"INDEX(入力フォーム!$N4:$BEQ4,1,MATCH(BEV7,入力フォーム!$N$5:$BEQ$5,0))","v":"★"},{"$f":"INDEX(入力フォーム!$N4:$BEQ4,1,MATCH(BEW7,入力フォーム!$N$5:$BEQ$5,0))","v":"★"},{"$f":"INDEX(入力フォーム!$N4:$BEQ4,1,MATCH(BEX7,入力フォーム!$N$5:$BEQ$5,0))","v":"★"},{"$f":"INDEX(入力フォーム!$N4:$BEQ4,1,MATCH(BEY7,入力フォーム!$N$5:$BEQ$5,0))","v":"★"},{"$f":"INDEX(入力フォーム!$N4:$BEQ4,1,MATCH(BEZ7,入力フォーム!$N$5:$BEQ$5,0))","v":"★"},{"$f":"INDEX(入力フォーム!$N4:$BEQ4,1,MATCH(BFA7,入力フォーム!$N$5:$BEQ$5,0))","v":"★"},{"$f":"INDEX(入力フォーム!$N4:$BEQ4,1,MATCH(BFB7,入力フォーム!$N$5:$BEQ$5,0))","v":"★"},{"$f":"INDEX(入力フォーム!$N4:$BEQ4,1,MATCH(BFC7,入力フォーム!$N$5:$BEQ$5,0))","v":"★"},{"$f":"INDEX(入力フォーム!$N4:$BEQ4,1,MATCH(BFD7,入力フォーム!$N$5:$BEQ$5,0))","v":"★"},{"$f":"INDEX(入力フォーム!$N4:$BEQ4,1,MATCH(BFE7,入力フォーム!$N$5:$BEQ$5,0))","v":"★"},{"$f":"INDEX(入力フォーム!$N4:$BEQ4,1,MATCH(BFF7,入力フォーム!$N$5:$BEQ$5,0))","v":"★"},{"$f":"INDEX(入力フォーム!$N4:$BEQ4,1,MATCH(BFG7,入力フォーム!$N$5:$BEQ$5,0))","v":"★"},{"$f":"INDEX(入力フォーム!$N4:$BEQ4,1,MATCH(BFH7,入力フォーム!$N$5:$BEQ$5,0))","v":"★"},{"$f":"INDEX(入力フォーム!$N4:$BEQ4,1,MATCH(BFI7,入力フォーム!$N$5:$BEQ$5,0))","v":"★"},{"$f":"INDEX(入力フォーム!$N4:$BEQ4,1,MATCH(BFJ7,入力フォーム!$N$5:$BEQ$5,0))","v":"★"},{"$f":"INDEX(入力フォーム!$N4:$BEQ4,1,MATCH(BFK7,入力フォーム!$N$5:$BEQ$5,0))","v":"★"},{"$f":"INDEX(入力フォーム!$N4:$BEQ4,1,MATCH(BFL7,入力フォーム!$N$5:$BEQ$5,0))","v":"★"},{"$f":"INDEX(入力フォーム!$N4:$BEQ4,1,MATCH(BFM7,入力フォーム!$N$5:$BEQ$5,0))","v":"★"},{"$f":"INDEX(入力フォーム!$N4:$BEQ4,1,MATCH(BFN7,入力フォーム!$N$5:$BEQ$5,0))","v":"★"},{"$f":"INDEX(入力フォーム!$N4:$BEQ4,1,MATCH(BFO7,入力フォーム!$N$5:$BEQ$5,0))","v":"★"},{"$f":"INDEX(入力フォーム!$N4:$BEQ4,1,MATCH(BFP7,入力フォーム!$N$5:$BEQ$5,0))","v":"★"},{"$f":"INDEX(入力フォーム!$N4:$BEQ4,1,MATCH(BFQ7,入力フォーム!$N$5:$BEQ$5,0))","v":"★"},{"$f":"INDEX(入力フォーム!$N4:$BEQ4,1,MATCH(BFR7,入力フォーム!$N$5:$BEQ$5,0))","v":"★"},{"$f":"INDEX(入力フォーム!$N4:$BEQ4,1,MATCH(BFS7,入力フォーム!$N$5:$BEQ$5,0))","v":"★"},{"$f":"INDEX(入力フォーム!$N4:$BEQ4,1,MATCH(BFT7,入力フォーム!$N$5:$BEQ$5,0))","v":"★"},{"$f":"INDEX(入力フォーム!$N4:$BEQ4,1,MATCH(BFU7,入力フォーム!$N$5:$BEQ$5,0))","v":"★"},{"$f":"INDEX(入力フォーム!$N4:$BEQ4,1,MATCH(BFV7,入力フォーム!$N$5:$BEQ$5,0))","v":"★"},{"$f":"INDEX(入力フォーム!$N4:$BEQ4,1,MATCH(BFW7,入力フォーム!$N$5:$BEQ$5,0))","v":"★"},{"$f":"INDEX(入力フォーム!$N4:$BEQ4,1,MATCH(BFX7,入力フォーム!$N$5:$BEQ$5,0))","v":"★"},{"$f":"INDEX(入力フォーム!$N4:$BEQ4,1,MATCH(BFY7,入力フォーム!$N$5:$BEQ$5,0))","v":"★"},{"$f":"INDEX(入力フォーム!$N4:$BEQ4,1,MATCH(BFZ7,入力フォーム!$N$5:$BEQ$5,0))","v":"★"},{"$f":"INDEX(入力フォーム!$N4:$BEQ4,1,MATCH(BGA7,入力フォーム!$N$5:$BEQ$5,0))","v":"★"},{"$f":"INDEX(入力フォーム!$N4:$BEQ4,1,MATCH(BGB7,入力フォーム!$N$5:$BEQ$5,0))","v":"★"},{"$f":"INDEX(入力フォーム!$N4:$BEQ4,1,MATCH(BGC7,入力フォーム!$N$5:$BEQ$5,0))","v":"★"},{"$f":"INDEX(入力フォーム!$N4:$BEQ4,1,MATCH(BGD7,入力フォーム!$N$5:$BEQ$5,0))","v":"★"},{"$f":"INDEX(入力フォーム!$N4:$BEQ4,1,MATCH(BGE7,入力フォーム!$N$5:$BEQ$5,0))","v":"★"},{"$f":"INDEX(入力フォーム!$N4:$BEQ4,1,MATCH(BGF7,入力フォーム!$N$5:$BEQ$5,0))","v":"★"},{"$f":"INDEX(入力フォーム!$N4:$BEQ4,1,MATCH(BGG7,入力フォーム!$N$5:$BEQ$5,0))","v":"★"},{"$f":"INDEX(入力フォーム!$N4:$BEQ4,1,MATCH(BGH7,入力フォーム!$N$5:$BEQ$5,0))","v":"★"},{"$f":"INDEX(入力フォーム!$N4:$BEQ4,1,MATCH(BGI7,入力フォーム!$N$5:$BEQ$5,0))","v":"★"},{"$f":"INDEX(入力フォーム!$N4:$BEQ4,1,MATCH(BGJ7,入力フォーム!$N$5:$BEQ$5,0))","v":"★"},{"$f":"INDEX(入力フォーム!$N4:$BEQ4,1,MATCH(BGK7,入力フォーム!$N$5:$BEQ$5,0))","v":"★"},{"$f":"INDEX(入力フォーム!$N4:$BEQ4,1,MATCH(BGL7,入力フォーム!$N$5:$BEQ$5,0))","v":"★"},{"$f":"INDEX(入力フォーム!$N4:$BEQ4,1,MATCH(BGM7,入力フォーム!$N$5:$BEQ$5,0))","v":"★"},{"$f":"INDEX(入力フォーム!$N4:$BEQ4,1,MATCH(BGN7,入力フォーム!$N$5:$BEQ$5,0))","v":"★"},{"$f":"INDEX(入力フォーム!$N4:$BEQ4,1,MATCH(BGO7,入力フォーム!$N$5:$BEQ$5,0))","v":"★"},{"$f":"INDEX(入力フォーム!$N4:$BEQ4,1,MATCH(BGP7,入力フォーム!$N$5:$BEQ$5,0))","v":"★"},{"$f":"INDEX(入力フォーム!$N4:$BEQ4,1,MATCH(BGQ7,入力フォーム!$N$5:$BEQ$5,0))","v":"★"},{"$f":"INDEX(入力フォーム!$N4:$BEQ4,1,MATCH(BGR7,入力フォーム!$N$5:$BEQ$5,0))","v":"★"},{"$f":"INDEX(入力フォーム!$N4:$BEQ4,1,MATCH(BGS7,入力フォーム!$N$5:$BEQ$5,0))","v":"★"},{"$f":"INDEX(入力フォーム!$N4:$BEQ4,1,MATCH(BGT7,入力フォーム!$N$5:$BEQ$5,0))","v":"★"},{"$f":"INDEX(入力フォーム!$N4:$BEQ4,1,MATCH(BGU7,入力フォーム!$N$5:$BEQ$5,0))","v":"★"},{"$f":"INDEX(入力フォーム!$N4:$BEQ4,1,MATCH(BGV7,入力フォーム!$N$5:$BEQ$5,0))","v":"★"},{"$f":"INDEX(入力フォーム!$N4:$BEQ4,1,MATCH(BGW7,入力フォーム!$N$5:$BEQ$5,0))","v":"★"},{"$f":"INDEX(入力フォーム!$N4:$BEQ4,1,MATCH(BGX7,入力フォーム!$N$5:$BEQ$5,0))","v":"★"},{"$f":"INDEX(入力フォーム!$N4:$BEQ4,1,MATCH(BGY7,入力フォーム!$N$5:$BEQ$5,0))","v":"★"},{"$f":"INDEX(入力フォーム!$N4:$BEQ4,1,MATCH(BGZ7,入力フォーム!$N$5:$BEQ$5,0))","v":"★"},{"$f":"INDEX(入力フォーム!$N4:$BEQ4,1,MATCH(BHA7,入力フォーム!$N$5:$BEQ$5,0))","v":"★"},{"$f":"INDEX(入力フォーム!$N4:$BEQ4,1,MATCH(BHB7,入力フォーム!$N$5:$BEQ$5,0))","v":"★"},{"$f":"INDEX(入力フォーム!$N4:$BEQ4,1,MATCH(BHC7,入力フォーム!$N$5:$BEQ$5,0))","v":"★"},{"$f":"INDEX(入力フォーム!$N4:$BEQ4,1,MATCH(BHD7,入力フォーム!$N$5:$BEQ$5,0))","v":"★"},{"$f":"INDEX(入力フォーム!$N4:$BEQ4,1,MATCH(BHE7,入力フォーム!$N$5:$BEQ$5,0))","v":"★"},{"$f":"INDEX(入力フォーム!$N4:$BEQ4,1,MATCH(BHF7,入力フォーム!$N$5:$BEQ$5,0))","v":"★"},{"$f":"INDEX(入力フォーム!$N4:$BEQ4,1,MATCH(BHG7,入力フォーム!$N$5:$BEQ$5,0))","v":"★"},{"$f":"INDEX(入力フォーム!$N4:$BEQ4,1,MATCH(BHH7,入力フォーム!$N$5:$BEQ$5,0))","v":"★"},{"$f":"INDEX(入力フォーム!$N4:$BEQ4,1,MATCH(BHI7,入力フォーム!$N$5:$BEQ$5,0))","v":"★"},{"$f":"INDEX(入力フォーム!$N4:$BEQ4,1,MATCH(BHJ7,入力フォーム!$N$5:$BEQ$5,0))","v":"★"},{"$f":"INDEX(入力フォーム!$N4:$BEQ4,1,MATCH(BHK7,入力フォーム!$N$5:$BEQ$5,0))","v":"★"},{"$f":"INDEX(入力フォーム!$N4:$BEQ4,1,MATCH(BHL7,入力フォーム!$N$5:$BEQ$5,0))","v":"★"},{"$f":"INDEX(入力フォーム!$N4:$BEQ4,1,MATCH(BHM7,入力フォーム!$N$5:$BEQ$5,0))","v":"★"},{"$f":"INDEX(入力フォーム!$N4:$BEQ4,1,MATCH(BHN7,入力フォーム!$N$5:$BEQ$5,0))","v":"★"},{"$f":"INDEX(入力フォーム!$N4:$BEQ4,1,MATCH(BHO7,入力フォーム!$N$5:$BEQ$5,0))","v":"★"},{"$f":"INDEX(入力フォーム!$N4:$BEQ4,1,MATCH(BHP7,入力フォーム!$N$5:$BEQ$5,0))","v":"★"},{"$f":"INDEX(入力フォーム!$N4:$BEQ4,1,MATCH(BHQ7,入力フォーム!$N$5:$BEQ$5,0))","v":"★"},{"$f":"INDEX(入力フォーム!$N4:$BEQ4,1,MATCH(BHR7,入力フォーム!$N$5:$BEQ$5,0))","v":"★"},{"$f":"INDEX(入力フォーム!$N4:$BEQ4,1,MATCH(BHS7,入力フォーム!$N$5:$BEQ$5,0))","v":"★"},{"$f":"INDEX(入力フォーム!$N4:$BEQ4,1,MATCH(BHT7,入力フォーム!$N$5:$BEQ$5,0))","v":"★"},{"$f":"INDEX(入力フォーム!$N4:$BEQ4,1,MATCH(BHU7,入力フォーム!$N$5:$BEQ$5,0))","v":"★"},{"$f":"INDEX(入力フォーム!$N4:$BEQ4,1,MATCH(BHV7,入力フォーム!$N$5:$BEQ$5,0))","v":"★"},{"$f":"INDEX(入力フォーム!$N4:$BEQ4,1,MATCH(BHW7,入力フォーム!$N$5:$BEQ$5,0))","v":"★"},{"$f":"INDEX(入力フォーム!$N4:$BEQ4,1,MATCH(BHX7,入力フォーム!$N$5:$BEQ$5,0))","v":"★"},{"$f":"INDEX(入力フォーム!$N4:$BEQ4,1,MATCH(BHY7,入力フォーム!$N$5:$BEQ$5,0))","v":"★"},{"$f":"INDEX(入力フォーム!$N4:$BEQ4,1,MATCH(BHZ7,入力フォーム!$N$5:$BEQ$5,0))","v":"★"},{"$f":"INDEX(入力フォーム!$N4:$BEQ4,1,MATCH(BIA7,入力フォーム!$N$5:$BEQ$5,0))","v":"★"},{"$f":"INDEX(入力フォーム!$N4:$BEQ4,1,MATCH(BIB7,入力フォーム!$N$5:$BEQ$5,0))","v":"★"},{"$f":"INDEX(入力フォーム!$N4:$BEQ4,1,MATCH(BIC7,入力フォーム!$N$5:$BEQ$5,0))","v":"★"},{"$f":"INDEX(入力フォーム!$N4:$BEQ4,1,MATCH(BID7,入力フォーム!$N$5:$BEQ$5,0))","v":"★"},{"$f":"INDEX(入力フォーム!$N4:$BEQ4,1,MATCH(BIE7,入力フォーム!$N$5:$BEQ$5,0))","v":"★"},{"$f":"INDEX(入力フォーム!$N4:$BEQ4,1,MATCH(BIF7,入力フォーム!$N$5:$BEQ$5,0))","v":"★"},{"$f":"INDEX(入力フォーム!$N4:$BEQ4,1,MATCH(BIG7,入力フォーム!$N$5:$BEQ$5,0))","v":"★"},{"$f":"INDEX(入力フォーム!$N4:$BEQ4,1,MATCH(BIH7,入力フォーム!$N$5:$BEQ$5,0))","v":"★"},{"$f":"INDEX(入力フォーム!$N4:$BEQ4,1,MATCH(BII7,入力フォーム!$N$5:$BEQ$5,0))","v":"★"},{"$f":"INDEX(入力フォーム!$N4:$BEQ4,1,MATCH(BIJ7,入力フォーム!$N$5:$BEQ$5,0))","v":"★"},{"$f":"INDEX(入力フォーム!$N4:$BEQ4,1,MATCH(BIK7,入力フォーム!$N$5:$BEQ$5,0))","v":"★"},{"$f":"INDEX(入力フォーム!$N4:$BEQ4,1,MATCH(BIL7,入力フォーム!$N$5:$BEQ$5,0))","v":"★"},{"$f":"INDEX(入力フォーム!$N4:$BEQ4,1,MATCH(BIM7,入力フォーム!$N$5:$BEQ$5,0))","v":"★"},{"$f":"INDEX(入力フォーム!$N4:$BEQ4,1,MATCH(BIN7,入力フォーム!$N$5:$BEQ$5,0))","v":"★"},{"$f":"INDEX(入力フォーム!$N4:$BEQ4,1,MATCH(BIO7,入力フォーム!$N$5:$BEQ$5,0))","v":"★"},{"$f":"INDEX(入力フォーム!$N4:$BEQ4,1,MATCH(BIP7,入力フォーム!$N$5:$BEQ$5,0))","v":"★"},{"$f":"INDEX(入力フォーム!$N4:$BEQ4,1,MATCH(BIQ7,入力フォーム!$N$5:$BEQ$5,0))","v":"★"},{"$f":"INDEX(入力フォーム!$N4:$BEQ4,1,MATCH(BIR7,入力フォーム!$N$5:$BEQ$5,0))","v":"★"},{"$f":"INDEX(入力フォーム!$N4:$BEQ4,1,MATCH(BIS7,入力フォーム!$N$5:$BEQ$5,0))","v":"★"},{"$f":"INDEX(入力フォーム!$N4:$BEQ4,1,MATCH(BIT7,入力フォーム!$N$5:$BEQ$5,0))","v":"★"},{"$f":"INDEX(入力フォーム!$N4:$BEQ4,1,MATCH(BIU7,入力フォーム!$N$5:$BEQ$5,0))","v":"★"},{"$f":"INDEX(入力フォーム!$N4:$BEQ4,1,MATCH(BIV7,入力フォーム!$N$5:$BEQ$5,0))","v":"★"},{"$f":"INDEX(入力フォーム!$N4:$BEQ4,1,MATCH(BIW7,入力フォーム!$N$5:$BEQ$5,0))","v":"★"},{"$f":"INDEX(入力フォーム!$N4:$BEQ4,1,MATCH(BIX7,入力フォーム!$N$5:$BEQ$5,0))","v":"★"},{"$f":"INDEX(入力フォーム!$N4:$BEQ4,1,MATCH(BIY7,入力フォーム!$N$5:$BEQ$5,0))","v":"★"},{"$f":"INDEX(入力フォーム!$N4:$BEQ4,1,MATCH(BIZ7,入力フォーム!$N$5:$BEQ$5,0))","v":"★"},{"$f":"INDEX(入力フォーム!$N4:$BEQ4,1,MATCH(BJA7,入力フォーム!$N$5:$BEQ$5,0))","v":"★"},{"$f":"INDEX(入力フォーム!$N4:$BEQ4,1,MATCH(BJB7,入力フォーム!$N$5:$BEQ$5,0))","v":"★"},{"$f":"INDEX(入力フォーム!$N4:$BEQ4,1,MATCH(BJC7,入力フォーム!$N$5:$BEQ$5,0))","v":"★"},{"$f":"INDEX(入力フォーム!$N4:$BEQ4,1,MATCH(BJD7,入力フォーム!$N$5:$BEQ$5,0))","v":"★"},{"$f":"INDEX(入力フォーム!$N4:$BEQ4,1,MATCH(BJE7,入力フォーム!$N$5:$BEQ$5,0))","v":"★"},{"$f":"INDEX(入力フォーム!$N4:$BEQ4,1,MATCH(BJF7,入力フォーム!$N$5:$BEQ$5,0))","v":"★"},{"$f":"INDEX(入力フォーム!$N4:$BEQ4,1,MATCH(BJG7,入力フォーム!$N$5:$BEQ$5,0))","v":"★"},{"$f":"INDEX(入力フォーム!$N4:$BEQ4,1,MATCH(BJH7,入力フォーム!$N$5:$BEQ$5,0))","v":"★"},{"$f":"INDEX(入力フォーム!$N4:$BEQ4,1,MATCH(BJI7,入力フォーム!$N$5:$BEQ$5,0))","v":"★"},{"$f":"INDEX(入力フォーム!$N4:$BEQ4,1,MATCH(BJJ7,入力フォーム!$N$5:$BEQ$5,0))","v":"★"},{"$f":"INDEX(入力フォーム!$N4:$BEQ4,1,MATCH(BJK7,入力フォーム!$N$5:$BEQ$5,0))","v":"★"},{"$f":"INDEX(入力フォーム!$N4:$BEQ4,1,MATCH(BJL7,入力フォーム!$N$5:$BEQ$5,0))","v":"★"},{"$f":"INDEX(入力フォーム!$N4:$BEQ4,1,MATCH(BJM7,入力フォーム!$N$5:$BEQ$5,0))","v":"★"},{"$f":"INDEX(入力フォーム!$N4:$BEQ4,1,MATCH(BJN7,入力フォーム!$N$5:$BEQ$5,0))","v":"★"},{"$f":"INDEX(入力フォーム!$N4:$BEQ4,1,MATCH(BJO7,入力フォーム!$N$5:$BEQ$5,0))","v":"★"},{"$f":"INDEX(入力フォーム!$N4:$BEQ4,1,MATCH(BJP7,入力フォーム!$N$5:$BEQ$5,0))","v":"★"},{"$f":"INDEX(入力フォーム!$N4:$BEQ4,1,MATCH(BJQ7,入力フォーム!$N$5:$BEQ$5,0))","v":"★"},{"$f":"INDEX(入力フォーム!$N4:$BEQ4,1,MATCH(BJR7,入力フォーム!$N$5:$BEQ$5,0))","v":"★"},{"$f":"INDEX(入力フォーム!$N4:$BEQ4,1,MATCH(BJS7,入力フォーム!$N$5:$BEQ$5,0))","v":"★"},{"$f":"INDEX(入力フォーム!$N4:$BEQ4,1,MATCH(BJT7,入力フォーム!$N$5:$BEQ$5,0))","v":"★"},{"$f":"INDEX(入力フォーム!$N4:$BEQ4,1,MATCH(BJU7,入力フォーム!$N$5:$BEQ$5,0))","v":"★"},{"$f":"INDEX(入力フォーム!$N4:$BEQ4,1,MATCH(BJV7,入力フォーム!$N$5:$BEQ$5,0))","v":"★"},{"$f":"INDEX(入力フォーム!$N4:$BEQ4,1,MATCH(BJW7,入力フォーム!$N$5:$BEQ$5,0))","v":"★"},{"$f":"INDEX(入力フォーム!$N4:$BEQ4,1,MATCH(BJX7,入力フォーム!$N$5:$BEQ$5,0))","v":"★"},{"$f":"INDEX(入力フォーム!$N4:$BEQ4,1,MATCH(BJY7,入力フォーム!$N$5:$BEQ$5,0))","v":"★"},{"$f":"INDEX(入力フォーム!$N4:$BEQ4,1,MATCH(BJZ7,入力フォーム!$N$5:$BEQ$5,0))","v":"★"},{"$f":"INDEX(入力フォーム!$N4:$BEQ4,1,MATCH(BKA7,入力フォーム!$N$5:$BEQ$5,0))","v":"★"},{"$f":"INDEX(入力フォーム!$N4:$BEQ4,1,MATCH(BKB7,入力フォーム!$N$5:$BEQ$5,0))","v":"★"},{"$f":"INDEX(入力フォーム!$N4:$BEQ4,1,MATCH(BKC7,入力フォーム!$N$5:$BEQ$5,0))","v":"★"},{"$f":"INDEX(入力フォーム!$N4:$BEQ4,1,MATCH(BKD7,入力フォーム!$N$5:$BEQ$5,0))","v":"★"},{"$f":"INDEX(入力フォーム!$N4:$BEQ4,1,MATCH(BKE7,入力フォーム!$N$5:$BEQ$5,0))","v":"★"},{"$f":"INDEX(入力フォーム!$N4:$BEQ4,1,MATCH(BKF7,入力フォーム!$N$5:$BEQ$5,0))","v":"★"},{"$f":"INDEX(入力フォーム!$N4:$BEQ4,1,MATCH(BKG7,入力フォーム!$N$5:$BEQ$5,0))","v":"★"},{"$f":"INDEX(入力フォーム!$N4:$BEQ4,1,MATCH(BKH7,入力フォーム!$N$5:$BEQ$5,0))","v":"★"},{"$f":"INDEX(入力フォーム!$N4:$BEQ4,1,MATCH(BKI7,入力フォーム!$N$5:$BEQ$5,0))","v":"★"},{"$f":"INDEX(入力フォーム!$N4:$BEQ4,1,MATCH(BKJ7,入力フォーム!$N$5:$BEQ$5,0))","v":"★"},{"$f":"INDEX(入力フォーム!$N4:$BEQ4,1,MATCH(BKK7,入力フォーム!$N$5:$BEQ$5,0))","v":"★"},{"$f":"INDEX(入力フォーム!$N4:$BEQ4,1,MATCH(BKL7,入力フォーム!$N$5:$BEQ$5,0))","v":"★"},{"$f":"INDEX(入力フォーム!$N4:$BEQ4,1,MATCH(BKM7,入力フォーム!$N$5:$BEQ$5,0))","v":"★"},{"$f":"INDEX(入力フォーム!$N4:$BEQ4,1,MATCH(BKN7,入力フォーム!$N$5:$BEQ$5,0))","v":"★"},{"$f":"INDEX(入力フォーム!$N4:$BEQ4,1,MATCH(BKO7,入力フォーム!$N$5:$BEQ$5,0))","v":"★"},{"$f":"INDEX(入力フォーム!$N4:$BEQ4,1,MATCH(BKP7,入力フォーム!$N$5:$BEQ$5,0))","v":"★"},{"$f":"INDEX(入力フォーム!$N4:$BEQ4,1,MATCH(BKQ7,入力フォーム!$N$5:$BEQ$5,0))","v":"★"},{"$f":"INDEX(入力フォーム!$N4:$BEQ4,1,MATCH(BKR7,入力フォーム!$N$5:$BEQ$5,0))","v":"★"},{"$f":"INDEX(入力フォーム!$N4:$BEQ4,1,MATCH(BKS7,入力フォーム!$N$5:$BEQ$5,0))","v":"★"},{"$f":"INDEX(入力フォーム!$N4:$BEQ4,1,MATCH(BKT7,入力フォーム!$N$5:$BEQ$5,0))","v":"★"},{"$f":"INDEX(入力フォーム!$N4:$BEQ4,1,MATCH(BKU7,入力フォーム!$N$5:$BEQ$5,0))","v":"★"},{"$f":"INDEX(入力フォーム!$N4:$BEQ4,1,MATCH(BKV7,入力フォーム!$N$5:$BEQ$5,0))","v":"★"},{"$f":"INDEX(入力フォーム!$N4:$BEQ4,1,MATCH(BKW7,入力フォーム!$N$5:$BEQ$5,0))","v":"★"},{"$f":"INDEX(入力フォーム!$N4:$BEQ4,1,MATCH(BKX7,入力フォーム!$N$5:$BEQ$5,0))","v":"★"},{"$f":"INDEX(入力フォーム!$N4:$BEQ4,1,MATCH(BKY7,入力フォーム!$N$5:$BEQ$5,0))","v":"★"},{"$f":"INDEX(入力フォーム!$N4:$BEQ4,1,MATCH(BKZ7,入力フォーム!$N$5:$BEQ$5,0))","v":"★"},{"$f":"INDEX(入力フォーム!$N4:$BEQ4,1,MATCH(BLA7,入力フォーム!$N$5:$BEQ$5,0))","v":"★"},{"$f":"INDEX(入力フォーム!$N4:$BEQ4,1,MATCH(BLB7,入力フォーム!$N$5:$BEQ$5,0))","v":"★"},{"$f":"INDEX(入力フォーム!$N4:$BEQ4,1,MATCH(BLC7,入力フォーム!$N$5:$BEQ$5,0))","v":"★"},{"$f":"INDEX(入力フォーム!$N4:$BEQ4,1,MATCH(BLD7,入力フォーム!$N$5:$BEQ$5,0))","v":"★"},{"$f":"INDEX(入力フォーム!$N4:$BEQ4,1,MATCH(BLE7,入力フォーム!$N$5:$BEQ$5,0))","v":"★"},{"$f":"INDEX(入力フォーム!$N4:$BEQ4,1,MATCH(BLF7,入力フォーム!$N$5:$BEQ$5,0))","v":"★"},{"$f":"INDEX(入力フォーム!$N4:$BEQ4,1,MATCH(BLG7,入力フォーム!$N$5:$BEQ$5,0))","v":"★"},{"$f":"INDEX(入力フォーム!$N4:$BEQ4,1,MATCH(BLH7,入力フォーム!$N$5:$BEQ$5,0))","v":"★"},{"$f":"INDEX(入力フォーム!$N4:$BEQ4,1,MATCH(BLI7,入力フォーム!$N$5:$BEQ$5,0))","v":"★"},{"$f":"INDEX(入力フォーム!$N4:$BEQ4,1,MATCH(BLJ7,入力フォーム!$N$5:$BEQ$5,0))","v":"★"},{"$f":"INDEX(入力フォーム!$N4:$BEQ4,1,MATCH(BLK7,入力フォーム!$N$5:$BEQ$5,0))","v":"★"},{"$f":"INDEX(入力フォーム!$N4:$BEQ4,1,MATCH(BLL7,入力フォーム!$N$5:$BEQ$5,0))","v":"★"}]
[{"$nulls":3},"会社名等",{"$nulls":9},{"$f":"DB6","v":""},{"$nulls":85},"会社名等",null,null,"",null,null,{"$f":"IF(CY6=0,\"\",CY6)","v":""},{"$nulls":86},{"$f":"IF(GK5=\"★\",\"\",GK5)","v":""},{"$f":"IF(GL5=\"★\",\"\",GL5)","v":""},"","","","","","","","","","","","","","","","","","","","","","","","","","","","","","","","","","","","","","","","","","","","","","","","","","","","","","","","","","","","","","","",{"$f":"IF(IX5=\"★\",\"\",IX5)","v":""},"","","","","","","","","","","","","","","","","","","","","","","","","","","","","","","","","","","","","","","","","","","","","","","","","","","","","","","","","","","","","","","",{"$f":"IF(LJ5=\"★\",\"\",LJ5)","v":""},"","","","","","","","","","","","","","","","","","","","","","","","","","","","","","","","","","","","","","","","","","","","","","","","","","","","","","","","","","","","","","","",{"$f":"IF(NV5=\"★\",\"\",NV5)","v":""},"","","","","","","","","","","","","","","","","","","","","","","","","","","","","","","","","","","","","","","","","","","","","","","","","","","","","","","","","","","","","","","",{"$f":"IF(QH5=\"★\",\"\",QH5)","v":""},"","","","","","","","","","","","","","","","","","","","","","","","","","","","","","","","","","","","","","","","","","","","","","","","","","","","","","","","","","","","","","","",{"$f":"IF(ST5=\"★\",\"\",ST5)","v":""},"","","","","","","","","","","","","","","","","","","","","","","","","","","","","","","","","","","","","","","","","","","","","","","","","","","","","","","","","","","","","","","",{"$f":"IF(VF5=\"★\",\"\",VF5)","v":""},"","","","","","","","","","","","","","","","","","","","","","","","","","","","","","","","","","","","","","","","","","","","","","","","","","","","","","","","","","","","","","","",{"$f":"IF(XR5=\"★\",\"\",XR5)","v":""},"","","","","","","","","","","","","","","","","","","","","","","","","","","","","","","","","","","","","","","","","","","","","","","","","","","","","","","","","","","","","","","",{"$f":"IF(AAD5=\"★\",\"\",AAD5)","v":""},"","","","","","","","","","","","","","","","","","","","","","","","","","","","","","","","","","","","","","","","","","","","","","","","","","","","","","","","","","","","","","","",{"$f":"IF(ACP5=\"★\",\"\",ACP5)","v":""},"","","","","","","","","","","","","","","","","","","","","","","","","","","","","","","","","","","","","","","","","","","","","","","","","","","","","","","","","","","","","","","",{"$f":"IF(AFB5=\"★\",\"\",AFB5)","v":""},"","","","","","","","","","","","","","","","","","","","","","","","","","","","","","","","","","","","","","","","","","","","","","","","","","","","","","","","","","","","","","","",{"$f":"IF(AHN5=\"★\",\"\",AHN5)","v":""},"","","","","","","","","","","","","","","","","","","","","","","","","","","","","","","","","","","","","","","","","","","","","","","","","","","","","","","","","","","","","","","",{"$f":"IF(AJZ5=\"★\",\"\",AJZ5)","v":""},"","","","","","","","","","","","","","","","","","","","","","","","","","","","","","","","","","","","","","","","","","","","","","","","","","","","","","","","","","","","","","","",{"$f":"IF(AML5=\"★\",\"\",AML5)","v":""},"","","","","","","","","","","","","","","","","","","","","","","","","","","","","","","","","","","","","","","","","","","","","","","","","","","","","","","","","","","","","","","",{"$f":"IF(AOX5=\"★\",\"\",AOX5)","v":""},"","","","","","","","","","","","","","","","","","","","","","","","","","","","","","","","","","","","","","","","","","","","","","","","","","","","","","","","","","","","","","","",{"$f":"IF(ARJ5=\"★\",\"\",ARJ5)","v":""},"","","","","","","","","","","","","","","","","","","","","","","","","","","","","","","","","","","","","","","","","","","","","","","","","","","","","","","","","","","","","","","",{"$f":"IF(ATV5=\"★\",\"\",ATV5)","v":""},"","","","","","","","","","","","","","","","","","","","","","","","","","","","","","","","","","","","","","","","","","","","","","","","","","","","","","","","","","","","","","","",{"$f":"IF(AWH5=\"★\",\"\",AWH5)","v":""},"","","","","","","","","","","","","","","","","","","","","","","","","","","","","","","","","","","","","","","","","","","","","","","","","","","","","","","","","","","","","","","",{"$f":"IF(AYT5=\"★\",\"\",AYT5)","v":""},"","","","","","","","","","","","","","","","","","","","","","","","","","","","","","","","","","","","","","","","","","","","","","","","","","","","","","","","","","","","","","","",{"$f":"IF(BBF5=\"★\",\"\",BBF5)","v":""},"","","","","","","","","","","","","","","","","","","","","","","","","","","","","","","","","","","","","","","","","","","","","","","","","","","","","","","","","","","","","","","",{"$f":"IF(BDR5=\"★\",\"\",BDR5)","v":""},"","","","","","","","","","","","","","","","","","","","","","","","","","","","","","","","","","","","","","","","","","","","","","","","","","","","","","","","","","","","","","","",{"$f":"IF(BGD5=\"★\",\"\",BGD5)","v":""},"","","","","","","","","","","","","","","","","","","","","","","","","","","","","","","","","","","","","","","","","","","","","","","","","","","","","","","","","","","","","","","",{"$f":"IF(BIP5=\"★\",\"\",BIP5)","v":""},"","","","","","","","","","","","","","","","","","","","","","","","","","","","","","","","","","","","","","","","","","","","","","","","","","","","","","","","","","","","","","","",{"$f":"IF(BLB5=\"★\",\"\",BLB5)","v":""},"","","","","","","","","",""]
[{"$nulls":3},"会社所在地",{"$nulls":9},{"$f":"DB7","v":""},{"$nulls":85},"会社所在地(〒)",null,null,"",null,null,"",{"$nulls":85},0,{"$f":"INDEX($A$7:$BLL$7,1,COLUMN()-1)+1","v":1},{"$f":"INDEX($A$7:$BLL$7,1,COLUMN()-1)+1","v":2},3,4,5,6,7,8,9,10,11,12,13,14,15,16,17,18,19,20,21,22,23,24,25,26,27,28,29,30,31,32,33,34,35,36,37,38,39,40,41,42,43,44,45,46,47,48,49,50,51,52,53,54,55,56,57,58,59,60,61,62,63,64,65,{"$f":"INDEX($A$7:$BLL$7,1,COLUMN()-1)+1","v":66},67,68,69,70,71,72,73,74,75,76,77,78,79,80,81,82,83,84,85,86,87,88,89,90,91,92,93,94,95,96,97,98,99,100,101,102,103,104,105,106,107,108,109,110,111,112,113,114,115,116,117,118,119,120,121,122,123,124,125,126,127,128,129,{"$f":"INDEX($A$7:$BLL$7,1,COLUMN()-1)+1","v":130},131,132,133,134,135,136,137,138,139,140,141,142,143,144,145,146,147,148,149,150,151,152,153,154,155,156,157,158,159,160,161,162,163,164,165,166,167,168,169,170,171,172,173,174,175,176,177,178,179,180,181,182,183,184,185,186,187,188,189,190,191,192,193,{"$f":"INDEX($A$7:$BLL$7,1,COLUMN()-1)+1","v":194},195,196,197,198,199,200,201,202,203,204,205,206,207,208,209,210,211,212,213,214,215,216,217,218,219,220,221,222,223,224,225,226,227,228,229,230,231,232,233,234,235,236,237,238,239,240,241,242,243,244,245,246,247,248,249,250,251,252,253,254,255,256,257,{"$f":"INDEX($A$7:$BLL$7,1,COLUMN()-1)+1","v":258},259,260,261,262,263,264,265,266,267,268,269,270,271,272,273,274,275,276,277,278,279,280,281,282,283,284,285,286,287,288,289,290,291,292,293,294,295,296,297,298,299,300,301,302,303,304,305,306,307,308,309,310,311,312,313,314,315,316,317,318,319,320,321,{"$f":"INDEX($A$7:$BLL$7,1,COLUMN()-1)+1","v":322},323,324,325,326,327,328,329,330,331,332,333,334,335,336,337,338,339,340,341,342,343,344,345,346,347,348,349,350,351,352,353,354,355,356,357,358,359,360,361,362,363,364,365,366,367,368,369,370,371,372,373,374,375,376,377,378,379,380,381,382,383,384,385,{"$f":"INDEX($A$7:$BLL$7,1,COLUMN()-1)+1","v":386},387,388,389,390,391,392,393,394,395,396,397,398,399,400,401,402,403,404,405,406,407,408,409,410,411,412,413,414,415,416,417,418,419,420,421,422,423,424,425,426,427,428,429,430,431,432,433,434,435,436,437,438,439,440,441,442,443,444,445,446,447,448,449,{"$f":"INDEX($A$7:$BLL$7,1,COLUMN()-1)+1","v":450},451,452,453,454,455,456,457,458,459,460,461,462,463,464,465,466,467,468,469,470,471,472,473,474,475,476,477,478,479,480,481,482,483,484,485,486,487,488,489,490,491,492,493,494,495,496,497,498,499,500,501,502,503,504,505,506,507,508,509,510,511,512,513,{"$f":"INDEX($A$7:$BLL$7,1,COLUMN()-1)+1","v":514},515,516,517,518,519,520,521,522,523,524,525,526,527,528,529,530,531,532,533,534,535,536,537,538,539,540,541,542,543,544,545,546,547,548,549,550,551,552,553,554,555,556,557,558,559,560,561,562,563,564,565,566,567,568,569,570,571,572,573,574,575,576,577,{"$f":"INDEX($A$7:$BLL$7,1,COLUMN()-1)+1","v":578},579,580,581,582,583,584,585,586,587,588,589,590,591,592,593,594,595,596,597,598,599,600,601,602,603,604,605,606,607,608,609,610,611,612,613,614,615,616,617,618,619,620,621,622,623,624,625,626,627,628,629,630,631,632,633,634,635,636,637,638,639,640,641,{"$f":"INDEX($A$7:$BLL$7,1,COLUMN()-1)+1","v":642},643,644,645,646,647,648,649,650,651,652,653,654,655,656,657,658,659,660,661,662,663,664,665,666,667,668,669,670,671,672,673,674,675,676,677,678,679,680,681,682,683,684,685,686,687,688,689,690,691,692,693,694,695,696,697,698,699,700,701,702,703,704,705,{"$f":"INDEX($A$7:$BLL$7,1,COLUMN()-1)+1","v":706},707,708,709,710,711,712,713,714,715,716,717,718,719,720,721,722,723,724,725,726,727,728,729,730,731,732,733,734,735,736,737,738,739,740,741,742,743,744,745,746,747,748,749,750,751,752,753,754,755,756,757,758,759,760,761,762,763,764,765,766,767,768,769,{"$f":"INDEX($A$7:$BLL$7,1,COLUMN()-1)+1","v":770},771,772,773,774,775,776,777,778,779,780,781,782,783,784,785,786,787,788,789,790,791,792,793,794,795,796,797,798,799,800,801,802,803,804,805,806,807,808,809,810,811,812,813,814,815,816,817,818,819,820,821,822,823,824,825,826,827,828,829,830,831,832,833,{"$f":"INDEX($A$7:$BLL$7,1,COLUMN()-1)+1","v":834},835,836,837,838,839,840,841,842,843,844,845,846,847,848,849,850,851,852,853,854,855,856,857,858,859,860,861,862,863,864,865,866,867,868,869,870,871,872,873,874,875,876,877,878,879,880,881,882,883,884,885,886,887,888,889,890,891,892,893,894,895,896,897,{"$f":"INDEX($A$7:$BLL$7,1,COLUMN()-1)+1","v":898},899,900,901,902,903,904,905,906,907,908,909,910,911,912,913,914,915,916,917,918,919,920,921,922,923,924,925,926,927,928,929,930,931,932,933,934,935,936,937,938,939,940,941,942,943,944,945,946,947,948,949,950,951,952,953,954,955,956,957,958,959,960,961,{"$f":"INDEX($A$7:$BLL$7,1,COLUMN()-1)+1","v":962},963,964,965,966,967,968,969,970,971,972,973,974,975,976,977,978,979,980,981,982,983,984,985,986,987,988,989,990,991,992,993,994,995,996,997,998,999,1000,1001,1002,1003,1004,1005,1006,1007,1008,1009,1010,1011,1012,1013,1014,1015,1016,1017,1018,1019,1020,1021,1022,1023,1024,1025,{"$f":"INDEX($A$7:$BLL$7,1,COLUMN()-1)+1","v":1026},1027,1028,1029,1030,1031,1032,1033,1034,1035,1036,1037,1038,1039,1040,1041,1042,1043,1044,1045,1046,1047,1048,1049,1050,1051,1052,1053,1054,1055,1056,1057,1058,1059,1060,1061,1062,1063,1064,1065,1066,1067,1068,1069,1070,1071,1072,1073,1074,1075,1076,1077,1078,1079,1080,1081,1082,1083,1084,1085,1086,1087,1088,1089,{"$f":"INDEX($A$7:$BLL$7,1,COLUMN()-1)+1","v":1090},1091,1092,1093,1094,1095,1096,1097,1098,1099,1100,1101,1102,1103,1104,1105,1106,1107,1108,1109,1110,1111,1112,1113,1114,1115,1116,1117,1118,1119,1120,1121,1122,1123,1124,1125,1126,1127,1128,1129,1130,1131,1132,1133,1134,1135,1136,1137,1138,1139,1140,1141,1142,1143,1144,1145,1146,1147,1148,1149,1150,1151,1152,1153,{"$f":"INDEX($A$7:$BLL$7,1,COLUMN()-1)+1","v":1154},1155,1156,1157,1158,1159,1160,1161,1162,1163,1164,1165,1166,1167,1168,1169,1170,1171,1172,1173,1174,1175,1176,1177,1178,1179,1180,1181,1182,1183,1184,1185,1186,1187,1188,1189,1190,1191,1192,1193,1194,1195,1196,1197,1198,1199,1200,1201,1202,1203,1204,1205,1206,1207,1208,1209,1210,1211,1212,1213,1214,1215,1216,1217,{"$f":"INDEX($A$7:$BLL$7,1,COLUMN()-1)+1","v":1218},1219,1220,1221,1222,1223,1224,1225,1226,1227,1228,1229,1230,1231,1232,1233,1234,1235,1236,1237,1238,1239,1240,1241,1242,1243,1244,1245,1246,1247,1248,1249,1250,1251,1252,1253,1254,1255,1256,1257,1258,1259,1260,1261,1262,1263,1264,1265,1266,1267,1268,1269,1270,1271,1272,1273,1274,1275,1276,1277,1278,1279,1280,1281,{"$f":"INDEX($A$7:$BLL$7,1,COLUMN()-1)+1","v":1282},1283,1284,1285,1286,1287,1288,1289,1290,1291,1292,1293,1294,1295,1296,1297,1298,1299,1300,1301,1302,1303,1304,1305,1306,1307,1308,1309,1310,1311,1312,1313,1314,1315,1316,1317,1318,1319,1320,1321,1322,1323,1324,1325,1326,1327,1328,1329,1330,1331,1332,1333,1334,1335,1336,1337,1338,1339,1340,1341,1342,1343,1344,1345,{"$f":"INDEX($A$7:$BLL$7,1,COLUMN()-1)+1","v":1346},1347,1348,1349,1350,1351,1352,1353,1354,1355,1356,1357,1358,1359,1360,1361,1362,1363,1364,1365,1366,1367,1368,1369,1370,1371,1372,1373,1374,1375,1376,1377,1378,1379,1380,1381,1382,1383,1384,1385,1386,1387,1388,1389,1390,1391,1392,1393,1394,1395,1396,1397,1398,1399,1400,1401,1402,1403,1404,1405,1406,1407,1408,1409,{"$f":"INDEX($A$7:$BLL$7,1,COLUMN()-1)+1","v":1410},1411,1412,1413,1414,1415,1416,1417,1418,1419,1420,1421,1422,1423,1424,1425,1426,1427,1428,1429,1430,1431,1432,1433,1434,1435,1436,1437,1438,1439,1440,1441,1442,1443,1444,1445,1446,1447,1448,1449,1450,1451,1452,1453,1454,1455,1456,1457,1458,1459,1460,1461,1462,1463,1464,1465,1466,1467,1468,1469,1470,1471,1472,1473,{"$f":"INDEX($A$7:$BLL$7,1,COLUMN()-1)+1","v":1474},1475,1476,1477,1478,1479,1480,1481,1482,1483,1484]
[{"$nulls":13},{"$f":"DB8","v":""},{"$nulls":85},"会社所在地(住所)",null,null,"",null,null,""]
[{"$nulls":3},"工場所在地",{"$nulls":9},{"$f":"DB9","v":""},{"$nulls":85},"工場所在地(〒)",null,null,"",null,null,""]
[{"$nulls":13},{"$f":"DB10","v":""},{"$nulls":85},"工場所在地(住所)",null,null,"",null,null,""]
[{"$nulls":3},"代表者役職",{"$nulls":9},"",{"$nulls":85},"代表者役職",null,null,"",null,null,""]
[{"$nulls":3},"代表者氏名",{"$nulls":9},"",{"$nulls":85},"代表者氏名",null,null,"",null,null,""]
[{"$nulls":3},"ＴＥＬ",{"$nulls":9},"",{"$nulls":85},"会社TEL",null,null,"",null,null,""]
[{"$nulls":3},"ＦＡＸ",{"$nulls":9},"",{"$nulls":85},"会社FAX",null,null,"",null,null,""]
[{"$nulls":3},"Ｅｍａｉｌ",{"$nulls":9},"",{"$nulls":85},"会社Email",null,null,"",null,null,""]
[{"$nulls":3},"ホームページ",{"$nulls":9},"",{"$nulls":85},"ホームページURL",null,null,"",null,null,""]
[{"$nulls":3},"年間売上髙",{"$nulls":9},"",{"$nulls":85},"年間売上高",null,null,"",null,null,""]
[{"$nulls":3},"従業員数",{"$nulls":9},"",{"$nulls":85},"従業員数",null,null,"",null,null,""]
[{"$nulls":3},"担当者役職",{"$nulls":9},"",{"$nulls":85},"担当者役職",null,null,"",null,null,""]
[{"$nulls":3},"担当者氏名",{"$nulls":9},"",{"$nulls":85},"担当者氏名",null,null,"",null,null,""]
[{"$nulls":3},"担当者TEL",{"$nulls":9},"",{"$nulls":85},"担当者TEL",null,null,"",null,null,""]
[{"$nulls":3},"担当者Email",{"$nulls":9},"",{"$nulls":85},"担当者Email",null,null,"",null,null,""]
[{"$nulls":3},"メッセージ・\nアピールポイント"]
[{"$nulls":4},{"$f":"DB24","v":""},{"$nulls":94},"メッセージ・\nアピールポイント",null,null,{"$f":"IFERROR(INDEX($GJ$6:$BLM$6,1,MATCH(CV24,$GJ$4:$BLM$4,0),1),\"\")","v":""},null,null,{"$f":"IF(CY24=0,\"\",CY24)","v":""}]
[{"$nulls":3},"業種",{"$nulls":10},{"$f":"_xlfn.CONCAT(EO25:FJ25)","v":""},{"$nulls":68},"英語表示ラベル対応",{"$nulls":9},{"$f":"_xlfn.CONCAT(EO27:FJ27)","v":""},{"$nulls":5},"業種",null,null,"飲料","酒類","菓子類","水産品・水産加工品","畜産品・畜産加工品","農産加工品","茶・茶加工品","調味料","食品卸","その他・業種","その他・業種・",{"$nulls":10},{"$f":"IFERROR(INDEX($GJ$6:$BLM$6,1,MATCH(CY25,$GJ$4:$BLM$4,0),1),\"\")","v":""},"","","","","","","","","","",{"$nulls":11},{"$f":"IF(DT25=1,CY25&\"　\",\"\")","v":""},"","","","","","","","",{"$f":"IF(EC25=1,\"その他\",\"\")","v":""},{"$f":"IF(OR(ED25=0,ED25=\"\"),\"\",\"(\"&ED25&\")\")","v":""}]
[{"$nulls":3},"業務対応可能言語",{"$nulls":10},{"$f":"_xlfn.CONCAT(EO26:FJ26)","v":""},{"$nulls":84},"業務対応可能言語",null,null,"日本語","中国語","英語","その他・言語","その他・言語・",{"$nulls":16},{"$f":"IFERROR(INDEX($GJ$6:$BLM$6,1,MATCH(CY26,$GJ$4:$BLM$4,0),1),\"\")","v":""},{"$f":"IFERROR(INDEX($GJ$6:$BLM$6,1,MATCH(CZ26,$GJ$4:$BLM$4,0),1),\"\")","v":""},{"$f":"IFERROR(INDEX($GJ$6:$BLM$6,1,MATCH(DA26,$GJ$4:$BLM$4,0),1),\"\")","v":""},{"$f":"IFERROR(INDEX($GJ$6:$BLM$6,1,MATCH(DB26,$GJ$4:$BLM$4,0),1),\"\")","v":""},{"$f":"IFERROR(INDEX($GJ$6:$BLM$6,1,MATCH(DC26,$GJ$4:$BLM$4,0),1),\"\")","v":""},{"$nulls":17},{"$f":"IF(DT26=1,CY26&\"　\",\"\")","v":""},{"$f":"IF(DU26=1,CZ26&\"　\",\"\")","v":""},{"$f":"IF(DV26=1,DA26&\"　\",\"\")","v":""},{"$f":"IF(DW26=1,\"その他\",\"\")","v":""},{"$f":"IF(OR(DX26=0,DX26=\"\"),\"\",\"(\"&DX26&\")\")","v":""}]
[{"$nulls":3},"生産・製造工程\nアピールポイント\n",{"$nulls":96},"英語表示ラベル対応",null,"可","不可",{"$nulls":19},{"$f":"IFERROR(INDEX($GJ$6:$BLM$6,1,MATCH(CY27,$GJ$4:$BLM$4,0),1),\"\")","v":""},{"$f":"IFERROR(INDEX($GJ$6:$BLM$6,1,MATCH(CZ27,$GJ$4:$BLM$4,0),1),\"\")","v":""},{"$nulls":20},{"$f":"IF(DT27=1,CY27&\"　\",\"\")","v":""},{"$f":"IF(DU27=1,CZ27&\"　\",\"\")","v":""}]
[{"$nulls":4},{"$f":"DB28","v":""},{"$nulls":94},"生産・製造工程\nアピールポイント\n",null,null,{"$f":"IFERROR(INDEX($GJ$6:$BLM$6,1,MATCH(CV28,$GJ$4:$BLM$4,0),1),\"\")","v":""},null,null,{"$f":"IF(CY28=0,\"\",CY28)","v":""}]
[{"$nulls":3},"認証済み認証",{"$nulls":10},{"$f":"_xlfn.CONCAT(EO29:FJ29)","v":""},{"$nulls":84},"認証済み認証",null,null,"HACCP","G-GAP","ISO22000","ISO9001","Halal","FSSC22000","Organic JAS","なし・取得","その他・取得","その他・取得・",{"$nulls":11},{"$f":"IFERROR(INDEX($GJ$6:$BLM$6,1,MATCH(CY29,$GJ$4:$BLM$4,0),1),\"\")","v":""},"","","","","","","","","",{"$nulls":12},{"$f":"IF(DT29=1,CY29&\"　\",\"\")","v":""},"","","","","","",{"$f":"IF(EA29=1,\"なし　\",\"\")","v":""},{"$f":"IF(EB29=1,\"その他\",\"\")","v":""},{"$f":"IF(OR(EC29=0,EC29=\"\"),\"\",\"(\"&EC29&\")\")","v":""}]
[]
[{"$nulls":3},"■品質管理情報",{"$nulls":98},1,2,3,4,5,6,7,8,9,10,11,12,13,14,15,16,17,18,19,20,null,1,2,3,4,5,6,7,8,9,10,11,12,13,14,15,16,17,18,19,20,null,null,1,2,3,4,5,6,7,8,9,10,11,12,13,14,15,16,17,18,19,20,null,null,1,2,3,4,5,6,7,8,9,10,11,12,13,14,15,16,17,18,19,20]
[{"$nulls":3},"品質検査の有無",{"$nulls":15},{"$f":"_xlfn.CONCAT(EO32:FJ32)","v":""},{"$nulls":82},"なし・品質","あり・品質","あり・品質・",{"$nulls":18},{"$f":"IFERROR(INDEX($GJ$6:$BLM$6,1,MATCH(CY32,$GJ$4:$BLM$4,0),1),\"\")","v":""},{"$f":"IFERROR(INDEX($GJ$6:$BLM$6,1,MATCH(CZ32,$GJ$4:$BLM$4,0),1),\"\")","v":""},{"$f":"IFERROR(INDEX($GJ$6:$BLM$6,1,MATCH(DA32,$GJ$4:$BLM$4,0),1),\"\")","v":""},{"$nulls":19},{"$f":"IF(DT32=1,\"なし\",\"\")","v":""},{"$f":"IF(DU32=1,\"あり\",\"\")","v":""},{"$f":"IF(OR(DV32=0,DV32=\"\"),\"\",\"(\"&DV32&\")\")","v":""}]
[{"$nulls":3},"衛生管理への取組"]
[{"$nulls":3},"生産・製造工程の管理",{"$nulls":15},{"$f":"ASC(DB34)","v":""},{"$nulls":79},"衛生・生産",null,null,{"$f":"IFERROR(INDEX($GJ$6:$BLM$6,1,MATCH(CV34,$GJ$4:$BLM$4,0),1),\"\")","v":""},null,null,{"$f":"IF(CY34=0,\"\",CY34)","v":""}]
[{"$nulls":3},"従業員の管理",{"$nulls":15},{"$f":"ASC(DB35)","v":""},{"$nulls":79},"衛生・従業員",null,null,{"$f":"IFERROR(INDEX($GJ$6:$BLM$6,1,MATCH(CV35,$GJ$4:$BLM$4,0),1),\"\")","v":""},null,null,""]
[{"$nulls":3},"施設設備の管理",{"$nulls":15},"",{"$nulls":79},"衛生・施設",null,null,{"$f":"IFERROR(INDEX($GJ$6:$BLM$6,1,MATCH(CV36,$GJ$4:$BLM$4,0),1),\"\")","v":""},null,null,""]
[{"$nulls":3},"危機管理体制"]
[{"$nulls":3},"担当者名又は担当部署名",{"$nulls":15},{"$f":"DB38","v":""},{"$nulls":35},"担当者連絡先",{"$nulls":10},{"$f":"DC38","v":""},{"$nulls":32},"危機・担当","危機・担当連絡",null,{"$f":"IFERROR(INDEX($GJ$6:$BLM$6,1,MATCH(CV38,$GJ$4:$BLM$4,0),1),\"\")","v":""},{"$f":"IFERROR(INDEX($GJ$6:$BLM$6,1,MATCH(CW38,$GJ$4:$BLM$4,0),1),\"\")","v":""},null,{"$f":"IF(CY38=0,\"\",CY38)","v":""},""]
[{"$nulls":3},"危機管理に関する対応や生産物\n賠償責任保険(PL保険)の加入等",{"$nulls":15},{"$f":"DB39","v":""},{"$nulls":79},"危機・対応",null,null,{"$f":"IFERROR(INDEX($GJ$6:$BLM$6,1,MATCH(CV39,$GJ$4:$BLM$4,0),1),\"\")","v":""},null,null,""]
[]
[{"$nulls":3},"■商談に関する必要情報",{"$nulls":96},"輸出パートナー",null,"あり・輸出","なし・輸出",{"$nulls":19},{"$f":"IFERROR(INDEX($GJ$6:$BLM$6,1,MATCH(CY41,$GJ$4:$BLM$4,0),1),\"\")","v":""},"",{"$nulls":20},{"$f":"IF(DT41=1,\"あり\",\"\")","v":""},{"$f":"IF(DU41=1,\"なし\",\"\")","v":""}]
[{"$nulls":3},"商談希望国・地域",{"$nulls":12},{"$f":"_xlfn.CONCAT(EO42:FJ42)","v":""},{"$nulls":82},"商談希望国・地域",null,null,"商談・中国","商談・韓国","商談・台湾","商談・香港","商談・シンガポール","商談・タイ","商談・マレーシア","商談・ベトナム","商談・北米","商談・ドバイ","商談・フランス","商談・イギリス","商談・ブラジル","商談・オーストラリア","その他・商談","その他・商談・",{"$nulls":5},"","",{"$f":"IFERROR(INDEX($GJ$6:$BLM$6,1,MATCH(DA42,$GJ$4:$BLM$4,0),1),\"\")","v":""},"","","","","","","","","","","","","",{"$nulls":6},{"$f":"IF(DT42=1,FL42&\"　\",\"\")","v":""},{"$f":"IF(DU42=1,FM42&\"　\",\"\")","v":""},"","","","","","","","","","","","",{"$f":"IF(EH42=1,\"その他\",\"\")","v":""},{"$f":"IF(OR(EI42=0,EI42=\"\"),\"\",\"(\"&EI42&\")\")","v":""},{"$nulls":6},{"$f":"SUBSTITUTE(CY42,$GF42,\"\",1)","v":"中国"},{"$f":"SUBSTITUTE(CZ42,$GF42,\"\",1)","v":"韓国"},"台湾","香港","シンガポール","タイ","マレーシア","ベトナム","北米","ドバイ","フランス","イギリス","ブラジル","オーストラリア",{"$nulls":6},"商談・"]
[{"$nulls":3},"輸出実績国・地域",{"$nulls":12},{"$f":"_xlfn.CONCAT(EO43:FJ43)","v":""},{"$nulls":66},"輸出パートナー",{"$nulls":9},{"$f":"_xlfn.CONCAT(EO41:FJ41)","v":""},{"$nulls":5},"輸出実績国・地域",null,null,"輸出・中国","輸出・韓国","輸出・台湾","輸出・香港","輸出・シンガポール","輸出・タイ","輸出・マレーシア","輸出・ベトナム","輸出・北米","輸出・ドバイ","輸出・フランス","輸出・イギリス","輸出・ブラジル","輸出・オーストラリア","その他・輸出","その他・輸出・",{"$nulls":5},"","","","","","","","","","","","","","","","",{"$nulls":6},{"$f":"IF(DT43=1,FL43&\"　\",\"\")","v":""},"","","","","","","","","","","","","","","",{"$nulls":6},{"$f":"SUBSTITUTE(CY43,$GF43,\"\",1)","v":"中国"},"韓国","台湾","香港","シンガポール","タイ","マレーシア","ベトナム","北米","ドバイ","フランス","イギリス","ブラジル","オーストラリア",{"$nulls":6},"輸出・"]
[]
[null,null,"■商品情報"]
[null,null,"商品名",{"$nulls":9},{"$f":"DB46","v":""},{"$nulls":41},"商品写真2枚（表面1枚、裏面1枚）\n貼付してください\n\n＊パッケージが鮮明なもの\n\n＊裏面分は、原材料や栄養成分表示が\n　判別出来る画像とすること",{"$nulls":44},"商品名①",null,null,{"$f":"IFERROR(INDEX($GJ$6:$BLM$6,1,MATCH(CV46,$GJ$4:$BLM$4,0),1),\"\")","v":""},null,null,{"$f":"IF(CY46=0,\"\",CY46)","v":""}]
[null,null,"JANコード",{"$nulls":9},{"$f":"DB47","v":""},{"$nulls":15},"可能対応",{"$nulls":9},{"$f":"_xlfn.CONCAT(EO47:FJ47)","v":""},{"$nulls":60},"JANコード①",null,null,{"$f":"IFERROR(INDEX($GJ$6:$BLM$6,1,MATCH(CV47,$GJ$4:$BLM$4,0),1),\"\")","v":""},null,null,"",null,null,"業務用対応可能①","ギフト対応可能①",{"$nulls":13},{"$f":"IFERROR(INDEX($GJ$6:$BLM$6,1,MATCH(DE47,$GJ$4:$BLM$4,0),1),\"\")","v":""},{"$f":"IFERROR(INDEX($GJ$6:$BLM$6,1,MATCH(DF47,$GJ$4:$BLM$4,0),1),\"\")","v":""},{"$nulls":20},{"$f":"IF(DT47=1,IF(EQ47=\"\",FL47,FL47&\"・\"),\"\")","v":""},{"$f":"IF(DU47=1,FM47&\"\",\"\")","v":""},{"$nulls":17},{"$f":"IF(AND(EP47=\"\",EQ47=\"\"),\"\",\"対応可能\")","v":""},null,null,"業務用","ギフト"]
[null,null,"提供可能時期",{"$nulls":9},{"$f":"DB48","v":""},{"$nulls":15},"発注リードタイム",{"$nulls":9},{"$f":"DC48","v":""},{"$nulls":60},"提供可能時期①","発注リードタイム①",null,{"$f":"IFERROR(INDEX($GJ$6:$BLM$6,1,MATCH(CV48,$GJ$4:$BLM$4,0),1),\"\")","v":""},{"$f":"IFERROR(INDEX($GJ$6:$BLM$6,1,MATCH(CW48,$GJ$4:$BLM$4,0),1),\"\")","v":""},null,"",""]
[null,null,"内容量",{"$nulls":9},{"$f":"DB49","v":""},{"$nulls":15},"1ケースあたり入数",{"$nulls":9},{"$f":"DC49","v":""},{"$nulls":60},"内容量①","1ケースあたり①",null,{"$f":"IFERROR(INDEX($GJ$6:$BLM$6,1,MATCH(CV49,$GJ$4:$BLM$4,0),1),\"\")","v":""},{"$f":"IFERROR(INDEX($GJ$6:$BLM$6,1,MATCH(CW49,$GJ$4:$BLM$4,0),1),\"\")","v":""},null,"",""]
[null,null,"最 大　ケ ー ス\n納品単位",{"$nulls":9},{"$f":"DB50","v":""},{"$nulls":15},"最 小　ケ ー ス\n納品単位",{"$nulls":9},{"$f":"DC50","v":""},{"$nulls":60},"最大ケース①","最小ケース①",null,{"$f":"IFERROR(INDEX($GJ$6:$BLM$6,1,MATCH(CV50,$GJ$4:$BLM$4,0),1),\"\")","v":""},{"$f":"IFERROR(INDEX($GJ$6:$BLM$6,1,MATCH(CW50,$GJ$4:$BLM$4,0),1),\"\")","v":""},null,"",""]
[null,null,"ケ ー ス　サ イ ズ\n(縦×横×高さ：cm)",{"$nulls":9},{"$f":"_xlfn.CONCAT(EP51:ER51)","v":""},{"$nulls":15},"ケ ー ス　重 量\n(kg)",{"$nulls":9},{"$f":"ES51","v":""},{"$nulls":60},"ケースサイズ","ケース重量",null,"縦①","横①","高さ①","重量①",{"$nulls":17},{"$f":"IFERROR(INDEX($GJ$6:$BLM$6,1,MATCH(CY51,$GJ$4:$BLM$4,0),1),\"\")","v":""},{"$f":"IFERROR(INDEX($GJ$6:$BLM$6,1,MATCH(CZ51,$GJ$4:$BLM$4,0),1),\"\")","v":""},{"$f":"IFERROR(INDEX($GJ$6:$BLM$6,1,MATCH(DA51,$GJ$4:$BLM$4,0),1),\"\")","v":""},{"$f":"IFERROR(INDEX($GJ$6:$BLM$6,1,MATCH(DB51,$GJ$4:$BLM$4,0),1),\"\")","v":""},{"$nulls":18},{"$f":"IF(OR(DT51=0,DT51=\"\"),\"\",DT51&\"×\")","v":""},{"$f":"IF(OR(DU51=0,DU51=\"\"),\"\",DU51&\"×\")","v":""},{"$f":"IF(OR(DV51=0,DV51=\"\"),\"\",DV51&\"\")","v":""},{"$f":"IF(OR(DW51=0,DW51=\"\"),\"\",DW51&\"\")","v":""}]
[null,null,"賞味期限",{"$nulls":9},{"$f":"DB52","v":""},{"$nulls":15},"消費期限",{"$nulls":9},{"$f":"DC52","v":""},{"$nulls":60},"賞味期限①","消費期限①",null,{"$f":"IFERROR(INDEX($GJ$6:$BLM$6,1,MATCH(CV52,$GJ$4:$BLM$4,0),1),\"\")","v":""},{"$f":"IFERROR(INDEX($GJ$6:$BLM$6,1,MATCH(CW52,$GJ$4:$BLM$4,0),1),\"\")","v":""},null,{"$f":"IF(CY52=0,\"\",CY52)","v":""},""]
[null,null,"希　望　小　売\n(税抜：円)",{"$nulls":9},{"$f":"DB53","v":""},{"$nulls":15},"税率",{"$nulls":9},{"$f":"_xlfn.CONCAT(EO53:FJ53)","v":""},{"$nulls":60},"希望小売①",null,null,{"$f":"IFERROR(INDEX($GJ$6:$BLM$6,1,MATCH(CV53,$GJ$4:$BLM$4,0),1),\"\")","v":""},null,null,"",null,null,"8%①","10%①",{"$nulls":13},{"$f":"IFERROR(INDEX($GJ$6:$BLM$6,1,MATCH(DE53,$GJ$4:$BLM$4,0),1),\"\")","v":""},"",{"$nulls":20},{"$f":"IF(DT53=1,FL53&\"　\",\"\")","v":""},"",{"$nulls":20},"8%","10%"]
[null,null,"仕　切　単　価\n(税抜：円)",{"$nulls":9},{"$f":"DB54","v":""},{"$nulls":15},{"$f":"_xlfn.CONCAT(EO54:FJ54)","v":""},{"$nulls":70},"仕切単価①",null,null,{"$f":"IFERROR(INDEX($GJ$6:$BLM$6,1,MATCH(CV54,$GJ$4:$BLM$4,0),1),\"\")","v":""},null,null,"",null,null,"工場出し①","関東向け①","関西向け①",{"$nulls":12},"","",{"$f":"IFERROR(INDEX($GJ$6:$BLM$6,1,MATCH(DG54,$GJ$4:$BLM$4,0),1),\"\")","v":""},{"$nulls":19},"","","",{"$nulls":19},"工場出し","関東向け","関西向け"]
[null,null,"主 原 料 産 地\n(漁獲場所等)",{"$nulls":9},{"$f":"DB55","v":""},{"$nulls":15},"保存温度帯",{"$nulls":9},{"$f":"_xlfn.CONCAT(EO55:FJ55)","v":""},{"$nulls":60},"主原料産地①",null,null,{"$f":"IFERROR(INDEX($GJ$6:$BLM$6,1,MATCH(CV55,$GJ$4:$BLM$4,0),1),\"\")","v":""},{"$f":"IFERROR(INDEX($GJ$6:$BLM$6,1,MATCH(CW55,$GJ$4:$BLM$4,0),1),\"\")","v":""},null,{"$f":"IF(CY55=0,\"\",CY55)","v":""},{"$f":"IF(CZ55=0,\"\",CZ55)","v":""},null,"常温①","冷蔵①","冷凍①",{"$nulls":12},"","",{"$f":"IFERROR(INDEX($GJ$6:$BLM$6,1,MATCH(DG55,$GJ$4:$BLM$4,0),1),\"\")","v":""},{"$nulls":19},"","","",{"$nulls":19},"常温","冷蔵","冷凍"]
[null,null,"売り先",{"$nulls":9},{"$f":"_xlfn.CONCAT(EO56:FJ56)","v":""},{"$nulls":89},"外食①","中食①","商社・卸売①","メーカー①","スーパーマーケット①","百貨店①","その他小売①","ホテル・宴会・レジャー①","その他・ターゲット①","その他・ターゲット・①",{"$nulls":11},{"$f":"IFERROR(INDEX($GJ$6:$BLM$6,1,MATCH(CY56,$GJ$4:$BLM$4,0),1),\"\")","v":""},"","","","","","","","","",{"$nulls":12},"","","","","","","","",{"$f":"IF(EB56=1,\"その他\",\"\")","v":""},{"$f":"IF(OR(EC56=0,EC56=\"\"),\"\",\"(\"&EC56&\")\")","v":""},{"$nulls":12},"外食","中食","商社・卸売","メーカー","スーパーマーケット","百貨店","その他小売","ホテル・宴会・レジャー"]
[null,null,"ターゲット",{"$nulls":9},{"$f":"DB57","v":""},{"$nulls":86},"ターゲット①",null,null,{"$f":"IFERROR(INDEX($GJ$6:$BLM$6,1,MATCH(CV57,$GJ$4:$BLM$4,0),1),\"\")","v":""},null,null,{"$f":"IF(CY57=0,\"\",CY57)","v":""}]
[null,null,"商品特徴",{"$nulls":3},{"$f":"DB58","v":""},{"$nulls":92},"商品特徴①",null,null,{"$f":"IFERROR(INDEX($GJ$6:$BLM$6,1,MATCH(CV58,$GJ$4:$BLM$4,0),1),\"\")","v":""},null,null,""]
[null,null,"アレルギー表示(特定原材料)",{"$nulls":51},"利用シーン",{"$nulls":44},"利用シーン①",null,null,{"$f":"IFERROR(INDEX($GJ$6:$BLM$6,1,MATCH(CV59,$GJ$4:$BLM$4,0),1),\"\")","v":""},null,null,""]
[null,null,"表示\n義務有",{"$nulls":3},{"$f":"_xlfn.CONCAT(EO60:FJ60)","v":""},{"$nulls":47},{"$f":"DB59","v":""},{"$nulls":47},"えび①","かに①","小麦①","そば①","卵①","乳①","落花生①",{"$nulls":14},{"$f":"IFERROR(INDEX($GJ$6:$BLM$6,1,MATCH(CY60,$GJ$4:$BLM$4,0),1),\"\")","v":""},"","","","","","",{"$nulls":15},{"$f":"IF(DT60=1,FL60&\"　\",\"\")","v":""},"","","","","","",{"$nulls":15},"えび","かに","小麦","そば","卵","乳","落花生"]
[null,null,"任意\n表示",{"$nulls":3},{"$f":"_xlfn.CONCAT(EO61:FJ61)","v":""},{"$nulls":95},"あわび①","いか①","いくら①","オレンジ①","カシューナッツ①","キウイフルーツ①","牛肉①","くるみ①","ごま①","さけ①","さば①","大豆①","鶏肉①","バナナ①","豚肉①","まつたけ①","もも①","やまいも①","りんご①","ゼラチン①",null,"","","","","","","",{"$f":"IFERROR(INDEX($GJ$6:$BLM$6,1,MATCH(DF61,$GJ$4:$BLM$4,0),1),\"\")","v":""},"","","","","","","","","","","","",null,null,{"$f":"IF(DT61=1,FL61&\" \",\"\")","v":""},{"$f":"IF(DU61=1,FM61&\" \",\"\")","v":""},"","","","","","","","","","","","","","","","","","",null,null,"あわび","いか","いくら","オレンジ","カシューナッツ","キウイフルーツ","牛肉","くるみ","ごま","さけ","さば","大豆","鶏肉","バナナ","豚肉","まつたけ","もも","やまいも","りんご","ゼラチン"]
[null,null,"備考",{"$nulls":3},{"$f":"ASC(DB62)","v":""},{"$nulls":92},"備考①",null,null,{"$f":"IFERROR(INDEX($GJ$6:$BLM$6,1,MATCH(CV62,$GJ$4:$BLM$4,0),1),\"\")","v":""},null,null,{"$f":"IF(CY62=0,\"\",CY62)","v":""}]
[]
[null,null,"■商品情報"]
[null,null,"商品名",{"$nulls":9},{"$f":"DB65","v":""},{"$nulls":41},"商品写真2枚（表面1枚、裏面1枚）\n貼付してください\n\n＊パッケージが鮮明なもの\n\n＊裏面分は、原材料や栄養成分表示が\n　判別出来る画像とすること",{"$nulls":44},"商品名②",null,null,{"$f":"IFERROR(INDEX($GJ$6:$BLM$6,1,MATCH(CV65,$GJ$4:$BLM$4,0),1),\"\")","v":""},null,null,{"$f":"IF(CY65=0,\"\",CY65)","v":""}]
[null,null,"JANコード",{"$nulls":9},{"$f":"DB66","v":""},{"$nulls":15},"可能対応",{"$nulls":9},{"$f":"_xlfn.CONCAT(EO66:FJ66)","v":""},{"$nulls":60},"JANコード②",null,null,{"$f":"IFERROR(INDEX($GJ$6:$BLM$6,1,MATCH(CV66,$GJ$4:$BLM$4,0),1),\"\")","v":""},null,null,"",null,null,"業務用対応可能②","ギフト対応可能②",{"$nulls":13},{"$f":"IFERROR(INDEX($GJ$6:$BLM$6,1,MATCH(DE66,$GJ$4:$BLM$4,0),1),\"\")","v":""},{"$f":"IFERROR(INDEX($GJ$6:$BLM$6,1,MATCH(DF66,$GJ$4:$BLM$4,0),1),\"\")","v":""},{"$nulls":20},{"$f":"IF(DT66=1,IF(EQ66=\"\",FL66,FL66&\"・\"),\"\")","v":""},{"$f":"IF(DU66=1,FM66&\"\",\"\")","v":""},{"$nulls":17},{"$f":"IF(AND(EP66=\"\",EQ66=\"\"),\"\",\"対応可能\")","v":""},null,null,"業務用","ギフト"]
[null,null,"提供可能時期",{"$nulls":9},{"$f":"DB67","v":""},{"$nulls":15},"発注リードタイム",{"$nulls":9},{"$f":"DC67","v":""},{"$nulls":60},"提供可能時期②","発注リードタイム②",null,{"$f":"IFERROR(INDEX($GJ$6:$BLM$6,1,MATCH(CV67,$GJ$4:$BLM$4,0),1),\"\")","v":""},{"$f":"IFERROR(INDEX($GJ$6:$BLM$6,1,MATCH(CW67,$GJ$4:$BLM$4,0),1),\"\")","v":""},null,"",""]
[null,null,"内容量",{"$nulls":9},{"$f":"DB68","v":""},{"$nulls":15},"1ケースあたり入数",{"$nulls":9},{"$f":"DC68","v":""},{"$nulls":60},"内容量②","1ケースあたり②",null,{"$f":"IFERROR(INDEX($GJ$6:$BLM$6,1,MATCH(CV68,$GJ$4:$BLM$4,0),1),\"\")","v":""},{"$f":"IFERROR(INDEX($GJ$6:$BLM$6,1,MATCH(CW68,$GJ$4:$BLM$4,0),1),\"\")","v":""},null,"",""]
[null,null,"最 大　ケ ー ス\n納品単位",{"$nulls":9},{"$f":"DB69","v":""},{"$nulls":15},"最 小　ケ ー ス\n納品単位",{"$nulls":9},{"$f":"DC69","v":""},{"$nulls":60},"最大ケース②","最小ケース②",null,{"$f":"IFERROR(INDEX($GJ$6:$BLM$6,1,MATCH(CV69,$GJ$4:$BLM$4,0),1),\"\")","v":""},{"$f":"IFERROR(INDEX($GJ$6:$BLM$6,1,MATCH(CW69,$GJ$4:$BLM$4,0),1),\"\")","v":""},null,"",""]
[null,null,"ケ ー ス　サ イ ズ\n(縦×横×高さ：cm)",{"$nulls":9},{"$f":"_xlfn.CONCAT(EP70:ER70)","v":""},{"$nulls":15},"ケ ー ス　重 量\n(kg)",{"$nulls":9},{"$f":"ES70","v":""},{"$nulls":60},"ケースサイズ","ケース重量",null,"縦②","横②","高さ②","重量②",{"$nulls":17},{"$f":"IFERROR(INDEX($GJ$6:$BLM$6,1,MATCH(CY70,$GJ$4:$BLM$4,0),1),\"\")","v":""},{"$f":"IFERROR(INDEX($GJ$6:$BLM$6,1,MATCH(CZ70,$GJ$4:$BLM$4,0),1),\"\")","v":""},{"$f":"IFERROR(INDEX($GJ$6:$BLM$6,1,MATCH(DA70,$GJ$4:$BLM$4,0),1),\"\")","v":""},{"$f":"IFERROR(INDEX($GJ$6:$BLM$6,1,MATCH(DB70,$GJ$4:$BLM$4,0),1),\"\")","v":""},{"$nulls":18},{"$f":"IF(OR(DT70=0,DT70=\"\"),\"\",DT70&\"×\")","v":""},{"$f":"IF(OR(DU70=0,DU70=\"\"),\"\",DU70&\"×\")","v":""},{"$f":"IF(OR(DV70=0,DV70=\"\"),\"\",DV70&\"\")","v":""},{"$f":"IF(OR(DW70=0,DW70=\"\"),\"\",DW70&\"\")","v":""}]
[null,null,"賞味期限",{"$nulls":9},{"$f":"DB71","v":""},{"$nulls":15},"消費期限",{"$nulls":9},{"$f":"DC71","v":""},{"$nulls":60},"賞味期限②","消費期限②",null,{"$f":"IFERROR(INDEX($GJ$6:$BLM$6,1,MATCH(CV71,$GJ$4:$BLM$4,0),1),\"\")","v":""},{"$f":"IFERROR(INDEX($GJ$6:$BLM$6,1,MATCH(CW71,$GJ$4:$BLM$4,0),1),\"\")","v":""},null,{"$f":"IF(CY71=0,\"\",CY71)","v":""},""]
[null,null,"希　望　小　売\n(税抜：円)",{"$nulls":9},{"$f":"DB72","v":""},{"$nulls":15},"税率",{"$nulls":9},{"$f":"_xlfn.CONCAT(EO72:FJ72)","v":""},{"$nulls":60},"希望小売②",null,null,{"$f":"IFERROR(INDEX($GJ$6:$BLM$6,1,MATCH(CV72,$GJ$4:$BLM$4,0),1),\"\")","v":""},null,null,"",null,null,"8%②","10%②",{"$nulls":13},{"$f":"IFERROR(INDEX($GJ$6:$BLM$6,1,MATCH(DE72,$GJ$4:$BLM$4,0),1),\"\")","v":""},"",{"$nulls":20},{"$f":"IF(DT72=1,FL72&\"　\",\"\")","v":""},"",{"$nulls":20},"8%","10%"]
[null,null,"仕　切　単　価\n(税抜：円)",{"$nulls":9},{"$f":"DB73","v":""},{"$nulls":15},{"$f":"_xlfn.CONCAT(EO73:FJ73)","v":""},{"$nulls":70},"仕切単価②",null,null,{"$f":"IFERROR(INDEX($GJ$6:$BLM$6,1,MATCH(CV73,$GJ$4:$BLM$4,0),1),\"\")","v":""},null,null,"",null,null,"工場出し②","関東向け②","関西向け②",{"$nulls":12},"","",{"$f":"IFERROR(INDEX($GJ$6:$BLM$6,1,MATCH(DG73,$GJ$4:$BLM$4,0),1),\"\")","v":""},{"$nulls":19},"","","",{"$nulls":19},"工場出し","関東向け","関西向け"]
[null,null,"主 原 料 産 地\n(漁獲場所等)",{"$nulls":9},{"$f":"DB74","v":""},{"$nulls":15},"保存温度帯",{"$nulls":9},{"$f":"_xlfn.CONCAT(EO74:FJ74)","v":""},{"$nulls":60},"主原料産地②",null,null,{"$f":"IFERROR(INDEX($GJ$6:$BLM$6,1,MATCH(CV74,$GJ$4:$BLM$4,0),1),\"\")","v":""},{"$f":"IFERROR(INDEX($GJ$6:$BLM$6,1,MATCH(CW74,$GJ$4:$BLM$4,0),1),\"\")","v":""},null,{"$f":"IF(CY74=0,\"\",CY74)","v":""},{"$f":"IF(CZ74=0,\"\",CZ74)","v":""},null,"常温②","冷蔵②","冷凍②",{"$nulls":12},"","",{"$f":"IFERROR(INDEX($GJ$6:$BLM$6,1,MATCH(DG74,$GJ$4:$BLM$4,0),1),\"\")","v":""},{"$nulls":19},"","","",{"$nulls":19},"常温","冷蔵","冷凍"]
[null,null,"売り先",{"$nulls":9},{"$f":"_xlfn.CONCAT(EO75:FJ75)","v":""},{"$nulls":89},"外食②","中食②","商社・卸売②","メーカー②","スーパーマーケット②","百貨店②","その他小売②","ホテル・宴会・レジャー②","その他・ターゲット②","その他・ターゲット・②",{"$nulls":11},{"$f":"IFERROR(INDEX($GJ$6:$BLM$6,1,MATCH(CY75,$GJ$4:$BLM$4,0),1),\"\")","v":""},"","","","","","","","","",{"$nulls":12},"","","","","","","","",{"$f":"IF(EB75=1,\"その他\",\"\")","v":""},{"$f":"IF(OR(EC75=0,EC75=\"\"),\"\",\"(\"&EC75&\")\")","v":""},{"$nulls":12},"外食","中食","商社・卸売","メーカー","スーパーマーケット","百貨店","その他小売","ホテル・宴会・レジャー"]
[null,null,"ターゲット",{"$nulls":9},{"$f":"DB76","v":""},{"$nulls":86},"ターゲット②",null,null,{"$f":"IFERROR(INDEX($GJ$6:$BLM$6,1,MATCH(CV76,$GJ$4:$BLM$4,0),1),\"\")","v":""},null,null,{"$f":"IF(CY76=0,\"\",CY76)","v":""}]
[null,null,"商品特徴",{"$nulls":3},{"$f":"DB77","v":""},{"$nulls":92},"商品特徴②",null,null,{"$f":"IFERROR(INDEX($GJ$6:$BLM$6,1,MATCH(CV77,$GJ$4:$BLM$4,0),1),\"\")","v":""},null,null,""]
[null,null,"アレルギー表示(特定原材料)",{"$nulls":51},"利用シーン",{"$nulls":44},"利用シーン②",null,null,{"$f":"IFERROR(INDEX($GJ$6:$BLM$6,1,MATCH(CV78,$GJ$4:$BLM$4,0),1),\"\")","v":""},null,null,""]
[null,null,"表示\n義務有",{"$nulls":3},{"$f":"_xlfn.CONCAT(EO79:FJ79)","v":""},{"$nulls":47},{"$f":"DB78","v":""},{"$nulls":47},"えび②","かに②","小麦②","そば②","卵②","乳②","落花生②",{"$nulls":14},{"$f":"IFERROR(INDEX($GJ$6:$BLM$6,1,MATCH(CY79,$GJ$4:$BLM$4,0),1),\"\")","v":""},"","","","","","",{"$nulls":15},{"$f":"IF(DT79=1,FL79&\"　\",\"\")","v":""},"","","","","","",{"$nulls":15},"えび","かに","小麦","そば","卵","乳","落花生"]
[null,null,"任意\n表示",{"$nulls":3},{"$f":"_xlfn.CONCAT(EO80:FJ80)","v":""},{"$nulls":95},"あわび②","いか②","いくら②","オレンジ②","カシューナッツ②","キウイフルーツ②","牛肉②","くるみ②","ごま②","さけ②","さば②","大豆②","鶏肉②","バナナ②","豚肉②","まつたけ②","もも②","やまいも②","りんご②","ゼラチン②",null,"","","","","","","",{"$f":"IFERROR(INDEX($GJ$6:$BLM$6,1,MATCH(DF80,$GJ$4:$BLM$4,0),1),\"\")","v":""},"","","","","","","","","","","","",null,null,{"$f":"IF(DT80=1,FL80&\" \",\"\")","v":""},{"$f":"IF(DU80=1,FM80&\" \",\"\")","v":""},"","","","","","","","","","","","","","","","","","",null,null,"あわび","いか","いくら","オレンジ","カシューナッツ","キウイフルーツ","牛肉","くるみ","ごま","さけ","さば","大豆","鶏肉","バナナ","豚肉","まつたけ","もも","やまいも","りんご","ゼラチン"]
[null,null,"備考",{"$nulls":3},{"$f":"ASC(DB81)","v":""},{"$nulls":92},"備考②",null,null,{"$f":"IFERROR(INDEX($GJ$6:$BLM$6,1,MATCH(CV81,$GJ$4:$BLM$4,0),1),\"\")","v":""},null,null,{"$f":"IF(CY81=0,\"\",CY81)","v":""}]
[]
[null,null,"■商品情報"]
[null,null,"商品名",{"$nulls":9},{"$f":"DB84","v":""},{"$nulls":41},"商品写真2枚（表面1枚、裏面1枚）\n貼付してください\n\n＊パッケージが鮮明なもの\n\n＊裏面分は、原材料や栄養成分表示が\n　判別出来る画像とすること",{"$nulls":44},"商品名③",null,null,{"$f":"IFERROR(INDEX($GJ$6:$BLM$6,1,MATCH(CV84,$GJ$4:$BLM$4,0),1),\"\")","v":""},null,null,{"$f":"IF(CY84=0,\"\",CY84)","v":""}]
[null,null,"JANコード",{"$nulls":9},{"$f":"DB85","v":""},{"$nulls":15},"可能対応",{"$nulls":9},{"$f":"_xlfn.CONCAT(EO85:FJ85)","v":""},{"$nulls":60},"JANコード③",null,null,{"$f":"IFERROR(INDEX($GJ$6:$BLM$6,1,MATCH(CV85,$GJ$4:$BLM$4,0),1),\"\")","v":""},null,null,"",null,null,"業務用対応可能③","ギフト対応可能③",{"$nulls":13},{"$f":"IFERROR(INDEX($GJ$6:$BLM$6,1,MATCH(DE85,$GJ$4:$BLM$4,0),1),\"\")","v":""},{"$f":"IFERROR(INDEX($GJ$6:$BLM$6,1,MATCH(DF85,$GJ$4:$BLM$4,0),1),\"\")","v":""},{"$nulls":20},{"$f":"IF(DT85=1,IF(EQ85=\"\",FL85,FL85&\"・\"),\"\")","v":""},{"$f":"IF(DU85=1,FM85&\"\",\"\")","v":""},{"$nulls":17},{"$f":"IF(AND(EP85=\"\",EQ85=\"\"),\"\",\"対応可能\")","v":""},null,null,"業務用","ギフト"]
[null,null,"提供可能時期",{"$nulls":9},{"$f":"DB86","v":""},{"$nulls":15},"発注リードタイム",{"$nulls":9},{"$f":"DC86","v":""},{"$nulls":60},"提供可能時期③","発注リードタイム③",null,{"$f":"IFERROR(INDEX($GJ$6:$BLM$6,1,MATCH(CV86,$GJ$4:$BLM$4,0),1),\"\")","v":""},{"$f":"IFERROR(INDEX($GJ$6:$BLM$6,1,MATCH(CW86,$GJ$4:$BLM$4,0),1),\"\")","v":""},null,"",""]
[null,null,"内容量",{"$nulls":9},{"$f":"DB87","v":""},{"$nulls":15},"1ケースあたり入数",{"$nulls":9},{"$f":"DC87","v":""},{"$nulls":60},"内容量③","1ケースあたり③",null,{"$f":"IFERROR(INDEX($GJ$6:$BLM$6,1,MATCH(CV87,$GJ$4:$BLM$4,0),1),\"\")","v":""},{"$f":"IFERROR(INDEX($GJ$6:$BLM$6,1,MATCH(CW87,$GJ$4:$BLM$4,0),1),\"\")","v":""},null,"",""]
[null,null,"最 大　ケ ー ス\n納品単位",{"$nulls":9},{"$f":"DB88","v":""},{"$nulls":15},"最 小　ケ ー ス\n納品単位",{"$nulls":9},{"$f":"DC88","v":""},{"$nulls":60},"最大ケース③","最小ケース③",null,{"$f":"IFERROR(INDEX($GJ$6:$BLM$6,1,MATCH(CV88,$GJ$4:$BLM$4,0),1),\"\")","v":""},{"$f":"IFERROR(INDEX($GJ$6:$BLM$6,1,MATCH(CW88,$GJ$4:$BLM$4,0),1),\"\")","v":""},null,"",""]
[null,null,"ケ ー ス　サ イ ズ\n(縦×横×高さ：cm)",{"$nulls":9},{"$f":"_xlfn.CONCAT(EP89:ER89)","v":""},{"$nulls":15},"ケ ー ス　重 量\n(kg)",{"$nulls":9},{"$f":"ES89","v":""},{"$nulls":60},"ケースサイズ","ケース重量",null,"縦③","横③","高さ③","重量③",{"$nulls":17},{"$f":"IFERROR(INDEX($GJ$6:$BLM$6,1,MATCH(CY89,$GJ$4:$BLM$4,0),1),\"\")","v":""},{"$f":"IFERROR(INDEX($GJ$6:$BLM$6,1,MATCH(CZ89,$GJ$4:$BLM$4,0),1),\"\")","v":""},{"$f":"IFERROR(INDEX($GJ$6:$BLM$6,1,MATCH(DA89,$GJ$4:$BLM$4,0),1),\"\")","v":""},{"$f":"IFERROR(INDEX($GJ$6:$BLM$6,1,MATCH(DB89,$GJ$4:$BLM$4,0),1),\"\")","v":""},{"$nulls":18},{"$f":"IF(OR(DT89=0,DT89=\"\"),\"\",DT89&\"×\")","v":""},{"$f":"IF(OR(DU89=0,DU89=\"\"),\"\",DU89&\"×\")","v":""},{"$f":"IF(OR(DV89=0,DV89=\"\"),\"\",DV89&\"\")","v":""},{"$f":"IF(OR(DW89=0,DW89=\"\"),\"\",DW89&\"\")","v":""}]
[null,null,"賞味期限",{"$nulls":9},{"$f":"DB90","v":""},{"$nulls":15},"消費期限",{"$nulls":9},{"$f":"DC90","v":""},{"$nulls":60},"賞味期限③","消費期限③",null,{"$f":"IFERROR(INDEX($GJ$6:$BLM$6,1,MATCH(CV90,$GJ$4:$BLM$4,0),1),\"\")","v":""},{"$f":"IFERROR(INDEX($GJ$6:$BLM$6,1,MATCH(CW90,$GJ$4:$BLM$4,0),1),\"\")","v":""},null,{"$f":"IF(CY90=0,\"\",CY90)","v":""},""]
[null,null,"希　望　小　売\n(税抜：円)",{"$nulls":9},{"$f":"DB91","v":""},{"$nulls":15},"税率",{"$nulls":9},{"$f":"_xlfn.CONCAT(EO91:FJ91)","v":""},{"$nulls":60},"希望小売③",null,null,{"$f":"IFERROR(INDEX($GJ$6:$BLM$6,1,MATCH(CV91,$GJ$4:$BLM$4,0),1),\"\")","v":""},null,null,"",null,null,"8%③","10%③",{"$nulls":13},{"$f":"IFERROR(INDEX($GJ$6:$BLM$6,1,MATCH(DE91,$GJ$4:$BLM$4,0),1),\"\")","v":""},"",{"$nulls":20},{"$f":"IF(DT91=1,FL91&\"　\",\"\")","v":""},"",{"$nulls":20},"8%","10%"]
[null,null,"仕　切　単　価\n(税抜：円)",{"$nulls":9},{"$f":"DB92","v":""},{"$nulls":15},{"$f":"_xlfn.CONCAT(EO92:FJ92)","v":""},{"$nulls":70},"仕切単価③",null,null,{"$f":"IFERROR(INDEX($GJ$6:$BLM$6,1,MATCH(CV92,$GJ$4:$BLM$4,0),1),\"\")","v":""},null,null,"",null,null,"工場出し③","関東向け③","関西向け③",{"$nulls":12},"","",{"$f":"IFERROR(INDEX($GJ$6:$BLM$6,1,MATCH(DG92,$GJ$4:$BLM$4,0),1),\"\")","v":""},{"$nulls":19},"","","",{"$nulls":19},"工場出し","関東向け","関西向け"]
[null,null,"主 原 料 産 地\n(漁獲場所等)",{"$nulls":9},{"$f":"DB93","v":""},{"$nulls":15},"保存温度帯",{"$nulls":9},{"$f":"_xlfn.CONCAT(EO93:FJ93)","v":""},{"$nulls":60},"主原料産地③",null,null,{"$f":"IFERROR(INDEX($GJ$6:$BLM$6,1,MATCH(CV93,$GJ$4:$BLM$4,0),1),\"\")","v":""},{"$f":"IFERROR(INDEX($GJ$6:$BLM$6,1,MATCH(CW93,$GJ$4:$BLM$4,0),1),\"\")","v":""},null,{"$f":"IF(CY93=0,\"\",CY93)","v":""},{"$f":"IF(CZ93=0,\"\",CZ93)","v":""},null,"常温③","冷蔵③","冷凍③",{"$nulls":12},"","",{"$f":"IFERROR(INDEX($GJ$6:$BLM$6,1,MATCH(DG93,$GJ$4:$BLM$4,0),1),\"\")","v":""},{"$nulls":19},"","","",{"$nulls":19},"常温","冷蔵","冷凍"]
[null,null,"売り先",{"$nulls":9},{"$f":"_xlfn.CONCAT(EO94:FJ94)","v":""},{"$nulls":89},"外食③","中食③","商社・卸売③","メーカー③","スーパーマーケット③","百貨店③","その他小売③","ホテル・宴会・レジャー③","その他・ターゲット③","その他・ターゲット・③",{"$nulls":11},{"$f":"IFERROR(INDEX($GJ$6:$BLM$6,1,MATCH(CY94,$GJ$4:$BLM$4,0),1),\"\")","v":""},"","","","","","","","","",{"$nulls":12},"","","","","","","","",{"$f":"IF(EB94=1,\"その他\",\"\")","v":""},{"$f":"IF(OR(EC94=0,EC94=\"\"),\"\",\"(\"&EC94&\")\")","v":""},{"$nulls":12},"外食","中食","商社・卸売","メーカー","スーパーマーケット","百貨店","その他小売","ホテル・宴会・レジャー"]
[null,null,"ターゲット",{"$nulls":9},{"$f":"DB95","v":""},{"$nulls":86},"ターゲット③",null,null,{"$f":"IFERROR(INDEX($GJ$6:$BLM$6,1,MATCH(CV95,$GJ$4:$BLM$4,0),1),\"\")","v":""},null,null,{"$f":"IF(CY95=0,\"\",CY95)","v":""}]
[null,null,"商品特徴",{"$nulls":3},{"$f":"DB96","v":""},{"$nulls":92},"商品特徴③",null,null,{"$f":"IFERROR(INDEX($GJ$6:$BLM$6,1,MATCH(CV96,$GJ$4:$BLM$4,0),1),\"\")","v":""},null,null,""]
[null,null,"アレルギー表示(特定原材料)",{"$nulls":51},"利用シーン",{"$nulls":44},"利用シーン③",null,null,{"$f":"IFERROR(INDEX($GJ$6:$BLM$6,1,MATCH(CV97,$GJ$4:$BLM$4,0),1),\"\")","v":""},null,null,""]
[null,null,"表示\n義務有",{"$nulls":3},{"$f":"_xlfn.CONCAT(EO98:FJ98)","v":""},{"$nulls":47},{"$f":"DB97","v":""},{"$nulls":47},"えび③","かに③","小麦③","そば③","卵③","乳③","落花生③",{"$nulls":14},{"$f":"IFERROR(INDEX($GJ$6:$BLM$6,1,MATCH(CY98,$GJ$4:$BLM$4,0),1),\"\")","v":""},"","","","","","",{"$nulls":15},{"$f":"IF(DT98=1,FL98&\"　\",\"\")","v":""},"","","","","","",{"$nulls":15},"えび","かに","小麦","そば","卵","乳","落花生"]
[null,null,"任意\n表示",{"$nulls":3},{"$f":"_xlfn.CONCAT(EO99:FJ99)","v":""},{"$nulls":95},"あわび③","いか③","いくら③","オレンジ③","カシューナッツ③","キウイフルーツ③","牛肉③","くるみ③","ごま③","さけ③","さば③","大豆③","鶏肉③","バナナ③","豚肉③","まつたけ③","もも③","やまいも③","りんご③","ゼラチン③",null,"","","","","","","",{"$f":"IFERROR(INDEX($GJ$6:$BLM$6,1,MATCH(DF99,$GJ$4:$BLM$4,0),1),\"\")","v":""},"","","","","","","","","","","","",null,null,{"$f":"IF(DT99=1,FL99&\" \",\"\")","v":""},{"$f":"IF(DU99=1,FM99&\" \",\"\")","v":""},"","","","","","","","","","","","","","","","","","",null,null,"あわび","いか","いくら","オレンジ","カシューナッツ","キウイフルーツ","牛肉","くるみ","ごま","さけ","さば","大豆","鶏肉","バナナ","豚肉","まつたけ","もも","やまいも","りんご","ゼラチン"]
[null,null,"備考",{"$nulls":3},{"$f":"ASC(DB100)","v":""},{"$nulls":92},"備考③",null,null,{"$f":"IFERROR(INDEX($GJ$6:$BLM$6,1,MATCH(CV100,$GJ$4:$BLM$4,0),1),\"\")","v":""},null,null,{"$f":"IF(CY100=0,\"\",CY100)","v":""}]
[]
[null,null,"■商品情報"]
[null,null,"商品名",{"$nulls":9},{"$f":"DB103","v":""},{"$nulls":41},"商品写真2枚（表面1枚、裏面1枚）\n貼付してください\n\n＊パッケージが鮮明なもの\n\n＊裏面分は、原材料や栄養成分表示が\n　判別出来る画像とすること",{"$nulls":44},"商品名④",null,null,{"$f":"IFERROR(INDEX($GJ$6:$BLM$6,1,MATCH(CV103,$GJ$4:$BLM$4,0),1),\"\")","v":""},null,null,{"$f":"IF(CY103=0,\"\",CY103)","v":""}]
[null,null,"JANコード",{"$nulls":9},{"$f":"DB104","v":""},{"$nulls":15},"可能対応",{"$nulls":9},{"$f":"_xlfn.CONCAT(EO104:FJ104)","v":""},{"$nulls":60},"JANコード④",null,null,{"$f":"IFERROR(INDEX($GJ$6:$BLM$6,1,MATCH(CV104,$GJ$4:$BLM$4,0),1),\"\")","v":""},null,null,"",null,null,"業務用対応可能④","ギフト対応可能④",{"$nulls":13},{"$f":"IFERROR(INDEX($GJ$6:$BLM$6,1,MATCH(DE104,$GJ$4:$BLM$4,0),1),\"\")","v":""},{"$f":"IFERROR(INDEX($GJ$6:$BLM$6,1,MATCH(DF104,$GJ$4:$BLM$4,0),1),\"\")","v":""},{"$nulls":20},{"$f":"IF(DT104=1,IF(EQ104=\"\",FL104,FL104&\"・\"),\"\")","v":""},{"$f":"IF(DU104=1,FM104&\"\",\"\")","v":""},{"$nulls":17},{"$f":"IF(AND(EP104=\"\",EQ104=\"\"),\"\",\"対応可能\")","v":""},null,null,"業務用","ギフト"]
[null,null,"提供可能時期",{"$nulls":9},{"$f":"DB105","v":""},{"$nulls":15},"発注リードタイム",{"$nulls":9},{"$f":"DC105","v":""},{"$nulls":60},"提供可能時期④","発注リードタイム④",null,{"$f":"IFERROR(INDEX($GJ$6:$BLM$6,1,MATCH(CV105,$GJ$4:$BLM$4,0),1),\"\")","v":""},{"$f":"IFERROR(INDEX($GJ$6:$BLM$6,1,MATCH(CW105,$GJ$4:$BLM$4,0),1),\"\")","v":""},null,"",""]
[null,null,"内容量",{"$nulls":9},{"$f":"DB106","v":""},{"$nulls":15},"1ケースあたり入数",{"$nulls":9},{"$f":"DC106","v":""},{"$nulls":60},"内容量④","1ケースあたり④",null,{"$f":"IFERROR(INDEX($GJ$6:$BLM$6,1,MATCH(CV106,$GJ$4:$BLM$4,0),1),\"\")","v":""},{"$f":"IFERROR(INDEX($GJ$6:$BLM$6,1,MATCH(CW106,$GJ$4:$BLM$4,0),1),\"\")","v":""},null,"",""]
[null,null,"最 大　ケ ー ス\n納品単位",{"$nulls":9},{"$f":"DB107","v":""},{"$nulls":15},"最 小　ケ ー ス\n納品単位",{"$nulls":9},{"$f":"DC107","v":""},{"$nulls":60},"最大ケース④","最小ケース④",null,{"$f":"IFERROR(INDEX($GJ$6:$BLM$6,1,MATCH(CV107,$GJ$4:$BLM$4,0),1),\"\")","v":""},{"$f":"IFERROR(INDEX($GJ$6:$BLM$6,1,MATCH(CW107,$GJ$4:$BLM$4,0),1),\"\")","v":""},null,"",""]
[null,null,"ケ ー ス　サ イ ズ\n(縦×横×高さ：cm)",{"$nulls":9},{"$f":"_xlfn.CONCAT(EP108:ER108)","v":""},{"$nulls":15},"ケ ー ス　重 量\n(kg)",{"$nulls":9},{"$f":"ES108","v":""},{"$nulls":60},"ケースサイズ","ケース重量",null,"縦④","横④","高さ④","重量④",{"$nulls":17},{"$f":"IFERROR(INDEX($GJ$6:$BLM$6,1,MATCH(CY108,$GJ$4:$BLM$4,0),1),\"\")","v":""},{"$f":"IFERROR(INDEX($GJ$6:$BLM$6,1,MATCH(CZ108,$GJ$4:$BLM$4,0),1),\"\")","v":""},{"$f":"IFERROR(INDEX($GJ$6:$BLM$6,1,MATCH(DA108,$GJ$4:$BLM$4,0),1),\"\")","v":""},{"$f":"IFERROR(INDEX($GJ$6:$BLM$6,1,MATCH(DB108,$GJ$4:$BLM$4,0),1),\"\")","v":""},{"$nulls":18},{"$f":"IF(OR(DT108=0,DT108=\"\"),\"\",DT108&\"×\")","v":""},{"$f":"IF(OR(DU108=0,DU108=\"\"),\"\",DU108&\"×\")","v":""},{"$f":"IF(OR(DV108=0,DV108=\"\"),\"\",DV108&\"\")","v":""},{"$f":"IF(OR(DW108=0,DW108=\"\"),\"\",DW108&\"\")","v":""}]
[null,null,"賞味期限",{"$nulls":9},{"$f":"DB109","v":""},{"$nulls":15},"消費期限",{"$nulls":9},{"$f":"DC109","v":""},{"$nulls":60},"賞味期限④","消費期限④",null,{"$f":"IFERROR(INDEX($GJ$6:$BLM$6,1,MATCH(CV109,$GJ$4:$BLM$4,0),1),\"\")","v":""},{"$f":"IFERROR(INDEX($GJ$6:$BLM$6,1,MATCH(CW109,$GJ$4:$BLM$4,0),1),\"\")","v":""},null,{"$f":"IF(CY109=0,\"\",CY109)","v":""},""]
[null,null,"希　望　小　売\n(税抜：円)",{"$nulls":9},{"$f":"DB110","v":""},{"$nulls":15},"税率",{"$nulls":9},{"$f":"_xlfn.CONCAT(EO110:FJ110)","v":""},{"$nulls":60},"希望小売④",null,null,{"$f":"IFERROR(INDEX($GJ$6:$BLM$6,1,MATCH(CV110,$GJ$4:$BLM$4,0),1),\"\")","v":""},null,null,"",null,null,"8%④","10%④",{"$nulls":13},{"$f":"IFERROR(INDEX($GJ$6:$BLM$6,1,MATCH(DE110,$GJ$4:$BLM$4,0),1),\"\")","v":""},"",{"$nulls":20},{"$f":"IF(DT110=1,FL110&\"　\",\"\")","v":""},"",{"$nulls":20},"8%","10%"]
[null,null,"仕　切　単　価\n(税抜：円)",{"$nulls":9},{"$f":"DB111","v":""},{"$nulls":15},{"$f":"_xlfn.CONCAT(EO111:FJ111)","v":""},{"$nulls":70},"仕切単価④",null,null,{"$f":"IFERROR(INDEX($GJ$6:$BLM$6,1,MATCH(CV111,$GJ$4:$BLM$4,0),1),\"\")","v":""},null,null,"",null,null,"工場出し④","関東向け④","関西向け④",{"$nulls":12},"","",{"$f":"IFERROR(INDEX($GJ$6:$BLM$6,1,MATCH(DG111,$GJ$4:$BLM$4,0),1),\"\")","v":""},{"$nulls":19},"","","",{"$nulls":19},"工場出し","関東向け","関西向け"]
[null,null,"主 原 料 産 地\n(漁獲場所等)",{"$nulls":9},{"$f":"DB112","v":""},{"$nulls":15},"保存温度帯",{"$nulls":9},{"$f":"_xlfn.CONCAT(EO112:FJ112)","v":""},{"$nulls":60},"主原料産地④",null,null,{"$f":"IFERROR(INDEX($GJ$6:$BLM$6,1,MATCH(CV112,$GJ$4:$BLM$4,0),1),\"\")","v":""},{"$f":"IFERROR(INDEX($GJ$6:$BLM$6,1,MATCH(CW112,$GJ$4:$BLM$4,0),1),\"\")","v":""},null,{"$f":"IF(CY112=0,\"\",CY112)","v":""},{"$f":"IF(CZ112=0,\"\",CZ112)","v":""},null,"常温④","冷蔵④","冷凍④",{"$nulls":12},"","",{"$f":"IFERROR(INDEX($GJ$6:$BLM$6,1,MATCH(DG112,$GJ$4:$BLM$4,0),1),\"\")","v":""},{"$nulls":19},"","","",{"$nulls":19},"常温","冷蔵","冷凍"]
[null,null,"売り先",{"$nulls":9},{"$f":"_xlfn.CONCAT(EO113:FJ113)","v":""},{"$nulls":89},"外食④","中食④","商社・卸売④","メーカー④","スーパーマーケット④","百貨店④","その他小売④","ホテル・宴会・レジャー④","その他・ターゲット④","その他・ターゲット・④",{"$nulls":11},{"$f":"IFERROR(INDEX($GJ$6:$BLM$6,1,MATCH(CY113,$GJ$4:$BLM$4,0),1),\"\")","v":""},"","","","","","","","","",{"$nulls":12},"","","","","","","","",{"$f":"IF(EB113=1,\"その他\",\"\")","v":""},{"$f":"IF(OR(EC113=0,EC113=\"\"),\"\",\"(\"&EC113&\")\")","v":""},{"$nulls":12},"外食","中食","商社・卸売","メーカー","スーパーマーケット","百貨店","その他小売","ホテル・宴会・レジャー"]
[null,null,"ターゲット",{"$nulls":9},{"$f":"DB114","v":""},{"$nulls":86},"ターゲット④",null,null,{"$f":"IFERROR(INDEX($GJ$6:$BLM$6,1,MATCH(CV114,$GJ$4:$BLM$4,0),1),\"\")","v":""},null,null,{"$f":"IF(CY114=0,\"\",CY114)","v":""}]
[null,null,"商品特徴",{"$nulls":3},{"$f":"DB115","v":""},{"$nulls":92},"商品特徴④",null,null,{"$f":"IFERROR(INDEX($GJ$6:$BLM$6,1,MATCH(CV115,$GJ$4:$BLM$4,0),1),\"\")","v":""},null,null,""]
[null,null,"アレルギー表示(特定原材料)",{"$nulls":51},"利用シーン",{"$nulls":44},"利用シーン④",null,null,{"$f":"IFERROR(INDEX($GJ$6:$BLM$6,1,MATCH(CV116,$GJ$4:$BLM$4,0),1),\"\")","v":""},null,null,""]
[null,null,"表示\n義務有",{"$nulls":3},{"$f":"_xlfn.CONCAT(EO117:FJ117)","v":""},{"$nulls":47},{"$f":"DB116","v":""},{"$nulls":47},"えび④","かに④","小麦④","そば④","卵④","乳④","落花生④",{"$nulls":14},{"$f":"IFERROR(INDEX($GJ$6:$BLM$6,1,MATCH(CY117,$GJ$4:$BLM$4,0),1),\"\")","v":""},"","","","","","",{"$nulls":15},{"$f":"IF(DT117=1,FL117&\"　\",\"\")","v":""},"","","","","","",{"$nulls":15},"えび","かに","小麦","そば","卵","乳","落花生"]
[null,null,"任意\n表示",{"$nulls":3},{"$f":"_xlfn.CONCAT(EO118:FJ118)","v":""},{"$nulls":95},"あわび④","いか④","いくら④","オレンジ④","カシューナッツ④","キウイフルーツ④","牛肉④","くるみ④","ごま④","さけ④","さば④","大豆④","鶏肉④","バナナ④","豚肉④","まつたけ④","もも④","やまいも④","りんご④","ゼラチン④",null,"","","","","","","",{"$f":"IFERROR(INDEX($GJ$6:$BLM$6,1,MATCH(DF118,$GJ$4:$BLM$4,0),1),\"\")","v":""},"","","","","","","","","","","","",null,null,{"$f":"IF(DT118=1,FL118&\" \",\"\")","v":""},{"$f":"IF(DU118=1,FM118&\" \",\"\")","v":""},"","","","","","","","","","","","","","","","","","",null,null,"あわび","いか","いくら","オレンジ","カシューナッツ","キウイフルーツ","牛肉","くるみ","ごま","さけ","さば","大豆","鶏肉","バナナ","豚肉","まつたけ","もも","やまいも","りんご","ゼラチン"]
[null,null,"備考",{"$nulls":3},{"$f":"ASC(DB119)","v":""},{"$nulls":92},"備考④",null,null,{"$f":"IFERROR(INDEX($GJ$6:$BLM$6,1,MATCH(CV119,$GJ$4:$BLM$4,0),1),\"\")","v":""},null,null,{"$f":"IF(CY119=0,\"\",CY119)","v":""}]
[]
[null,null,"■商品情報"]
[null,null,"商品名",{"$nulls":9},{"$f":"DB122","v":""},{"$nulls":41},"商品写真2枚（表面1枚、裏面1枚）\n貼付してください\n\n＊パッケージが鮮明なもの\n\n＊裏面分は、原材料や栄養成分表示が\n　判別出来る画像とすること",{"$nulls":44},"商品名⑤",null,null,{"$f":"IFERROR(INDEX($GJ$6:$BLM$6,1,MATCH(CV122,$GJ$4:$BLM$4,0),1),\"\")","v":""},null,null,{"$f":"IF(CY122=0,\"\",CY122)","v":""}]
[null,null,"JANコード",{"$nulls":9},{"$f":"DB123","v":""},{"$nulls":15},"可能対応",{"$nulls":9},{"$f":"_xlfn.CONCAT(EO123:FJ123)","v":""},{"$nulls":60},"JANコード⑤",null,null,{"$f":"IFERROR(INDEX($GJ$6:$BLM$6,1,MATCH(CV123,$GJ$4:$BLM$4,0),1),\"\")","v":""},null,null,"",null,null,"業務用対応可能⑤","ギフト対応可能⑤",{"$nulls":13},{"$f":"IFERROR(INDEX($GJ$6:$BLM$6,1,MATCH(DE123,$GJ$4:$BLM$4,0),1),\"\")","v":""},{"$f":"IFERROR(INDEX($GJ$6:$BLM$6,1,MATCH(DF123,$GJ$4:$BLM$4,0),1),\"\")","v":""},{"$nulls":20},{"$f":"IF(DT123=1,IF(EQ123=\"\",FL123,FL123&\"・\"),\"\")","v":""},{"$f":"IF(DU123=1,FM123&\"\",\"\")","v":""},{"$nulls":17},{"$f":"IF(AND(EP123=\"\",EQ123=\"\"),\"\",\"対応可能\")","v":""},null,null,"業務用","ギフト"]
[null,null,"提供可能時期",{"$nulls":9},{"$f":"DB124","v":""},{"$nulls":15},"発注リードタイム",{"$nulls":9},{"$f":"DC124","v":""},{"$nulls":60},"提供可能時期⑤","発注リードタイム⑤",null,{"$f":"IFERROR(INDEX($GJ$6:$BLM$6,1,MATCH(CV124,$GJ$4:$BLM$4,0),1),\"\")","v":""},{"$f":"IFERROR(INDEX($GJ$6:$BLM$6,1,MATCH(CW124,$GJ$4:$BLM$4,0),1),\"\")","v":""},null,"",""]
[null,null,"内容量",{"$nulls":9},{"$f":"DB125","v":""},{"$nulls":15},"1ケースあたり入数",{"$nulls":9},{"$f":"DC125","v":""},{"$nulls":60},"内容量⑤","1ケースあたり⑤",null,{"$f":"IFERROR(INDEX($GJ$6:$BLM$6,1,MATCH(CV125,$GJ$4:$BLM$4,0),1),\"\")","v":""},{"$f":"IFERROR(INDEX($GJ$6:$BLM$6,1,MATCH(CW125,$GJ$4:$BLM$4,0),1),\"\")","v":""},null,"",""]
[null,null,"最 大　ケ ー ス\n納品単位",{"$nulls":9},{"$f":"DB126","v":""},{"$nulls":15},"最 小　ケ ー ス\n納品単位",{"$nulls":9},{"$f":"DC126","v":""},{"$nulls":60},"最大ケース⑤","最小ケース⑤",null,{"$f":"IFERROR(INDEX($GJ$6:$BLM$6,1,MATCH(CV126,$GJ$4:$BLM$4,0),1),\"\")","v":""},{"$f":"IFERROR(INDEX($GJ$6:$BLM$6,1,MATCH(CW126,$GJ$4:$BLM$4,0),1),\"\")","v":""},null,"",""]
[null,null,"ケ ー ス　サ イ ズ\n(縦×横×高さ：cm)",{"$nulls":9},{"$f":"_xlfn.CONCAT(EP127:ER127)","v":""},{"$nulls":15},"ケ ー ス　重 量\n(kg)",{"$nulls":9},{"$f":"ES127","v":""},{"$nulls":60},"ケースサイズ","ケース重量",null,"縦⑤","横⑤","高さ⑤","重量⑤",{"$nulls":17},{"$f":"IFERROR(INDEX($GJ$6:$BLM$6,1,MATCH(CY127,$GJ$4:$BLM$4,0),1),\"\")","v":""},{"$f":"IFERROR(INDEX($GJ$6:$BLM$6,1,MATCH(CZ127,$GJ$4:$BLM$4,0),1),\"\")","v":""},{"$f":"IFERROR(INDEX($GJ$6:$BLM$6,1,MATCH(DA127,$GJ$4:$BLM$4,0),1),\"\")","v":""},{"$f":"IFERROR(INDEX($GJ$6:$BLM$6,1,MATCH(DB127,$GJ$4:$BLM$4,0),1),\"\")","v":""},{"$nulls":18},{"$f":"IF(OR(DT127=0,DT127=\"\"),\"\",DT127&\"×\")","v":""},{"$f":"IF(OR(DU127=0,DU127=\"\"),\"\",DU127&\"×\")","v":""},{"$f":"IF(OR(DV127=0,DV127=\"\"),\"\",DV127&\"\")","v":""},{"$f":"IF(OR(DW127=0,DW127=\"\"),\"\",DW127&\"\")","v":""}]
[null,null,"賞味期限",{"$nulls":9},{"$f":"DB128","v":""},{"$nulls":15},"消費期限",{"$nulls":9},{"$f":"DC128","v":""},{"$nulls":60},"賞味期限⑤","消費期限⑤",null,{"$f":"IFERROR(INDEX($GJ$6:$BLM$6,1,MATCH(CV128,$GJ$4:$BLM$4,0),1),\"\")","v":""},{"$f":"IFERROR(INDEX($GJ$6:$BLM$6,1,MATCH(CW128,$GJ$4:$BLM$4,0),1),\"\")","v":""},null,{"$f":"IF(CY128=0,\"\",CY128)","v":""},""]
[null,null,"希　望　小　売\n(税抜：円)",{"$nulls":9},{"$f":"DB129","v":""},{"$nulls":15},"税率",{"$nulls":9},{"$f":"_xlfn.CONCAT(EO129:FJ129)","v":""},{"$nulls":60},"希望小売⑤",null,null,{"$f":"IFERROR(INDEX($GJ$6:$BLM$6,1,MATCH(CV129,$GJ$4:$BLM$4,0),1),\"\")","v":""},null,null,"",null,null,"8%⑤","10%⑤",{"$nulls":13},{"$f":"IFERROR(INDEX($GJ$6:$BLM$6,1,MATCH(DE129,$GJ$4:$BLM$4,0),1),\"\")","v":""},"",{"$nulls":20},{"$f":"IF(DT129=1,FL129&\"　\",\"\")","v":""},"",{"$nulls":20},"8%","10%"]
[null,null,"仕　切　単　価\n(税抜：円)",{"$nulls":9},{"$f":"DB130","v":""},{"$nulls":15},{"$f":"_xlfn.CONCAT(EO130:FJ130)","v":""},{"$nulls":70},"仕切単価⑤",null,null,{"$f":"IFERROR(INDEX($GJ$6:$BLM$6,1,MATCH(CV130,$GJ$4:$BLM$4,0),1),\"\")","v":""},null,null,"",null,null,"工場出し⑤","関東向け⑤","関西向け⑤",{"$nulls":12},"","",{"$f":"IFERROR(INDEX($GJ$6:$BLM$6,1,MATCH(DG130,$GJ$4:$BLM$4,0),1),\"\")","v":""},{"$nulls":19},"","","",{"$nulls":19},"工場出し","関東向け","関西向け"]
[null,null,"主 原 料 産 地\n(漁獲場所等)",{"$nulls":9},{"$f":"DB131","v":""},{"$nulls":15},"保存温度帯",{"$nulls":9},{"$f":"_xlfn.CONCAT(EO131:FJ131)","v":""},{"$nulls":60},"主原料産地⑤",null,null,{"$f":"IFERROR(INDEX($GJ$6:$BLM$6,1,MATCH(CV131,$GJ$4:$BLM$4,0),1),\"\")","v":""},{"$f":"IFERROR(INDEX($GJ$6:$BLM$6,1,MATCH(CW131,$GJ$4:$BLM$4,0),1),\"\")","v":""},null,{"$f":"IF(CY131=0,\"\",CY131)","v":""},{"$f":"IF(CZ131=0,\"\",CZ131)","v":""},null,"常温⑤","冷蔵⑤","冷凍⑤",{"$nulls":12},"","",{"$f":"IFERROR(INDEX($GJ$6:$BLM$6,1,MATCH(DG131,$GJ$4:$BLM$4,0),1),\"\")","v":""},{"$nulls":19},"","","",{"$nulls":19},"常温","冷蔵","冷凍"]
[null,null,"売り先",{"$nulls":9},{"$f":"_xlfn.CONCAT(EO132:FJ132)","v":""},{"$nulls":89},"外食⑤","中食⑤","商社・卸売⑤","メーカー⑤","スーパーマーケット⑤","百貨店⑤","その他小売⑤","ホテル・宴会・レジャー⑤","その他・ターゲット⑤","その他・ターゲット・⑤",{"$nulls":11},{"$f":"IFERROR(INDEX($GJ$6:$BLM$6,1,MATCH(CY132,$GJ$4:$BLM$4,0),1),\"\")","v":""},"","","","","","","","","",{"$nulls":12},"","","","","","","","",{"$f":"IF(EB132=1,\"その他\",\"\")","v":""},{"$f":"IF(OR(EC132=0,EC132=\"\"),\"\",\"(\"&EC132&\")\")","v":""},{"$nulls":12},"外食","中食","商社・卸売","メーカー","スーパーマーケット","百貨店","その他小売","ホテル・宴会・レジャー"]
[null,null,"ターゲット",{"$nulls":9},{"$f":"DB133","v":""},{"$nulls":86},"ターゲット⑤",null,null,{"$f":"IFERROR(INDEX($GJ$6:$BLM$6,1,MATCH(CV133,$GJ$4:$BLM$4,0),1),\"\")","v":""},null,null,{"$f":"IF(CY133=0,\"\",CY133)","v":""}]
[null,null,"商品特徴",{"$nulls":3},{"$f":"DB134","v":""},{"$nulls":92},"商品特徴⑤",null,null,{"$f":"IFERROR(INDEX($GJ$6:$BLM$6,1,MATCH(CV134,$GJ$4:$BLM$4,0),1),\"\")","v":""},null,null,""]
[null,null,"アレルギー表示(特定原材料)",{"$nulls":51},"利用シーン",{"$nulls":44},"利用シーン⑤",null,null,{"$f":"IFERROR(INDEX($GJ$6:$BLM$6,1,MATCH(CV135,$GJ$4:$BLM$4,0),1),\"\")","v":""},null,null,""]
[null,null,"表示\n義務有",{"$nulls":3},{"$f":"_xlfn.CONCAT(EO136:FJ136)","v":""},{"$nulls":47},{"$f":"DB135","v":""},{"$nulls":47},"えび⑤","かに⑤","小麦⑤","そば⑤","卵⑤","乳⑤","落花生⑤",{"$nulls":14},{"$f":"IFERROR(INDEX($GJ$6:$BLM$6,1,MATCH(CY136,$GJ$4:$BLM$4,0),1),\"\")","v":""},"","","","","","",{"$nulls":15},{"$f":"IF(DT136=1,FL136&\"　\",\"\")","v":""},"","","","","","",{"$nulls":15},"えび","かに","小麦","そば","卵","乳","落花生"]
[null,null,"任意\n表示",{"$nulls":3},{"$f":"_xlfn.CONCAT(EO137:FJ137)","v":""},{"$nulls":95},"あわび⑤","いか⑤","いくら⑤","オレンジ⑤","カシューナッツ⑤","キウイフルーツ⑤","牛肉⑤","くるみ⑤","ごま⑤","さけ⑤","さば⑤","大豆⑤","鶏肉⑤","バナナ⑤","豚肉⑤","まつたけ⑤","もも⑤","やまいも⑤","りんご⑤","ゼラチン⑤",null,"","","","","","","",{"$f":"IFERROR(INDEX($GJ$6:$BLM$6,1,MATCH(DF137,$GJ$4:$BLM$4,0),1),\"\")","v":""},"","","","","","","","","","","","",null,null,{"$f":"IF(DT137=1,FL137&\" \",\"\")","v":""},{"$f":"IF(DU137=1,FM137&\" \",\"\")","v":""},"","","","","","","","","","","","","","","","","","",null,null,"あわび","いか","いくら","オレンジ","カシューナッツ","キウイフルーツ","牛肉","くるみ","ごま","さけ","さば","大豆","鶏肉","バナナ","豚肉","まつたけ","もも","やまいも","りんご","ゼラチン"]
[null,null,"備考",{"$nulls":3},{"$f":"ASC(DB138)","v":""},{"$nulls":92},"備考⑤",null,null,{"$f":"IFERROR(INDEX($GJ$6:$BLM$6,1,MATCH(CV138,$GJ$4:$BLM$4,0),1),\"\")","v":""},null,null,{"$f":"IF(CY138=0,\"\",CY138)","v":""}]
[]
[null,null,"■商品情報"]
[null,null,"商品名",{"$nulls":9},{"$f":"DB141","v":""},{"$nulls":41},"商品写真2枚（表面1枚、裏面1枚）\n貼付してください\n\n＊パッケージが鮮明なもの\n\n＊裏面分は、原材料や栄養成分表示が\n　判別出来る画像とすること",{"$nulls":44},"商品名⑥",null,null,{"$f":"IFERROR(INDEX($GJ$6:$BLM$6,1,MATCH(CV141,$GJ$4:$BLM$4,0),1),\"\")","v":""},null,null,{"$f":"IF(CY141=0,\"\",CY141)","v":""}]
[null,null,"JANコード",{"$nulls":9},{"$f":"DB142","v":""},{"$nulls":15},"可能対応",{"$nulls":9},{"$f":"_xlfn.CONCAT(EO142:FJ142)","v":""},{"$nulls":60},"JANコード⑥",null,null,{"$f":"IFERROR(INDEX($GJ$6:$BLM$6,1,MATCH(CV142,$GJ$4:$BLM$4,0),1),\"\")","v":""},null,null,"",null,null,"業務用対応可能⑥","ギフト対応可能⑥",{"$nulls":13},{"$f":"IFERROR(INDEX($GJ$6:$BLM$6,1,MATCH(DE142,$GJ$4:$BLM$4,0),1),\"\")","v":""},{"$f":"IFERROR(INDEX($GJ$6:$BLM$6,1,MATCH(DF142,$GJ$4:$BLM$4,0),1),\"\")","v":""},{"$nulls":20},{"$f":"IF(DT142=1,IF(EQ142=\"\",FL142,FL142&\"・\"),\"\")","v":""},{"$f":"IF(DU142=1,FM142&\"\",\"\")","v":""},{"$nulls":17},{"$f":"IF(AND(EP142=\"\",EQ142=\"\"),\"\",\"対応可能\")","v":""},null,null,"業務用","ギフト"]
[null,null,"提供可能時期",{"$nulls":9},{"$f":"DB143","v":""},{"$nulls":15},"発注リードタイム",{"$nulls":9},{"$f":"DC143","v":""},{"$nulls":60},"提供可能時期⑥","発注リードタイム⑥",null,{"$f":"IFERROR(INDEX($GJ$6:$BLM$6,1,MATCH(CV143,$GJ$4:$BLM$4,0),1),\"\")","v":""},{"$f":"IFERROR(INDEX($GJ$6:$BLM$6,1,MATCH(CW143,$GJ$4:$BLM$4,0),1),\"\")","v":""},null,"",""]
[null,null,"内容量",{"$nulls":9},{"$f":"DB144","v":""},{"$nulls":15},"1ケースあたり入数",{"$nulls":9},{"$f":"DC144","v":""},{"$nulls":60},"内容量⑥","1ケースあたり⑥",null,{"$f":"IFERROR(INDEX($GJ$6:$BLM$6,1,MATCH(CV144,$GJ$4:$BLM$4,0),1),\"\")","v":""},{"$f":"IFERROR(INDEX($GJ$6:$BLM$6,1,MATCH(CW144,$GJ$4:$BLM$4,0),1),\"\")","v":""},null,"",""]
[null,null,"最 大　ケ ー ス\n納品単位",{"$nulls":9},{"$f":"DB145","v":""},{"$nulls":15},"最 小　ケ ー ス\n納品単位",{"$nulls":9},{"$f":"DC145","v":""},{"$nulls":60},"最大ケース⑥","最小ケース⑥",null,{"$f":"IFERROR(INDEX($GJ$6:$BLM$6,1,MATCH(CV145,$GJ$4:$BLM$4,0),1),\"\")","v":""},{"$f":"IFERROR(INDEX($GJ$6:$BLM$6,1,MATCH(CW145,$GJ$4:$BLM$4,0),1),\"\")","v":""},null,"",""]
[null,null,"ケ ー ス　サ イ ズ\n(縦×横×高さ：cm)",{"$nulls":9},{"$f":"_xlfn.CONCAT(EP146:ER146)","v":""},{"$nulls":15},"ケ ー ス　重 量\n(kg)",{"$nulls":9},{"$f":"ES146","v":""},{"$nulls":60},"ケースサイズ","ケース重量",null,"縦⑥","横⑥","高さ⑥","重量⑥",{"$nulls":17},{"$f":"IFERROR(INDEX($GJ$6:$BLM$6,1,MATCH(CY146,$GJ$4:$BLM$4,0),1),\"\")","v":""},{"$f":"IFERROR(INDEX($GJ$6:$BLM$6,1,MATCH(CZ146,$GJ$4:$BLM$4,0),1),\"\")","v":""},{"$f":"IFERROR(INDEX($GJ$6:$BLM$6,1,MATCH(DA146,$GJ$4:$BLM$4,0),1),\"\")","v":""},{"$f":"IFERROR(INDEX($GJ$6:$BLM$6,1,MATCH(DB146,$GJ$4:$BLM$4,0),1),\"\")","v":""},{"$nulls":18},{"$f":"IF(OR(DT146=0,DT146=\"\"),\"\",DT146&\"×\")","v":""},{"$f":"IF(OR(DU146=0,DU146=\"\"),\"\",DU146&\"×\")","v":""},{"$f":"IF(OR(DV146=0,DV146=\"\"),\"\",DV146&\"\")","v":""},{"$f":"IF(OR(DW146=0,DW146=\"\"),\"\",DW146&\"\")","v":""}]
[null,null,"賞味期限",{"$nulls":9},{"$f":"DB147","v":""},{"$nulls":15},"消費期限",{"$nulls":9},{"$f":"DC147","v":""},{"$nulls":60},"賞味期限⑥","消費期限⑥",null,{"$f":"IFERROR(INDEX($GJ$6:$BLM$6,1,MATCH(CV147,$GJ$4:$BLM$4,0),1),\"\")","v":""},{"$f":"IFERROR(INDEX($GJ$6:$BLM$6,1,MATCH(CW147,$GJ$4:$BLM$4,0),1),\"\")","v":""},null,{"$f":"IF(CY147=0,\"\",CY147)","v":""},""]
[null,null,"希　望　小　売\n(税抜：円)",{"$nulls":9},{"$f":"DB148","v":""},{"$nulls":15},"税率",{"$nulls":9},{"$f":"_xlfn.CONCAT(EO148:FJ148)","v":""},{"$nulls":60},"希望小売⑥",null,null,{"$f":"IFERROR(INDEX($GJ$6:$BLM$6,1,MATCH(CV148,$GJ$4:$BLM$4,0),1),\"\")","v":""},null,null,"",null,null,"8%⑥","10%⑥",{"$nulls":13},{"$f":"IFERROR(INDEX($GJ$6:$BLM$6,1,MATCH(DE148,$GJ$4:$BLM$4,0),1),\"\")","v":""},"",{"$nulls":20},{"$f":"IF(DT148=1,FL148&\"　\",\"\")","v":""},"",{"$nulls":20},"8%","10%"]
[null,null,"仕　切　単　価\n(税抜：円)",{"$nulls":9},{"$f":"DB149","v":""},{"$nulls":15},{"$f":"_xlfn.CONCAT(EO149:FJ149)","v":""},{"$nulls":70},"仕切単価⑥",null,null,{"$f":"IFERROR(INDEX($GJ$6:$BLM$6,1,MATCH(CV149,$GJ$4:$BLM$4,0),1),\"\")","v":""},null,null,"",null,null,"工場出し⑥","関東向け⑥","関西向け⑥",{"$nulls":12},"","",{"$f":"IFERROR(INDEX($GJ$6:$BLM$6,1,MATCH(DG149,$GJ$4:$BLM$4,0),1),\"\")","v":""},{"$nulls":19},"","","",{"$nulls":19},"工場出し","関東向け","関西向け"]
[null,null,"主 原 料 産 地\n(漁獲場所等)",{"$nulls":9},{"$f":"DB150","v":""},{"$nulls":15},"保存温度帯",{"$nulls":9},{"$f":"_xlfn.CONCAT(EO150:FJ150)","v":""},{"$nulls":60},"主原料産地⑥",null,null,{"$f":"IFERROR(INDEX($GJ$6:$BLM$6,1,MATCH(CV150,$GJ$4:$BLM$4,0),1),\"\")","v":""},{"$f":"IFERROR(INDEX($GJ$6:$BLM$6,1,MATCH(CW150,$GJ$4:$BLM$4,0),1),\"\")","v":""},null,{"$f":"IF(CY150=0,\"\",CY150)","v":""},{"$f":"IF(CZ150=0,\"\",CZ150)","v":""},null,"常温⑥","冷蔵⑥","冷凍⑥",{"$nulls":12},"","",{"$f":"IFERROR(INDEX($GJ$6:$BLM$6,1,MATCH(DG150,$GJ$4:$BLM$4,0),1),\"\")","v":""},{"$nulls":19},"","","",{"$nulls":19},"常温","冷蔵","冷凍"]
[null,null,"売り先",{"$nulls":9},{"$f":"_xlfn.CONCAT(EO151:FJ151)","v":""},{"$nulls":89},"外食⑥","中食⑥","商社・卸売⑥","メーカー⑥","スーパーマーケット⑥","百貨店⑥","その他小売⑥","ホテル・宴会・レジャー⑥","その他・ターゲット⑥","その他・ターゲット・⑥",{"$nulls":11},{"$f":"IFERROR(INDEX($GJ$6:$BLM$6,1,MATCH(CY151,$GJ$4:$BLM$4,0),1),\"\")","v":""},"","","","","","","","","",{"$nulls":12},"","","","","","","","",{"$f":"IF(EB151=1,\"その他\",\"\")","v":""},{"$f":"IF(OR(EC151=0,EC151=\"\"),\"\",\"(\"&EC151&\")\")","v":""},{"$nulls":12},"外食","中食","商社・卸売","メーカー","スーパーマーケット","百貨店","その他小売","ホテル・宴会・レジャー"]
[null,null,"ターゲット",{"$nulls":9},{"$f":"DB152","v":""},{"$nulls":86},"ターゲット⑥",null,null,{"$f":"IFERROR(INDEX($GJ$6:$BLM$6,1,MATCH(CV152,$GJ$4:$BLM$4,0),1),\"\")","v":""},null,null,{"$f":"IF(CY152=0,\"\",CY152)","v":""}]
[null,null,"商品特徴",{"$nulls":3},{"$f":"DB153","v":""},{"$nulls":92},"商品特徴⑥",null,null,{"$f":"IFERROR(INDEX($GJ$6:$BLM$6,1,MATCH(CV153,$GJ$4:$BLM$4,0),1),\"\")","v":""},null,null,""]
[null,null,"アレルギー表示(特定原材料)",{"$nulls":51},"利用シーン",{"$nulls":44},"利用シーン⑥",null,null,{"$f":"IFERROR(INDEX($GJ$6:$BLM$6,1,MATCH(CV154,$GJ$4:$BLM$4,0),1),\"\")","v":""},null,null,""]
[null,null,"表示\n義務有",{"$nulls":3},{"$f":"_xlfn.CONCAT(EO155:FJ155)","v":""},{"$nulls":47},{"$f":"DB154","v":""},{"$nulls":47},"えび⑥","かに⑥","小麦⑥","そば⑥","卵⑥","乳⑥","落花生⑥",{"$nulls":14},{"$f":"IFERROR(INDEX($GJ$6:$BLM$6,1,MATCH(CY155,$GJ$4:$BLM$4,0),1),\"\")","v":""},"","","","","","",{"$nulls":15},{"$f":"IF(DT155=1,FL155&\"　\",\"\")","v":""},"","","","","","",{"$nulls":15},"えび","かに","小麦","そば","卵","乳","落花生"]
[null,null,"任意\n表示",{"$nulls":3},{"$f":"_xlfn.CONCAT(EO156:FJ156)","v":""},{"$nulls":95},"あわび⑥","いか⑥","いくら⑥","オレンジ⑥","カシューナッツ⑥","キウイフルーツ⑥","牛肉⑥","くるみ⑥","ごま⑥","さけ⑥","さば⑥","大豆⑥","鶏肉⑥","バナナ⑥","豚肉⑥","まつたけ⑥","もも⑥","やまいも⑥","りんご⑥","ゼラチン⑥",null,"","","","","","","",{"$f":"IFERROR(INDEX($GJ$6:$BLM$6,1,MATCH(DF156,$GJ$4:$BLM$4,0),1),\"\")","v":""},"","","","","","","","","","","","",null,null,{"$f":"IF(DT156=1,FL156&\" \",\"\")","v":""},{"$f":"IF(DU156=1,FM156&\" \",\"\")","v":""},"","","","","","","","","","","","","","","","","","",null,null,"あわび","いか","いくら","オレンジ","カシューナッツ","キウイフルーツ","牛肉","くるみ","ごま","さけ","さば","大豆","鶏肉","バナナ","豚肉","まつたけ","もも","やまいも","りんご","ゼラチン"]
[null,null,"備考",{"$nulls":3},{"$f":"ASC(DB157)","v":""},{"$nulls":92},"備考⑥",null,null,{"$f":"IFERROR(INDEX($GJ$6:$BLM$6,1,MATCH(CV157,$GJ$4:$BLM$4,0),1),\"\")","v":""},null,null,{"$f":"IF(CY157=0,\"\",CY157)","v":""}]
[]
[null,null,"■商品情報"]
[null,null,"商品名",{"$nulls":9},{"$f":"DB160","v":""},{"$nulls":41},"商品写真2枚（表面1枚、裏面1枚）\n貼付してください\n\n＊パッケージが鮮明なもの\n\n＊裏面分は、原材料や栄養成分表示が\n　判別出来る画像とすること",{"$nulls":44},"商品名⑦",null,null,{"$f":"IFERROR(INDEX($GJ$6:$BLM$6,1,MATCH(CV160,$GJ$4:$BLM$4,0),1),\"\")","v":""},null,null,{"$f":"IF(CY160=0,\"\",CY160)","v":""}]
[null,null,"JANコード",{"$nulls":9},{"$f":"DB161","v":""},{"$nulls":15},"可能対応",{"$nulls":9},{"$f":"_xlfn.CONCAT(EO161:FJ161)","v":""},{"$nulls":60},"JANコード⑦",null,null,{"$f":"IFERROR(INDEX($GJ$6:$BLM$6,1,MATCH(CV161,$GJ$4:$BLM$4,0),1),\"\")","v":""},null,null,"",null,null,"業務用対応可能⑦","ギフト対応可能⑦",{"$nulls":13},{"$f":"IFERROR(INDEX($GJ$6:$BLM$6,1,MATCH(DE161,$GJ$4:$BLM$4,0),1),\"\")","v":""},{"$f":"IFERROR(INDEX($GJ$6:$BLM$6,1,MATCH(DF161,$GJ$4:$BLM$4,0),1),\"\")","v":""},{"$nulls":20},{"$f":"IF(DT161=1,IF(EQ161=\"\",FL161,FL161&\"・\"),\"\")","v":""},{"$f":"IF(DU161=1,FM161&\"\",\"\")","v":""},{"$nulls":17},{"$f":"IF(AND(EP161=\"\",EQ161=\"\"),\"\",\"対応可能\")","v":""},null,null,"業務用","ギフト"]
[null,null,"提供可能時期",{"$nulls":9},{"$f":"DB162","v":""},{"$nulls":15},"発注リードタイム",{"$nulls":9},{"$f":"DC162","v":""},{"$nulls":60},"提供可能時期⑦","発注リードタイム⑦",null,{"$f":"IFERROR(INDEX($GJ$6:$BLM$6,1,MATCH(CV162,$GJ$4:$BLM$4,0),1),\"\")","v":""},{"$f":"IFERROR(INDEX($GJ$6:$BLM$6,1,MATCH(CW162,$GJ$4:$BLM$4,0),1),\"\")","v":""},null,"",""]
[null,null,"内容量",{"$nulls":9},{"$f":"DB163","v":""},{"$nulls":15},"1ケースあたり入数",{"$nulls":9},{"$f":"DC163","v":""},{"$nulls":60},"内容量⑦","1ケースあたり⑦",null,{"$f":"IFERROR(INDEX($GJ$6:$BLM$6,1,MATCH(CV163,$GJ$4:$BLM$4,0),1),\"\")","v":""},{"$f":"IFERROR(INDEX($GJ$6:$BLM$6,1,MATCH(CW163,$GJ$4:$BLM$4,0),1),\"\")","v":""},null,"",""]
[null,null,"最 大　ケ ー ス\n納品単位",{"$nulls":9},{"$f":"DB164","v":""},{"$nulls":15},"最 小　ケ ー ス\n納品単位",{"$nulls":9},{"$f":"DC164","v":""},{"$nulls":60},"最大ケース⑦","最小ケース⑦",null,{"$f":"IFERROR(INDEX($GJ$6:$BLM$6,1,MATCH(CV164,$GJ$4:$BLM$4,0),1),\"\")","v":""},{"$f":"IFERROR(INDEX($GJ$6:$BLM$6,1,MATCH(CW164,$GJ$4:$BLM$4,0),1),\"\")","v":""},null,"",""]
[null,null,"ケ ー ス　サ イ ズ\n(縦×横×高さ：cm)",{"$nulls":9},{"$f":"_xlfn.CONCAT(EP165:ER165)","v":""},{"$nulls":15},"ケ ー ス　重 量\n(kg)",{"$nulls":9},{"$f":"ES165","v":""},{"$nulls":60},"ケースサイズ","ケース重量",null,"縦⑦","横⑦","高さ⑦","重量⑦",{"$nulls":17},{"$f":"IFERROR(INDEX($GJ$6:$BLM$6,1,MATCH(CY165,$GJ$4:$BLM$4,0),1),\"\")","v":""},{"$f":"IFERROR(INDEX($GJ$6:$BLM$6,1,MATCH(CZ165,$GJ$4:$BLM$4,0),1),\"\")","v":""},{"$f":"IFERROR(INDEX($GJ$6:$BLM$6,1,MATCH(DA165,$GJ$4:$BLM$4,0),1),\"\")","v":""},{"$f":"IFERROR(INDEX($GJ$6:$BLM$6,1,MATCH(DB165,$GJ$4:$BLM$4,0),1),\"\")","v":""},{"$nulls":18},{"$f":"IF(OR(DT165=0,DT165=\"\"),\"\",DT165&\"×\")","v":""},{"$f":"IF(OR(DU165=0,DU165=\"\"),\"\",DU165&\"×\")","v":""},{"$f":"IF(OR(DV165=0,DV165=\"\"),\"\",DV165&\"\")","v":""},{"$f":"IF(OR(DW165=0,DW165=\"\"),\"\",DW165&\"\")","v":""}]
[null,null,"賞味期限",{"$nulls":9},{"$f":"DB166","v":""},{"$nulls":15},"消費期限",{"$nulls":9},{"$f":"DC166","v":""},{"$nulls":60},"賞味期限⑦","消費期限⑦",null,{"$f":"IFERROR(INDEX($GJ$6:$BLM$6,1,MATCH(CV166,$GJ$4:$BLM$4,0),1),\"\")","v":""},{"$f":"IFERROR(INDEX($GJ$6:$BLM$6,1,MATCH(CW166,$GJ$4:$BLM$4,0),1),\"\")","v":""},null,{"$f":"IF(CY166=0,\"\",CY166)","v":""},""]
[null,null,"希　望　小　売\n(税抜：円)",{"$nulls":9},{"$f":"DB167","v":""},{"$nulls":15},"税率",{"$nulls":9},{"$f":"_xlfn.CONCAT(EO167:FJ167)","v":""},{"$nulls":60},"希望小売⑦",null,null,{"$f":"IFERROR(INDEX($GJ$6:$BLM$6,1,MATCH(CV167,$GJ$4:$BLM$4,0),1),\"\")","v":""},null,null,"",null,null,"8%⑦","10%⑦",{"$nulls":13},{"$f":"IFERROR(INDEX($GJ$6:$BLM$6,1,MATCH(DE167,$GJ$4:$BLM$4,0),1),\"\")","v":""},"",{"$nulls":20},{"$f":"IF(DT167=1,FL167&\"　\",\"\")","v":""},"",{"$nulls":20},"8%","10%"]
[null,null,"仕　切　単　価\n(税抜：円)",{"$nulls":9},{"$f":"DB168","v":""},{"$nulls":15},{"$f":"_xlfn.CONCAT(EO168:FJ168)","v":""},{"$nulls":70},"仕切単価⑦",null,null,{"$f":"IFERROR(INDEX($GJ$6:$BLM$6,1,MATCH(CV168,$GJ$4:$BLM$4,0),1),\"\")","v":""},null,null,"",null,null,"工場出し⑦","関東向け⑦","関西向け⑦",{"$nulls":12},"","",{"$f":"IFERROR(INDEX($GJ$6:$BLM$6,1,MATCH(DG168,$GJ$4:$BLM$4,0),1),\"\")","v":""},{"$nulls":19},"","","",{"$nulls":19},"工場出し","関東向け","関西向け"]
[null,null,"主 原 料 産 地\n(漁獲場所等)",{"$nulls":9},{"$f":"DB169","v":""},{"$nulls":15},"保存温度帯",{"$nulls":9},{"$f":"_xlfn.CONCAT(EO169:FJ169)","v":""},{"$nulls":60},"主原料産地⑦",null,null,{"$f":"IFERROR(INDEX($GJ$6:$BLM$6,1,MATCH(CV169,$GJ$4:$BLM$4,0),1),\"\")","v":""},{"$f":"IFERROR(INDEX($GJ$6:$BLM$6,1,MATCH(CW169,$GJ$4:$BLM$4,0),1),\"\")","v":""},null,{"$f":"IF(CY169=0,\"\",CY169)","v":""},{"$f":"IF(CZ169=0,\"\",CZ169)","v":""},null,"常温⑦","冷蔵⑦","冷凍⑦",{"$nulls":12},"","",{"$f":"IFERROR(INDEX($GJ$6:$BLM$6,1,MATCH(DG169,$GJ$4:$BLM$4,0),1),\"\")","v":""},{"$nulls":19},"","","",{"$nulls":19},"常温","冷蔵","冷凍"]
[null,null,"売り先",{"$nulls":9},{"$f":"_xlfn.CONCAT(EO170:FJ170)","v":""},{"$nulls":89},"外食⑦","中食⑦","商社・卸売⑦","メーカー⑦","スーパーマーケット⑦","百貨店⑦","その他小売⑦","ホテル・宴会・レジャー⑦","その他・ターゲット⑦","その他・ターゲット・⑦",{"$nulls":11},{"$f":"IFERROR(INDEX($GJ$6:$BLM$6,1,MATCH(CY170,$GJ$4:$BLM$4,0),1),\"\")","v":""},"","","","","","","","","",{"$nulls":12},"","","","","","","","",{"$f":"IF(EB170=1,\"その他\",\"\")","v":""},{"$f":"IF(OR(EC170=0,EC170=\"\"),\"\",\"(\"&EC170&\")\")","v":""},{"$nulls":12},"外食","中食","商社・卸売","メーカー","スーパーマーケット","百貨店","その他小売","ホテル・宴会・レジャー"]
[null,null,"ターゲット",{"$nulls":9},{"$f":"DB171","v":""},{"$nulls":86},"ターゲット⑦",null,null,{"$f":"IFERROR(INDEX($GJ$6:$BLM$6,1,MATCH(CV171,$GJ$4:$BLM$4,0),1),\"\")","v":""},null,null,{"$f":"IF(CY171=0,\"\",CY171)","v":""}]
[null,null,"商品特徴",{"$nulls":3},{"$f":"DB172","v":""},{"$nulls":92},"商品特徴⑦",null,null,{"$f":"IFERROR(INDEX($GJ$6:$BLM$6,1,MATCH(CV172,$GJ$4:$BLM$4,0),1),\"\")","v":""},null,null,""]
[null,null,"アレルギー表示(特定原材料)",{"$nulls":51},"利用シーン",{"$nulls":44},"利用シーン⑦",null,null,{"$f":"IFERROR(INDEX($GJ$6:$BLM$6,1,MATCH(CV173,$GJ$4:$BLM$4,0),1),\"\")","v":""},null,null,""]
[null,null,"表示\n義務有",{"$nulls":3},{"$f":"_xlfn.CONCAT(EO174:FJ174)","v":""},{"$nulls":47},{"$f":"DB173","v":""},{"$nulls":47},"えび⑦","かに⑦","小麦⑦","そば⑦","卵⑦","乳⑦","落花生⑦",{"$nulls":14},{"$f":"IFERROR(INDEX($GJ$6:$BLM$6,1,MATCH(CY174,$GJ$4:$BLM$4,0),1),\"\")","v":""},"","","","","","",{"$nulls":15},{"$f":"IF(DT174=1,FL174&\"　\",\"\")","v":""},"","","","","","",{"$nulls":15},"えび","かに","小麦","そば","卵","乳","落花生"]
[null,null,"任意\n表示",{"$nulls":3},{"$f":"_xlfn.CONCAT(EO175:FJ175)","v":""},{"$nulls":95},"あわび⑦","いか⑦","いくら⑦","オレンジ⑦","カシューナッツ⑦","キウイフルーツ⑦","牛肉⑦","くるみ⑦","ごま⑦","さけ⑦","さば⑦","大豆⑦","鶏肉⑦","バナナ⑦","豚肉⑦","まつたけ⑦","もも⑦","やまいも⑦","りんご⑦","ゼラチン⑦",null,"","","","","","","",{"$f":"IFERROR(INDEX($GJ$6:$BLM$6,1,MATCH(DF175,$GJ$4:$BLM$4,0),1),\"\")","v":""},"","","","","","","","","","","","",null,null,{"$f":"IF(DT175=1,FL175&\" \",\"\")","v":""},{"$f":"IF(DU175=1,FM175&\" \",\"\")","v":""},"","","","","","","","","","","","","","","","","","",null,null,"あわび","いか","いくら","オレンジ","カシューナッツ","キウイフルーツ","牛肉","くるみ","ごま","さけ","さば","大豆","鶏肉","バナナ","豚肉","まつたけ","もも","やまいも","りんご","ゼラチン"]
[null,null,"備考",{"$nulls":3},{"$f":"ASC(DB176)","v":""},{"$nulls":92},"備考⑦",null,null,{"$f":"IFERROR(INDEX($GJ$6:$BLM$6,1,MATCH(CV176,$GJ$4:$BLM$4,0),1),\"\")","v":""},null,null,{"$f":"IF(CY176=0,\"\",CY176)","v":""}]
[]
[null,null,"■商品情報"]
[null,null,"商品名",{"$nulls":9},{"$f":"DB179","v":""},{"$nulls":41},"商品写真2枚（表面1枚、裏面1枚）\n貼付してください\n\n＊パッケージが鮮明なもの\n\n＊裏面分は、原材料や栄養成分表示が\n　判別出来る画像とすること",{"$nulls":44},"商品名⑧",null,null,{"$f":"IFERROR(INDEX($GJ$6:$BLM$6,1,MATCH(CV179,$GJ$4:$BLM$4,0),1),\"\")","v":""},null,null,{"$f":"IF(CY179=0,\"\",CY179)","v":""}]
[null,null,"JANコード",{"$nulls":9},{"$f":"DB180","v":""},{"$nulls":15},"可能対応",{"$nulls":9},{"$f":"_xlfn.CONCAT(EO180:FJ180)","v":""},{"$nulls":60},"JANコード⑧",null,null,{"$f":"IFERROR(INDEX($GJ$6:$BLM$6,1,MATCH(CV180,$GJ$4:$BLM$4,0),1),\"\")","v":""},null,null,"",null,null,"業務用対応可能⑧","ギフト対応可能⑧",{"$nulls":13},{"$f":"IFERROR(INDEX($GJ$6:$BLM$6,1,MATCH(DE180,$GJ$4:$BLM$4,0),1),\"\")","v":""},{"$f":"IFERROR(INDEX($GJ$6:$BLM$6,1,MATCH(DF180,$GJ$4:$BLM$4,0),1),\"\")","v":""},{"$nulls":20},{"$f":"IF(DT180=1,IF(EQ180=\"\",FL180,FL180&\"・\"),\"\")","v":""},{"$f":"IF(DU180=1,FM180&\"\",\"\")","v":""},{"$nulls":17},{"$f":"IF(AND(EP180=\"\",EQ180=\"\"),\"\",\"対応可能\")","v":""},null,null,"業務用","ギフト"]
[null,null,"提供可能時期",{"$nulls":9},{"$f":"DB181","v":""},{"$nulls":15},"発注リードタイム",{"$nulls":9},{"$f":"DC181","v":""},{"$nulls":60},"提供可能時期⑧","発注リードタイム⑧",null,{"$f":"IFERROR(INDEX($GJ$6:$BLM$6,1,MATCH(CV181,$GJ$4:$BLM$4,0),1),\"\")","v":""},{"$f":"IFERROR(INDEX($GJ$6:$BLM$6,1,MATCH(CW181,$GJ$4:$BLM$4,0),1),\"\")","v":""},null,"",""]
[null,null,"内容量",{"$nulls":9},{"$f":"DB182","v":""},{"$nulls":15},"1ケースあたり入数",{"$nulls":9},{"$f":"DC182","v":""},{"$nulls":60},"内容量⑧","1ケースあたり⑧",null,{"$f":"IFERROR(INDEX($GJ$6:$BLM$6,1,MATCH(CV182,$GJ$4:$BLM$4,0),1),\"\")","v":""},{"$f":"IFERROR(INDEX($GJ$6:$BLM$6,1,MATCH(CW182,$GJ$4:$BLM$4,0),1),\"\")","v":""},null,"",""]
[null,null,"最 大　ケ ー ス\n納品単位",{"$nulls":9},{"$f":"DB183","v":""},{"$nulls":15},"最 小　ケ ー ス\n納品単位",{"$nulls":9},{"$f":"DC183","v":""},{"$nulls":60},"最大ケース⑧","最小ケース⑧",null,{"$f":"IFERROR(INDEX($GJ$6:$BLM$6,1,MATCH(CV183,$GJ$4:$BLM$4,0),1),\"\")","v":""},{"$f":"IFERROR(INDEX($GJ$6:$BLM$6,1,MATCH(CW183,$GJ$4:$BLM$4,0),1),\"\")","v":""},null,"",""]
[null,null,"ケ ー ス　サ イ ズ\n(縦×横×高さ：cm)",{"$nulls":9},{"$f":"_xlfn.CONCAT(EP184:ER184)","v":""},{"$nulls":15},"ケ ー ス　重 量\n(kg)",{"$nulls":9},{"$f":"ES184","v":""},{"$nulls":60},"ケースサイズ","ケース重量",null,"縦⑧","横⑧","高さ⑧","重量⑧",{"$nulls":17},{"$f":"IFERROR(INDEX($GJ$6:$BLM$6,1,MATCH(CY184,$GJ$4:$BLM$4,0),1),\"\")","v":""},{"$f":"IFERROR(INDEX($GJ$6:$BLM$6,1,MATCH(CZ184,$GJ$4:$BLM$4,0),1),\"\")","v":""},{"$f":"IFERROR(INDEX($GJ$6:$BLM$6,1,MATCH(DA184,$GJ$4:$BLM$4,0),1),\"\")","v":""},{"$f":"IFERROR(INDEX($GJ$6:$BLM$6,1,MATCH(DB184,$GJ$4:$BLM$4,0),1),\"\")","v":""},{"$nulls":18},{"$f":"IF(OR(DT184=0,DT184=\"\"),\"\",DT184&\"×\")","v":""},{"$f":"IF(OR(DU184=0,DU184=\"\"),\"\",DU184&\"×\")","v":""},{"$f":"IF(OR(DV184=0,DV184=\"\"),\"\",DV184&\"\")","v":""},{"$f":"IF(OR(DW184=0,DW184=\"\"),\"\",DW184&\"\")","v":""}]
[null,null,"賞味期限",{"$nulls":9},{"$f":"DB185","v":""},{"$nulls":15},"消費期限",{"$nulls":9},{"$f":"DC185","v":""},{"$nulls":60},"賞味期限⑧","消費期限⑧",null,{"$f":"IFERROR(INDEX($GJ$6:$BLM$6,1,MATCH(CV185,$GJ$4:$BLM$4,0),1),\"\")","v":""},{"$f":"IFERROR(INDEX($GJ$6:$BLM$6,1,MATCH(CW185,$GJ$4:$BLM$4,0),1),\"\")","v":""},null,{"$f":"IF(CY185=0,\"\",CY185)","v":""},""]
[null,null,"希　望　小　売\n(税抜：円)",{"$nulls":9},{"$f":"DB186","v":""},{"$nulls":15},"税率",{"$nulls":9},{"$f":"_xlfn.CONCAT(EO186:FJ186)","v":""},{"$nulls":60},"希望小売⑧",null,null,{"$f":"IFERROR(INDEX($GJ$6:$BLM$6,1,MATCH(CV186,$GJ$4:$BLM$4,0),1),\"\")","v":""},null,null,"",null,null,"8%⑧","10%⑧",{"$nulls":13},{"$f":"IFERROR(INDEX($GJ$6:$BLM$6,1,MATCH(DE186,$GJ$4:$BLM$4,0),1),\"\")","v":""},"",{"$nulls":20},{"$f":"IF(DT186=1,FL186&\"　\",\"\")","v":""},"",{"$nulls":20},"8%","10%"]
[null,null,"仕　切　単　価\n(税抜：円)",{"$nulls":9},{"$f":"DB187","v":""},{"$nulls":15},{"$f":"_xlfn.CONCAT(EO187:FJ187)","v":""},{"$nulls":70},"仕切単価⑧",null,null,{"$f":"IFERROR(INDEX($GJ$6:$BLM$6,1,MATCH(CV187,$GJ$4:$BLM$4,0),1),\"\")","v":""},null,null,"",null,null,"工場出し⑧","関東向け⑧","関西向け⑧",{"$nulls":12},"","",{"$f":"IFERROR(INDEX($GJ$6:$BLM$6,1,MATCH(DG187,$GJ$4:$BLM$4,0),1),\"\")","v":""},{"$nulls":19},"","","",{"$nulls":19},"工場出し","関東向け","関西向け"]
[null,null,"主 原 料 産 地\n(漁獲場所等)",{"$nulls":9},{"$f":"DB188","v":""},{"$nulls":15},"保存温度帯",{"$nulls":9},{"$f":"_xlfn.CONCAT(EO188:FJ188)","v":""},{"$nulls":60},"主原料産地⑧",null,null,{"$f":"IFERROR(INDEX($GJ$6:$BLM$6,1,MATCH(CV188,$GJ$4:$BLM$4,0),1),\"\")","v":""},{"$f":"IFERROR(INDEX($GJ$6:$BLM$6,1,MATCH(CW188,$GJ$4:$BLM$4,0),1),\"\")","v":""},null,{"$f":"IF(CY188=0,\"\",CY188)","v":""},{"$f":"IF(CZ188=0,\"\",CZ188)","v":""},null,"常温⑧","冷蔵⑧","冷凍⑧",{"$nulls":12},"","",{"$f":"IFERROR(INDEX($GJ$6:$BLM$6,1,MATCH(DG188,$GJ$4:$BLM$4,0),1),\"\")","v":""},{"$nulls":19},"","","",{"$nulls":19},"常温","冷蔵","冷凍"]
[null,null,"売り先",{"$nulls":9},{"$f":"_xlfn.CONCAT(EO189:FJ189)","v":""},{"$nulls":89},"外食⑧","中食⑧","商社・卸売⑧","メーカー⑧","スーパーマーケット⑧","百貨店⑧","その他小売⑧","ホテル・宴会・レジャー⑧","その他・ターゲット⑧","その他・ターゲット・⑧",{"$nulls":11},{"$f":"IFERROR(INDEX($GJ$6:$BLM$6,1,MATCH(CY189,$GJ$4:$BLM$4,0),1),\"\")","v":""},"","","","","","","","","",{"$nulls":12},"","","","","","","","",{"$f":"IF(EB189=1,\"その他\",\"\")","v":""},{"$f":"IF(OR(EC189=0,EC189=\"\"),\"\",\"(\"&EC189&\")\")","v":""},{"$nulls":12},"外食","中食","商社・卸売","メーカー","スーパーマーケット","百貨店","その他小売","ホテル・宴会・レジャー"]
[null,null,"ターゲット",{"$nulls":9},{"$f":"DB190","v":""},{"$nulls":86},"ターゲット⑧",null,null,{"$f":"IFERROR(INDEX($GJ$6:$BLM$6,1,MATCH(CV190,$GJ$4:$BLM$4,0),1),\"\")","v":""},null,null,{"$f":"IF(CY190=0,\"\",CY190)","v":""}]
[null,null,"商品特徴",{"$nulls":3},{"$f":"DB191","v":""},{"$nulls":92},"商品特徴⑧",null,null,{"$f":"IFERROR(INDEX($GJ$6:$BLM$6,1,MATCH(CV191,$GJ$4:$BLM$4,0),1),\"\")","v":""},null,null,""]
[null,null,"アレルギー表示(特定原材料)",{"$nulls":51},"利用シーン",{"$nulls":44},"利用シーン⑧",null,null,{"$f":"IFERROR(INDEX($GJ$6:$BLM$6,1,MATCH(CV192,$GJ$4:$BLM$4,0),1),\"\")","v":""},null,null,""]
[null,null,"表示\n義務有",{"$nulls":3},{"$f":"_xlfn.CONCAT(EO193:FJ193)","v":""},{"$nulls":47},{"$f":"DB192","v":""},{"$nulls":47},"えび⑧","かに⑧","小麦⑧","そば⑧","卵⑧","乳⑧","落花生⑧",{"$nulls":14},{"$f":"IFERROR(INDEX($GJ$6:$BLM$6,1,MATCH(CY193,$GJ$4:$BLM$4,0),1),\"\")","v":""},"","","","","","",{"$nulls":15},{"$f":"IF(DT193=1,FL193&\"　\",\"\")","v":""},"","","","","","",{"$nulls":15},"えび","かに","小麦","そば","卵","乳","落花生"]
[null,null,"任意\n表示",{"$nulls":3},{"$f":"_xlfn.CONCAT(EO194:FJ194)","v":""},{"$nulls":95},"あわび⑧","いか⑧","いくら⑧","オレンジ⑧","カシューナッツ⑧","キウイフルーツ⑧","牛肉⑧","くるみ⑧","ごま⑧","さけ⑧","さば⑧","大豆⑧","鶏肉⑧","バナナ⑧","豚肉⑧","まつたけ⑧","もも⑧","やまいも⑧","りんご⑧","ゼラチン⑧",null,"","","","","","","",{"$f":"IFERROR(INDEX($GJ$6:$BLM$6,1,MATCH(DF194,$GJ$4:$BLM$4,0),1),\"\")","v":""},"","","","","","","","","","","","",null,null,{"$f":"IF(DT194=1,FL194&\" \",\"\")","v":""},{"$f":"IF(DU194=1,FM194&\" \",\"\")","v":""},"","","","","","","","","","","","","","","","","","",null,null,"あわび","いか","いくら","オレンジ","カシューナッツ","キウイフルーツ","牛肉","くるみ","ごま","さけ","さば","大豆","鶏肉","バナナ","豚肉","まつたけ","もも","やまいも","りんご","ゼラチン"]
[null,null,"備考",{"$nulls":3},{"$f":"ASC(DB195)","v":""},{"$nulls":92},"備考⑧",null,null,{"$f":"IFERROR(INDEX($GJ$6:$BLM$6,1,MATCH(CV195,$GJ$4:$BLM$4,0),1),\"\")","v":""},null,null,{"$f":"IF(CY195=0,\"\",CY195)","v":""}]
[]
[null,null,"■商品情報"]
[null,null,"商品名",{"$nulls":9},{"$f":"DB198","v":""},{"$nulls":41},"商品写真2枚（表面1枚、裏面1枚）\n貼付してください\n\n＊パッケージが鮮明なもの\n\n＊裏面分は、原材料や栄養成分表示が\n　判別出来る画像とすること",{"$nulls":44},"商品名⑨",null,null,{"$f":"IFERROR(INDEX($GJ$6:$BLM$6,1,MATCH(CV198,$GJ$4:$BLM$4,0),1),\"\")","v":""},null,null,{"$f":"IF(CY198=0,\"\",CY198)","v":""}]
[null,null,"JANコード",{"$nulls":9},{"$f":"DB199","v":""},{"$nulls":15},"可能対応",{"$nulls":9},{"$f":"_xlfn.CONCAT(EO199:FJ199)","v":""},{"$nulls":60},"JANコード⑨",null,null,{"$f":"IFERROR(INDEX($GJ$6:$BLM$6,1,MATCH(CV199,$GJ$4:$BLM$4,0),1),\"\")","v":""},null,null,"",null,null,"業務用対応可能⑨","ギフト対応可能⑨",{"$nulls":13},{"$f":"IFERROR(INDEX($GJ$6:$BLM$6,1,MATCH(DE199,$GJ$4:$BLM$4,0),1),\"\")","v":""},{"$f":"IFERROR(INDEX($GJ$6:$BLM$6,1,MATCH(DF199,$GJ$4:$BLM$4,0),1),\"\")","v":""},{"$nulls":20},{"$f":"IF(DT199=1,IF(EQ199=\"\",FL199,FL199&\"・\"),\"\")","v":""},{"$f":"IF(DU199=1,FM199&\"\",\"\")","v":""},{"$nulls":17},{"$f":"IF(AND(EP199=\"\",EQ199=\"\"),\"\",\"対応可能\")","v":""},null,null,"業務用","ギフト"]
[null,null,"提供可能時期",{"$nulls":9},{"$f":"DB200","v":""},{"$nulls":15},"発注リードタイム",{"$nulls":9},{"$f":"DC200","v":""},{"$nulls":60},"提供可能時期⑨","発注リードタイム⑨",null,{"$f":"IFERROR(INDEX($GJ$6:$BLM$6,1,MATCH(CV200,$GJ$4:$BLM$4,0),1),\"\")","v":""},{"$f":"IFERROR(INDEX($GJ$6:$BLM$6,1,MATCH(CW200,$GJ$4:$BLM$4,0),1),\"\")","v":""},null,"",""]
[null,null,"内容量",{"$nulls":9},{"$f":"DB201","v":""},{"$nulls":15},"1ケースあたり入数",{"$nulls":9},{"$f":"DC201","v":""},{"$nulls":60},"内容量⑨","1ケースあたり⑨",null,{"$f":"IFERROR(INDEX($GJ$6:$BLM$6,1,MATCH(CV201,$GJ$4:$BLM$4,0),1),\"\")","v":""},{"$f":"IFERROR(INDEX($GJ$6:$BLM$6,1,MATCH(CW201,$GJ$4:$BLM$4,0),1),\"\")","v":""},null,"",""]
[null,null,"最 大　ケ ー ス\n納品単位",{"$nulls":9},{"$f":"DB202","v":""},{"$nulls":15},"最 小　ケ ー ス\n納品単位",{"$nulls":9},{"$f":"DC202","v":""},{"$nulls":60},"最大ケース⑨","最小ケース⑨",null,{"$f":"IFERROR(INDEX($GJ$6:$BLM$6,1,MATCH(CV202,$GJ$4:$BLM$4,0),1),\"\")","v":""},{"$f":"IFERROR(INDEX($GJ$6:$BLM$6,1,MATCH(CW202,$GJ$4:$BLM$4,0),1),\"\")","v":""},null,"",""]
[null,null,"ケ ー ス　サ イ ズ\n(縦×横×高さ：cm)",{"$nulls":9},{"$f":"_xlfn.CONCAT(EP203:ER203)","v":""},{"$nulls":15},"ケ ー ス　重 量\n(kg)",{"$nulls":9},{"$f":"ES203","v":""},{"$nulls":60},"ケースサイズ","ケース重量",null,"縦⑨","横⑨","高さ⑨","重量⑨",{"$nulls":17},{"$f":"IFERROR(INDEX($GJ$6:$BLM$6,1,MATCH(CY203,$GJ$4:$BLM$4,0),1),\"\")","v":""},{"$f":"IFERROR(INDEX($GJ$6:$BLM$6,1,MATCH(CZ203,$GJ$4:$BLM$4,0),1),\"\")","v":""},{"$f":"IFERROR(INDEX($GJ$6:$BLM$6,1,MATCH(DA203,$GJ$4:$BLM$4,0),1),\"\")","v":""},{"$f":"IFERROR(INDEX($GJ$6:$BLM$6,1,MATCH(DB203,$GJ$4:$BLM$4,0),1),\"\")","v":""},{"$nulls":18},{"$f":"IF(OR(DT203=0,DT203=\"\"),\"\",DT203&\"×\")","v":""},{"$f":"IF(OR(DU203=0,DU203=\"\"),\"\",DU203&\"×\")","v":""},{"$f":"IF(OR(DV203=0,DV203=\"\"),\"\",DV203&\"\")","v":""},{"$f":"IF(OR(DW203=0,DW203=\"\"),\"\",DW203&\"\")","v":""}]
[null,null,"賞味期限",{"$nulls":9},{"$f":"DB204","v":""},{"$nulls":15},"消費期限",{"$nulls":9},{"$f":"DC204","v":""},{"$nulls":60},"賞味期限⑨","消費期限⑨",null,{"$f":"IFERROR(INDEX($GJ$6:$BLM$6,1,MATCH(CV204,$GJ$4:$BLM$4,0),1),\"\")","v":""},{"$f":"IFERROR(INDEX($GJ$6:$BLM$6,1,MATCH(CW204,$GJ$4:$BLM$4,0),1),\"\")","v":""},null,{"$f":"IF(CY204=0,\"\",CY204)","v":""},""]
[null,null,"希　望　小　売\n(税抜：円)",{"$nulls":9},{"$f":"DB205","v":""},{"$nulls":15},"税率",{"$nulls":9},{"$f":"_xlfn.CONCAT(EO205:FJ205)","v":""},{"$nulls":60},"希望小売⑨",null,null,{"$f":"IFERROR(INDEX($GJ$6:$BLM$6,1,MATCH(CV205,$GJ$4:$BLM$4,0),1),\"\")","v":""},null,null,"",null,null,"8%⑨","10%⑨",{"$nulls":13},{"$f":"IFERROR(INDEX($GJ$6:$BLM$6,1,MATCH(DE205,$GJ$4:$BLM$4,0),1),\"\")","v":""},"",{"$nulls":20},{"$f":"IF(DT205=1,FL205&\"　\",\"\")","v":""},"",{"$nulls":20},"8%","10%"]
[null,null,"仕　切　単　価\n(税抜：円)",{"$nulls":9},{"$f":"DB206","v":""},{"$nulls":15},{"$f":"_xlfn.CONCAT(EO206:FJ206)","v":""},{"$nulls":70},"仕切単価⑨",null,null,{"$f":"IFERROR(INDEX($GJ$6:$BLM$6,1,MATCH(CV206,$GJ$4:$BLM$4,0),1),\"\")","v":""},null,null,"",null,null,"工場出し⑨","関東向け⑨","関西向け⑨",{"$nulls":12},"","",{"$f":"IFERROR(INDEX($GJ$6:$BLM$6,1,MATCH(DG206,$GJ$4:$BLM$4,0),1),\"\")","v":""},{"$nulls":19},"","","",{"$nulls":19},"工場出し","関東向け","関西向け"]
[null,null,"主 原 料 産 地\n(漁獲場所等)",{"$nulls":9},{"$f":"DB207","v":""},{"$nulls":15},"保存温度帯",{"$nulls":9},{"$f":"_xlfn.CONCAT(EO207:FJ207)","v":""},{"$nulls":60},"主原料産地⑨",null,null,{"$f":"IFERROR(INDEX($GJ$6:$BLM$6,1,MATCH(CV207,$GJ$4:$BLM$4,0),1),\"\")","v":""},{"$f":"IFERROR(INDEX($GJ$6:$BLM$6,1,MATCH(CW207,$GJ$4:$BLM$4,0),1),\"\")","v":""},null,{"$f":"IF(CY207=0,\"\",CY207)","v":""},{"$f":"IF(CZ207=0,\"\",CZ207)","v":""},null,"常温⑨","冷蔵⑨","冷凍⑨",{"$nulls":12},"","",{"$f":"IFERROR(INDEX($GJ$6:$BLM$6,1,MATCH(DG207,$GJ$4:$BLM$4,0),1),\"\")","v":""},{"$nulls":19},"","","",{"$nulls":19},"常温","冷蔵","冷凍"]
[null,null,"売り先",{"$nulls":9},{"$f":"_xlfn.CONCAT(EO208:FJ208)","v":""},{"$nulls":89},"外食⑨","中食⑨","商社・卸売⑨","メーカー⑨","スーパーマーケット⑨","百貨店⑨","その他小売⑨","ホテル・宴会・レジャー⑨","その他・ターゲット⑨","その他・ターゲット・⑨",{"$nulls":11},{"$f":"IFERROR(INDEX($GJ$6:$BLM$6,1,MATCH(CY208,$GJ$4:$BLM$4,0),1),\"\")","v":""},"","","","","","","","","",{"$nulls":12},"","","","","","","","",{"$f":"IF(EB208=1,\"その他\",\"\")","v":""},{"$f":"IF(OR(EC208=0,EC208=\"\"),\"\",\"(\"&EC208&\")\")","v":""},{"$nulls":12},"外食","中食","商社・卸売","メーカー","スーパーマーケット","百貨店","その他小売","ホテル・宴会・レジャー"]
[null,null,"ターゲット",{"$nulls":9},{"$f":"DB209","v":""},{"$nulls":86},"ターゲット⑨",null,null,{"$f":"IFERROR(INDEX($GJ$6:$BLM$6,1,MATCH(CV209,$GJ$4:$BLM$4,0),1),\"\")","v":""},null,null,{"$f":"IF(CY209=0,\"\",CY209)","v":""}]
[null,null,"商品特徴",{"$nulls":3},{"$f":"DB210","v":""},{"$nulls":92},"商品特徴⑨",null,null,{"$f":"IFERROR(INDEX($GJ$6:$BLM$6,1,MATCH(CV210,$GJ$4:$BLM$4,0),1),\"\")","v":""},null,null,""]
[null,null,"アレルギー表示(特定原材料)",{"$nulls":51},"利用シーン",{"$nulls":44},"利用シーン⑨",null,null,{"$f":"IFERROR(INDEX($GJ$6:$BLM$6,1,MATCH(CV211,$GJ$4:$BLM$4,0),1),\"\")","v":""},null,null,""]
[null,null,"表示\n義務有",{"$nulls":3},{"$f":"_xlfn.CONCAT(EO212:FJ212)","v":""},{"$nulls":47},{"$f":"DB211","v":""},{"$nulls":47},"えび⑨","かに⑨","小麦⑨","そば⑨","卵⑨","乳⑨","落花生⑨",{"$nulls":14},{"$f":"IFERROR(INDEX($GJ$6:$BLM$6,1,MATCH(CY212,$GJ$4:$BLM$4,0),1),\"\")","v":""},"","","","","","",{"$nulls":15},{"$f":"IF(DT212=1,FL212&\"　\",\"\")","v":""},"","","","","","",{"$nulls":15},"えび","かに","小麦","そば","卵","乳","落花生"]
[null,null,"任意\n表示",{"$nulls":3},{"$f":"_xlfn.CONCAT(EO213:FJ213)","v":""},{"$nulls":95},"あわび⑨","いか⑨","いくら⑨","オレンジ⑨","カシューナッツ⑨","キウイフルーツ⑨","牛肉⑨","くるみ⑨","ごま⑨","さけ⑨","さば⑨","大豆⑨","鶏肉⑨","バナナ⑨","豚肉⑨","まつたけ⑨","もも⑨","やまいも⑨","りんご⑨","ゼラチン⑨",null,"","","","","","","",{"$f":"IFERROR(INDEX($GJ$6:$BLM$6,1,MATCH(DF213,$GJ$4:$BLM$4,0),1),\"\")","v":""},"","","","","","","","","","","","",null,null,{"$f":"IF(DT213=1,FL213&\" \",\"\")","v":""},{"$f":"IF(DU213=1,FM213&\" \",\"\")","v":""},"","","","","","","","","","","","","","","","","","",null,null,"あわび","いか","いくら","オレンジ","カシューナッツ","キウイフルーツ","牛肉","くるみ","ごま","さけ","さば","大豆","鶏肉","バナナ","豚肉","まつたけ","もも","やまいも","りんご","ゼラチン"]
[null,null,"備考",{"$nulls":3},{"$f":"ASC(DB214)","v":""},{"$nulls":92},"備考⑨",null,null,{"$f":"IFERROR(INDEX($GJ$6:$BLM$6,1,MATCH(CV214,$GJ$4:$BLM$4,0),1),\"\")","v":""},null,null,{"$f":"IF(CY214=0,\"\",CY214)","v":""}]
[]
[null,null,"■商品情報"]
[null,null,"商品名",{"$nulls":9},{"$f":"DB217","v":""},{"$nulls":41},"商品写真2枚（表面1枚、裏面1枚）\n貼付してください\n\n＊パッケージが鮮明なもの\n\n＊裏面分は、原材料や栄養成分表示が\n　判別出来る画像とすること",{"$nulls":44},"商品名⑩",null,null,{"$f":"IFERROR(INDEX($GJ$6:$BLM$6,1,MATCH(CV217,$GJ$4:$BLM$4,0),1),\"\")","v":""},null,null,{"$f":"IF(CY217=0,\"\",CY217)","v":""}]
[null,null,"JANコード",{"$nulls":9},{"$f":"DB218","v":""},{"$nulls":15},"可能対応",{"$nulls":9},{"$f":"_xlfn.CONCAT(EO218:FJ218)","v":""},{"$nulls":60},"JANコード⑩",null,null,{"$f":"IFERROR(INDEX($GJ$6:$BLM$6,1,MATCH(CV218,$GJ$4:$BLM$4,0),1),\"\")","v":""},null,null,"",null,null,"業務用対応可能⑩","ギフト対応可能⑩",{"$nulls":13},{"$f":"IFERROR(INDEX($GJ$6:$BLM$6,1,MATCH(DE218,$GJ$4:$BLM$4,0),1),\"\")","v":""},{"$f":"IFERROR(INDEX($GJ$6:$BLM$6,1,MATCH(DF218,$GJ$4:$BLM$4,0),1),\"\")","v":""},{"$nulls":20},{"$f":"IF(DT218=1,IF(EQ218=\"\",FL218,FL218&\"・\"),\"\")","v":""},{"$f":"IF(DU218=1,FM218&\"\",\"\")","v":""},{"$nulls":17},{"$f":"IF(AND(EP218=\"\",EQ218=\"\"),\"\",\"対応可能\")","v":""},null,null,"業務用","ギフト"]
[null,null,"提供可能時期",{"$nulls":9},{"$f":"DB219","v":""},{"$nulls":15},"発注リードタイム",{"$nulls":9},{"$f":"DC219","v":""},{"$nulls":60},"提供可能時期⑩","発注リードタイム⑩",null,{"$f":"IFERROR(INDEX($GJ$6:$BLM$6,1,MATCH(CV219,$GJ$4:$BLM$4,0),1),\"\")","v":""},{"$f":"IFERROR(INDEX($GJ$6:$BLM$6,1,MATCH(CW219,$GJ$4:$BLM$4,0),1),\"\")","v":""},null,"",""]
[null,null,"内容量",{"$nulls":9},{"$f":"DB220","v":""},{"$nulls":15},"1ケースあたり入数",{"$nulls":9},{"$f":"DC220","v":""},{"$nulls":60},"内容量⑩","1ケースあたり⑩",null,{"$f":"IFERROR(INDEX($GJ$6:$BLM$6,1,MATCH(CV220,$GJ$4:$BLM$4,0),1),\"\")","v":""},{"$f":"IFERROR(INDEX($GJ$6:$BLM$6,1,MATCH(CW220,$GJ$4:$BLM$4,0),1),\"\")","v":""},null,"",""]
[null,null,"最 大　ケ ー ス\n納品単位",{"$nulls":9},{"$f":"DB221","v":""},{"$nulls":15},"最 小　ケ ー ス\n納品単位",{"$nulls":9},{"$f":"DC221","v":""},{"$nulls":60},"最大ケース⑩","最小ケース⑩",null,{"$f":"IFERROR(INDEX($GJ$6:$BLM$6,1,MATCH(CV221,$GJ$4:$BLM$4,0),1),\"\")","v":""},{"$f":"IFERROR(INDEX($GJ$6:$BLM$6,1,MATCH(CW221,$GJ$4:$BLM$4,0),1),\"\")","v":""},null,"",""]
[null,null,"ケ ー ス　サ イ ズ\n(縦×横×高さ：cm)",{"$nulls":9},{"$f":"_xlfn.CONCAT(EP222:ER222)","v":""},{"$nulls":15},"ケ ー ス　重 量\n(kg)",{"$nulls":9},{"$f":"ES222","v":""},{"$nulls":60},"ケースサイズ","ケース重量",null,"縦⑩","横⑩","高さ⑩","重量⑩",{"$nulls":17},{"$f":"IFERROR(INDEX($GJ$6:$BLM$6,1,MATCH(CY222,$GJ$4:$BLM$4,0),1),\"\")","v":""},{"$f":"IFERROR(INDEX($GJ$6:$BLM$6,1,MATCH(CZ222,$GJ$4:$BLM$4,0),1),\"\")","v":""},{"$f":"IFERROR(INDEX($GJ$6:$BLM$6,1,MATCH(DA222,$GJ$4:$BLM$4,0),1),\"\")","v":""},{"$f":"IFERROR(INDEX($GJ$6:$BLM$6,1,MATCH(DB222,$GJ$4:$BLM$4,0),1),\"\")","v":""},{"$nulls":18},{"$f":"IF(OR(DT222=0,DT222=\"\"),\"\",DT222&\"×\")","v":""},{"$f":"IF(OR(DU222=0,DU222=\"\"),\"\",DU222&\"×\")","v":""},{"$f":"IF(OR(DV222=0,DV222=\"\"),\"\",DV222&\"\")","v":""},{"$f":"IF(OR(DW222=0,DW222=\"\"),\"\",DW222&\"\")","v":""}]
[null,null,"賞味期限",{"$nulls":9},{"$f":"DB223","v":""},{"$nulls":15},"消費期限",{"$nulls":9},{"$f":"DC223","v":""},{"$nulls":60},"賞味期限⑩","消費期限⑩",null,{"$f":"IFERROR(INDEX($GJ$6:$BLM$6,1,MATCH(CV223,$GJ$4:$BLM$4,0),1),\"\")","v":""},{"$f":"IFERROR(INDEX($GJ$6:$BLM$6,1,MATCH(CW223,$GJ$4:$BLM$4,0),1),\"\")","v":""},null,{"$f":"IF(CY223=0,\"\",CY223)","v":""},""]
[null,null,"希　望　小　売\n(税抜：円)",{"$nulls":9},{"$f":"DB224","v":""},{"$nulls":15},"税率",{"$nulls":9},{"$f":"_xlfn.CONCAT(EO224:FJ224)","v":""},{"$nulls":60},"希望小売⑩",null,null,{"$f":"IFERROR(INDEX($GJ$6:$BLM$6,1,MATCH(CV224,$GJ$4:$BLM$4,0),1),\"\")","v":""},null,null,"",null,null,"8%⑩","10%⑩",{"$nulls":13},{"$f":"IFERROR(INDEX($GJ$6:$BLM$6,1,MATCH(DE224,$GJ$4:$BLM$4,0),1),\"\")","v":""},"",{"$nulls":20},{"$f":"IF(DT224=1,FL224&\"　\",\"\")","v":""},"",{"$nulls":20},"8%","10%"]
[null,null,"仕　切　単　価\n(税抜：円)",{"$nulls":9},{"$f":"DB225","v":""},{"$nulls":15},{"$f":"_xlfn.CONCAT(EO225:FJ225)","v":""},{"$nulls":70},"仕切単価⑩",null,null,{"$f":"IFERROR(INDEX($GJ$6:$BLM$6,1,MATCH(CV225,$GJ$4:$BLM$4,0),1),\"\")","v":""},null,null,"",null,null,"工場出し⑩","関東向け⑩","関西向け⑩",{"$nulls":12},"","",{"$f":"IFERROR(INDEX($GJ$6:$BLM$6,1,MATCH(DG225,$GJ$4:$BLM$4,0),1),\"\")","v":""},{"$nulls":19},"","","",{"$nulls":19},"工場出し","関東向け","関西向け"]
[null,null,"主 原 料 産 地\n(漁獲場所等)",{"$nulls":9},{"$f":"DB226","v":""},{"$nulls":15},"保存温度帯",{"$nulls":9},{"$f":"_xlfn.CONCAT(EO226:FJ226)","v":""},{"$nulls":60},"主原料産地⑩",null,null,{"$f":"IFERROR(INDEX($GJ$6:$BLM$6,1,MATCH(CV226,$GJ$4:$BLM$4,0),1),\"\")","v":""},{"$f":"IFERROR(INDEX($GJ$6:$BLM$6,1,MATCH(CW226,$GJ$4:$BLM$4,0),1),\"\")","v":""},null,{"$f":"IF(CY226=0,\"\",CY226)","v":""},{"$f":"IF(CZ226=0,\"\",CZ226)","v":""},null,"常温⑩","冷蔵⑩","冷凍⑩",{"$nulls":12},"","",{"$f":"IFERROR(INDEX($GJ$6:$BLM$6,1,MATCH(DG226,$GJ$4:$BLM$4,0),1),\"\")","v":""},{"$nulls":19},"","","",{"$nulls":19},"常温","冷蔵","冷凍"]
[null,null,"売り先",{"$nulls":9},{"$f":"_xlfn.CONCAT(EO227:FJ227)","v":""},{"$nulls":89},"外食⑩","中食⑩","商社・卸売⑩","メーカー⑩","スーパーマーケット⑩","百貨店⑩","その他小売⑩","ホテル・宴会・レジャー⑩","その他・ターゲット⑩","その他・ターゲット・⑩",{"$nulls":11},{"$f":"IFERROR(INDEX($GJ$6:$BLM$6,1,MATCH(CY227,$GJ$4:$BLM$4,0),1),\"\")","v":""},"","","","","","","","","",{"$nulls":12},"","","","","","","","",{"$f":"IF(EB227=1,\"その他\",\"\")","v":""},{"$f":"IF(OR(EC227=0,EC227=\"\"),\"\",\"(\"&EC227&\")\")","v":""},{"$nulls":12},"外食","中食","商社・卸売","メーカー","スーパーマーケット","百貨店","その他小売","ホテル・宴会・レジャー"]
[null,null,"ターゲット",{"$nulls":9},{"$f":"DB228","v":""},{"$nulls":86},"ターゲット⑩",null,null,{"$f":"IFERROR(INDEX($GJ$6:$BLM$6,1,MATCH(CV228,$GJ$4:$BLM$4,0),1),\"\")","v":""},null,null,{"$f":"IF(CY228=0,\"\",CY228)","v":""}]
[null,null,"商品特徴",{"$nulls":3},{"$f":"DB229","v":""},{"$nulls":92},"商品特徴⑩",null,null,{"$f":"IFERROR(INDEX($GJ$6:$BLM$6,1,MATCH(CV229,$GJ$4:$BLM$4,0),1),\"\")","v":""},null,null,""]
[null,null,"アレルギー表示(特定原材料)",{"$nulls":51},"利用シーン",{"$nulls":44},"利用シーン⑩",null,null,{"$f":"IFERROR(INDEX($GJ$6:$BLM$6,1,MATCH(CV230,$GJ$4:$BLM$4,0),1),\"\")","v":""},null,null,""]
[null,null,"表示\n義務有",{"$nulls":3},{"$f":"_xlfn.CONCAT(EO231:FJ231)","v":""},{"$nulls":47},{"$f":"DB230","v":""},{"$nulls":47},"えび⑩","かに⑩","小麦⑩","そば⑩","卵⑩","乳⑩","落花生⑩",{"$nulls":14},{"$f":"IFERROR(INDEX($GJ$6:$BLM$6,1,MATCH(CY231,$GJ$4:$BLM$4,0),1),\"\")","v":""},"","","","","","",{"$nulls":15},{"$f":"IF(DT231=1,FL231&\"　\",\"\")","v":""},"","","","","","",{"$nulls":15},"えび","かに","小麦","そば","卵","乳","落花生"]
[null,null,"任意\n表示",{"$nulls":3},{"$f":"_xlfn.CONCAT(EO232:FJ232)","v":""},{"$nulls":95},"あわび⑩","いか⑩","いくら⑩","オレンジ⑩","カシューナッツ⑩","キウイフルーツ⑩","牛肉⑩","くるみ⑩","ごま⑩","さけ⑩","さば⑩","大豆⑩","鶏肉⑩","バナナ⑩","豚肉⑩","まつたけ⑩","もも⑩","やまいも⑩","りんご⑩","ゼラチン⑩",null,"","","","","","","",{"$f":"IFERROR(INDEX($GJ$6:$BLM$6,1,MATCH(DF232,$GJ$4:$BLM$4,0),1),\"\")","v":""},"","","","","","","","","","","","",null,null,{"$f":"IF(DT232=1,FL232&\" \",\"\")","v":""},{"$f":"IF(DU232=1,FM232&\" \",\"\")","v":""},"","","","","","","","","","","","","","","","","","",null,null,"あわび","いか","いくら","オレンジ","カシューナッツ","キウイフルーツ","牛肉","くるみ","ごま","さけ","さば","大豆","鶏肉","バナナ","豚肉","まつたけ","もも","やまいも","りんご","ゼラチン"]
[null,null,"備考",{"$nulls":3},{"$f":"ASC(DB233)","v":""},{"$nulls":92},"備考⑩",null,null,{"$f":"IFERROR(INDEX($GJ$6:$BLM$6,1,MATCH(CV233,$GJ$4:$BLM$4,0),1),\"\")","v":""},null,null,{"$f":"IF(CY233=0,\"\",CY233)","v":""}]
[]
[null,null,"■商品情報"]
[null,null,"商品名",{"$nulls":9},{"$f":"DB236","v":""},{"$nulls":41},"商品写真2枚（表面1枚、裏面1枚）\n貼付してください\n\n＊パッケージが鮮明なもの\n\n＊裏面分は、原材料や栄養成分表示が\n　判別出来る画像とすること",{"$nulls":44},"商品名⑪",null,null,{"$f":"IFERROR(INDEX($GJ$6:$BLM$6,1,MATCH(CV236,$GJ$4:$BLM$4,0),1),\"\")","v":""},null,null,{"$f":"IF(CY236=0,\"\",CY236)","v":""}]
[null,null,"JANコード",{"$nulls":9},{"$f":"DB237","v":""},{"$nulls":15},"可能対応",{"$nulls":9},{"$f":"_xlfn.CONCAT(EO237:FJ237)","v":""},{"$nulls":60},"JANコード⑪",null,null,{"$f":"IFERROR(INDEX($GJ$6:$BLM$6,1,MATCH(CV237,$GJ$4:$BLM$4,0),1),\"\")","v":""},null,null,"",null,null,"業務用対応可能⑪","ギフト対応可能⑪",{"$nulls":13},{"$f":"IFERROR(INDEX($GJ$6:$BLM$6,1,MATCH(DE237,$GJ$4:$BLM$4,0),1),\"\")","v":""},{"$f":"IFERROR(INDEX($GJ$6:$BLM$6,1,MATCH(DF237,$GJ$4:$BLM$4,0),1),\"\")","v":""},{"$nulls":20},{"$f":"IF(DT237=1,IF(EQ237=\"\",FL237,FL237&\"・\"),\"\")","v":""},{"$f":"IF(DU237=1,FM237&\"\",\"\")","v":""},{"$nulls":17},{"$f":"IF(AND(EP237=\"\",EQ237=\"\"),\"\",\"対応可能\")","v":""},null,null,"業務用","ギフト"]
[null,null,"提供可能時期",{"$nulls":9},{"$f":"DB238","v":""},{"$nulls":15},"発注リードタイム",{"$nulls":9},{"$f":"DC238","v":""},{"$nulls":60},"提供可能時期⑪","発注リードタイム⑪",null,{"$f":"IFERROR(INDEX($GJ$6:$BLM$6,1,MATCH(CV238,$GJ$4:$BLM$4,0),1),\"\")","v":""},{"$f":"IFERROR(INDEX($GJ$6:$BLM$6,1,MATCH(CW238,$GJ$4:$BLM$4,0),1),\"\")","v":""},null,"",""]
[null,null,"内容量",{"$nulls":9},{"$f":"DB239","v":""},{"$nulls":15},"1ケースあたり入数",{"$nulls":9},{"$f":"DC239","v":""},{"$nulls":60},"内容量⑪","1ケースあたり⑪",null,{"$f":"IFERROR(INDEX($GJ$6:$BLM$6,1,MATCH(CV239,$GJ$4:$BLM$4,0),1),\"\")","v":""},{"$f":"IFERROR(INDEX($GJ$6:$BLM$6,1,MATCH(CW239,$GJ$4:$BLM$4,0),1),\"\")","v":""},null,"",""]
[null,null,"最 大　ケ ー ス\n納品単位",{"$nulls":9},{"$f":"DB240","v":""},{"$nulls":15},"最 小　ケ ー ス\n納品単位",{"$nulls":9},{"$f":"DC240","v":""},{"$nulls":60},"最大ケース⑪","最小ケース⑪",null,{"$f":"IFERROR(INDEX($GJ$6:$BLM$6,1,MATCH(CV240,$GJ$4:$BLM$4,0),1),\"\")","v":""},{"$f":"IFERROR(INDEX($GJ$6:$BLM$6,1,MATCH(CW240,$GJ$4:$BLM$4,0),1),\"\")","v":""},null,"",""]
[null,null,"ケ ー ス　サ イ ズ\n(縦×横×高さ：cm)",{"$nulls":9},{"$f":"_xlfn.CONCAT(EP241:ER241)","v":""},{"$nulls":15},"ケ ー ス　重 量\n(kg)",{"$nulls":9},{"$f":"ES241","v":""},{"$nulls":60},"ケースサイズ","ケース重量",null,"縦⑪","横⑪","高さ⑪","重量⑪",{"$nulls":17},{"$f":"IFERROR(INDEX($GJ$6:$BLM$6,1,MATCH(CY241,$GJ$4:$BLM$4,0),1),\"\")","v":""},{"$f":"IFERROR(INDEX($GJ$6:$BLM$6,1,MATCH(CZ241,$GJ$4:$BLM$4,0),1),\"\")","v":""},{"$f":"IFERROR(INDEX($GJ$6:$BLM$6,1,MATCH(DA241,$GJ$4:$BLM$4,0),1),\"\")","v":""},{"$f":"IFERROR(INDEX($GJ$6:$BLM$6,1,MATCH(DB241,$GJ$4:$BLM$4,0),1),\"\")","v":""},{"$nulls":18},{"$f":"IF(OR(DT241=0,DT241=\"\"),\"\",DT241&\"×\")","v":""},{"$f":"IF(OR(DU241=0,DU241=\"\"),\"\",DU241&\"×\")","v":""},{"$f":"IF(OR(DV241=0,DV241=\"\"),\"\",DV241&\"\")","v":""},{"$f":"IF(OR(DW241=0,DW241=\"\"),\"\",DW241&\"\")","v":""}]
[null,null,"賞味期限",{"$nulls":9},{"$f":"DB242","v":""},{"$nulls":15},"消費期限",{"$nulls":9},{"$f":"DC242","v":""},{"$nulls":60},"賞味期限⑪","消費期限⑪",null,{"$f":"IFERROR(INDEX($GJ$6:$BLM$6,1,MATCH(CV242,$GJ$4:$BLM$4,0),1),\"\")","v":""},{"$f":"IFERROR(INDEX($GJ$6:$BLM$6,1,MATCH(CW242,$GJ$4:$BLM$4,0),1),\"\")","v":""},null,{"$f":"IF(CY242=0,\"\",CY242)","v":""},""]
[null,null,"希　望　小　売\n(税抜：円)",{"$nulls":9},{"$f":"DB243","v":""},{"$nulls":15},"税率",{"$nulls":9},{"$f":"_xlfn.CONCAT(EO243:FJ243)","v":""},{"$nulls":60},"希望小売⑪",null,null,{"$f":"IFERROR(INDEX($GJ$6:$BLM$6,1,MATCH(CV243,$GJ$4:$BLM$4,0),1),\"\")","v":""},null,null,"",null,null,"8%⑪","10%⑪",{"$nulls":13},{"$f":"IFERROR(INDEX($GJ$6:$BLM$6,1,MATCH(DE243,$GJ$4:$BLM$4,0),1),\"\")","v":""},"",{"$nulls":20},{"$f":"IF(DT243=1,FL243&\"　\",\"\")","v":""},"",{"$nulls":20},"8%","10%"]
[null,null,"仕　切　単　価\n(税抜：円)",{"$nulls":9},{"$f":"DB244","v":""},{"$nulls":15},{"$f":"_xlfn.CONCAT(EO244:FJ244)","v":""},{"$nulls":70},"仕切単価⑪",null,null,{"$f":"IFERROR(INDEX($GJ$6:$BLM$6,1,MATCH(CV244,$GJ$4:$BLM$4,0),1),\"\")","v":""},null,null,"",null,null,"工場出し⑪","関東向け⑪","関西向け⑪",{"$nulls":12},"","",{"$f":"IFERROR(INDEX($GJ$6:$BLM$6,1,MATCH(DG244,$GJ$4:$BLM$4,0),1),\"\")","v":""},{"$nulls":19},"","","",{"$nulls":19},"工場出し","関東向け","関西向け"]
[null,null,"主 原 料 産 地\n(漁獲場所等)",{"$nulls":9},{"$f":"DB245","v":""},{"$nulls":15},"保存温度帯",{"$nulls":9},{"$f":"_xlfn.CONCAT(EO245:FJ245)","v":""},{"$nulls":60},"主原料産地⑪",null,null,{"$f":"IFERROR(INDEX($GJ$6:$BLM$6,1,MATCH(CV245,$GJ$4:$BLM$4,0),1),\"\")","v":""},{"$f":"IFERROR(INDEX($GJ$6:$BLM$6,1,MATCH(CW245,$GJ$4:$BLM$4,0),1),\"\")","v":""},null,{"$f":"IF(CY245=0,\"\",CY245)","v":""},{"$f":"IF(CZ245=0,\"\",CZ245)","v":""},null,"常温⑪","冷蔵⑪","冷凍⑪",{"$nulls":12},"","",{"$f":"IFERROR(INDEX($GJ$6:$BLM$6,1,MATCH(DG245,$GJ$4:$BLM$4,0),1),\"\")","v":""},{"$nulls":19},"","","",{"$nulls":19},"常温","冷蔵","冷凍"]
[null,null,"売り先",{"$nulls":9},{"$f":"_xlfn.CONCAT(EO246:FJ246)","v":""},{"$nulls":89},"外食⑪","中食⑪","商社・卸売⑪","メーカー⑪","スーパーマーケット⑪","百貨店⑪","その他小売⑪","ホテル・宴会・レジャー⑪","その他・ターゲット⑪","その他・ターゲット・⑪",{"$nulls":11},{"$f":"IFERROR(INDEX($GJ$6:$BLM$6,1,MATCH(CY246,$GJ$4:$BLM$4,0),1),\"\")","v":""},"","","","","","","","","",{"$nulls":12},"","","","","","","","",{"$f":"IF(EB246=1,\"その他\",\"\")","v":""},{"$f":"IF(OR(EC246=0,EC246=\"\"),\"\",\"(\"&EC246&\")\")","v":""},{"$nulls":12},"外食","中食","商社・卸売","メーカー","スーパーマーケット","百貨店","その他小売","ホテル・宴会・レジャー"]
[null,null,"ターゲット",{"$nulls":9},{"$f":"DB247","v":""},{"$nulls":86},"ターゲット⑪",null,null,{"$f":"IFERROR(INDEX($GJ$6:$BLM$6,1,MATCH(CV247,$GJ$4:$BLM$4,0),1),\"\")","v":""},null,null,{"$f":"IF(CY247=0,\"\",CY247)","v":""}]
[null,null,"商品特徴",{"$nulls":3},{"$f":"DB248","v":""},{"$nulls":92},"商品特徴⑪",null,null,{"$f":"IFERROR(INDEX($GJ$6:$BLM$6,1,MATCH(CV248,$GJ$4:$BLM$4,0),1),\"\")","v":""},null,null,""]
[null,null,"アレルギー表示(特定原材料)",{"$nulls":51},"利用シーン",{"$nulls":44},"利用シーン⑪",null,null,{"$f":"IFERROR(INDEX($GJ$6:$BLM$6,1,MATCH(CV249,$GJ$4:$BLM$4,0),1),\"\")","v":""},null,null,""]
[null,null,"表示\n義務有",{"$nulls":3},{"$f":"_xlfn.CONCAT(EO250:FJ250)","v":""},{"$nulls":47},{"$f":"DB249","v":""},{"$nulls":47},"えび⑪","かに⑪","小麦⑪","そば⑪","卵⑪","乳⑪","落花生⑪",{"$nulls":14},{"$f":"IFERROR(INDEX($GJ$6:$BLM$6,1,MATCH(CY250,$GJ$4:$BLM$4,0),1),\"\")","v":""},"","","","","","",{"$nulls":15},{"$f":"IF(DT250=1,FL250&\"　\",\"\")","v":""},"","","","","","",{"$nulls":15},"えび","かに","小麦","そば","卵","乳","落花生"]
[null,null,"任意\n表示",{"$nulls":3},{"$f":"_xlfn.CONCAT(EO251:FJ251)","v":""},{"$nulls":95},"あわび⑪","いか⑪","いくら⑪","オレンジ⑪","カシューナッツ⑪","キウイフルーツ⑪","牛肉⑪","くるみ⑪","ごま⑪","さけ⑪","さば⑪","大豆⑪","鶏肉⑪","バナナ⑪","豚肉⑪","まつたけ⑪","もも⑪","やまいも⑪","りんご⑪","ゼラチン⑪",null,"","","","","","","",{"$f":"IFERROR(INDEX($GJ$6:$BLM$6,1,MATCH(DF251,$GJ$4:$BLM$4,0),1),\"\")","v":""},"","","","","","","","","","","","",null,null,{"$f":"IF(DT251=1,FL251&\" \",\"\")","v":""},{"$f":"IF(DU251=1,FM251&\" \",\"\")","v":""},"","","","","","","","","","","","","","","","","","",null,null,"あわび","いか","いくら","オレンジ","カシューナッツ","キウイフルーツ","牛肉","くるみ","ごま","さけ","さば","大豆","鶏肉","バナナ","豚肉","まつたけ","もも","やまいも","りんご","ゼラチン"]
[null,null,"備考",{"$nulls":3},{"$f":"ASC(DB252)","v":""},{"$nulls":92},"備考⑪",null,null,{"$f":"IFERROR(INDEX($GJ$6:$BLM$6,1,MATCH(CV252,$GJ$4:$BLM$4,0),1),\"\")","v":""},null,null,{"$f":"IF(CY252=0,\"\",CY252)","v":""}]
[]
[null,null,"■商品情報"]
[null,null,"商品名",{"$nulls":9},{"$f":"DB255","v":""},{"$nulls":41},"商品写真2枚（表面1枚、裏面1枚）\n貼付してください\n\n＊パッケージが鮮明なもの\n\n＊裏面分は、原材料や栄養成分表示が\n　判別出来る画像とすること",{"$nulls":44},"商品名⑫",null,null,{"$f":"IFERROR(INDEX($GJ$6:$BLM$6,1,MATCH(CV255,$GJ$4:$BLM$4,0),1),\"\")","v":""},null,null,{"$f":"IF(CY255=0,\"\",CY255)","v":""}]
[null,null,"JANコード",{"$nulls":9},{"$f":"DB256","v":""},{"$nulls":15},"可能対応",{"$nulls":9},{"$f":"_xlfn.CONCAT(EO256:FJ256)","v":""},{"$nulls":60},"JANコード⑫",null,null,{"$f":"IFERROR(INDEX($GJ$6:$BLM$6,1,MATCH(CV256,$GJ$4:$BLM$4,0),1),\"\")","v":""},null,null,"",null,null,"業務用対応可能⑫","ギフト対応可能⑫",{"$nulls":13},{"$f":"IFERROR(INDEX($GJ$6:$BLM$6,1,MATCH(DE256,$GJ$4:$BLM$4,0),1),\"\")","v":""},{"$f":"IFERROR(INDEX($GJ$6:$BLM$6,1,MATCH(DF256,$GJ$4:$BLM$4,0),1),\"\")","v":""},{"$nulls":20},{"$f":"IF(DT256=1,IF(EQ256=\"\",FL256,FL256&\"・\"),\"\")","v":""},{"$f":"IF(DU256=1,FM256&\"\",\"\")","v":""},{"$nulls":17},{"$f":"IF(AND(EP256=\"\",EQ256=\"\"),\"\",\"対応可能\")","v":""},null,null,"業務用","ギフト"]
[null,null,"提供可能時期",{"$nulls":9},{"$f":"DB257","v":""},{"$nulls":15},"発注リードタイム",{"$nulls":9},{"$f":"DC257","v":""},{"$nulls":60},"提供可能時期⑫","発注リードタイム⑫",null,{"$f":"IFERROR(INDEX($GJ$6:$BLM$6,1,MATCH(CV257,$GJ$4:$BLM$4,0),1),\"\")","v":""},{"$f":"IFERROR(INDEX($GJ$6:$BLM$6,1,MATCH(CW257,$GJ$4:$BLM$4,0),1),\"\")","v":""},null,"",""]
[null,null,"内容量",{"$nulls":9},{"$f":"DB258","v":""},{"$nulls":15},"1ケースあたり入数",{"$nulls":9},{"$f":"DC258","v":""},{"$nulls":60},"内容量⑫","1ケースあたり⑫",null,{"$f":"IFERROR(INDEX($GJ$6:$BLM$6,1,MATCH(CV258,$GJ$4:$BLM$4,0),1),\"\")","v":""},{"$f":"IFERROR(INDEX($GJ$6:$BLM$6,1,MATCH(CW258,$GJ$4:$BLM$4,0),1),\"\")","v":""},null,"",""]
[null,null,"最 大　ケ ー ス\n納品単位",{"$nulls":9},{"$f":"DB259","v":""},{"$nulls":15},"最 小　ケ ー ス\n納品単位",{"$nulls":9},{"$f":"DC259","v":""},{"$nulls":60},"最大ケース⑫","最小ケース⑫",null,{"$f":"IFERROR(INDEX($GJ$6:$BLM$6,1,MATCH(CV259,$GJ$4:$BLM$4,0),1),\"\")","v":""},{"$f":"IFERROR(INDEX($GJ$6:$BLM$6,1,MATCH(CW259,$GJ$4:$BLM$4,0),1),\"\")","v":""},null,"",""]
[null,null,"ケ ー ス　サ イ ズ\n(縦×横×高さ：cm)",{"$nulls":9},{"$f":"_xlfn.CONCAT(EP260:ER260)","v":""},{"$nulls":15},"ケ ー ス　重 量\n(kg)",{"$nulls":9},{"$f":"ES260","v":""},{"$nulls":60},"ケースサイズ","ケース重量",null,"縦⑫","横⑫","高さ⑫","重量⑫",{"$nulls":17},{"$f":"IFERROR(INDEX($GJ$6:$BLM$6,1,MATCH(CY260,$GJ$4:$BLM$4,0),1),\"\")","v":""},{"$f":"IFERROR(INDEX($GJ$6:$BLM$6,1,MATCH(CZ260,$GJ$4:$BLM$4,0),1),\"\")","v":""},{"$f":"IFERROR(INDEX($GJ$6:$BLM$6,1,MATCH(DA260,$GJ$4:$BLM$4,0),1),\"\")","v":""},{"$f":"IFERROR(INDEX($GJ$6:$BLM$6,1,MATCH(DB260,$GJ$4:$BLM$4,0),1),\"\")","v":""},{"$nulls":18},{"$f":"IF(OR(DT260=0,DT260=\"\"),\"\",DT260&\"×\")","v":""},{"$f":"IF(OR(DU260=0,DU260=\"\"),\"\",DU260&\"×\")","v":""},{"$f":"IF(OR(DV260=0,DV260=\"\"),\"\",DV260&\"\")","v":""},{"$f":"IF(OR(DW260=0,DW260=\"\"),\"\",DW260&\"\")","v":""}]
[null,null,"賞味期限",{"$nulls":9},{"$f":"DB261","v":""},{"$nulls":15},"消費期限",{"$nulls":9},{"$f":"DC261","v":""},{"$nulls":60},"賞味期限⑫","消費期限⑫",null,{"$f":"IFERROR(INDEX($GJ$6:$BLM$6,1,MATCH(CV261,$GJ$4:$BLM$4,0),1),\"\")","v":""},{"$f":"IFERROR(INDEX($GJ$6:$BLM$6,1,MATCH(CW261,$GJ$4:$BLM$4,0),1),\"\")","v":""},null,{"$f":"IF(CY261=0,\"\",CY261)","v":""},""]
[null,null,"希　望　小　売\n(税抜：円)",{"$nulls":9},{"$f":"DB262","v":""},{"$nulls":15},"税率",{"$nulls":9},{"$f":"_xlfn.CONCAT(EO262:FJ262)","v":""},{"$nulls":60},"希望小売⑫",null,null,{"$f":"IFERROR(INDEX($GJ$6:$BLM$6,1,MATCH(CV262,$GJ$4:$BLM$4,0),1),\"\")","v":""},null,null,"",null,null,"8%⑫","10%⑫",{"$nulls":13},{"$f":"IFERROR(INDEX($GJ$6:$BLM$6,1,MATCH(DE262,$GJ$4:$BLM$4,0),1),\"\")","v":""},"",{"$nulls":20},{"$f":"IF(DT262=1,FL262&\"　\",\"\")","v":""},"",{"$nulls":20},"8%","10%"]
[null,null,"仕　切　単　価\n(税抜：円)",{"$nulls":9},{"$f":"DB263","v":""},{"$nulls":15},{"$f":"_xlfn.CONCAT(EO263:FJ263)","v":""},{"$nulls":70},"仕切単価⑫",null,null,{"$f":"IFERROR(INDEX($GJ$6:$BLM$6,1,MATCH(CV263,$GJ$4:$BLM$4,0),1),\"\")","v":""},null,null,"",null,null,"工場出し⑫","関東向け⑫","関西向け⑫",{"$nulls":12},"","",{"$f":"IFERROR(INDEX($GJ$6:$BLM$6,1,MATCH(DG263,$GJ$4:$BLM$4,0),1),\"\")","v":""},{"$nulls":19},"","","",{"$nulls":19},"工場出し","関東向け","関西向け"]
[null,null,"主 原 料 産 地\n(漁獲場所等)",{"$nulls":9},{"$f":"DB264","v":""},{"$nulls":15},"保存温度帯",{"$nulls":9},{"$f":"_xlfn.CONCAT(EO264:FJ264)","v":""},{"$nulls":60},"主原料産地⑫",null,null,{"$f":"IFERROR(INDEX($GJ$6:$BLM$6,1,MATCH(CV264,$GJ$4:$BLM$4,0),1),\"\")","v":""},{"$f":"IFERROR(INDEX($GJ$6:$BLM$6,1,MATCH(CW264,$GJ$4:$BLM$4,0),1),\"\")","v":""},null,{"$f":"IF(CY264=0,\"\",CY264)","v":""},{"$f":"IF(CZ264=0,\"\",CZ264)","v":""},null,"常温⑫","冷蔵⑫","冷凍⑫",{"$nulls":12},"","",{"$f":"IFERROR(INDEX($GJ$6:$BLM$6,1,MATCH(DG264,$GJ$4:$BLM$4,0),1),\"\")","v":""},{"$nulls":19},"","","",{"$nulls":19},"常温","冷蔵","冷凍"]
[null,null,"売り先",{"$nulls":9},{"$f":"_xlfn.CONCAT(EO265:FJ265)","v":""},{"$nulls":89},"外食⑫","中食⑫","商社・卸売⑫","メーカー⑫","スーパーマーケット⑫","百貨店⑫","その他小売⑫","ホテル・宴会・レジャー⑫","その他・ターゲット⑫","その他・ターゲット・⑫",{"$nulls":11},{"$f":"IFERROR(INDEX($GJ$6:$BLM$6,1,MATCH(CY265,$GJ$4:$BLM$4,0),1),\"\")","v":""},"","","","","","","","","",{"$nulls":12},"","","","","","","","",{"$f":"IF(EB265=1,\"その他\",\"\")","v":""},{"$f":"IF(OR(EC265=0,EC265=\"\"),\"\",\"(\"&EC265&\")\")","v":""},{"$nulls":12},"外食","中食","商社・卸売","メーカー","スーパーマーケット","百貨店","その他小売","ホテル・宴会・レジャー"]
[null,null,"ターゲット",{"$nulls":9},{"$f":"DB266","v":""},{"$nulls":86},"ターゲット⑫",null,null,{"$f":"IFERROR(INDEX($GJ$6:$BLM$6,1,MATCH(CV266,$GJ$4:$BLM$4,0),1),\"\")","v":""},null,null,{"$f":"IF(CY266=0,\"\",CY266)","v":""}]
[null,null,"商品特徴",{"$nulls":3},{"$f":"DB267","v":""},{"$nulls":92},"商品特徴⑫",null,null,{"$f":"IFERROR(INDEX($GJ$6:$BLM$6,1,MATCH(CV267,$GJ$4:$BLM$4,0),1),\"\")","v":""},null,null,""]
[null,null,"アレルギー表示(特定原材料)",{"$nulls":51},"利用シーン",{"$nulls":44},"利用シーン⑫",null,null,{"$f":"IFERROR(INDEX($GJ$6:$BLM$6,1,MATCH(CV268,$GJ$4:$BLM$4,0),1),\"\")","v":""},null,null,""]
[null,null,"表示\n義務有",{"$nulls":3},{"$f":"_xlfn.CONCAT(EO269:FJ269)","v":""},{"$nulls":47},{"$f":"DB268","v":""},{"$nulls":47},"えび⑫","かに⑫","小麦⑫","そば⑫","卵⑫","乳⑫","落花生⑫",{"$nulls":14},{"$f":"IFERROR(INDEX($GJ$6:$BLM$6,1,MATCH(CY269,$GJ$4:$BLM$4,0),1),\"\")","v":""},"","","","","","",{"$nulls":15},{"$f":"IF(DT269=1,FL269&\"　\",\"\")","v":""},"","","","","","",{"$nulls":15},"えび","かに","小麦","そば","卵","乳","落花生"]
[null,null,"任意\n表示",{"$nulls":3},{"$f":"_xlfn.CONCAT(EO270:FJ270)","v":""},{"$nulls":95},"あわび⑫","いか⑫","いくら⑫","オレンジ⑫","カシューナッツ⑫","キウイフルーツ⑫","牛肉⑫","くるみ⑫","ごま⑫","さけ⑫","さば⑫","大豆⑫","鶏肉⑫","バナナ⑫","豚肉⑫","まつたけ⑫","もも⑫","やまいも⑫","りんご⑫","ゼラチン⑫",null,"","","","","","","",{"$f":"IFERROR(INDEX($GJ$6:$BLM$6,1,MATCH(DF270,$GJ$4:$BLM$4,0),1),\"\")","v":""},"","","","","","","","","","","","",null,null,{"$f":"IF(DT270=1,FL270&\" \",\"\")","v":""},{"$f":"IF(DU270=1,FM270&\" \",\"\")","v":""},"","","","","","","","","","","","","","","","","","",null,null,"あわび","いか","いくら","オレンジ","カシューナッツ","キウイフルーツ","牛肉","くるみ","ごま","さけ","さば","大豆","鶏肉","バナナ","豚肉","まつたけ","もも","やまいも","りんご","ゼラチン"]
[null,null,"備考",{"$nulls":3},{"$f":"ASC(DB271)","v":""},{"$nulls":92},"備考⑫",null,null,{"$f":"IFERROR(INDEX($GJ$6:$BLM$6,1,MATCH(CV271,$GJ$4:$BLM$4,0),1),\"\")","v":""},null,null,{"$f":"IF(CY271=0,\"\",CY271)","v":""}]
[]
[null,null,"■商品情報"]
[null,null,"商品名",{"$nulls":9},{"$f":"DB274","v":""},{"$nulls":41},"商品写真2枚（表面1枚、裏面1枚）\n貼付してください\n\n＊パッケージが鮮明なもの\n\n＊裏面分は、原材料や栄養成分表示が\n　判別出来る画像とすること",{"$nulls":44},"商品名⑬",null,null,{"$f":"IFERROR(INDEX($GJ$6:$BLM$6,1,MATCH(CV274,$GJ$4:$BLM$4,0),1),\"\")","v":""},null,null,{"$f":"IF(CY274=0,\"\",CY274)","v":""}]
[null,null,"JANコード",{"$nulls":9},{"$f":"DB275","v":""},{"$nulls":15},"可能対応",{"$nulls":9},{"$f":"_xlfn.CONCAT(EO275:FJ275)","v":""},{"$nulls":60},"JANコード⑬",null,null,{"$f":"IFERROR(INDEX($GJ$6:$BLM$6,1,MATCH(CV275,$GJ$4:$BLM$4,0),1),\"\")","v":""},null,null,"",null,null,"業務用対応可能⑬","ギフト対応可能⑬",{"$nulls":13},{"$f":"IFERROR(INDEX($GJ$6:$BLM$6,1,MATCH(DE275,$GJ$4:$BLM$4,0),1),\"\")","v":""},{"$f":"IFERROR(INDEX($GJ$6:$BLM$6,1,MATCH(DF275,$GJ$4:$BLM$4,0),1),\"\")","v":""},{"$nulls":20},{"$f":"IF(DT275=1,IF(EQ275=\"\",FL275,FL275&\"・\"),\"\")","v":""},{"$f":"IF(DU275=1,FM275&\"\",\"\")","v":""},{"$nulls":17},{"$f":"IF(AND(EP275=\"\",EQ275=\"\"),\"\",\"対応可能\")","v":""},null,null,"業務用","ギフト"]
[null,null,"提供可能時期",{"$nulls":9},{"$f":"DB276","v":""},{"$nulls":15},"発注リードタイム",{"$nulls":9},{"$f":"DC276","v":""},{"$nulls":60},"提供可能時期⑬","発注リードタイム⑬",null,{"$f":"IFERROR(INDEX($GJ$6:$BLM$6,1,MATCH(CV276,$GJ$4:$BLM$4,0),1),\"\")","v":""},{"$f":"IFERROR(INDEX($GJ$6:$BLM$6,1,MATCH(CW276,$GJ$4:$BLM$4,0),1),\"\")","v":""},null,"",""]
[null,null,"内容量",{"$nulls":9},{"$f":"DB277","v":""},{"$nulls":15},"1ケースあたり入数",{"$nulls":9},{"$f":"DC277","v":""},{"$nulls":60},"内容量⑬","1ケースあたり⑬",null,{"$f":"IFERROR(INDEX($GJ$6:$BLM$6,1,MATCH(CV277,$GJ$4:$BLM$4,0),1),\"\")","v":""},{"$f":"IFERROR(INDEX($GJ$6:$BLM$6,1,MATCH(CW277,$GJ$4:$BLM$4,0),1),\"\")","v":""},null,"",""]
[null,null,"最 大　ケ ー ス\n納品単位",{"$nulls":9},{"$f":"DB278","v":""},{"$nulls":15},"最 小　ケ ー ス\n納品単位",{"$nulls":9},{"$f":"DC278","v":""},{"$nulls":60},"最大ケース⑬","最小ケース⑬",null,{"$f":"IFERROR(INDEX($GJ$6:$BLM$6,1,MATCH(CV278,$GJ$4:$BLM$4,0),1),\"\")","v":""},{"$f":"IFERROR(INDEX($GJ$6:$BLM$6,1,MATCH(CW278,$GJ$4:$BLM$4,0),1),\"\")","v":""},null,"",""]
[null,null,"ケ ー ス　サ イ ズ\n(縦×横×高さ：cm)",{"$nulls":9},{"$f":"_xlfn.CONCAT(EP279:ER279)","v":""},{"$nulls":15},"ケ ー ス　重 量\n(kg)",{"$nulls":9},{"$f":"ES279","v":""},{"$nulls":60},"ケースサイズ","ケース重量",null,"縦⑬","横⑬","高さ⑬","重量⑬",{"$nulls":17},{"$f":"IFERROR(INDEX($GJ$6:$BLM$6,1,MATCH(CY279,$GJ$4:$BLM$4,0),1),\"\")","v":""},{"$f":"IFERROR(INDEX($GJ$6:$BLM$6,1,MATCH(CZ279,$GJ$4:$BLM$4,0),1),\"\")","v":""},{"$f":"IFERROR(INDEX($GJ$6:$BLM$6,1,MATCH(DA279,$GJ$4:$BLM$4,0),1),\"\")","v":""},{"$f":"IFERROR(INDEX($GJ$6:$BLM$6,1,MATCH(DB279,$GJ$4:$BLM$4,0),1),\"\")","v":""},{"$nulls":18},{"$f":"IF(OR(DT279=0,DT279=\"\"),\"\",DT279&\"×\")","v":""},{"$f":"IF(OR(DU279=0,DU279=\"\"),\"\",DU279&\"×\")","v":""},{"$f":"IF(OR(DV279=0,DV279=\"\"),\"\",DV279&\"\")","v":""},{"$f":"IF(OR(DW279=0,DW279=\"\"),\"\",DW279&\"\")","v":""}]
[null,null,"賞味期限",{"$nulls":9},{"$f":"DB280","v":""},{"$nulls":15},"消費期限",{"$nulls":9},{"$f":"DC280","v":""},{"$nulls":60},"賞味期限⑬","消費期限⑬",null,{"$f":"IFERROR(INDEX($GJ$6:$BLM$6,1,MATCH(CV280,$GJ$4:$BLM$4,0),1),\"\")","v":""},{"$f":"IFERROR(INDEX($GJ$6:$BLM$6,1,MATCH(CW280,$GJ$4:$BLM$4,0),1),\"\")","v":""},null,{"$f":"IF(CY280=0,\"\",CY280)","v":""},""]
[null,null,"希　望　小　売\n(税抜：円)",{"$nulls":9},{"$f":"DB281","v":""},{"$nulls":15},"税率",{"$nulls":9},{"$f":"_xlfn.CONCAT(EO281:FJ281)","v":""},{"$nulls":60},"希望小売⑬",null,null,{"$f":"IFERROR(INDEX($GJ$6:$BLM$6,1,MATCH(CV281,$GJ$4:$BLM$4,0),1),\"\")","v":""},null,null,"",null,null,"8%⑬","10%⑬",{"$nulls":13},{"$f":"IFERROR(INDEX($GJ$6:$BLM$6,1,MATCH(DE281,$GJ$4:$BLM$4,0),1),\"\")","v":""},"",{"$nulls":20},{"$f":"IF(DT281=1,FL281&\"　\",\"\")","v":""},"",{"$nulls":20},"8%","10%"]
[null,null,"仕　切　単　価\n(税抜：円)",{"$nulls":9},{"$f":"DB282","v":""},{"$nulls":15},{"$f":"_xlfn.CONCAT(EO282:FJ282)","v":""},{"$nulls":70},"仕切単価⑬",null,null,{"$f":"IFERROR(INDEX($GJ$6:$BLM$6,1,MATCH(CV282,$GJ$4:$BLM$4,0),1),\"\")","v":""},null,null,"",null,null,"工場出し⑬","関東向け⑬","関西向け⑬",{"$nulls":12},"","",{"$f":"IFERROR(INDEX($GJ$6:$BLM$6,1,MATCH(DG282,$GJ$4:$BLM$4,0),1),\"\")","v":""},{"$nulls":19},"","","",{"$nulls":19},"工場出し","関東向け","関西向け"]
[null,null,"主 原 料 産 地\n(漁獲場所等)",{"$nulls":9},{"$f":"DB283","v":""},{"$nulls":15},"保存温度帯",{"$nulls":9},{"$f":"_xlfn.CONCAT(EO283:FJ283)","v":""},{"$nulls":60},"主原料産地⑬",null,null,{"$f":"IFERROR(INDEX($GJ$6:$BLM$6,1,MATCH(CV283,$GJ$4:$BLM$4,0),1),\"\")","v":""},{"$f":"IFERROR(INDEX($GJ$6:$BLM$6,1,MATCH(CW283,$GJ$4:$BLM$4,0),1),\"\")","v":""},null,{"$f":"IF(CY283=0,\"\",CY283)","v":""},{"$f":"IF(CZ283=0,\"\",CZ283)","v":""},null,"常温⑬","冷蔵⑬","冷凍⑬",{"$nulls":12},"","",{"$f":"IFERROR(INDEX($GJ$6:$BLM$6,1,MATCH(DG283,$GJ$4:$BLM$4,0),1),\"\")","v":""},{"$nulls":19},"","","",{"$nulls":19},"常温","冷蔵","冷凍"]
[null,null,"売り先",{"$nulls":9},{"$f":"_xlfn.CONCAT(EO284:FJ284)","v":""},{"$nulls":89},"外食⑬","中食⑬","商社・卸売⑬","メーカー⑬","スーパーマーケット⑬","百貨店⑬","その他小売⑬","ホテル・宴会・レジャー⑬","その他・ターゲット⑬","その他・ターゲット・⑬",{"$nulls":11},{"$f":"IFERROR(INDEX($GJ$6:$BLM$6,1,MATCH(CY284,$GJ$4:$BLM$4,0),1),\"\")","v":""},"","","","","","","","","",{"$nulls":12},"","","","","","","","",{"$f":"IF(EB284=1,\"その他\",\"\")","v":""},{"$f":"IF(OR(EC284=0,EC284=\"\"),\"\",\"(\"&EC284&\")\")","v":""},{"$nulls":12},"外食","中食","商社・卸売","メーカー","スーパーマーケット","百貨店","その他小売","ホテル・宴会・レジャー"]
[null,null,"ターゲット",{"$nulls":9},{"$f":"DB285","v":""},{"$nulls":86},"ターゲット⑬",null,null,{"$f":"IFERROR(INDEX($GJ$6:$BLM$6,1,MATCH(CV285,$GJ$4:$BLM$4,0),1),\"\")","v":""},null,null,{"$f":"IF(CY285=0,\"\",CY285)","v":""}]
[null,null,"商品特徴",{"$nulls":3},{"$f":"DB286","v":""},{"$nulls":92},"商品特徴⑬",null,null,{"$f":"IFERROR(INDEX($GJ$6:$BLM$6,1,MATCH(CV286,$GJ$4:$BLM$4,0),1),\"\")","v":""},null,null,""]
[null,null,"アレルギー表示(特定原材料)",{"$nulls":51},"利用シーン",{"$nulls":44},"利用シーン⑬",null,null,{"$f":"IFERROR(INDEX($GJ$6:$BLM$6,1,MATCH(CV287,$GJ$4:$BLM$4,0),1),\"\")","v":""},null,null,""]
[null,null,"表示\n義務有",{"$nulls":3},{"$f":"_xlfn.CONCAT(EO288:FJ288)","v":""},{"$nulls":47},{"$f":"DB287","v":""},{"$nulls":47},"えび⑬","かに⑬","小麦⑬","そば⑬","卵⑬","乳⑬","落花生⑬",{"$nulls":14},{"$f":"IFERROR(INDEX($GJ$6:$BLM$6,1,MATCH(CY288,$GJ$4:$BLM$4,0),1),\"\")","v":""},"","","","","","",{"$nulls":15},{"$f":"IF(DT288=1,FL288&\"　\",\"\")","v":""},"","","","","","",{"$nulls":15},"えび","かに","小麦","そば","卵","乳","落花生"]
[null,null,"任意\n表示",{"$nulls":3},{"$f":"_xlfn.CONCAT(EO289:FJ289)","v":""},{"$nulls":95},"あわび⑬","いか⑬","いくら⑬","オレンジ⑬","カシューナッツ⑬","キウイフルーツ⑬","牛肉⑬","くるみ⑬","ごま⑬","さけ⑬","さば⑬","大豆⑬","鶏肉⑬","バナナ⑬","豚肉⑬","まつたけ⑬","もも⑬","やまいも⑬","りんご⑬","ゼラチン⑬",null,"","","","","","","",{"$f":"IFERROR(INDEX($GJ$6:$BLM$6,1,MATCH(DF289,$GJ$4:$BLM$4,0),1),\"\")","v":""},"","","","","","","","","","","","",null,null,{"$f":"IF(DT289=1,FL289&\" \",\"\")","v":""},{"$f":"IF(DU289=1,FM289&\" \",\"\")","v":""},"","","","","","","","","","","","","","","","","","",null,null,"あわび","いか","いくら","オレンジ","カシューナッツ","キウイフルーツ","牛肉","くるみ","ごま","さけ","さば","大豆","鶏肉","バナナ","豚肉","まつたけ","もも","やまいも","りんご","ゼラチン"]
[null,null,"備考",{"$nulls":3},{"$f":"ASC(DB290)","v":""},{"$nulls":92},"備考⑬",null,null,{"$f":"IFERROR(INDEX($GJ$6:$BLM$6,1,MATCH(CV290,$GJ$4:$BLM$4,0),1),\"\")","v":""},null,null,{"$f":"IF(CY290=0,\"\",CY290)","v":""}]
[]
[null,null,"■商品情報"]
[null,null,"商品名",{"$nulls":9},{"$f":"DB293","v":""},{"$nulls":41},"商品写真2枚（表面1枚、裏面1枚）\n貼付してください\n\n＊パッケージが鮮明なもの\n\n＊裏面分は、原材料や栄養成分表示が\n　判別出来る画像とすること",{"$nulls":44},"商品名⑭",null,null,{"$f":"IFERROR(INDEX($GJ$6:$BLM$6,1,MATCH(CV293,$GJ$4:$BLM$4,0),1),\"\")","v":""},null,null,{"$f":"IF(CY293=0,\"\",CY293)","v":""}]
[null,null,"JANコード",{"$nulls":9},{"$f":"DB294","v":""},{"$nulls":15},"可能対応",{"$nulls":9},{"$f":"_xlfn.CONCAT(EO294:FJ294)","v":""},{"$nulls":60},"JANコード⑭",null,null,{"$f":"IFERROR(INDEX($GJ$6:$BLM$6,1,MATCH(CV294,$GJ$4:$BLM$4,0),1),\"\")","v":""},null,null,"",null,null,"業務用対応可能⑭","ギフト対応可能⑭",{"$nulls":13},{"$f":"IFERROR(INDEX($GJ$6:$BLM$6,1,MATCH(DE294,$GJ$4:$BLM$4,0),1),\"\")","v":""},{"$f":"IFERROR(INDEX($GJ$6:$BLM$6,1,MATCH(DF294,$GJ$4:$BLM$4,0),1),\"\")","v":""},{"$nulls":20},{"$f":"IF(DT294=1,IF(EQ294=\"\",FL294,FL294&\"・\"),\"\")","v":""},{"$f":"IF(DU294=1,FM294&\"\",\"\")","v":""},{"$nulls":17},{"$f":"IF(AND(EP294=\"\",EQ294=\"\"),\"\",\"対応可能\")","v":""},null,null,"業務用","ギフト"]
[null,null,"提供可能時期",{"$nulls":9},{"$f":"DB295","v":""},{"$nulls":15},"発注リードタイム",{"$nulls":9},{"$f":"DC295","v":""},{"$nulls":60},"提供可能時期⑭","発注リードタイム⑭",null,{"$f":"IFERROR(INDEX($GJ$6:$BLM$6,1,MATCH(CV295,$GJ$4:$BLM$4,0),1),\"\")","v":""},{"$f":"IFERROR(INDEX($GJ$6:$BLM$6,1,MATCH(CW295,$GJ$4:$BLM$4,0),1),\"\")","v":""},null,"",""]
[null,null,"内容量",{"$nulls":9},{"$f":"DB296","v":""},{"$nulls":15},"1ケースあたり入数",{"$nulls":9},{"$f":"DC296","v":""},{"$nulls":60},"内容量⑭","1ケースあたり⑭",null,{"$f":"IFERROR(INDEX($GJ$6:$BLM$6,1,MATCH(CV296,$GJ$4:$BLM$4,0),1),\"\")","v":""},{"$f":"IFERROR(INDEX($GJ$6:$BLM$6,1,MATCH(CW296,$GJ$4:$BLM$4,0),1),\"\")","v":""},null,"",""]
[null,null,"最 大　ケ ー ス\n納品単位",{"$nulls":9},{"$f":"DB297","v":""},{"$nulls":15},"最 小　ケ ー ス\n納品単位",{"$nulls":9},{"$f":"DC297","v":""},{"$nulls":60},"最大ケース⑭","最小ケース⑭",null,{"$f":"IFERROR(INDEX($GJ$6:$BLM$6,1,MATCH(CV297,$GJ$4:$BLM$4,0),1),\"\")","v":""},{"$f":"IFERROR(INDEX($GJ$6:$BLM$6,1,MATCH(CW297,$GJ$4:$BLM$4,0),1),\"\")","v":""},null,"",""]
[null,null,"ケ ー ス　サ イ ズ\n(縦×横×高さ：cm)",{"$nulls":9},{"$f":"_xlfn.CONCAT(EP298:ER298)","v":""},{"$nulls":15},"ケ ー ス　重 量\n(kg)",{"$nulls":9},{"$f":"ES298","v":""},{"$nulls":60},"ケースサイズ","ケース重量",null,"縦⑭","横⑭","高さ⑭","重量⑭",{"$nulls":17},{"$f":"IFERROR(INDEX($GJ$6:$BLM$6,1,MATCH(CY298,$GJ$4:$BLM$4,0),1),\"\")","v":""},{"$f":"IFERROR(INDEX($GJ$6:$BLM$6,1,MATCH(CZ298,$GJ$4:$BLM$4,0),1),\"\")","v":""},{"$f":"IFERROR(INDEX($GJ$6:$BLM$6,1,MATCH(DA298,$GJ$4:$BLM$4,0),1),\"\")","v":""},{"$f":"IFERROR(INDEX($GJ$6:$BLM$6,1,MATCH(DB298,$GJ$4:$BLM$4,0),1),\"\")","v":""},{"$nulls":18},{"$f":"IF(OR(DT298=0,DT298=\"\"),\"\",DT298&\"×\")","v":""},{"$f":"IF(OR(DU298=0,DU298=\"\"),\"\",DU298&\"×\")","v":""},{"$f":"IF(OR(DV298=0,DV298=\"\"),\"\",DV298&\"\")","v":""},{"$f":"IF(OR(DW298=0,DW298=\"\"),\"\",DW298&\"\")","v":""}]
[null,null,"賞味期限",{"$nulls":9},{"$f":"DB299","v":""},{"$nulls":15},"消費期限",{"$nulls":9},{"$f":"DC299","v":""},{"$nulls":60},"賞味期限⑭","消費期限⑭",null,{"$f":"IFERROR(INDEX($GJ$6:$BLM$6,1,MATCH(CV299,$GJ$4:$BLM$4,0),1),\"\")","v":""},{"$f":"IFERROR(INDEX($GJ$6:$BLM$6,1,MATCH(CW299,$GJ$4:$BLM$4,0),1),\"\")","v":""},null,{"$f":"IF(CY299=0,\"\",CY299)","v":""},""]
[null,null,"希　望　小　売\n(税抜：円)",{"$nulls":9},{"$f":"DB300","v":""},{"$nulls":15},"税率",{"$nulls":9},{"$f":"_xlfn.CONCAT(EO300:FJ300)","v":""},{"$nulls":60},"希望小売⑭",null,null,{"$f":"IFERROR(INDEX($GJ$6:$BLM$6,1,MATCH(CV300,$GJ$4:$BLM$4,0),1),\"\")","v":""},null,null,"",null,null,"8%⑭","10%⑭",{"$nulls":13},{"$f":"IFERROR(INDEX($GJ$6:$BLM$6,1,MATCH(DE300,$GJ$4:$BLM$4,0),1),\"\")","v":""},"",{"$nulls":20},{"$f":"IF(DT300=1,FL300&\"　\",\"\")","v":""},"",{"$nulls":20},"8%","10%"]
[null,null,"仕　切　単　価\n(税抜：円)",{"$nulls":9},{"$f":"DB301","v":""},{"$nulls":15},{"$f":"_xlfn.CONCAT(EO301:FJ301)","v":""},{"$nulls":70},"仕切単価⑭",null,null,{"$f":"IFERROR(INDEX($GJ$6:$BLM$6,1,MATCH(CV301,$GJ$4:$BLM$4,0),1),\"\")","v":""},null,null,"",null,null,"工場出し⑭","関東向け⑭","関西向け⑭",{"$nulls":12},"","",{"$f":"IFERROR(INDEX($GJ$6:$BLM$6,1,MATCH(DG301,$GJ$4:$BLM$4,0),1),\"\")","v":""},{"$nulls":19},"","","",{"$nulls":19},"工場出し","関東向け","関西向け"]
[null,null,"主 原 料 産 地\n(漁獲場所等)",{"$nulls":9},{"$f":"DB302","v":""},{"$nulls":15},"保存温度帯",{"$nulls":9},{"$f":"_xlfn.CONCAT(EO302:FJ302)","v":""},{"$nulls":60},"主原料産地⑭",null,null,{"$f":"IFERROR(INDEX($GJ$6:$BLM$6,1,MATCH(CV302,$GJ$4:$BLM$4,0),1),\"\")","v":""},{"$f":"IFERROR(INDEX($GJ$6:$BLM$6,1,MATCH(CW302,$GJ$4:$BLM$4,0),1),\"\")","v":""},null,{"$f":"IF(CY302=0,\"\",CY302)","v":""},{"$f":"IF(CZ302=0,\"\",CZ302)","v":""},null,"常温⑭","冷蔵⑭","冷凍⑭",{"$nulls":12},"","",{"$f":"IFERROR(INDEX($GJ$6:$BLM$6,1,MATCH(DG302,$GJ$4:$BLM$4,0),1),\"\")","v":""},{"$nulls":19},"","","",{"$nulls":19},"常温","冷蔵","冷凍"]
[null,null,"売り先",{"$nulls":9},{"$f":"_xlfn.CONCAT(EO303:FJ303)","v":""},{"$nulls":89},"外食⑭","中食⑭","商社・卸売⑭","メーカー⑭","スーパーマーケット⑭","百貨店⑭","その他小売⑭","ホテル・宴会・レジャー⑭","その他・ターゲット⑭","その他・ターゲット・⑭",{"$nulls":11},{"$f":"IFERROR(INDEX($GJ$6:$BLM$6,1,MATCH(CY303,$GJ$4:$BLM$4,0),1),\"\")","v":""},"","","","","","","","","",{"$nulls":12},"","","","","","","","",{"$f":"IF(EB303=1,\"その他\",\"\")","v":""},{"$f":"IF(OR(EC303=0,EC303=\"\"),\"\",\"(\"&EC303&\")\")","v":""},{"$nulls":12},"外食","中食","商社・卸売","メーカー","スーパーマーケット","百貨店","その他小売","ホテル・宴会・レジャー"]
[null,null,"ターゲット",{"$nulls":9},{"$f":"DB304","v":""},{"$nulls":86},"ターゲット⑭",null,null,{"$f":"IFERROR(INDEX($GJ$6:$BLM$6,1,MATCH(CV304,$GJ$4:$BLM$4,0),1),\"\")","v":""},null,null,{"$f":"IF(CY304=0,\"\",CY304)","v":""}]
[null,null,"商品特徴",{"$nulls":3},{"$f":"DB305","v":""},{"$nulls":92},"商品特徴⑭",null,null,{"$f":"IFERROR(INDEX($GJ$6:$BLM$6,1,MATCH(CV305,$GJ$4:$BLM$4,0),1),\"\")","v":""},null,null,""]
[null,null,"アレルギー表示(特定原材料)",{"$nulls":51},"利用シーン",{"$nulls":44},"利用シーン⑭",null,null,{"$f":"IFERROR(INDEX($GJ$6:$BLM$6,1,MATCH(CV306,$GJ$4:$BLM$4,0),1),\"\")","v":""},null,null,""]
[null,null,"表示\n義務有",{"$nulls":3},{"$f":"_xlfn.CONCAT(EO307:FJ307)","v":""},{"$nulls":47},{"$f":"DB306","v":""},{"$nulls":47},"えび⑭","かに⑭","小麦⑭","そば⑭","卵⑭","乳⑭","落花生⑭",{"$nulls":14},{"$f":"IFERROR(INDEX($GJ$6:$BLM$6,1,MATCH(CY307,$GJ$4:$BLM$4,0),1),\"\")","v":""},"","","","","","",{"$nulls":15},{"$f":"IF(DT307=1,FL307&\"　\",\"\")","v":""},"","","","","","",{"$nulls":15},"えび","かに","小麦","そば","卵","乳","落花生"]
[null,null,"任意\n表示",{"$nulls":3},{"$f":"_xlfn.CONCAT(EO308:FJ308)","v":""},{"$nulls":95},"あわび⑭","いか⑭","いくら⑭","オレンジ⑭","カシューナッツ⑭","キウイフルーツ⑭","牛肉⑭","くるみ⑭","ごま⑭","さけ⑭","さば⑭","大豆⑭","鶏肉⑭","バナナ⑭","豚肉⑭","まつたけ⑭","もも⑭","やまいも⑭","りんご⑭","ゼラチン⑭",null,"","","","","","","",{"$f":"IFERROR(INDEX($GJ$6:$BLM$6,1,MATCH(DF308,$GJ$4:$BLM$4,0),1),\"\")","v":""},"","","","","","","","","","","","",null,null,{"$f":"IF(DT308=1,FL308&\" \",\"\")","v":""},{"$f":"IF(DU308=1,FM308&\" \",\"\")","v":""},"","","","","","","","","","","","","","","","","","",null,null,"あわび","いか","いくら","オレンジ","カシューナッツ","キウイフルーツ","牛肉","くるみ","ごま","さけ","さば","大豆","鶏肉","バナナ","豚肉","まつたけ","もも","やまいも","りんご","ゼラチン"]
[null,null,"備考",{"$nulls":3},{"$f":"ASC(DB309)","v":""},{"$nulls":92},"備考⑭",null,null,{"$f":"IFERROR(INDEX($GJ$6:$BLM$6,1,MATCH(CV309,$GJ$4:$BLM$4,0),1),\"\")","v":""},null,null,{"$f":"IF(CY309=0,\"\",CY309)","v":""}]
[]
[null,null,"■商品情報"]
[null,null,"商品名",{"$nulls":9},{"$f":"DB312","v":""},{"$nulls":41},"商品写真2枚（表面1枚、裏面1枚）\n貼付してください\n\n＊パッケージが鮮明なもの\n\n＊裏面分は、原材料や栄養成分表示が\n　判別出来る画像とすること",{"$nulls":44},"商品名⑮",null,null,{"$f":"IFERROR(INDEX($GJ$6:$BLM$6,1,MATCH(CV312,$GJ$4:$BLM$4,0),1),\"\")","v":""},null,null,{"$f":"IF(CY312=0,\"\",CY312)","v":""}]
[null,null,"JANコード",{"$nulls":9},{"$f":"DB313","v":""},{"$nulls":15},"可能対応",{"$nulls":9},{"$f":"_xlfn.CONCAT(EO313:FJ313)","v":""},{"$nulls":60},"JANコード⑮",null,null,{"$f":"IFERROR(INDEX($GJ$6:$BLM$6,1,MATCH(CV313,$GJ$4:$BLM$4,0),1),\"\")","v":""},null,null,"",null,null,"業務用対応可能⑮","ギフト対応可能⑮",{"$nulls":13},{"$f":"IFERROR(INDEX($GJ$6:$BLM$6,1,MATCH(DE313,$GJ$4:$BLM$4,0),1),\"\")","v":""},{"$f":"IFERROR(INDEX($GJ$6:$BLM$6,1,MATCH(DF313,$GJ$4:$BLM$4,0),1),\"\")","v":""},{"$nulls":20},{"$f":"IF(DT313=1,IF(EQ313=\"\",FL313,FL313&\"・\"),\"\")","v":""},{"$f":"IF(DU313=1,FM313&\"\",\"\")","v":""},{"$nulls":17},{"$f":"IF(AND(EP313=\"\",EQ313=\"\"),\"\",\"対応可能\")","v":""},null,null,"業務用","ギフト"]
[null,null,"提供可能時期",{"$nulls":9},{"$f":"DB314","v":""},{"$nulls":15},"発注リードタイム",{"$nulls":9},{"$f":"DC314","v":""},{"$nulls":60},"提供可能時期⑮","発注リードタイム⑮",null,{"$f":"IFERROR(INDEX($GJ$6:$BLM$6,1,MATCH(CV314,$GJ$4:$BLM$4,0),1),\"\")","v":""},{"$f":"IFERROR(INDEX($GJ$6:$BLM$6,1,MATCH(CW314,$GJ$4:$BLM$4,0),1),\"\")","v":""},null,"",""]
[null,null,"内容量",{"$nulls":9},{"$f":"DB315","v":""},{"$nulls":15},"1ケースあたり入数",{"$nulls":9},{"$f":"DC315","v":""},{"$nulls":60},"内容量⑮","1ケースあたり⑮",null,{"$f":"IFERROR(INDEX($GJ$6:$BLM$6,1,MATCH(CV315,$GJ$4:$BLM$4,0),1),\"\")","v":""},{"$f":"IFERROR(INDEX($GJ$6:$BLM$6,1,MATCH(CW315,$GJ$4:$BLM$4,0),1),\"\")","v":""},null,"",""]
[null,null,"最 大　ケ ー ス\n納品単位",{"$nulls":9},{"$f":"DB316","v":""},{"$nulls":15},"最 小　ケ ー ス\n納品単位",{"$nulls":9},{"$f":"DC316","v":""},{"$nulls":60},"最大ケース⑮","最小ケース⑮",null,{"$f":"IFERROR(INDEX($GJ$6:$BLM$6,1,MATCH(CV316,$GJ$4:$BLM$4,0),1),\"\")","v":""},{"$f":"IFERROR(INDEX($GJ$6:$BLM$6,1,MATCH(CW316,$GJ$4:$BLM$4,0),1),\"\")","v":""},null,"",""]
[null,null,"ケ ー ス　サ イ ズ\n(縦×横×高さ：cm)",{"$nulls":9},{"$f":"_xlfn.CONCAT(EP317:ER317)","v":""},{"$nulls":15},"ケ ー ス　重 量\n(kg)",{"$nulls":9},{"$f":"ES317","v":""},{"$nulls":60},"ケースサイズ","ケース重量",null,"縦⑮","横⑮","高さ⑮","重量⑮",{"$nulls":17},{"$f":"IFERROR(INDEX($GJ$6:$BLM$6,1,MATCH(CY317,$GJ$4:$BLM$4,0),1),\"\")","v":""},{"$f":"IFERROR(INDEX($GJ$6:$BLM$6,1,MATCH(CZ317,$GJ$4:$BLM$4,0),1),\"\")","v":""},{"$f":"IFERROR(INDEX($GJ$6:$BLM$6,1,MATCH(DA317,$GJ$4:$BLM$4,0),1),\"\")","v":""},{"$f":"IFERROR(INDEX($GJ$6:$BLM$6,1,MATCH(DB317,$GJ$4:$BLM$4,0),1),\"\")","v":""},{"$nulls":18},{"$f":"IF(OR(DT317=0,DT317=\"\"),\"\",DT317&\"×\")","v":""},{"$f":"IF(OR(DU317=0,DU317=\"\"),\"\",DU317&\"×\")","v":""},{"$f":"IF(OR(DV317=0,DV317=\"\"),\"\",DV317&\"\")","v":""},{"$f":"IF(OR(DW317=0,DW317=\"\"),\"\",DW317&\"\")","v":""}]
[null,null,"賞味期限",{"$nulls":9},{"$f":"DB318","v":""},{"$nulls":15},"消費期限",{"$nulls":9},{"$f":"DC318","v":""},{"$nulls":60},"賞味期限⑮","消費期限⑮",null,{"$f":"IFERROR(INDEX($GJ$6:$BLM$6,1,MATCH(CV318,$GJ$4:$BLM$4,0),1),\"\")","v":""},{"$f":"IFERROR(INDEX($GJ$6:$BLM$6,1,MATCH(CW318,$GJ$4:$BLM$4,0),1),\"\")","v":""},null,{"$f":"IF(CY318=0,\"\",CY318)","v":""},""]
[null,null,"希　望　小　売\n(税抜：円)",{"$nulls":9},{"$f":"DB319","v":""},{"$nulls":15},"税率",{"$nulls":9},{"$f":"_xlfn.CONCAT(EO319:FJ319)","v":""},{"$nulls":60},"希望小売⑮",null,null,{"$f":"IFERROR(INDEX($GJ$6:$BLM$6,1,MATCH(CV319,$GJ$4:$BLM$4,0),1),\"\")","v":""},null,null,"",null,null,"8%⑮","10%⑮",{"$nulls":13},{"$f":"IFERROR(INDEX($GJ$6:$BLM$6,1,MATCH(DE319,$GJ$4:$BLM$4,0),1),\"\")","v":""},"",{"$nulls":20},{"$f":"IF(DT319=1,FL319&\"　\",\"\")","v":""},"",{"$nulls":20},"8%","10%"]
[null,null,"仕　切　単　価\n(税抜：円)",{"$nulls":9},{"$f":"DB320","v":""},{"$nulls":15},{"$f":"_xlfn.CONCAT(EO320:FJ320)","v":""},{"$nulls":70},"仕切単価⑮",null,null,{"$f":"IFERROR(INDEX($GJ$6:$BLM$6,1,MATCH(CV320,$GJ$4:$BLM$4,0),1),\"\")","v":""},null,null,"",null,null,"工場出し⑮","関東向け⑮","関西向け⑮",{"$nulls":12},"","",{"$f":"IFERROR(INDEX($GJ$6:$BLM$6,1,MATCH(DG320,$GJ$4:$BLM$4,0),1),\"\")","v":""},{"$nulls":19},"","","",{"$nulls":19},"工場出し","関東向け","関西向け"]
[null,null,"主 原 料 産 地\n(漁獲場所等)",{"$nulls":9},{"$f":"DB321","v":""},{"$nulls":15},"保存温度帯",{"$nulls":9},{"$f":"_xlfn.CONCAT(EO321:FJ321)","v":""},{"$nulls":60},"主原料産地⑮",null,null,{"$f":"IFERROR(INDEX($GJ$6:$BLM$6,1,MATCH(CV321,$GJ$4:$BLM$4,0),1),\"\")","v":""},{"$f":"IFERROR(INDEX($GJ$6:$BLM$6,1,MATCH(CW321,$GJ$4:$BLM$4,0),1),\"\")","v":""},null,{"$f":"IF(CY321=0,\"\",CY321)","v":""},{"$f":"IF(CZ321=0,\"\",CZ321)","v":""},null,"常温⑮","冷蔵⑮","冷凍⑮",{"$nulls":12},"","",{"$f":"IFERROR(INDEX($GJ$6:$BLM$6,1,MATCH(DG321,$GJ$4:$BLM$4,0),1),\"\")","v":""},{"$nulls":19},"","","",{"$nulls":19},"常温","冷蔵","冷凍"]
[null,null,"売り先",{"$nulls":9},{"$f":"_xlfn.CONCAT(EO322:FJ322)","v":""},{"$nulls":89},"外食⑮","中食⑮","商社・卸売⑮","メーカー⑮","スーパーマーケット⑮","百貨店⑮","その他小売⑮","ホテル・宴会・レジャー⑮","その他・ターゲット⑮","その他・ターゲット・⑮",{"$nulls":11},{"$f":"IFERROR(INDEX($GJ$6:$BLM$6,1,MATCH(CY322,$GJ$4:$BLM$4,0),1),\"\")","v":""},"","","","","","","","","",{"$nulls":12},"","","","","","","","",{"$f":"IF(EB322=1,\"その他\",\"\")","v":""},{"$f":"IF(OR(EC322=0,EC322=\"\"),\"\",\"(\"&EC322&\")\")","v":""},{"$nulls":12},"外食","中食","商社・卸売","メーカー","スーパーマーケット","百貨店","その他小売","ホテル・宴会・レジャー"]
[null,null,"ターゲット",{"$nulls":9},{"$f":"DB323","v":""},{"$nulls":86},"ターゲット⑮",null,null,{"$f":"IFERROR(INDEX($GJ$6:$BLM$6,1,MATCH(CV323,$GJ$4:$BLM$4,0),1),\"\")","v":""},null,null,{"$f":"IF(CY323=0,\"\",CY323)","v":""}]
[null,null,"商品特徴",{"$nulls":3},{"$f":"DB324","v":""},{"$nulls":92},"商品特徴⑮",null,null,{"$f":"IFERROR(INDEX($GJ$6:$BLM$6,1,MATCH(CV324,$GJ$4:$BLM$4,0),1),\"\")","v":""},null,null,""]
[null,null,"アレルギー表示(特定原材料)",{"$nulls":51},"利用シーン",{"$nulls":44},"利用シーン⑮",null,null,{"$f":"IFERROR(INDEX($GJ$6:$BLM$6,1,MATCH(CV325,$GJ$4:$BLM$4,0),1),\"\")","v":""},null,null,""]
[null,null,"表示\n義務有",{"$nulls":3},{"$f":"_xlfn.CONCAT(EO326:FJ326)","v":""},{"$nulls":47},{"$f":"DB325","v":""},{"$nulls":47},"えび⑮","かに⑮","小麦⑮","そば⑮","卵⑮","乳⑮","落花生⑮",{"$nulls":14},{"$f":"IFERROR(INDEX($GJ$6:$BLM$6,1,MATCH(CY326,$GJ$4:$BLM$4,0),1),\"\")","v":""},"","","","","","",{"$nulls":15},{"$f":"IF(DT326=1,FL326&\"　\",\"\")","v":""},"","","","","","",{"$nulls":15},"えび","かに","小麦","そば","卵","乳","落花生"]
[null,null,"任意\n表示",{"$nulls":3},{"$f":"_xlfn.CONCAT(EO327:FJ327)","v":""},{"$nulls":95},"あわび⑮","いか⑮","いくら⑮","オレンジ⑮","カシューナッツ⑮","キウイフルーツ⑮","牛肉⑮","くるみ⑮","ごま⑮","さけ⑮","さば⑮","大豆⑮","鶏肉⑮","バナナ⑮","豚肉⑮","まつたけ⑮","もも⑮","やまいも⑮","りんご⑮","ゼラチン⑮",null,"","","","","","","",{"$f":"IFERROR(INDEX($GJ$6:$BLM$6,1,MATCH(DF327,$GJ$4:$BLM$4,0),1),\"\")","v":""},"","","","","","","","","","","","",null,null,{"$f":"IF(DT327=1,FL327&\" \",\"\")","v":""},{"$f":"IF(DU327=1,FM327&\" \",\"\")","v":""},"","","","","","","","","","","","","","","","","","",null,null,"あわび","いか","いくら","オレンジ","カシューナッツ","キウイフルーツ","牛肉","くるみ","ごま","さけ","さば","大豆","鶏肉","バナナ","豚肉","まつたけ","もも","やまいも","りんご","ゼラチン"]
[null,null,"備考",{"$nulls":3},{"$f":"ASC(DB328)","v":""},{"$nulls":92},"備考⑮",null,null,{"$f":"IFERROR(INDEX($GJ$6:$BLM$6,1,MATCH(CV328,$GJ$4:$BLM$4,0),1),\"\")","v":""},null,null,{"$f":"IF(CY328=0,\"\",CY328)","v":""}]
[]
[null,null,"■商品情報"]
[null,null,"商品名",{"$nulls":9},{"$f":"DB331","v":""},{"$nulls":41},"商品写真2枚（表面1枚、裏面1枚）\n貼付してください\n\n＊パッケージが鮮明なもの\n\n＊裏面分は、原材料や栄養成分表示が\n　判別出来る画像とすること",{"$nulls":44},"商品名⑯",null,null,{"$f":"IFERROR(INDEX($GJ$6:$BLM$6,1,MATCH(CV331,$GJ$4:$BLM$4,0),1),\"\")","v":""},null,null,{"$f":"IF(CY331=0,\"\",CY331)","v":""}]
[null,null,"JANコード",{"$nulls":9},{"$f":"DB332","v":""},{"$nulls":15},"可能対応",{"$nulls":9},{"$f":"_xlfn.CONCAT(EO332:FJ332)","v":""},{"$nulls":60},"JANコード⑯",null,null,{"$f":"IFERROR(INDEX($GJ$6:$BLM$6,1,MATCH(CV332,$GJ$4:$BLM$4,0),1),\"\")","v":""},null,null,"",null,null,"業務用対応可能⑯","ギフト対応可能⑯",{"$nulls":13},{"$f":"IFERROR(INDEX($GJ$6:$BLM$6,1,MATCH(DE332,$GJ$4:$BLM$4,0),1),\"\")","v":""},{"$f":"IFERROR(INDEX($GJ$6:$BLM$6,1,MATCH(DF332,$GJ$4:$BLM$4,0),1),\"\")","v":""},{"$nulls":20},{"$f":"IF(DT332=1,IF(EQ332=\"\",FL332,FL332&\"・\"),\"\")","v":""},{"$f":"IF(DU332=1,FM332&\"\",\"\")","v":""},{"$nulls":17},{"$f":"IF(AND(EP332=\"\",EQ332=\"\"),\"\",\"対応可能\")","v":""},null,null,"業務用","ギフト"]
[null,null,"提供可能時期",{"$nulls":9},{"$f":"DB333","v":""},{"$nulls":15},"発注リードタイム",{"$nulls":9},{"$f":"DC333","v":""},{"$nulls":60},"提供可能時期⑯","発注リードタイム⑯",null,{"$f":"IFERROR(INDEX($GJ$6:$BLM$6,1,MATCH(CV333,$GJ$4:$BLM$4,0),1),\"\")","v":""},{"$f":"IFERROR(INDEX($GJ$6:$BLM$6,1,MATCH(CW333,$GJ$4:$BLM$4,0),1),\"\")","v":""},null,"",""]
[null,null,"内容量",{"$nulls":9},{"$f":"DB334","v":""},{"$nulls":15},"1ケースあたり入数",{"$nulls":9},{"$f":"DC334","v":""},{"$nulls":60},"内容量⑯","1ケースあたり⑯",null,{"$f":"IFERROR(INDEX($GJ$6:$BLM$6,1,MATCH(CV334,$GJ$4:$BLM$4,0),1),\"\")","v":""},{"$f":"IFERROR(INDEX($GJ$6:$BLM$6,1,MATCH(CW334,$GJ$4:$BLM$4,0),1),\"\")","v":""},null,"",""]
[null,null,"最 大　ケ ー ス\n納品単位",{"$nulls":9},{"$f":"DB335","v":""},{"$nulls":15},"最 小　ケ ー ス\n納品単位",{"$nulls":9},{"$f":"DC335","v":""},{"$nulls":60},"最大ケース⑯","最小ケース⑯",null,{"$f":"IFERROR(INDEX($GJ$6:$BLM$6,1,MATCH(CV335,$GJ$4:$BLM$4,0),1),\"\")","v":""},{"$f":"IFERROR(INDEX($GJ$6:$BLM$6,1,MATCH(CW335,$GJ$4:$BLM$4,0),1),\"\")","v":""},null,"",""]
[null,null,"ケ ー ス　サ イ ズ\n(縦×横×高さ：cm)",{"$nulls":9},{"$f":"_xlfn.CONCAT(EP336:ER336)","v":""},{"$nulls":15},"ケ ー ス　重 量\n(kg)",{"$nulls":9},{"$f":"ES336","v":""},{"$nulls":60},"ケースサイズ","ケース重量",null,"縦⑯","横⑯","高さ⑯","重量⑯",{"$nulls":17},{"$f":"IFERROR(INDEX($GJ$6:$BLM$6,1,MATCH(CY336,$GJ$4:$BLM$4,0),1),\"\")","v":""},{"$f":"IFERROR(INDEX($GJ$6:$BLM$6,1,MATCH(CZ336,$GJ$4:$BLM$4,0),1),\"\")","v":""},{"$f":"IFERROR(INDEX($GJ$6:$BLM$6,1,MATCH(DA336,$GJ$4:$BLM$4,0),1),\"\")","v":""},{"$f":"IFERROR(INDEX($GJ$6:$BLM$6,1,MATCH(DB336,$GJ$4:$BLM$4,0),1),\"\")","v":""},{"$nulls":18},{"$f":"IF(OR(DT336=0,DT336=\"\"),\"\",DT336&\"×\")","v":""},{"$f":"IF(OR(DU336=0,DU336=\"\"),\"\",DU336&\"×\")","v":""},{"$f":"IF(OR(DV336=0,DV336=\"\"),\"\",DV336&\"\")","v":""},{"$f":"IF(OR(DW336=0,DW336=\"\"),\"\",DW336&\"\")","v":""}]
[null,null,"賞味期限",{"$nulls":9},{"$f":"DB337","v":""},{"$nulls":15},"消費期限",{"$nulls":9},{"$f":"DC337","v":""},{"$nulls":60},"賞味期限⑯","消費期限⑯",null,{"$f":"IFERROR(INDEX($GJ$6:$BLM$6,1,MATCH(CV337,$GJ$4:$BLM$4,0),1),\"\")","v":""},{"$f":"IFERROR(INDEX($GJ$6:$BLM$6,1,MATCH(CW337,$GJ$4:$BLM$4,0),1),\"\")","v":""},null,{"$f":"IF(CY337=0,\"\",CY337)","v":""},""]
[null,null,"希　望　小　売\n(税抜：円)",{"$nulls":9},{"$f":"DB338","v":""},{"$nulls":15},"税率",{"$nulls":9},{"$f":"_xlfn.CONCAT(EO338:FJ338)","v":""},{"$nulls":60},"希望小売⑯",null,null,{"$f":"IFERROR(INDEX($GJ$6:$BLM$6,1,MATCH(CV338,$GJ$4:$BLM$4,0),1),\"\")","v":""},null,null,"",null,null,"8%⑯","10%⑯",{"$nulls":13},{"$f":"IFERROR(INDEX($GJ$6:$BLM$6,1,MATCH(DE338,$GJ$4:$BLM$4,0),1),\"\")","v":""},"",{"$nulls":20},{"$f":"IF(DT338=1,FL338&\"　\",\"\")","v":""},"",{"$nulls":20},"8%","10%"]
[null,null,"仕　切　単　価\n(税抜：円)",{"$nulls":9},{"$f":"DB339","v":""},{"$nulls":15},{"$f":"_xlfn.CONCAT(EO339:FJ339)","v":""},{"$nulls":70},"仕切単価⑯",null,null,{"$f":"IFERROR(INDEX($GJ$6:$BLM$6,1,MATCH(CV339,$GJ$4:$BLM$4,0),1),\"\")","v":""},null,null,"",null,null,"工場出し⑯","関東向け⑯","関西向け⑯",{"$nulls":12},"","",{"$f":"IFERROR(INDEX($GJ$6:$BLM$6,1,MATCH(DG339,$GJ$4:$BLM$4,0),1),\"\")","v":""},{"$nulls":19},"","","",{"$nulls":19},"工場出し","関東向け","関西向け"]
[null,null,"主 原 料 産 地\n(漁獲場所等)",{"$nulls":9},{"$f":"DB340","v":""},{"$nulls":15},"保存温度帯",{"$nulls":9},{"$f":"_xlfn.CONCAT(EO340:FJ340)","v":""},{"$nulls":60},"主原料産地⑯",null,null,{"$f":"IFERROR(INDEX($GJ$6:$BLM$6,1,MATCH(CV340,$GJ$4:$BLM$4,0),1),\"\")","v":""},{"$f":"IFERROR(INDEX($GJ$6:$BLM$6,1,MATCH(CW340,$GJ$4:$BLM$4,0),1),\"\")","v":""},null,{"$f":"IF(CY340=0,\"\",CY340)","v":""},{"$f":"IF(CZ340=0,\"\",CZ340)","v":""},null,"常温⑯","冷蔵⑯","冷凍⑯",{"$nulls":12},"","",{"$f":"IFERROR(INDEX($GJ$6:$BLM$6,1,MATCH(DG340,$GJ$4:$BLM$4,0),1),\"\")","v":""},{"$nulls":19},"","","",{"$nulls":19},"常温","冷蔵","冷凍"]
[null,null,"売り先",{"$nulls":9},{"$f":"_xlfn.CONCAT(EO341:FJ341)","v":""},{"$nulls":89},"外食⑯","中食⑯","商社・卸売⑯","メーカー⑯","スーパーマーケット⑯","百貨店⑯","その他小売⑯","ホテル・宴会・レジャー⑯","その他・ターゲット⑯","その他・ターゲット・⑯",{"$nulls":11},{"$f":"IFERROR(INDEX($GJ$6:$BLM$6,1,MATCH(CY341,$GJ$4:$BLM$4,0),1),\"\")","v":""},"","","","","","","","","",{"$nulls":12},"","","","","","","","",{"$f":"IF(EB341=1,\"その他\",\"\")","v":""},{"$f":"IF(OR(EC341=0,EC341=\"\"),\"\",\"(\"&EC341&\")\")","v":""},{"$nulls":12},"外食","中食","商社・卸売","メーカー","スーパーマーケット","百貨店","その他小売","ホテル・宴会・レジャー"]
[null,null,"ターゲット",{"$nulls":9},{"$f":"DB342","v":""},{"$nulls":86},"ターゲット⑯",null,null,{"$f":"IFERROR(INDEX($GJ$6:$BLM$6,1,MATCH(CV342,$GJ$4:$BLM$4,0),1),\"\")","v":""},null,null,{"$f":"IF(CY342=0,\"\",CY342)","v":""}]
[null,null,"商品特徴",{"$nulls":3},{"$f":"DB343","v":""},{"$nulls":92},"商品特徴⑯",null,null,{"$f":"IFERROR(INDEX($GJ$6:$BLM$6,1,MATCH(CV343,$GJ$4:$BLM$4,0),1),\"\")","v":""},null,null,""]
[null,null,"アレルギー表示(特定原材料)",{"$nulls":51},"利用シーン",{"$nulls":44},"利用シーン⑯",null,null,{"$f":"IFERROR(INDEX($GJ$6:$BLM$6,1,MATCH(CV344,$GJ$4:$BLM$4,0),1),\"\")","v":""},null,null,""]
[null,null,"表示\n義務有",{"$nulls":3},{"$f":"_xlfn.CONCAT(EO345:FJ345)","v":""},{"$nulls":47},{"$f":"DB344","v":""},{"$nulls":47},"えび⑯","かに⑯","小麦⑯","そば⑯","卵⑯","乳⑯","落花生⑯",{"$nulls":14},{"$f":"IFERROR(INDEX($GJ$6:$BLM$6,1,MATCH(CY345,$GJ$4:$BLM$4,0),1),\"\")","v":""},"","","","","","",{"$nulls":15},{"$f":"IF(DT345=1,FL345&\"　\",\"\")","v":""},"","","","","","",{"$nulls":15},"えび","かに","小麦","そば","卵","乳","落花生"]
[null,null,"任意\n表示",{"$nulls":3},{"$f":"_xlfn.CONCAT(EO346:FJ346)","v":""},{"$nulls":95},"あわび⑯","いか⑯","いくら⑯","オレンジ⑯","カシューナッツ⑯","キウイフルーツ⑯","牛肉⑯","くるみ⑯","ごま⑯","さけ⑯","さば⑯","大豆⑯","鶏肉⑯","バナナ⑯","豚肉⑯","まつたけ⑯","もも⑯","やまいも⑯","りんご⑯","ゼラチン⑯",null,"","","","","","","",{"$f":"IFERROR(INDEX($GJ$6:$BLM$6,1,MATCH(DF346,$GJ$4:$BLM$4,0),1),\"\")","v":""},"","","","","","","","","","","","",null,null,{"$f":"IF(DT346=1,FL346&\" \",\"\")","v":""},{"$f":"IF(DU346=1,FM346&\" \",\"\")","v":""},"","","","","","","","","","","","","","","","","","",null,null,"あわび","いか","いくら","オレンジ","カシューナッツ","キウイフルーツ","牛肉","くるみ","ごま","さけ","さば","大豆","鶏肉","バナナ","豚肉","まつたけ","もも","やまいも","りんご","ゼラチン"]
[null,null,"備考",{"$nulls":3},{"$f":"ASC(DB347)","v":""},{"$nulls":92},"備考⑯",null,null,{"$f":"IFERROR(INDEX($GJ$6:$BLM$6,1,MATCH(CV347,$GJ$4:$BLM$4,0),1),\"\")","v":""},null,null,{"$f":"IF(CY347=0,\"\",CY347)","v":""}]
[]
[null,null,"■商品情報"]
[null,null,"商品名",{"$nulls":9},{"$f":"DB350","v":""},{"$nulls":41},"商品写真2枚（表面1枚、裏面1枚）\n貼付してください\n\n＊パッケージが鮮明なもの\n\n＊裏面分は、原材料や栄養成分表示が\n　判別出来る画像とすること",{"$nulls":44},"商品名⑰",null,null,{"$f":"IFERROR(INDEX($GJ$6:$BLM$6,1,MATCH(CV350,$GJ$4:$BLM$4,0),1),\"\")","v":""},null,null,{"$f":"IF(CY350=0,\"\",CY350)","v":""}]
[null,null,"JANコード",{"$nulls":9},{"$f":"DB351","v":""},{"$nulls":15},"可能対応",{"$nulls":9},{"$f":"_xlfn.CONCAT(EO351:FJ351)","v":""},{"$nulls":60},"JANコード⑰",null,null,{"$f":"IFERROR(INDEX($GJ$6:$BLM$6,1,MATCH(CV351,$GJ$4:$BLM$4,0),1),\"\")","v":""},null,null,"",null,null,"業務用対応可能⑰","ギフト対応可能⑰",{"$nulls":13},{"$f":"IFERROR(INDEX($GJ$6:$BLM$6,1,MATCH(DE351,$GJ$4:$BLM$4,0),1),\"\")","v":""},{"$f":"IFERROR(INDEX($GJ$6:$BLM$6,1,MATCH(DF351,$GJ$4:$BLM$4,0),1),\"\")","v":""},{"$nulls":20},{"$f":"IF(DT351=1,IF(EQ351=\"\",FL351,FL351&\"・\"),\"\")","v":""},{"$f":"IF(DU351=1,FM351&\"\",\"\")","v":""},{"$nulls":17},{"$f":"IF(AND(EP351=\"\",EQ351=\"\"),\"\",\"対応可能\")","v":""},null,null,"業務用","ギフト"]
[null,null,"提供可能時期",{"$nulls":9},{"$f":"DB352","v":""},{"$nulls":15},"発注リードタイム",{"$nulls":9},{"$f":"DC352","v":""},{"$nulls":60},"提供可能時期⑰","発注リードタイム⑰",null,{"$f":"IFERROR(INDEX($GJ$6:$BLM$6,1,MATCH(CV352,$GJ$4:$BLM$4,0),1),\"\")","v":""},{"$f":"IFERROR(INDEX($GJ$6:$BLM$6,1,MATCH(CW352,$GJ$4:$BLM$4,0),1),\"\")","v":""},null,"",""]
[null,null,"内容量",{"$nulls":9},{"$f":"DB353","v":""},{"$nulls":15},"1ケースあたり入数",{"$nulls":9},{"$f":"DC353","v":""},{"$nulls":60},"内容量⑰","1ケースあたり⑰",null,{"$f":"IFERROR(INDEX($GJ$6:$BLM$6,1,MATCH(CV353,$GJ$4:$BLM$4,0),1),\"\")","v":""},{"$f":"IFERROR(INDEX($GJ$6:$BLM$6,1,MATCH(CW353,$GJ$4:$BLM$4,0),1),\"\")","v":""},null,"",""]
[null,null,"最 大　ケ ー ス\n納品単位",{"$nulls":9},{"$f":"DB354","v":""},{"$nulls":15},"最 小　ケ ー ス\n納品単位",{"$nulls":9},{"$f":"DC354","v":""},{"$nulls":60},"最大ケース⑰","最小ケース⑰",null,{"$f":"IFERROR(INDEX($GJ$6:$BLM$6,1,MATCH(CV354,$GJ$4:$BLM$4,0),1),\"\")","v":""},{"$f":"IFERROR(INDEX($GJ$6:$BLM$6,1,MATCH(CW354,$GJ$4:$BLM$4,0),1),\"\")","v":""},null,"",""]
[null,null,"ケ ー ス　サ イ ズ\n(縦×横×高さ：cm)",{"$nulls":9},{"$f":"_xlfn.CONCAT(EP355:ER355)","v":""},{"$nulls":15},"ケ ー ス　重 量\n(kg)",{"$nulls":9},{"$f":"ES355","v":""},{"$nulls":60},"ケースサイズ","ケース重量",null,"縦⑰","横⑰","高さ⑰","重量⑰",{"$nulls":17},{"$f":"IFERROR(INDEX($GJ$6:$BLM$6,1,MATCH(CY355,$GJ$4:$BLM$4,0),1),\"\")","v":""},{"$f":"IFERROR(INDEX($GJ$6:$BLM$6,1,MATCH(CZ355,$GJ$4:$BLM$4,0),1),\"\")","v":""},{"$f":"IFERROR(INDEX($GJ$6:$BLM$6,1,MATCH(DA355,$GJ$4:$BLM$4,0),1),\"\")","v":""},{"$f":"IFERROR(INDEX($GJ$6:$BLM$6,1,MATCH(DB355,$GJ$4:$BLM$4,0),1),\"\")","v":""},{"$nulls":18},{"$f":"IF(OR(DT355=0,DT355=\"\"),\"\",DT355&\"×\")","v":""},{"$f":"IF(OR(DU355=0,DU355=\"\"),\"\",DU355&\"×\")","v":""},{"$f":"IF(OR(DV355=0,DV355=\"\"),\"\",DV355&\"\")","v":""},{"$f":"IF(OR(DW355=0,DW355=\"\"),\"\",DW355&\"\")","v":""}]
[null,null,"賞味期限",{"$nulls":9},{"$f":"DB356","v":""},{"$nulls":15},"消費期限",{"$nulls":9},{"$f":"DC356","v":""},{"$nulls":60},"賞味期限⑰","消費期限⑰",null,{"$f":"IFERROR(INDEX($GJ$6:$BLM$6,1,MATCH(CV356,$GJ$4:$BLM$4,0),1),\"\")","v":""},{"$f":"IFERROR(INDEX($GJ$6:$BLM$6,1,MATCH(CW356,$GJ$4:$BLM$4,0),1),\"\")","v":""},null,{"$f":"IF(CY356=0,\"\",CY356)","v":""},""]
[null,null,"希　望　小　売\n(税抜：円)",{"$nulls":9},{"$f":"DB357","v":""},{"$nulls":15},"税率",{"$nulls":9},{"$f":"_xlfn.CONCAT(EO357:FJ357)","v":""},{"$nulls":60},"希望小売⑰",null,null,{"$f":"IFERROR(INDEX($GJ$6:$BLM$6,1,MATCH(CV357,$GJ$4:$BLM$4,0),1),\"\")","v":""},null,null,"",null,null,"8%⑰","10%⑰",{"$nulls":13},{"$f":"IFERROR(INDEX($GJ$6:$BLM$6,1,MATCH(DE357,$GJ$4:$BLM$4,0),1),\"\")","v":""},"",{"$nulls":20},{"$f":"IF(DT357=1,FL357&\"　\",\"\")","v":""},"",{"$nulls":20},"8%","10%"]
[null,null,"仕　切　単　価\n(税抜：円)",{"$nulls":9},{"$f":"DB358","v":""},{"$nulls":15},{"$f":"_xlfn.CONCAT(EO358:FJ358)","v":""},{"$nulls":70},"仕切単価⑰",null,null,{"$f":"IFERROR(INDEX($GJ$6:$BLM$6,1,MATCH(CV358,$GJ$4:$BLM$4,0),1),\"\")","v":""},null,null,"",null,null,"工場出し⑰","関東向け⑰","関西向け⑰",{"$nulls":12},"","",{"$f":"IFERROR(INDEX($GJ$6:$BLM$6,1,MATCH(DG358,$GJ$4:$BLM$4,0),1),\"\")","v":""},{"$nulls":19},"","","",{"$nulls":19},"工場出し","関東向け","関西向け"]
[null,null,"主 原 料 産 地\n(漁獲場所等)",{"$nulls":9},{"$f":"DB359","v":""},{"$nulls":15},"保存温度帯",{"$nulls":9},{"$f":"_xlfn.CONCAT(EO359:FJ359)","v":""},{"$nulls":60},"主原料産地⑰",null,null,{"$f":"IFERROR(INDEX($GJ$6:$BLM$6,1,MATCH(CV359,$GJ$4:$BLM$4,0),1),\"\")","v":""},{"$f":"IFERROR(INDEX($GJ$6:$BLM$6,1,MATCH(CW359,$GJ$4:$BLM$4,0),1),\"\")","v":""},null,{"$f":"IF(CY359=0,\"\",CY359)","v":""},{"$f":"IF(CZ359=0,\"\",CZ359)","v":""},null,"常温⑰","冷蔵⑰","冷凍⑰",{"$nulls":12},"","",{"$f":"IFERROR(INDEX($GJ$6:$BLM$6,1,MATCH(DG359,$GJ$4:$BLM$4,0),1),\"\")","v":""},{"$nulls":19},"","","",{"$nulls":19},"常温","冷蔵","冷凍"]
[null,null,"売り先",{"$nulls":9},{"$f":"_xlfn.CONCAT(EO360:FJ360)","v":""},{"$nulls":89},"外食⑰","中食⑰","商社・卸売⑰","メーカー⑰","スーパーマーケット⑰","百貨店⑰","その他小売⑰","ホテル・宴会・レジャー⑰","その他・ターゲット⑰","その他・ターゲット・⑰",{"$nulls":11},{"$f":"IFERROR(INDEX($GJ$6:$BLM$6,1,MATCH(CY360,$GJ$4:$BLM$4,0),1),\"\")","v":""},"","","","","","","","","",{"$nulls":12},"","","","","","","","",{"$f":"IF(EB360=1,\"その他\",\"\")","v":""},{"$f":"IF(OR(EC360=0,EC360=\"\"),\"\",\"(\"&EC360&\")\")","v":""},{"$nulls":12},"外食","中食","商社・卸売","メーカー","スーパーマーケット","百貨店","その他小売","ホテル・宴会・レジャー"]
[null,null,"ターゲット",{"$nulls":9},{"$f":"DB361","v":""},{"$nulls":86},"ターゲット⑰",null,null,{"$f":"IFERROR(INDEX($GJ$6:$BLM$6,1,MATCH(CV361,$GJ$4:$BLM$4,0),1),\"\")","v":""},null,null,{"$f":"IF(CY361=0,\"\",CY361)","v":""}]
[null,null,"商品特徴",{"$nulls":3},{"$f":"DB362","v":""},{"$nulls":92},"商品特徴⑰",null,null,{"$f":"IFERROR(INDEX($GJ$6:$BLM$6,1,MATCH(CV362,$GJ$4:$BLM$4,0),1),\"\")","v":""},null,null,""]
[null,null,"アレルギー表示(特定原材料)",{"$nulls":51},"利用シーン",{"$nulls":44},"利用シーン⑰",null,null,{"$f":"IFERROR(INDEX($GJ$6:$BLM$6,1,MATCH(CV363,$GJ$4:$BLM$4,0),1),\"\")","v":""},null,null,""]
[null,null,"表示\n義務有",{"$nulls":3},{"$f":"_xlfn.CONCAT(EO364:FJ364)","v":""},{"$nulls":47},{"$f":"DB363","v":""},{"$nulls":47},"えび⑰","かに⑰","小麦⑰","そば⑰","卵⑰","乳⑰","落花生⑰",{"$nulls":14},{"$f":"IFERROR(INDEX($GJ$6:$BLM$6,1,MATCH(CY364,$GJ$4:$BLM$4,0),1),\"\")","v":""},"","","","","","",{"$nulls":15},{"$f":"IF(DT364=1,FL364&\"　\",\"\")","v":""},"","","","","","",{"$nulls":15},"えび","かに","小麦","そば","卵","乳","落花生"]
[null,null,"任意\n表示",{"$nulls":3},{"$f":"_xlfn.CONCAT(EO365:FJ365)","v":""},{"$nulls":95},"あわび⑰","いか⑰","いくら⑰","オレンジ⑰","カシューナッツ⑰","キウイフルーツ⑰","牛肉⑰","くるみ⑰","ごま⑰","さけ⑰","さば⑰","大豆⑰","鶏肉⑰","バナナ⑰","豚肉⑰","まつたけ⑰","もも⑰","やまいも⑰","りんご⑰","ゼラチン⑰",null,"","","","","","","",{"$f":"IFERROR(INDEX($GJ$6:$BLM$6,1,MATCH(DF365,$GJ$4:$BLM$4,0),1),\"\")","v":""},"","","","","","","","","","","","",null,null,{"$f":"IF(DT365=1,FL365&\" \",\"\")","v":""},{"$f":"IF(DU365=1,FM365&\" \",\"\")","v":""},"","","","","","","","","","","","","","","","","","",null,null,"あわび","いか","いくら","オレンジ","カシューナッツ","キウイフルーツ","牛肉","くるみ","ごま","さけ","さば","大豆","鶏肉","バナナ","豚肉","まつたけ","もも","やまいも","りんご","ゼラチン"]
[null,null,"備考",{"$nulls":3},{"$f":"ASC(DB366)","v":""},{"$nulls":92},"備考⑰",null,null,{"$f":"IFERROR(INDEX($GJ$6:$BLM$6,1,MATCH(CV366,$GJ$4:$BLM$4,0),1),\"\")","v":""},null,null,{"$f":"IF(CY366=0,\"\",CY366)","v":""}]
[]
[null,null,"■商品情報"]
[null,null,"商品名",{"$nulls":9},{"$f":"DB369","v":""},{"$nulls":41},"商品写真2枚（表面1枚、裏面1枚）\n貼付してください\n\n＊パッケージが鮮明なもの\n\n＊裏面分は、原材料や栄養成分表示が\n　判別出来る画像とすること",{"$nulls":44},"商品名⑱",null,null,{"$f":"IFERROR(INDEX($GJ$6:$BLM$6,1,MATCH(CV369,$GJ$4:$BLM$4,0),1),\"\")","v":""},null,null,{"$f":"IF(CY369=0,\"\",CY369)","v":""}]
[null,null,"JANコード",{"$nulls":9},{"$f":"DB370","v":""},{"$nulls":15},"可能対応",{"$nulls":9},{"$f":"_xlfn.CONCAT(EO370:FJ370)","v":""},{"$nulls":60},"JANコード⑱",null,null,{"$f":"IFERROR(INDEX($GJ$6:$BLM$6,1,MATCH(CV370,$GJ$4:$BLM$4,0),1),\"\")","v":""},null,null,"",null,null,"業務用対応可能⑱","ギフト対応可能⑱",{"$nulls":13},{"$f":"IFERROR(INDEX($GJ$6:$BLM$6,1,MATCH(DE370,$GJ$4:$BLM$4,0),1),\"\")","v":""},{"$f":"IFERROR(INDEX($GJ$6:$BLM$6,1,MATCH(DF370,$GJ$4:$BLM$4,0),1),\"\")","v":""},{"$nulls":20},{"$f":"IF(DT370=1,IF(EQ370=\"\",FL370,FL370&\"・\"),\"\")","v":""},{"$f":"IF(DU370=1,FM370&\"\",\"\")","v":""},{"$nulls":17},{"$f":"IF(AND(EP370=\"\",EQ370=\"\"),\"\",\"対応可能\")","v":""},null,null,"業務用","ギフト"]
[null,null,"提供可能時期",{"$nulls":9},{"$f":"DB371","v":""},{"$nulls":15},"発注リードタイム",{"$nulls":9},{"$f":"DC371","v":""},{"$nulls":60},"提供可能時期⑱","発注リードタイム⑱",null,{"$f":"IFERROR(INDEX($GJ$6:$BLM$6,1,MATCH(CV371,$GJ$4:$BLM$4,0),1),\"\")","v":""},{"$f":"IFERROR(INDEX($GJ$6:$BLM$6,1,MATCH(CW371,$GJ$4:$BLM$4,0),1),\"\")","v":""},null,"",""]
[null,null,"内容量",{"$nulls":9},{"$f":"DB372","v":""},{"$nulls":15},"1ケースあたり入数",{"$nulls":9},{"$f":"DC372","v":""},{"$nulls":60},"内容量⑱","1ケースあたり⑱",null,{"$f":"IFERROR(INDEX($GJ$6:$BLM$6,1,MATCH(CV372,$GJ$4:$BLM$4,0),1),\"\")","v":""},{"$f":"IFERROR(INDEX($GJ$6:$BLM$6,1,MATCH(CW372,$GJ$4:$BLM$4,0),1),\"\")","v":""},null,"",""]
[null,null,"最 大　ケ ー ス\n納品単位",{"$nulls":9},{"$f":"DB373","v":""},{"$nulls":15},"最 小　ケ ー ス\n納品単位",{"$nulls":9},{"$f":"DC373","v":""},{"$nulls":60},"最大ケース⑱","最小ケース⑱",null,{"$f":"IFERROR(INDEX($GJ$6:$BLM$6,1,MATCH(CV373,$GJ$4:$BLM$4,0),1),\"\")","v":""},{"$f":"IFERROR(INDEX($GJ$6:$BLM$6,1,MATCH(CW373,$GJ$4:$BLM$4,0),1),\"\")","v":""},null,"",""]
[null,null,"ケ ー ス　サ イ ズ\n(縦×横×高さ：cm)",{"$nulls":9},{"$f":"_xlfn.CONCAT(EP374:ER374)","v":""},{"$nulls":15},"ケ ー ス　重 量\n(kg)",{"$nulls":9},{"$f":"ES374","v":""},{"$nulls":60},"ケースサイズ","ケース重量",null,"縦⑱","横⑱","高さ⑱","重量⑱",{"$nulls":17},{"$f":"IFERROR(INDEX($GJ$6:$BLM$6,1,MATCH(CY374,$GJ$4:$BLM$4,0),1),\"\")","v":""},{"$f":"IFERROR(INDEX($GJ$6:$BLM$6,1,MATCH(CZ374,$GJ$4:$BLM$4,0),1),\"\")","v":""},{"$f":"IFERROR(INDEX($GJ$6:$BLM$6,1,MATCH(DA374,$GJ$4:$BLM$4,0),1),\"\")","v":""},{"$f":"IFERROR(INDEX($GJ$6:$BLM$6,1,MATCH(DB374,$GJ$4:$BLM$4,0),1),\"\")","v":""},{"$nulls":18},{"$f":"IF(OR(DT374=0,DT374=\"\"),\"\",DT374&\"×\")","v":""},{"$f":"IF(OR(DU374=0,DU374=\"\"),\"\",DU374&\"×\")","v":""},{"$f":"IF(OR(DV374=0,DV374=\"\"),\"\",DV374&\"\")","v":""},{"$f":"IF(OR(DW374=0,DW374=\"\"),\"\",DW374&\"\")","v":""}]
[null,null,"賞味期限",{"$nulls":9},{"$f":"DB375","v":""},{"$nulls":15},"消費期限",{"$nulls":9},{"$f":"DC375","v":""},{"$nulls":60},"賞味期限⑱","消費期限⑱",null,{"$f":"IFERROR(INDEX($GJ$6:$BLM$6,1,MATCH(CV375,$GJ$4:$BLM$4,0),1),\"\")","v":""},{"$f":"IFERROR(INDEX($GJ$6:$BLM$6,1,MATCH(CW375,$GJ$4:$BLM$4,0),1),\"\")","v":""},null,{"$f":"IF(CY375=0,\"\",CY375)","v":""},""]
[null,null,"希　望　小　売\n(税抜：円)",{"$nulls":9},{"$f":"DB376","v":""},{"$nulls":15},"税率",{"$nulls":9},{"$f":"_xlfn.CONCAT(EO376:FJ376)","v":""},{"$nulls":60},"希望小売⑱",null,null,{"$f":"IFERROR(INDEX($GJ$6:$BLM$6,1,MATCH(CV376,$GJ$4:$BLM$4,0),1),\"\")","v":""},null,null,"",null,null,"8%⑱","10%⑱",{"$nulls":13},{"$f":"IFERROR(INDEX($GJ$6:$BLM$6,1,MATCH(DE376,$GJ$4:$BLM$4,0),1),\"\")","v":""},"",{"$nulls":20},{"$f":"IF(DT376=1,FL376&\"　\",\"\")","v":""},"",{"$nulls":20},"8%","10%"]
[null,null,"仕　切　単　価\n(税抜：円)",{"$nulls":9},{"$f":"DB377","v":""},{"$nulls":15},{"$f":"_xlfn.CONCAT(EO377:FJ377)","v":""},{"$nulls":70},"仕切単価⑱",null,null,{"$f":"IFERROR(INDEX($GJ$6:$BLM$6,1,MATCH(CV377,$GJ$4:$BLM$4,0),1),\"\")","v":""},null,null,"",null,null,"工場出し⑱","関東向け⑱","関西向け⑱",{"$nulls":12},"","",{"$f":"IFERROR(INDEX($GJ$6:$BLM$6,1,MATCH(DG377,$GJ$4:$BLM$4,0),1),\"\")","v":""},{"$nulls":19},"","","",{"$nulls":19},"工場出し","関東向け","関西向け"]
[null,null,"主 原 料 産 地\n(漁獲場所等)",{"$nulls":9},{"$f":"DB378","v":""},{"$nulls":15},"保存温度帯",{"$nulls":9},{"$f":"_xlfn.CONCAT(EO378:FJ378)","v":""},{"$nulls":60},"主原料産地⑱",null,null,{"$f":"IFERROR(INDEX($GJ$6:$BLM$6,1,MATCH(CV378,$GJ$4:$BLM$4,0),1),\"\")","v":""},{"$f":"IFERROR(INDEX($GJ$6:$BLM$6,1,MATCH(CW378,$GJ$4:$BLM$4,0),1),\"\")","v":""},null,{"$f":"IF(CY378=0,\"\",CY378)","v":""},{"$f":"IF(CZ378=0,\"\",CZ378)","v":""},null,"常温⑱","冷蔵⑱","冷凍⑱",{"$nulls":12},"","",{"$f":"IFERROR(INDEX($GJ$6:$BLM$6,1,MATCH(DG378,$GJ$4:$BLM$4,0),1),\"\")","v":""},{"$nulls":19},"","","",{"$nulls":19},"常温","冷蔵","冷凍"]
[null,null,"売り先",{"$nulls":9},{"$f":"_xlfn.CONCAT(EO379:FJ379)","v":""},{"$nulls":89},"外食⑱","中食⑱","商社・卸売⑱","メーカー⑱","スーパーマーケット⑱","百貨店⑱","その他小売⑱","ホテル・宴会・レジャー⑱","その他・ターゲット⑱","その他・ターゲット・⑱",{"$nulls":11},{"$f":"IFERROR(INDEX($GJ$6:$BLM$6,1,MATCH(CY379,$GJ$4:$BLM$4,0),1),\"\")","v":""},"","","","","","","","","",{"$nulls":12},"","","","","","","","",{"$f":"IF(EB379=1,\"その他\",\"\")","v":""},{"$f":"IF(OR(EC379=0,EC379=\"\"),\"\",\"(\"&EC379&\")\")","v":""},{"$nulls":12},"外食","中食","商社・卸売","メーカー","スーパーマーケット","百貨店","その他小売","ホテル・宴会・レジャー"]
[null,null,"ターゲット",{"$nulls":9},{"$f":"DB380","v":""},{"$nulls":86},"ターゲット⑱",null,null,{"$f":"IFERROR(INDEX($GJ$6:$BLM$6,1,MATCH(CV380,$GJ$4:$BLM$4,0),1),\"\")","v":""},null,null,{"$f":"IF(CY380=0,\"\",CY380)","v":""}]
[null,null,"商品特徴",{"$nulls":3},{"$f":"DB381","v":""},{"$nulls":92},"商品特徴⑱",null,null,{"$f":"IFERROR(INDEX($GJ$6:$BLM$6,1,MATCH(CV381,$GJ$4:$BLM$4,0),1),\"\")","v":""},null,null,""]
[null,null,"アレルギー表示(特定原材料)",{"$nulls":51},"利用シーン",{"$nulls":44},"利用シーン⑱",null,null,{"$f":"IFERROR(INDEX($GJ$6:$BLM$6,1,MATCH(CV382,$GJ$4:$BLM$4,0),1),\"\")","v":""},null,null,""]
[null,null,"表示\n義務有",{"$nulls":3},{"$f":"_xlfn.CONCAT(EO383:FJ383)","v":""},{"$nulls":47},{"$f":"DB382","v":""},{"$nulls":47},"えび⑱","かに⑱","小麦⑱","そば⑱","卵⑱","乳⑱","落花生⑱",{"$nulls":14},{"$f":"IFERROR(INDEX($GJ$6:$BLM$6,1,MATCH(CY383,$GJ$4:$BLM$4,0),1),\"\")","v":""},"","","","","","",{"$nulls":15},{"$f":"IF(DT383=1,FL383&\"　\",\"\")","v":""},"","","","","","",{"$nulls":15},"えび","かに","小麦","そば","卵","乳","落花生"]
[null,null,"任意\n表示",{"$nulls":3},{"$f":"_xlfn.CONCAT(EO384:FJ384)","v":""},{"$nulls":95},"あわび⑱","いか⑱","いくら⑱","オレンジ⑱","カシューナッツ⑱","キウイフルーツ⑱","牛肉⑱","くるみ⑱","ごま⑱","さけ⑱","さば⑱","大豆⑱","鶏肉⑱","バナナ⑱","豚肉⑱","まつたけ⑱","もも⑱","やまいも⑱","りんご⑱","ゼラチン⑱",null,"","","","","","","",{"$f":"IFERROR(INDEX($GJ$6:$BLM$6,1,MATCH(DF384,$GJ$4:$BLM$4,0),1),\"\")","v":""},"","","","","","","","","","","","",null,null,{"$f":"IF(DT384=1,FL384&\" \",\"\")","v":""},{"$f":"IF(DU384=1,FM384&\" \",\"\")","v":""},"","","","","","","","","","","","","","","","","","",null,null,"あわび","いか","いくら","オレンジ","カシューナッツ","キウイフルーツ","牛肉","くるみ","ごま","さけ","さば","大豆","鶏肉","バナナ","豚肉","まつたけ","もも","やまいも","りんご","ゼラチン"]
[null,null,"備考",{"$nulls":3},{"$f":"ASC(DB385)","v":""},{"$nulls":92},"備考⑱",null,null,{"$f":"IFERROR(INDEX($GJ$6:$BLM$6,1,MATCH(CV385,$GJ$4:$BLM$4,0),1),\"\")","v":""},null,null,{"$f":"IF(CY385=0,\"\",CY385)","v":""}]
[]
[null,null,"■商品情報"]
[null,null,"商品名",{"$nulls":9},{"$f":"DB388","v":""},{"$nulls":41},"商品写真2枚（表面1枚、裏面1枚）\n貼付してください\n\n＊パッケージが鮮明なもの\n\n＊裏面分は、原材料や栄養成分表示が\n　判別出来る画像とすること",{"$nulls":44},"商品名⑲",null,null,{"$f":"IFERROR(INDEX($GJ$6:$BLM$6,1,MATCH(CV388,$GJ$4:$BLM$4,0),1),\"\")","v":""},null,null,{"$f":"IF(CY388=0,\"\",CY388)","v":""}]
[null,null,"JANコード",{"$nulls":9},{"$f":"DB389","v":""},{"$nulls":15},"可能対応",{"$nulls":9},{"$f":"_xlfn.CONCAT(EO389:FJ389)","v":""},{"$nulls":60},"JANコード⑲",null,null,{"$f":"IFERROR(INDEX($GJ$6:$BLM$6,1,MATCH(CV389,$GJ$4:$BLM$4,0),1),\"\")","v":""},null,null,"",null,null,"業務用対応可能⑲","ギフト対応可能⑲",{"$nulls":13},{"$f":"IFERROR(INDEX($GJ$6:$BLM$6,1,MATCH(DE389,$GJ$4:$BLM$4,0),1),\"\")","v":""},{"$f":"IFERROR(INDEX($GJ$6:$BLM$6,1,MATCH(DF389,$GJ$4:$BLM$4,0),1),\"\")","v":""},{"$nulls":20},{"$f":"IF(DT389=1,IF(EQ389=\"\",FL389,FL389&\"・\"),\"\")","v":""},{"$f":"IF(DU389=1,FM389&\"\",\"\")","v":""},{"$nulls":17},{"$f":"IF(AND(EP389=\"\",EQ389=\"\"),\"\",\"対応可能\")","v":""},null,null,"業務用","ギフト"]
[null,null,"提供可能時期",{"$nulls":9},{"$f":"DB390","v":""},{"$nulls":15},"発注リードタイム",{"$nulls":9},{"$f":"DC390","v":""},{"$nulls":60},"提供可能時期⑲","発注リードタイム⑲",null,{"$f":"IFERROR(INDEX($GJ$6:$BLM$6,1,MATCH(CV390,$GJ$4:$BLM$4,0),1),\"\")","v":""},{"$f":"IFERROR(INDEX($GJ$6:$BLM$6,1,MATCH(CW390,$GJ$4:$BLM$4,0),1),\"\")","v":""},null,"",""]
[null,null,"内容量",{"$nulls":9},{"$f":"DB391","v":""},{"$nulls":15},"1ケースあたり入数",{"$nulls":9},{"$f":"DC391","v":""},{"$nulls":60},"内容量⑲","1ケースあたり⑲",null,{"$f":"IFERROR(INDEX($GJ$6:$BLM$6,1,MATCH(CV391,$GJ$4:$BLM$4,0),1),\"\")","v":""},{"$f":"IFERROR(INDEX($GJ$6:$BLM$6,1,MATCH(CW391,$GJ$4:$BLM$4,0),1),\"\")","v":""},null,"",""]
[null,null,"最 大　ケ ー ス\n納品単位",{"$nulls":9},{"$f":"DB392","v":""},{"$nulls":15},"最 小　ケ ー ス\n納品単位",{"$nulls":9},{"$f":"DC392","v":""},{"$nulls":60},"最大ケース⑲","最小ケース⑲",null,{"$f":"IFERROR(INDEX($GJ$6:$BLM$6,1,MATCH(CV392,$GJ$4:$BLM$4,0),1),\"\")","v":""},{"$f":"IFERROR(INDEX($GJ$6:$BLM$6,1,MATCH(CW392,$GJ$4:$BLM$4,0),1),\"\")","v":""},null,"",""]
[null,null,"ケ ー ス　サ イ ズ\n(縦×横×高さ：cm)",{"$nulls":9},{"$f":"_xlfn.CONCAT(EP393:ER393)","v":""},{"$nulls":15},"ケ ー ス　重 量\n(kg)",{"$nulls":9},{"$f":"ES393","v":""},{"$nulls":60},"ケースサイズ","ケース重量",null,"縦⑲","横⑲","高さ⑲","重量⑲",{"$nulls":17},{"$f":"IFERROR(INDEX($GJ$6:$BLM$6,1,MATCH(CY393,$GJ$4:$BLM$4,0),1),\"\")","v":""},{"$f":"IFERROR(INDEX($GJ$6:$BLM$6,1,MATCH(CZ393,$GJ$4:$BLM$4,0),1),\"\")","v":""},{"$f":"IFERROR(INDEX($GJ$6:$BLM$6,1,MATCH(DA393,$GJ$4:$BLM$4,0),1),\"\")","v":""},{"$f":"IFERROR(INDEX($GJ$6:$BLM$6,1,MATCH(DB393,$GJ$4:$BLM$4,0),1),\"\")","v":""},{"$nulls":18},{"$f":"IF(OR(DT393=0,DT393=\"\"),\"\",DT393&\"×\")","v":""},{"$f":"IF(OR(DU393=0,DU393=\"\"),\"\",DU393&\"×\")","v":""},{"$f":"IF(OR(DV393=0,DV393=\"\"),\"\",DV393&\"\")","v":""},{"$f":"IF(OR(DW393=0,DW393=\"\"),\"\",DW393&\"\")","v":""}]
[null,null,"賞味期限",{"$nulls":9},{"$f":"DB394","v":""},{"$nulls":15},"消費期限",{"$nulls":9},{"$f":"DC394","v":""},{"$nulls":60},"賞味期限⑲","消費期限⑲",null,{"$f":"IFERROR(INDEX($GJ$6:$BLM$6,1,MATCH(CV394,$GJ$4:$BLM$4,0),1),\"\")","v":""},{"$f":"IFERROR(INDEX($GJ$6:$BLM$6,1,MATCH(CW394,$GJ$4:$BLM$4,0),1),\"\")","v":""},null,{"$f":"IF(CY394=0,\"\",CY394)","v":""},""]
[null,null,"希　望　小　売\n(税抜：円)",{"$nulls":9},{"$f":"DB395","v":""},{"$nulls":15},"税率",{"$nulls":9},{"$f":"_xlfn.CONCAT(EO395:FJ395)","v":""},{"$nulls":60},"希望小売⑲",null,null,{"$f":"IFERROR(INDEX($GJ$6:$BLM$6,1,MATCH(CV395,$GJ$4:$BLM$4,0),1),\"\")","v":""},null,null,"",null,null,"8%⑲","10%⑲",{"$nulls":13},{"$f":"IFERROR(INDEX($GJ$6:$BLM$6,1,MATCH(DE395,$GJ$4:$BLM$4,0),1),\"\")","v":""},"",{"$nulls":20},{"$f":"IF(DT395=1,FL395&\"　\",\"\")","v":""},"",{"$nulls":20},"8%","10%"]
[null,null,"仕　切　単　価\n(税抜：円)",{"$nulls":9},{"$f":"DB396","v":""},{"$nulls":15},{"$f":"_xlfn.CONCAT(EO396:FJ396)","v":""},{"$nulls":70},"仕切単価⑲",null,null,{"$f":"IFERROR(INDEX($GJ$6:$BLM$6,1,MATCH(CV396,$GJ$4:$BLM$4,0),1),\"\")","v":""},null,null,"",null,null,"工場出し⑲","関東向け⑲","関西向け⑲",{"$nulls":12},"","",{"$f":"IFERROR(INDEX($GJ$6:$BLM$6,1,MATCH(DG396,$GJ$4:$BLM$4,0),1),\"\")","v":""},{"$nulls":19},"","","",{"$nulls":19},"工場出し","関東向け","関西向け"]
[null,null,"主 原 料 産 地\n(漁獲場所等)",{"$nulls":9},{"$f":"DB397","v":""},{"$nulls":15},"保存温度帯",{"$nulls":9},{"$f":"_xlfn.CONCAT(EO397:FJ397)","v":""},{"$nulls":60},"主原料産地⑲",null,null,{"$f":"IFERROR(INDEX($GJ$6:$BLM$6,1,MATCH(CV397,$GJ$4:$BLM$4,0),1),\"\")","v":""},{"$f":"IFERROR(INDEX($GJ$6:$BLM$6,1,MATCH(CW397,$GJ$4:$BLM$4,0),1),\"\")","v":""},null,{"$f":"IF(CY397=0,\"\",CY397)","v":""},{"$f":"IF(CZ397=0,\"\",CZ397)","v":""},null,"常温⑲","冷蔵⑲","冷凍⑲",{"$nulls":12},"","",{"$f":"IFERROR(INDEX($GJ$6:$BLM$6,1,MATCH(DG397,$GJ$4:$BLM$4,0),1),\"\")","v":""},{"$nulls":19},"","","",{"$nulls":19},"常温","冷蔵","冷凍"]
[null,null,"売り先",{"$nulls":9},{"$f":"_xlfn.CONCAT(EO398:FJ398)","v":""},{"$nulls":89},"外食⑲","中食⑲","商社・卸売⑲","メーカー⑲","スーパーマーケット⑲","百貨店⑲","その他小売⑲","ホテル・宴会・レジャー⑲","その他・ターゲット⑲","その他・ターゲット・⑲",{"$nulls":11},{"$f":"IFERROR(INDEX($GJ$6:$BLM$6,1,MATCH(CY398,$GJ$4:$BLM$4,0),1),\"\")","v":""},"","","","","","","","","",{"$nulls":12},"","","","","","","","",{"$f":"IF(EB398=1,\"その他\",\"\")","v":""},{"$f":"IF(OR(EC398=0,EC398=\"\"),\"\",\"(\"&EC398&\")\")","v":""},{"$nulls":12},"外食","中食","商社・卸売","メーカー","スーパーマーケット","百貨店","その他小売","ホテル・宴会・レジャー"]
[null,null,"ターゲット",{"$nulls":9},{"$f":"DB399","v":""},{"$nulls":86},"ターゲット⑲",null,null,{"$f":"IFERROR(INDEX($GJ$6:$BLM$6,1,MATCH(CV399,$GJ$4:$BLM$4,0),1),\"\")","v":""},null,null,{"$f":"IF(CY399=0,\"\",CY399)","v":""}]
[null,null,"商品特徴",{"$nulls":3},{"$f":"DB400","v":""},{"$nulls":92},"商品特徴⑲",null,null,{"$f":"IFERROR(INDEX($GJ$6:$BLM$6,1,MATCH(CV400,$GJ$4:$BLM$4,0),1),\"\")","v":""},null,null,""]
[null,null,"アレルギー表示(特定原材料)",{"$nulls":51},"利用シーン",{"$nulls":44},"利用シーン⑲",null,null,{"$f":"IFERROR(INDEX($GJ$6:$BLM$6,1,MATCH(CV401,$GJ$4:$BLM$4,0),1),\"\")","v":""},null,null,""]
[null,null,"表示\n義務有",{"$nulls":3},{"$f":"_xlfn.CONCAT(EO402:FJ402)","v":""},{"$nulls":47},{"$f":"DB401","v":""},{"$nulls":47},"えび⑲","かに⑲","小麦⑲","そば⑲","卵⑲","乳⑲","落花生⑲",{"$nulls":14},{"$f":"IFERROR(INDEX($GJ$6:$BLM$6,1,MATCH(CY402,$GJ$4:$BLM$4,0),1),\"\")","v":""},"","","","","","",{"$nulls":15},{"$f":"IF(DT402=1,FL402&\"　\",\"\")","v":""},"","","","","","",{"$nulls":15},"えび","かに","小麦","そば","卵","乳","落花生"]
[null,null,"任意\n表示",{"$nulls":3},{"$f":"_xlfn.CONCAT(EO403:FJ403)","v":""},{"$nulls":95},"あわび⑲","いか⑲","いくら⑲","オレンジ⑲","カシューナッツ⑲","キウイフルーツ⑲","牛肉⑲","くるみ⑲","ごま⑲","さけ⑲","さば⑲","大豆⑲","鶏肉⑲","バナナ⑲","豚肉⑲","まつたけ⑲","もも⑲","やまいも⑲","りんご⑲","ゼラチン⑲",null,"","","","","","","",{"$f":"IFERROR(INDEX($GJ$6:$BLM$6,1,MATCH(DF403,$GJ$4:$BLM$4,0),1),\"\")","v":""},"","","","","","","","","","","","",null,null,{"$f":"IF(DT403=1,FL403&\" \",\"\")","v":""},{"$f":"IF(DU403=1,FM403&\" \",\"\")","v":""},"","","","","","","","","","","","","","","","","","",null,null,"あわび","いか","いくら","オレンジ","カシューナッツ","キウイフルーツ","牛肉","くるみ","ごま","さけ","さば","大豆","鶏肉","バナナ","豚肉","まつたけ","もも","やまいも","りんご","ゼラチン"]
[null,null,"備考",{"$nulls":3},{"$f":"ASC(DB404)","v":""},{"$nulls":92},"備考⑲",null,null,{"$f":"IFERROR(INDEX($GJ$6:$BLM$6,1,MATCH(CV404,$GJ$4:$BLM$4,0),1),\"\")","v":""},null,null,{"$f":"IF(CY404=0,\"\",CY404)","v":""}]
[]
[null,null,"■商品情報"]
[null,null,"商品名",{"$nulls":9},{"$f":"DB407","v":""},{"$nulls":41},"商品写真2枚（表面1枚、裏面1枚）\n貼付してください\n\n＊パッケージが鮮明なもの\n\n＊裏面分は、原材料や栄養成分表示が\n　判別出来る画像とすること",{"$nulls":44},"商品名⑳",null,null,{"$f":"IFERROR(INDEX($GJ$6:$BLM$6,1,MATCH(CV407,$GJ$4:$BLM$4,0),1),\"\")","v":""},null,null,{"$f":"IF(CY407=0,\"\",CY407)","v":""}]
[null,null,"JANコード",{"$nulls":9},{"$f":"DB408","v":""},{"$nulls":15},"可能対応",{"$nulls":9},{"$f":"_xlfn.CONCAT(EO408:FJ408)","v":""},{"$nulls":60},"JANコード⑳",null,null,{"$f":"IFERROR(INDEX($GJ$6:$BLM$6,1,MATCH(CV408,$GJ$4:$BLM$4,0),1),\"\")","v":""},null,null,"",null,null,"業務用対応可能⑳","ギフト対応可能⑳",{"$nulls":13},{"$f":"IFERROR(INDEX($GJ$6:$BLM$6,1,MATCH(DE408,$GJ$4:$BLM$4,0),1),\"\")","v":""},{"$f":"IFERROR(INDEX($GJ$6:$BLM$6,1,MATCH(DF408,$GJ$4:$BLM$4,0),1),\"\")","v":""},{"$nulls":20},{"$f":"IF(DT408=1,IF(EQ408=\"\",FL408,FL408&\"・\"),\"\")","v":""},{"$f":"IF(DU408=1,FM408&\"\",\"\")","v":""},{"$nulls":17},{"$f":"IF(AND(EP408=\"\",EQ408=\"\"),\"\",\"対応可能\")","v":""},null,null,"業務用","ギフト"]
[null,null,"提供可能時期",{"$nulls":9},{"$f":"DB409","v":""},{"$nulls":15},"発注リードタイム",{"$nulls":9},{"$f":"DC409","v":""},{"$nulls":60},"提供可能時期⑳","発注リードタイム⑳",null,{"$f":"IFERROR(INDEX($GJ$6:$BLM$6,1,MATCH(CV409,$GJ$4:$BLM$4,0),1),\"\")","v":""},{"$f":"IFERROR(INDEX($GJ$6:$BLM$6,1,MATCH(CW409,$GJ$4:$BLM$4,0),1),\"\")","v":""},null,"",""]
[null,null,"内容量",{"$nulls":9},{"$f":"DB410","v":""},{"$nulls":15},"1ケースあたり入数",{"$nulls":9},{"$f":"DC410","v":""},{"$nulls":60},"内容量⑳","1ケースあたり⑳",null,{"$f":"IFERROR(INDEX($GJ$6:$BLM$6,1,MATCH(CV410,$GJ$4:$BLM$4,0),1),\"\")","v":""},{"$f":"IFERROR(INDEX($GJ$6:$BLM$6,1,MATCH(CW410,$GJ$4:$BLM$4,0),1),\"\")","v":""},null,"",""]
[null,null,"最 大　ケ ー ス\n納品単位",{"$nulls":9},{"$f":"DB411","v":""},{"$nulls":15},"最 小　ケ ー ス\n納品単位",{"$nulls":9},{"$f":"DC411","v":""},{"$nulls":60},"最大ケース⑳","最小ケース⑳",null,{"$f":"IFERROR(INDEX($GJ$6:$BLM$6,1,MATCH(CV411,$GJ$4:$BLM$4,0),1),\"\")","v":""},{"$f":"IFERROR(INDEX($GJ$6:$BLM$6,1,MATCH(CW411,$GJ$4:$BLM$4,0),1),\"\")","v":""},null,"",""]
[null,null,"ケ ー ス　サ イ ズ\n(縦×横×高さ：cm)",{"$nulls":9},{"$f":"_xlfn.CONCAT(EP412:ER412)","v":""},{"$nulls":15},"ケ ー ス　重 量\n(kg)",{"$nulls":9},{"$f":"ES412","v":""},{"$nulls":60},"ケースサイズ","ケース重量",null,"縦⑳","横⑳","高さ⑳","重量⑳",{"$nulls":17},{"$f":"IFERROR(INDEX($GJ$6:$BLM$6,1,MATCH(CY412,$GJ$4:$BLM$4,0),1),\"\")","v":""},{"$f":"IFERROR(INDEX($GJ$6:$BLM$6,1,MATCH(CZ412,$GJ$4:$BLM$4,0),1),\"\")","v":""},{"$f":"IFERROR(INDEX($GJ$6:$BLM$6,1,MATCH(DA412,$GJ$4:$BLM$4,0),1),\"\")","v":""},{"$f":"IFERROR(INDEX($GJ$6:$BLM$6,1,MATCH(DB412,$GJ$4:$BLM$4,0),1),\"\")","v":""},{"$nulls":18},{"$f":"IF(OR(DT412=0,DT412=\"\"),\"\",DT412&\"×\")","v":""},{"$f":"IF(OR(DU412=0,DU412=\"\"),\"\",DU412&\"×\")","v":""},{"$f":"IF(OR(DV412=0,DV412=\"\"),\"\",DV412&\"\")","v":""},{"$f":"IF(OR(DW412=0,DW412=\"\"),\"\",DW412&\"\")","v":""}]
[null,null,"賞味期限",{"$nulls":9},{"$f":"DB413","v":""},{"$nulls":15},"消費期限",{"$nulls":9},{"$f":"DC413","v":""},{"$nulls":60},"賞味期限⑳","消費期限⑳",null,{"$f":"IFERROR(INDEX($GJ$6:$BLM$6,1,MATCH(CV413,$GJ$4:$BLM$4,0),1),\"\")","v":""},{"$f":"IFERROR(INDEX($GJ$6:$BLM$6,1,MATCH(CW413,$GJ$4:$BLM$4,0),1),\"\")","v":""},null,{"$f":"IF(CY413=0,\"\",CY413)","v":""},""]
[null,null,"希　望　小　売\n(税抜：円)",{"$nulls":9},{"$f":"DB414","v":""},{"$nulls":15},"税率",{"$nulls":9},{"$f":"_xlfn.CONCAT(EO414:FJ414)","v":""},{"$nulls":60},"希望小売⑳",null,null,{"$f":"IFERROR(INDEX($GJ$6:$BLM$6,1,MATCH(CV414,$GJ$4:$BLM$4,0),1),\"\")","v":""},null,null,"",null,null,"8%⑳","10%⑳",{"$nulls":13},{"$f":"IFERROR(INDEX($GJ$6:$BLM$6,1,MATCH(DE414,$GJ$4:$BLM$4,0),1),\"\")","v":""},"",{"$nulls":20},{"$f":"IF(DT414=1,FL414&\"　\",\"\")","v":""},"",{"$nulls":20},"8%","10%"]
[null,null,"仕　切　単　価\n(税抜：円)",{"$nulls":9},{"$f":"DB415","v":""},{"$nulls":15},{"$f":"_xlfn.CONCAT(EO415:FJ415)","v":""},{"$nulls":70},"仕切単価⑳",null,null,{"$f":"IFERROR(INDEX($GJ$6:$BLM$6,1,MATCH(CV415,$GJ$4:$BLM$4,0),1),\"\")","v":""},null,null,"",null,null,"工場出し⑳","関東向け⑳","関西向け⑳",{"$nulls":12},"","",{"$f":"IFERROR(INDEX($GJ$6:$BLM$6,1,MATCH(DG415,$GJ$4:$BLM$4,0),1),\"\")","v":""},{"$nulls":19},"","","",{"$nulls":19},"工場出し","関東向け","関西向け"]
[null,null,"主 原 料 産 地\n(漁獲場所等)",{"$nulls":9},{"$f":"DB416","v":""},{"$nulls":15},"保存温度帯",{"$nulls":9},{"$f":"_xlfn.CONCAT(EO416:FJ416)","v":""},{"$nulls":60},"主原料産地⑳",null,null,{"$f":"IFERROR(INDEX($GJ$6:$BLM$6,1,MATCH(CV416,$GJ$4:$BLM$4,0),1),\"\")","v":""},{"$f":"IFERROR(INDEX($GJ$6:$BLM$6,1,MATCH(CW416,$GJ$4:$BLM$4,0),1),\"\")","v":""},null,{"$f":"IF(CY416=0,\"\",CY416)","v":""},{"$f":"IF(CZ416=0,\"\",CZ416)","v":""},null,"常温⑳","冷蔵⑳","冷凍⑳",{"$nulls":12},"","",{"$f":"IFERROR(INDEX($GJ$6:$BLM$6,1,MATCH(DG416,$GJ$4:$BLM$4,0),1),\"\")","v":""},{"$nulls":19},"","","",{"$nulls":19},"常温","冷蔵","冷凍"]
[null,null,"売り先",{"$nulls":9},{"$f":"_xlfn.CONCAT(EO417:FJ417)","v":""},{"$nulls":89},"外食⑳","中食⑳","商社・卸売⑳","メーカー⑳","スーパーマーケット⑳","百貨店⑳","その他小売⑳","ホテル・宴会・レジャー⑳","その他・ターゲット⑳","その他・ターゲット・⑳",{"$nulls":11},{"$f":"IFERROR(INDEX($GJ$6:$BLM$6,1,MATCH(CY417,$GJ$4:$BLM$4,0),1),\"\")","v":""},"","","","","","","","","",{"$nulls":12},"","","","","","","","",{"$f":"IF(EB417=1,\"その他\",\"\")","v":""},{"$f":"IF(OR(EC417=0,EC417=\"\"),\"\",\"(\"&EC417&\")\")","v":""},{"$nulls":12},"外食","中食","商社・卸売","メーカー","スーパーマーケット","百貨店","その他小売","ホテル・宴会・レジャー"]
[null,null,"ターゲット",{"$nulls":9},{"$f":"DB418","v":""},{"$nulls":86},"ターゲット⑳",null,null,{"$f":"IFERROR(INDEX($GJ$6:$BLM$6,1,MATCH(CV418,$GJ$4:$BLM$4,0),1),\"\")","v":""},null,null,{"$f":"IF(CY418=0,\"\",CY418)","v":""}]
[null,null,"商品特徴",{"$nulls":3},{"$f":"DB419","v":""},{"$nulls":92},"商品特徴⑳",null,null,{"$f":"IFERROR(INDEX($GJ$6:$BLM$6,1,MATCH(CV419,$GJ$4:$BLM$4,0),1),\"\")","v":""},null,null,""]
[null,null,"アレルギー表示(特定原材料)",{"$nulls":51},"利用シーン",{"$nulls":44},"利用シーン⑳",null,null,{"$f":"IFERROR(INDEX($GJ$6:$BLM$6,1,MATCH(CV420,$GJ$4:$BLM$4,0),1),\"\")","v":""},null,null,""]
[null,null,"表示\n義務有",{"$nulls":3},{"$f":"_xlfn.CONCAT(EO421:FJ421)","v":""},{"$nulls":47},{"$f":"DB420","v":""},{"$nulls":47},"えび⑳","かに⑳","小麦⑳","そば⑳","卵⑳","乳⑳","落花生⑳",{"$nulls":14},{"$f":"IFERROR(INDEX($GJ$6:$BLM$6,1,MATCH(CY421,$GJ$4:$BLM$4,0),1),\"\")","v":""},"","","","","","",{"$nulls":15},{"$f":"IF(DT421=1,FL421&\"　\",\"\")","v":""},"","","","","","",{"$nulls":15},"えび","かに","小麦","そば","卵","乳","落花生"]
[null,null,"任意\n表示",{"$nulls":3},{"$f":"_xlfn.CONCAT(EO422:FJ422)","v":""},{"$nulls":95},"あわび⑳","いか⑳","いくら⑳","オレンジ⑳","カシューナッツ⑳","キウイフルーツ⑳","牛肉⑳","くるみ⑳","ごま⑳","さけ⑳","さば⑳","大豆⑳","鶏肉⑳","バナナ⑳","豚肉⑳","まつたけ⑳","もも⑳","やまいも⑳","りんご⑳","ゼラチン⑳",null,"","","","","","","",{"$f":"IFERROR(INDEX($GJ$6:$BLM$6,1,MATCH(DF422,$GJ$4:$BLM$4,0),1),\"\")","v":""},"","","","","","","","","","","","",null,null,{"$f":"IF(DT422=1,FL422&\" \",\"\")","v":""},{"$f":"IF(DU422=1,FM422&\" \",\"\")","v":""},"","","","","","","","","","","","","","","","","","",null,null,"あわび","いか","いくら","オレンジ","カシューナッツ","キウイフルーツ","牛肉","くるみ","ごま","さけ","さば","大豆","鶏肉","バナナ","豚肉","まつたけ","もも","やまいも","りんご","ゼラチン"]
[null,null,"備考",{"$nulls":3},{"$f":"ASC(DB423)","v":""},{"$nulls":92},"備考⑳",null,null,{"$f":"IFERROR(INDEX($GJ$6:$BLM$6,1,MATCH(CV423,$GJ$4:$BLM$4,0),1),\"\")","v":""},null,null,{"$f":"IF(CY423=0,\"\",CY423)","v":""}]
[]
[null,null,"■商品情報"]
[null,null,"商品名",{"$nulls":9},{"$f":"DB426","v":""},{"$nulls":41},"商品写真2枚（表面1枚、裏面1枚）\n貼付してください\n\n＊パッケージが鮮明なもの\n\n＊裏面分は、原材料や栄養成分表示が\n　判別出来る画像とすること",{"$nulls":44},"商品名★",null,null,{"$f":"IFERROR(INDEX($GJ$6:$BLM$6,1,MATCH(CV426,$GJ$4:$BLM$4,0),1),\"\")","v":""},null,null,{"$f":"IF(CY426=0,\"\",CY426)","v":""}]
[null,null,"JANコード",{"$nulls":9},{"$f":"DB427","v":""},{"$nulls":15},"可能対応",{"$nulls":9},{"$f":"_xlfn.CONCAT(EO427:FJ427)","v":""},{"$nulls":60},"JANコード★",null,null,{"$f":"IFERROR(INDEX($GJ$6:$BLM$6,1,MATCH(CV427,$GJ$4:$BLM$4,0),1),\"\")","v":""},null,null,"",null,null,"業務用対応可能★","ギフト対応可能★",{"$nulls":13},{"$f":"IFERROR(INDEX($GJ$6:$BLM$6,1,MATCH(DE427,$GJ$4:$BLM$4,0),1),\"\")","v":""},{"$f":"IFERROR(INDEX($GJ$6:$BLM$6,1,MATCH(DF427,$GJ$4:$BLM$4,0),1),\"\")","v":""},{"$nulls":20},{"$f":"IF(DT427=1,IF(EQ427=\"\",FL427,FL427&\"・\"),\"\")","v":""},{"$f":"IF(DU427=1,FM427&\"\",\"\")","v":""},{"$nulls":17},{"$f":"IF(AND(EP427=\"\",EQ427=\"\"),\"\",\"対応可能\")","v":""},null,null,"業務用","ギフト"]
[null,null,"提供可能時期",{"$nulls":9},{"$f":"DB428","v":""},{"$nulls":15},"発注リードタイム",{"$nulls":9},{"$f":"DC428","v":""},{"$nulls":60},"提供可能時期★","発注リードタイム★",null,{"$f":"IFERROR(INDEX($GJ$6:$BLM$6,1,MATCH(CV428,$GJ$4:$BLM$4,0),1),\"\")","v":""},{"$f":"IFERROR(INDEX($GJ$6:$BLM$6,1,MATCH(CW428,$GJ$4:$BLM$4,0),1),\"\")","v":""},null,"",""]
[null,null,"内容量",{"$nulls":9},{"$f":"DB429","v":""},{"$nulls":15},"1ケースあたり入数",{"$nulls":9},{"$f":"DC429","v":""},{"$nulls":60},"内容量★","1ケースあたり★",null,{"$f":"IFERROR(INDEX($GJ$6:$BLM$6,1,MATCH(CV429,$GJ$4:$BLM$4,0),1),\"\")","v":""},{"$f":"IFERROR(INDEX($GJ$6:$BLM$6,1,MATCH(CW429,$GJ$4:$BLM$4,0),1),\"\")","v":""},null,"",""]
[null,null,"最 大　ケ ー ス\n納品単位",{"$nulls":9},{"$f":"DB430","v":""},{"$nulls":15},"最 小　ケ ー ス\n納品単位",{"$nulls":9},{"$f":"DC430","v":""},{"$nulls":60},"最大ケース★","最小ケース★",null,{"$f":"IFERROR(INDEX($GJ$6:$BLM$6,1,MATCH(CV430,$GJ$4:$BLM$4,0),1),\"\")","v":""},{"$f":"IFERROR(INDEX($GJ$6:$BLM$6,1,MATCH(CW430,$GJ$4:$BLM$4,0),1),\"\")","v":""},null,"",""]
[null,null,"ケ ー ス　サ イ ズ\n(縦×横×高さ：cm)",{"$nulls":9},{"$f":"_xlfn.CONCAT(EP431:ER431)","v":""},{"$nulls":15},"ケ ー ス　重 量\n(kg)",{"$nulls":9},{"$f":"ES431","v":""},{"$nulls":60},"ケースサイズ","ケース重量",null,"縦★","横★","高さ★","重量★",{"$nulls":17},{"$f":"IFERROR(INDEX($GJ$6:$BLM$6,1,MATCH(CY431,$GJ$4:$BLM$4,0),1),\"\")","v":""},{"$f":"IFERROR(INDEX($GJ$6:$BLM$6,1,MATCH(CZ431,$GJ$4:$BLM$4,0),1),\"\")","v":""},{"$f":"IFERROR(INDEX($GJ$6:$BLM$6,1,MATCH(DA431,$GJ$4:$BLM$4,0),1),\"\")","v":""},{"$f":"IFERROR(INDEX($GJ$6:$BLM$6,1,MATCH(DB431,$GJ$4:$BLM$4,0),1),\"\")","v":""},{"$nulls":18},{"$f":"IF(OR(DT431=0,DT431=\"\"),\"\",DT431&\"×\")","v":""},{"$f":"IF(OR(DU431=0,DU431=\"\"),\"\",DU431&\"×\")","v":""},{"$f":"IF(OR(DV431=0,DV431=\"\"),\"\",DV431&\"\")","v":""},{"$f":"IF(OR(DW431=0,DW431=\"\"),\"\",DW431&\"\")","v":""}]
[null,null,"賞味期限",{"$nulls":9},{"$f":"DB432","v":""},{"$nulls":15},"消費期限",{"$nulls":9},{"$f":"DC432","v":""},{"$nulls":60},"賞味期限★","消費期限★",null,{"$f":"IFERROR(INDEX($GJ$6:$BLM$6,1,MATCH(CV432,$GJ$4:$BLM$4,0),1),\"\")","v":""},{"$f":"IFERROR(INDEX($GJ$6:$BLM$6,1,MATCH(CW432,$GJ$4:$BLM$4,0),1),\"\")","v":""},null,{"$f":"IF(CY432=0,\"\",CY432)","v":""},""]
[null,null,"希　望　小　売\n(税抜：円)",{"$nulls":9},{"$f":"DB433","v":""},{"$nulls":15},"税率",{"$nulls":9},{"$f":"_xlfn.CONCAT(EO433:FJ433)","v":""},{"$nulls":60},"希望小売★",null,null,{"$f":"IFERROR(INDEX($GJ$6:$BLM$6,1,MATCH(CV433,$GJ$4:$BLM$4,0),1),\"\")","v":""},null,null,"",null,null,"8%★","10%★",{"$nulls":13},{"$f":"IFERROR(INDEX($GJ$6:$BLM$6,1,MATCH(DE433,$GJ$4:$BLM$4,0),1),\"\")","v":""},"",{"$nulls":20},{"$f":"IF(DT433=1,FL433&\"　\",\"\")","v":""},"",{"$nulls":20},"8%","10%"]
[null,null,"仕　切　単　価\n(税抜：円)",{"$nulls":9},{"$f":"DB434","v":""},{"$nulls":15},{"$f":"_xlfn.CONCAT(EO434:FJ434)","v":""},{"$nulls":70},"仕切単価★",null,null,{"$f":"IFERROR(INDEX($GJ$6:$BLM$6,1,MATCH(CV434,$GJ$4:$BLM$4,0),1),\"\")","v":""},null,null,"",null,null,"工場出し★","関東向け★","関西向け★",{"$nulls":12},"","",{"$f":"IFERROR(INDEX($GJ$6:$BLM$6,1,MATCH(DG434,$GJ$4:$BLM$4,0),1),\"\")","v":""},{"$nulls":19},"","","",{"$nulls":19},"工場出し","関東向け","関西向け"]
[null,null,"主 原 料 産 地\n(漁獲場所等)",{"$nulls":9},{"$f":"DB435","v":""},{"$nulls":15},"保存温度帯",{"$nulls":9},{"$f":"_xlfn.CONCAT(EO435:FJ435)","v":""},{"$nulls":60},"主原料産地★",null,null,{"$f":"IFERROR(INDEX($GJ$6:$BLM$6,1,MATCH(CV435,$GJ$4:$BLM$4,0),1),\"\")","v":""},{"$f":"IFERROR(INDEX($GJ$6:$BLM$6,1,MATCH(CW435,$GJ$4:$BLM$4,0),1),\"\")","v":""},null,{"$f":"IF(CY435=0,\"\",CY435)","v":""},{"$f":"IF(CZ435=0,\"\",CZ435)","v":""},null,"常温★","冷蔵★","冷凍★",{"$nulls":12},"","",{"$f":"IFERROR(INDEX($GJ$6:$BLM$6,1,MATCH(DG435,$GJ$4:$BLM$4,0),1),\"\")","v":""},{"$nulls":19},"","","",{"$nulls":19},"常温","冷蔵","冷凍"]
[null,null,"売り先",{"$nulls":9},{"$f":"_xlfn.CONCAT(EO436:FJ436)","v":""},{"$nulls":89},"外食★","中食★","商社・卸売★","メーカー★","スーパーマーケット★","百貨店★","その他小売★","ホテル・宴会・レジャー★","その他・ターゲット★","その他・ターゲット・★",{"$nulls":11},{"$f":"IFERROR(INDEX($GJ$6:$BLM$6,1,MATCH(CY436,$GJ$4:$BLM$4,0),1),\"\")","v":""},"","","","","","","","","",{"$nulls":12},"","","","","","","","",{"$f":"IF(EB436=1,\"その他\",\"\")","v":""},{"$f":"IF(OR(EC436=0,EC436=\"\"),\"\",\"(\"&EC436&\")\")","v":""},{"$nulls":12},"外食","中食","商社・卸売","メーカー","スーパーマーケット","百貨店","その他小売","ホテル・宴会・レジャー"]
[null,null,"ターゲット",{"$nulls":9},{"$f":"DB437","v":""},{"$nulls":86},"ターゲット★",null,null,{"$f":"IFERROR(INDEX($GJ$6:$BLM$6,1,MATCH(CV437,$GJ$4:$BLM$4,0),1),\"\")","v":""},null,null,{"$f":"IF(CY437=0,\"\",CY437)","v":""}]
[null,null,"商品特徴",{"$nulls":3},{"$f":"DB438","v":""},{"$nulls":92},"商品特徴★",null,null,{"$f":"IFERROR(INDEX($GJ$6:$BLM$6,1,MATCH(CV438,$GJ$4:$BLM$4,0),1),\"\")","v":""},null,null,""]
[null,null,"アレルギー表示(特定原材料)",{"$nulls":51},"利用シーン",{"$nulls":44},"利用シーン★",null,null,{"$f":"IFERROR(INDEX($GJ$6:$BLM$6,1,MATCH(CV439,$GJ$4:$BLM$4,0),1),\"\")","v":""},null,null,""]
[null,null,"表示\n義務有",{"$nulls":3},{"$f":"_xlfn.CONCAT(EO440:FJ440)","v":""},{"$nulls":47},{"$f":"DB439","v":""},{"$nulls":47},"えび★","かに★","小麦★","そば★","卵★","乳★","落花生★",{"$nulls":14},{"$f":"IFERROR(INDEX($GJ$6:$BLM$6,1,MATCH(CY440,$GJ$4:$BLM$4,0),1),\"\")","v":""},"","","","","","",{"$nulls":15},{"$f":"IF(DT440=1,FL440&\"　\",\"\")","v":""},"","","","","","",{"$nulls":15},"えび","かに","小麦","そば","卵","乳","落花生"]
[null,null,"任意\n表示",{"$nulls":3},{"$f":"_xlfn.CONCAT(EO441:FJ441)","v":""},{"$nulls":95},"あわび★","いか★","いくら★","オレンジ★","カシューナッツ★","キウイフルーツ★","牛肉★","くるみ★","ごま★","さけ★","さば★","大豆★","鶏肉★","バナナ★","豚肉★","まつたけ★","もも★","やまいも★","りんご★","ゼラチン★",null,"","","","","","","",{"$f":"IFERROR(INDEX($GJ$6:$BLM$6,1,MATCH(DF441,$GJ$4:$BLM$4,0),1),\"\")","v":""},"","","","","","","","","","","","",null,null,{"$f":"IF(DT441=1,FL441&\" \",\"\")","v":""},{"$f":"IF(DU441=1,FM441&\" \",\"\")","v":""},"","","","","","","","","","","","","","","","","","",null,null,"あわび","いか","いくら","オレンジ","カシューナッツ","キウイフルーツ","牛肉","くるみ","ごま","さけ","さば","大豆","鶏肉","バナナ","豚肉","まつたけ","もも","やまいも","りんご","ゼラチン"]
[null,null,"備考",{"$nulls":3},{"$f":"ASC(DB442)","v":""},{"$nulls":92},"備考★",null,null,{"$f":"IFERROR(INDEX($GJ$6:$BLM$6,1,MATCH(CV442,$GJ$4:$BLM$4,0),1),\"\")","v":""},null,null,{"$f":"IF(CY442=0,\"\",CY442)","v":""}]
[]
[null,null,"■商品情報"]
[null,null,"商品名",{"$nulls":9},{"$f":"DB445","v":""},{"$nulls":41},"商品写真2枚（表面1枚、裏面1枚）\n貼付してください\n\n＊パッケージが鮮明なもの\n\n＊裏面分は、原材料や栄養成分表示が\n　判別出来る画像とすること",{"$nulls":44},"商品名★",null,null,{"$f":"IFERROR(INDEX($GJ$6:$BLM$6,1,MATCH(CV445,$GJ$4:$BLM$4,0),1),\"\")","v":""},null,null,{"$f":"IF(CY445=0,\"\",CY445)","v":""}]
[null,null,"JANコード",{"$nulls":9},{"$f":"DB446","v":""},{"$nulls":15},"可能対応",{"$nulls":9},{"$f":"_xlfn.CONCAT(EO446:FJ446)","v":""},{"$nulls":60},"JANコード★",null,null,{"$f":"IFERROR(INDEX($GJ$6:$BLM$6,1,MATCH(CV446,$GJ$4:$BLM$4,0),1),\"\")","v":""},null,null,"",null,null,"業務用対応可能★","ギフト対応可能★",{"$nulls":13},{"$f":"IFERROR(INDEX($GJ$6:$BLM$6,1,MATCH(DE446,$GJ$4:$BLM$4,0),1),\"\")","v":""},{"$f":"IFERROR(INDEX($GJ$6:$BLM$6,1,MATCH(DF446,$GJ$4:$BLM$4,0),1),\"\")","v":""},{"$nulls":20},{"$f":"IF(DT446=1,IF(EQ446=\"\",FL446,FL446&\"・\"),\"\")","v":""},{"$f":"IF(DU446=1,FM446&\"\",\"\")","v":""},{"$nulls":17},{"$f":"IF(AND(EP446=\"\",EQ446=\"\"),\"\",\"対応可能\")","v":""},null,null,"業務用","ギフト"]
[null,null,"提供可能時期",{"$nulls":9},{"$f":"DB447","v":""},{"$nulls":15},"発注リードタイム",{"$nulls":9},{"$f":"DC447","v":""},{"$nulls":60},"提供可能時期★","発注リードタイム★",null,{"$f":"IFERROR(INDEX($GJ$6:$BLM$6,1,MATCH(CV447,$GJ$4:$BLM$4,0),1),\"\")","v":""},{"$f":"IFERROR(INDEX($GJ$6:$BLM$6,1,MATCH(CW447,$GJ$4:$BLM$4,0),1),\"\")","v":""},null,"",""]
[null,null,"内容量",{"$nulls":9},{"$f":"DB448","v":""},{"$nulls":15},"1ケースあたり入数",{"$nulls":9},{"$f":"DC448","v":""},{"$nulls":60},"内容量★","1ケースあたり★",null,{"$f":"IFERROR(INDEX($GJ$6:$BLM$6,1,MATCH(CV448,$GJ$4:$BLM$4,0),1),\"\")","v":""},{"$f":"IFERROR(INDEX($GJ$6:$BLM$6,1,MATCH(CW448,$GJ$4:$BLM$4,0),1),\"\")","v":""},null,"",""]
[null,null,"最 大　ケ ー ス\n納品単位",{"$nulls":9},{"$f":"DB449","v":""},{"$nulls":15},"最 小　ケ ー ス\n納品単位",{"$nulls":9},{"$f":"DC449","v":""},{"$nulls":60},"最大ケース★","最小ケース★",null,{"$f":"IFERROR(INDEX($GJ$6:$BLM$6,1,MATCH(CV449,$GJ$4:$BLM$4,0),1),\"\")","v":""},{"$f":"IFERROR(INDEX($GJ$6:$BLM$6,1,MATCH(CW449,$GJ$4:$BLM$4,0),1),\"\")","v":""},null,"",""]
[null,null,"ケ ー ス　サ イ ズ\n(縦×横×高さ：cm)",{"$nulls":9},{"$f":"_xlfn.CONCAT(EP450:ER450)","v":""},{"$nulls":15},"ケ ー ス　重 量\n(kg)",{"$nulls":9},{"$f":"ES450","v":""},{"$nulls":60},"ケースサイズ","ケース重量",null,"縦★","横★","高さ★","重量★",{"$nulls":17},{"$f":"IFERROR(INDEX($GJ$6:$BLM$6,1,MATCH(CY450,$GJ$4:$BLM$4,0),1),\"\")","v":""},{"$f":"IFERROR(INDEX($GJ$6:$BLM$6,1,MATCH(CZ450,$GJ$4:$BLM$4,0),1),\"\")","v":""},{"$f":"IFERROR(INDEX($GJ$6:$BLM$6,1,MATCH(DA450,$GJ$4:$BLM$4,0),1),\"\")","v":""},{"$f":"IFERROR(INDEX($GJ$6:$BLM$6,1,MATCH(DB450,$GJ$4:$BLM$4,0),1),\"\")","v":""},{"$nulls":18},{"$f":"IF(OR(DT450=0,DT450=\"\"),\"\",DT450&\"×\")","v":""},{"$f":"IF(OR(DU450=0,DU450=\"\"),\"\",DU450&\"×\")","v":""},{"$f":"IF(OR(DV450=0,DV450=\"\"),\"\",DV450&\"\")","v":""},{"$f":"IF(OR(DW450=0,DW450=\"\"),\"\",DW450&\"\")","v":""}]
[null,null,"賞味期限",{"$nulls":9},{"$f":"DB451","v":""},{"$nulls":15},"消費期限",{"$nulls":9},{"$f":"DC451","v":""},{"$nulls":60},"賞味期限★","消費期限★",null,{"$f":"IFERROR(INDEX($GJ$6:$BLM$6,1,MATCH(CV451,$GJ$4:$BLM$4,0),1),\"\")","v":""},{"$f":"IFERROR(INDEX($GJ$6:$BLM$6,1,MATCH(CW451,$GJ$4:$BLM$4,0),1),\"\")","v":""},null,{"$f":"IF(CY451=0,\"\",CY451)","v":""},""]
[null,null,"希　望　小　売\n(税抜：円)",{"$nulls":9},{"$f":"DB452","v":""},{"$nulls":15},"税率",{"$nulls":9},{"$f":"_xlfn.CONCAT(EO452:FJ452)","v":""},{"$nulls":60},"希望小売★",null,null,{"$f":"IFERROR(INDEX($GJ$6:$BLM$6,1,MATCH(CV452,$GJ$4:$BLM$4,0),1),\"\")","v":""},null,null,"",null,null,"8%★","10%★",{"$nulls":13},{"$f":"IFERROR(INDEX($GJ$6:$BLM$6,1,MATCH(DE452,$GJ$4:$BLM$4,0),1),\"\")","v":""},"",{"$nulls":20},{"$f":"IF(DT452=1,FL452&\"　\",\"\")","v":""},"",{"$nulls":20},"8%","10%"]
[null,null,"仕　切　単　価\n(税抜：円)",{"$nulls":9},{"$f":"DB453","v":""},{"$nulls":15},{"$f":"_xlfn.CONCAT(EO453:FJ453)","v":""},{"$nulls":70},"仕切単価★",null,null,{"$f":"IFERROR(INDEX($GJ$6:$BLM$6,1,MATCH(CV453,$GJ$4:$BLM$4,0),1),\"\")","v":""},null,null,"",null,null,"工場出し★","関東向け★","関西向け★",{"$nulls":12},"","",{"$f":"IFERROR(INDEX($GJ$6:$BLM$6,1,MATCH(DG453,$GJ$4:$BLM$4,0),1),\"\")","v":""},{"$nulls":19},"","","",{"$nulls":19},"工場出し","関東向け","関西向け"]
[null,null,"主 原 料 産 地\n(漁獲場所等)",{"$nulls":9},{"$f":"DB454","v":""},{"$nulls":15},"保存温度帯",{"$nulls":9},{"$f":"_xlfn.CONCAT(EO454:FJ454)","v":""},{"$nulls":60},"主原料産地★",null,null,{"$f":"IFERROR(INDEX($GJ$6:$BLM$6,1,MATCH(CV454,$GJ$4:$BLM$4,0),1),\"\")","v":""},{"$f":"IFERROR(INDEX($GJ$6:$BLM$6,1,MATCH(CW454,$GJ$4:$BLM$4,0),1),\"\")","v":""},null,{"$f":"IF(CY454=0,\"\",CY454)","v":""},{"$f":"IF(CZ454=0,\"\",CZ454)","v":""},null,"常温★","冷蔵★","冷凍★",{"$nulls":12},"","",{"$f":"IFERROR(INDEX($GJ$6:$BLM$6,1,MATCH(DG454,$GJ$4:$BLM$4,0),1),\"\")","v":""},{"$nulls":19},"","","",{"$nulls":19},"常温","冷蔵","冷凍"]
[null,null,"売り先",{"$nulls":9},{"$f":"_xlfn.CONCAT(EO455:FJ455)","v":""},{"$nulls":89},"外食★","中食★","商社・卸売★","メーカー★","スーパーマーケット★","百貨店★","その他小売★","ホテル・宴会・レジャー★","その他・ターゲット★","その他・ターゲット・★",{"$nulls":11},{"$f":"IFERROR(INDEX($GJ$6:$BLM$6,1,MATCH(CY455,$GJ$4:$BLM$4,0),1),\"\")","v":""},"","","","","","","","","",{"$nulls":12},"","","","","","","","",{"$f":"IF(EB455=1,\"その他\",\"\")","v":""},{"$f":"IF(OR(EC455=0,EC455=\"\"),\"\",\"(\"&EC455&\")\")","v":""},{"$nulls":12},"外食","中食","商社・卸売","メーカー","スーパーマーケット","百貨店","その他小売","ホテル・宴会・レジャー"]
[null,null,"ターゲット",{"$nulls":9},{"$f":"DB456","v":""},{"$nulls":86},"ターゲット★",null,null,{"$f":"IFERROR(INDEX($GJ$6:$BLM$6,1,MATCH(CV456,$GJ$4:$BLM$4,0),1),\"\")","v":""},null,null,{"$f":"IF(CY456=0,\"\",CY456)","v":""}]
[null,null,"商品特徴",{"$nulls":3},{"$f":"DB457","v":""},{"$nulls":92},"商品特徴★",null,null,{"$f":"IFERROR(INDEX($GJ$6:$BLM$6,1,MATCH(CV457,$GJ$4:$BLM$4,0),1),\"\")","v":""},null,null,""]
[null,null,"アレルギー表示(特定原材料)",{"$nulls":51},"利用シーン",{"$nulls":44},"利用シーン★",null,null,{"$f":"IFERROR(INDEX($GJ$6:$BLM$6,1,MATCH(CV458,$GJ$4:$BLM$4,0),1),\"\")","v":""},null,null,""]
[null,null,"表示\n義務有",{"$nulls":3},{"$f":"_xlfn.CONCAT(EO459:FJ459)","v":""},{"$nulls":47},{"$f":"DB458","v":""},{"$nulls":47},"えび★","かに★","小麦★","そば★","卵★","乳★","落花生★",{"$nulls":14},{"$f":"IFERROR(INDEX($GJ$6:$BLM$6,1,MATCH(CY459,$GJ$4:$BLM$4,0),1),\"\")","v":""},"","","","","","",{"$nulls":15},{"$f":"IF(DT459=1,FL459&\"　\",\"\")","v":""},"","","","","","",{"$nulls":15},"えび","かに","小麦","そば","卵","乳","落花生"]
[null,null,"任意\n表示",{"$nulls":3},{"$f":"_xlfn.CONCAT(EO460:FJ460)","v":""},{"$nulls":95},"あわび★","いか★","いくら★","オレンジ★","カシューナッツ★","キウイフルーツ★","牛肉★","くるみ★","ごま★","さけ★","さば★","大豆★","鶏肉★","バナナ★","豚肉★","まつたけ★","もも★","やまいも★","りんご★","ゼラチン★",null,"","","","","","","",{"$f":"IFERROR(INDEX($GJ$6:$BLM$6,1,MATCH(DF460,$GJ$4:$BLM$4,0),1),\"\")","v":""},"","","","","","","","","","","","",null,null,{"$f":"IF(DT460=1,FL460&\" \",\"\")","v":""},{"$f":"IF(DU460=1,FM460&\" \",\"\")","v":""},"","","","","","","","","","","","","","","","","","",null,null,"あわび","いか","いくら","オレンジ","カシューナッツ","キウイフルーツ","牛肉","くるみ","ごま","さけ","さば","大豆","鶏肉","バナナ","豚肉","まつたけ","もも","やまいも","りんご","ゼラチン"]
[null,null,"備考",{"$nulls":3},{"$f":"ASC(DB461)","v":""},{"$nulls":92},"備考★",null,null,{"$f":"IFERROR(INDEX($GJ$6:$BLM$6,1,MATCH(CV461,$GJ$4:$BLM$4,0),1),\"\")","v":""},null,null,{"$f":"IF(CY461=0,\"\",CY461)","v":""}]

{"sheet":"Sheet1","index":4,"n_rows":0,"n_cols":0,"rows_kept":0}